{"text_format":"1","workbook":"xlsx","n_sheets":3,"sheets":["Dateneingabe","Sammelrechnung","Hilfstabelle"],"not_rendered":{"charts":0,"images":1,"macros":1,"external_links":1,"defined_names":4,"comments":1,"pivot_tables":0},"unopened":[],"bounds":{"document_bytes":16777216,"sheet_cells":100000,"rows_first":2000,"rows_last":500,"rows_between":2000,"halvings":0,"cell_chars":16384,"cell_head_chars":4096},"cells_cut":0,"cells_raw":0,"read":"whole","date_system":"1900"}

{"sheet":"Dateneingabe","index":0,"n_rows":7001,"n_cols":23,"rows_kept":4500,"cut":true,"hidden":false,"merged":[[0,0,0,17],[1,9,1,10]],"bounds":{"rows_first":2000,"rows_last":500,"rows_between":2000,"halvings":0}}
["Abrechnungsformular für Spitex-Organisationen ohne kommunalen Leistungsauftrag über die Beiträge der öffentlichen Hand (1.1.2017)\n\nWird das Formular nicht manuell ausgefüllt, sondern in der eigenen Software elektronisch eingerichtet, muss die Spaltenstruktur mit den Spalten A bis V vollständig übereinstimmen. Die Spalte W dient nur der manuellen Erfassung und muss nicht eingerichtet werden."]
["WARNUNG!!! Beim Drucken zuerst Druckbereich festlegen, sonst wird eine Unmenge Seiten mit linierten Tabellen ausgedruckt!"]
["BfS\nGemeinde-Nr.","ZSR-Nr.\nLeistungs-erbringer","Abrechnungs-\nJahr","Fakturierungs-\nMonat","Nachname 1","Nachname 2","Vorname","Geschlecht","Geburtsdatum","Neue AHV-Nr.","Alte AHV-Nr.","Strasse","Nr.","Adresszusatz","PLZ","Ort","Leistungsdatum","Leistungsart","N-KLV-Tarif","Geleistete Stunden","Verrechnete Stunden (dezimal)","Pat.bet.","Verrechn.\nMinuten"]
[null,null,null,null,null,null,null,null,null,null,null,null,null,null,null,null,null,null,null,null,{"$f":"IF(W4=\"\",\"\",LOOKUP(W4,Hilfstabelle!$A$1:$A$286,Hilfstabelle!$B$1:$B$286))","v":""}]
[null,null,null,null,null,null,null,null,null,null,null,null,null,null,null,null,null,null,null,null,{"$f":"IF(W5=\"\",\"\",LOOKUP(W5,Hilfstabelle!$A$1:$A$286,Hilfstabelle!$B$1:$B$286))","v":""}]
[null,null,null,null,null,null,null,null,null,null,null,null,null,null,null,null,null,null,null,null,{"$f":"IF(W6=\"\",\"\",LOOKUP(W6,Hilfstabelle!$A$1:$A$286,Hilfstabelle!$B$1:$B$286))","v":""}]
[null,null,null,null,null,null,null,null,null,null,null,null,null,null,null,null,null,null,null,null,{"$f":"IF(W7=\"\",\"\",LOOKUP(W7,Hilfstabelle!$A$1:$A$286,Hilfstabelle!$B$1:$B$286))","v":""}]
[null,null,null,null,null,null,null,null,null,null,null,null,null,null,null,null,null,null,null,null,{"$f":"IF(W8=\"\",\"\",LOOKUP(W8,Hilfstabelle!$A$1:$A$286,Hilfstabelle!$B$1:$B$286))","v":""}]
[null,null,null,null,null,null,null,null,null,null,null,null,null,null,null,null,null,null,null,null,{"$f":"IF(W9=\"\",\"\",LOOKUP(W9,Hilfstabelle!$A$1:$A$286,Hilfstabelle!$B$1:$B$286))","v":""}]
[null,null,null,null,null,null,null,null,null,null,null,null,null,null,null,null,null,null,null,null,{"$f":"IF(W10=\"\",\"\",LOOKUP(W10,Hilfstabelle!$A$1:$A$286,Hilfstabelle!$B$1:$B$286))","v":""}]
[null,null,null,null,null,null,null,null,null,null,null,null,null,null,null,null,null,null,null,null,{"$f":"IF(W11=\"\",\"\",LOOKUP(W11,Hilfstabelle!$A$1:$A$286,Hilfstabelle!$B$1:$B$286))","v":""}]
[null,null,null,null,null,null,null,null,null,null,null,null,null,null,null,null,null,null,null,null,{"$f":"IF(W12=\"\",\"\",LOOKUP(W12,Hilfstabelle!$A$1:$A$286,Hilfstabelle!$B$1:$B$286))","v":""}]
[null,null,null,null,null,null,null,null,null,null,null,null,null,null,null,null,null,null,null,null,{"$f":"IF(W13=\"\",\"\",LOOKUP(W13,Hilfstabelle!$A$1:$A$286,Hilfstabelle!$B$1:$B$286))","v":""}]
[null,null,null,null,null,null,null,null,null,null,null,null,null,null,null,null,null,null,null,null,{"$f":"IF(W14=\"\",\"\",LOOKUP(W14,Hilfstabelle!$A$1:$A$286,Hilfstabelle!$B$1:$B$286))","v":""}]
[null,null,null,null,null,null,null,null,null,null,null,null,null,null,null,null,null,null,null,null,{"$f":"IF(W15=\"\",\"\",LOOKUP(W15,Hilfstabelle!$A$1:$A$286,Hilfstabelle!$B$1:$B$286))","v":""}]
[null,null,null,null,null,null,null,null,null,null,null,null,null,null,null,null,null,null,null,null,{"$f":"IF(W16=\"\",\"\",LOOKUP(W16,Hilfstabelle!$A$1:$A$286,Hilfstabelle!$B$1:$B$286))","v":""}]
[null,null,null,null,null,null,null,null,null,null,null,null,null,null,null,null,null,null,null,null,{"$f":"IF(W17=\"\",\"\",LOOKUP(W17,Hilfstabelle!$A$1:$A$286,Hilfstabelle!$B$1:$B$286))","v":""}]
[null,null,null,null,null,null,null,null,null,null,null,null,null,null,null,null,null,null,null,null,{"$f":"IF(W18=\"\",\"\",LOOKUP(W18,Hilfstabelle!$A$1:$A$286,Hilfstabelle!$B$1:$B$286))","v":""}]
[null,null,null,null,null,null,null,null,null,null,null,null,null,null,null,null,null,null,null,null,{"$f":"IF(W19=\"\",\"\",LOOKUP(W19,Hilfstabelle!$A$1:$A$286,Hilfstabelle!$B$1:$B$286))","v":""}]
[null,null,null,null,null,null,null,null,null,null,null,null,null,null,null,null,null,null,null,null,{"$f":"IF(W20=\"\",\"\",LOOKUP(W20,Hilfstabelle!$A$1:$A$286,Hilfstabelle!$B$1:$B$286))","v":""}]
[null,null,null,null,null,null,null,null,null,null,null,null,null,null,null,null,null,null,null,null,{"$f":"IF(W21=\"\",\"\",LOOKUP(W21,Hilfstabelle!$A$1:$A$286,Hilfstabelle!$B$1:$B$286))","v":""}]
[null,null,null,null,null,null,null,null,null,null,null,null,null,null,null,null,null,null,null,null,{"$f":"IF(W22=\"\",\"\",LOOKUP(W22,Hilfstabelle!$A$1:$A$286,Hilfstabelle!$B$1:$B$286))","v":""}]
[null,null,null,null,null,null,null,null,null,null,null,null,null,null,null,null,null,null,null,null,{"$f":"IF(W23=\"\",\"\",LOOKUP(W23,Hilfstabelle!$A$1:$A$286,Hilfstabelle!$B$1:$B$286))","v":""}]
[null,null,null,null,null,null,null,null,null,null,null,null,null,null,null,null,null,null,null,null,{"$f":"IF(W24=\"\",\"\",LOOKUP(W24,Hilfstabelle!$A$1:$A$286,Hilfstabelle!$B$1:$B$286))","v":""}]
[null,null,null,null,null,null,null,null,null,null,null,null,null,null,null,null,null,null,null,null,{"$f":"IF(W25=\"\",\"\",LOOKUP(W25,Hilfstabelle!$A$1:$A$286,Hilfstabelle!$B$1:$B$286))","v":""}]
[null,null,null,null,null,null,null,null,null,null,null,null,null,null,null,null,null,null,null,null,{"$f":"IF(W26=\"\",\"\",LOOKUP(W26,Hilfstabelle!$A$1:$A$286,Hilfstabelle!$B$1:$B$286))","v":""}]
[null,null,null,null,null,null,null,null,null,null,null,null,null,null,null,null,null,null,null,null,{"$f":"IF(W27=\"\",\"\",LOOKUP(W27,Hilfstabelle!$A$1:$A$286,Hilfstabelle!$B$1:$B$286))","v":""}]
[null,null,null,null,null,null,null,null,null,null,null,null,null,null,null,null,null,null,null,null,{"$f":"IF(W28=\"\",\"\",LOOKUP(W28,Hilfstabelle!$A$1:$A$286,Hilfstabelle!$B$1:$B$286))","v":""}]
[null,null,null,null,null,null,null,null,null,null,null,null,null,null,null,null,null,null,null,null,{"$f":"IF(W29=\"\",\"\",LOOKUP(W29,Hilfstabelle!$A$1:$A$286,Hilfstabelle!$B$1:$B$286))","v":""}]
[null,null,null,null,null,null,null,null,null,null,null,null,null,null,null,null,null,null,null,null,{"$f":"IF(W30=\"\",\"\",LOOKUP(W30,Hilfstabelle!$A$1:$A$286,Hilfstabelle!$B$1:$B$286))","v":""}]
[null,null,null,null,null,null,null,null,null,null,null,null,null,null,null,null,null,null,null,null,{"$f":"IF(W31=\"\",\"\",LOOKUP(W31,Hilfstabelle!$A$1:$A$286,Hilfstabelle!$B$1:$B$286))","v":""}]
[null,null,null,null,null,null,null,null,null,null,null,null,null,null,null,null,null,null,null,null,{"$f":"IF(W32=\"\",\"\",LOOKUP(W32,Hilfstabelle!$A$1:$A$286,Hilfstabelle!$B$1:$B$286))","v":""}]
[null,null,null,null,null,null,null,null,null,null,null,null,null,null,null,null,null,null,null,null,{"$f":"IF(W33=\"\",\"\",LOOKUP(W33,Hilfstabelle!$A$1:$A$286,Hilfstabelle!$B$1:$B$286))","v":""}]
[null,null,null,null,null,null,null,null,null,null,null,null,null,null,null,null,null,null,null,null,{"$f":"IF(W34=\"\",\"\",LOOKUP(W34,Hilfstabelle!$A$1:$A$286,Hilfstabelle!$B$1:$B$286))","v":""}]
[null,null,null,null,null,null,null,null,null,null,null,null,null,null,null,null,null,null,null,null,{"$f":"IF(W35=\"\",\"\",LOOKUP(W35,Hilfstabelle!$A$1:$A$286,Hilfstabelle!$B$1:$B$286))","v":""}]
[null,null,null,null,null,null,null,null,null,null,null,null,null,null,null,null,null,null,null,null,{"$f":"IF(W36=\"\",\"\",LOOKUP(W36,Hilfstabelle!$A$1:$A$286,Hilfstabelle!$B$1:$B$286))","v":""}]
[null,null,null,null,null,null,null,null,null,null,null,null,null,null,null,null,null,null,null,null,{"$f":"IF(W37=\"\",\"\",LOOKUP(W37,Hilfstabelle!$A$1:$A$286,Hilfstabelle!$B$1:$B$286))","v":""}]
[null,null,null,null,null,null,null,null,null,null,null,null,null,null,null,null,null,null,null,null,{"$f":"IF(W38=\"\",\"\",LOOKUP(W38,Hilfstabelle!$A$1:$A$286,Hilfstabelle!$B$1:$B$286))","v":""}]
[null,null,null,null,null,null,null,null,null,null,null,null,null,null,null,null,null,null,null,null,{"$f":"IF(W39=\"\",\"\",LOOKUP(W39,Hilfstabelle!$A$1:$A$286,Hilfstabelle!$B$1:$B$286))","v":""}]
[null,null,null,null,null,null,null,null,null,null,null,null,null,null,null,null,null,null,null,null,{"$f":"IF(W40=\"\",\"\",LOOKUP(W40,Hilfstabelle!$A$1:$A$286,Hilfstabelle!$B$1:$B$286))","v":""}]
[null,null,null,null,null,null,null,null,null,null,null,null,null,null,null,null,null,null,null,null,{"$f":"IF(W41=\"\",\"\",LOOKUP(W41,Hilfstabelle!$A$1:$A$286,Hilfstabelle!$B$1:$B$286))","v":""}]
[null,null,null,null,null,null,null,null,null,null,null,null,null,null,null,null,null,null,null,null,{"$f":"IF(W42=\"\",\"\",LOOKUP(W42,Hilfstabelle!$A$1:$A$286,Hilfstabelle!$B$1:$B$286))","v":""}]
[null,null,null,null,null,null,null,null,null,null,null,null,null,null,null,null,null,null,null,null,{"$f":"IF(W43=\"\",\"\",LOOKUP(W43,Hilfstabelle!$A$1:$A$286,Hilfstabelle!$B$1:$B$286))","v":""}]
[null,null,null,null,null,null,null,null,null,null,null,null,null,null,null,null,null,null,null,null,{"$f":"IF(W44=\"\",\"\",LOOKUP(W44,Hilfstabelle!$A$1:$A$286,Hilfstabelle!$B$1:$B$286))","v":""}]
[null,null,null,null,null,null,null,null,null,null,null,null,null,null,null,null,null,null,null,null,{"$f":"IF(W45=\"\",\"\",LOOKUP(W45,Hilfstabelle!$A$1:$A$286,Hilfstabelle!$B$1:$B$286))","v":""}]
[null,null,null,null,null,null,null,null,null,null,null,null,null,null,null,null,null,null,null,null,{"$f":"IF(W46=\"\",\"\",LOOKUP(W46,Hilfstabelle!$A$1:$A$286,Hilfstabelle!$B$1:$B$286))","v":""}]
[null,null,null,null,null,null,null,null,null,null,null,null,null,null,null,null,null,null,null,null,{"$f":"IF(W47=\"\",\"\",LOOKUP(W47,Hilfstabelle!$A$1:$A$286,Hilfstabelle!$B$1:$B$286))","v":""}]
[null,null,null,null,null,null,null,null,null,null,null,null,null,null,null,null,null,null,null,null,{"$f":"IF(W48=\"\",\"\",LOOKUP(W48,Hilfstabelle!$A$1:$A$286,Hilfstabelle!$B$1:$B$286))","v":""}]
[null,null,null,null,null,null,null,null,null,null,null,null,null,null,null,null,null,null,null,null,{"$f":"IF(W49=\"\",\"\",LOOKUP(W49,Hilfstabelle!$A$1:$A$286,Hilfstabelle!$B$1:$B$286))","v":""}]
[null,null,null,null,null,null,null,null,null,null,null,null,null,null,null,null,null,null,null,null,{"$f":"IF(W50=\"\",\"\",LOOKUP(W50,Hilfstabelle!$A$1:$A$286,Hilfstabelle!$B$1:$B$286))","v":""}]
[null,null,null,null,null,null,null,null,null,null,null,null,null,null,null,null,null,null,null,null,{"$f":"IF(W51=\"\",\"\",LOOKUP(W51,Hilfstabelle!$A$1:$A$286,Hilfstabelle!$B$1:$B$286))","v":""}]
[null,null,null,null,null,null,null,null,null,null,null,null,null,null,null,null,null,null,null,null,{"$f":"IF(W52=\"\",\"\",LOOKUP(W52,Hilfstabelle!$A$1:$A$286,Hilfstabelle!$B$1:$B$286))","v":""}]
[null,null,null,null,null,null,null,null,null,null,null,null,null,null,null,null,null,null,null,null,{"$f":"IF(W53=\"\",\"\",LOOKUP(W53,Hilfstabelle!$A$1:$A$286,Hilfstabelle!$B$1:$B$286))","v":""}]
[null,null,null,null,null,null,null,null,null,null,null,null,null,null,null,null,null,null,null,null,{"$f":"IF(W54=\"\",\"\",LOOKUP(W54,Hilfstabelle!$A$1:$A$286,Hilfstabelle!$B$1:$B$286))","v":""}]
[null,null,null,null,null,null,null,null,null,null,null,null,null,null,null,null,null,null,null,null,{"$f":"IF(W55=\"\",\"\",LOOKUP(W55,Hilfstabelle!$A$1:$A$286,Hilfstabelle!$B$1:$B$286))","v":""}]
[null,null,null,null,null,null,null,null,null,null,null,null,null,null,null,null,null,null,null,null,{"$f":"IF(W56=\"\",\"\",LOOKUP(W56,Hilfstabelle!$A$1:$A$286,Hilfstabelle!$B$1:$B$286))","v":""}]
[null,null,null,null,null,null,null,null,null,null,null,null,null,null,null,null,null,null,null,null,{"$f":"IF(W57=\"\",\"\",LOOKUP(W57,Hilfstabelle!$A$1:$A$286,Hilfstabelle!$B$1:$B$286))","v":""}]
[null,null,null,null,null,null,null,null,null,null,null,null,null,null,null,null,null,null,null,null,{"$f":"IF(W58=\"\",\"\",LOOKUP(W58,Hilfstabelle!$A$1:$A$286,Hilfstabelle!$B$1:$B$286))","v":""}]
[null,null,null,null,null,null,null,null,null,null,null,null,null,null,null,null,null,null,null,null,{"$f":"IF(W59=\"\",\"\",LOOKUP(W59,Hilfstabelle!$A$1:$A$286,Hilfstabelle!$B$1:$B$286))","v":""}]
[null,null,null,null,null,null,null,null,null,null,null,null,null,null,null,null,null,null,null,null,{"$f":"IF(W60=\"\",\"\",LOOKUP(W60,Hilfstabelle!$A$1:$A$286,Hilfstabelle!$B$1:$B$286))","v":""}]
[null,null,null,null,null,null,null,null,null,null,null,null,null,null,null,null,null,null,null,null,{"$f":"IF(W61=\"\",\"\",LOOKUP(W61,Hilfstabelle!$A$1:$A$286,Hilfstabelle!$B$1:$B$286))","v":""}]
[null,null,null,null,null,null,null,null,null,null,null,null,null,null,null,null,null,null,null,null,{"$f":"IF(W62=\"\",\"\",LOOKUP(W62,Hilfstabelle!$A$1:$A$286,Hilfstabelle!$B$1:$B$286))","v":""}]
[null,null,null,null,null,null,null,null,null,null,null,null,null,null,null,null,null,null,null,null,{"$f":"IF(W63=\"\",\"\",LOOKUP(W63,Hilfstabelle!$A$1:$A$286,Hilfstabelle!$B$1:$B$286))","v":""}]
[null,null,null,null,null,null,null,null,null,null,null,null,null,null,null,null,null,null,null,null,{"$f":"IF(W64=\"\",\"\",LOOKUP(W64,Hilfstabelle!$A$1:$A$286,Hilfstabelle!$B$1:$B$286))","v":""}]
[null,null,null,null,null,null,null,null,null,null,null,null,null,null,null,null,null,null,null,null,{"$f":"IF(W65=\"\",\"\",LOOKUP(W65,Hilfstabelle!$A$1:$A$286,Hilfstabelle!$B$1:$B$286))","v":""}]
[null,null,null,null,null,null,null,null,null,null,null,null,null,null,null,null,null,null,null,null,{"$f":"IF(W66=\"\",\"\",LOOKUP(W66,Hilfstabelle!$A$1:$A$286,Hilfstabelle!$B$1:$B$286))","v":""}]
[null,null,null,null,null,null,null,null,null,null,null,null,null,null,null,null,null,null,null,null,{"$f":"IF(W67=\"\",\"\",LOOKUP(W67,Hilfstabelle!$A$1:$A$286,Hilfstabelle!$B$1:$B$286))","v":""}]
[null,null,null,null,null,null,null,null,null,null,null,null,null,null,null,null,null,null,null,null,{"$f":"IF(W68=\"\",\"\",LOOKUP(W68,Hilfstabelle!$A$1:$A$286,Hilfstabelle!$B$1:$B$286))","v":""}]
[null,null,null,null,null,null,null,null,null,null,null,null,null,null,null,null,null,null,null,null,{"$f":"IF(W69=\"\",\"\",LOOKUP(W69,Hilfstabelle!$A$1:$A$286,Hilfstabelle!$B$1:$B$286))","v":""}]
[null,null,null,null,null,null,null,null,null,null,null,null,null,null,null,null,null,null,null,null,{"$f":"IF(W70=\"\",\"\",LOOKUP(W70,Hilfstabelle!$A$1:$A$286,Hilfstabelle!$B$1:$B$286))","v":""}]
[null,null,null,null,null,null,null,null,null,null,null,null,null,null,null,null,null,null,null,null,{"$f":"IF(W71=\"\",\"\",LOOKUP(W71,Hilfstabelle!$A$1:$A$286,Hilfstabelle!$B$1:$B$286))","v":""}]
[null,null,null,null,null,null,null,null,null,null,null,null,null,null,null,null,null,null,null,null,{"$f":"IF(W72=\"\",\"\",LOOKUP(W72,Hilfstabelle!$A$1:$A$286,Hilfstabelle!$B$1:$B$286))","v":""}]
[null,null,null,null,null,null,null,null,null,null,null,null,null,null,null,null,null,null,null,null,{"$f":"IF(W73=\"\",\"\",LOOKUP(W73,Hilfstabelle!$A$1:$A$286,Hilfstabelle!$B$1:$B$286))","v":""}]
[null,null,null,null,null,null,null,null,null,null,null,null,null,null,null,null,null,null,null,null,{"$f":"IF(W74=\"\",\"\",LOOKUP(W74,Hilfstabelle!$A$1:$A$286,Hilfstabelle!$B$1:$B$286))","v":""}]
[null,null,null,null,null,null,null,null,null,null,null,null,null,null,null,null,null,null,null,null,{"$f":"IF(W75=\"\",\"\",LOOKUP(W75,Hilfstabelle!$A$1:$A$286,Hilfstabelle!$B$1:$B$286))","v":""}]
[null,null,null,null,null,null,null,null,null,null,null,null,null,null,null,null,null,null,null,null,{"$f":"IF(W76=\"\",\"\",LOOKUP(W76,Hilfstabelle!$A$1:$A$286,Hilfstabelle!$B$1:$B$286))","v":""}]
[null,null,null,null,null,null,null,null,null,null,null,null,null,null,null,null,null,null,null,null,{"$f":"IF(W77=\"\",\"\",LOOKUP(W77,Hilfstabelle!$A$1:$A$286,Hilfstabelle!$B$1:$B$286))","v":""}]
[null,null,null,null,null,null,null,null,null,null,null,null,null,null,null,null,null,null,null,null,{"$f":"IF(W78=\"\",\"\",LOOKUP(W78,Hilfstabelle!$A$1:$A$286,Hilfstabelle!$B$1:$B$286))","v":""}]
[null,null,null,null,null,null,null,null,null,null,null,null,null,null,null,null,null,null,null,null,{"$f":"IF(W79=\"\",\"\",LOOKUP(W79,Hilfstabelle!$A$1:$A$286,Hilfstabelle!$B$1:$B$286))","v":""}]
[null,null,null,null,null,null,null,null,null,null,null,null,null,null,null,null,null,null,null,null,{"$f":"IF(W80=\"\",\"\",LOOKUP(W80,Hilfstabelle!$A$1:$A$286,Hilfstabelle!$B$1:$B$286))","v":""}]
[null,null,null,null,null,null,null,null,null,null,null,null,null,null,null,null,null,null,null,null,{"$f":"IF(W81=\"\",\"\",LOOKUP(W81,Hilfstabelle!$A$1:$A$286,Hilfstabelle!$B$1:$B$286))","v":""}]
[null,null,null,null,null,null,null,null,null,null,null,null,null,null,null,null,null,null,null,null,{"$f":"IF(W82=\"\",\"\",LOOKUP(W82,Hilfstabelle!$A$1:$A$286,Hilfstabelle!$B$1:$B$286))","v":""}]
[null,null,null,null,null,null,null,null,null,null,null,null,null,null,null,null,null,null,null,null,{"$f":"IF(W83=\"\",\"\",LOOKUP(W83,Hilfstabelle!$A$1:$A$286,Hilfstabelle!$B$1:$B$286))","v":""}]
[null,null,null,null,null,null,null,null,null,null,null,null,null,null,null,null,null,null,null,null,{"$f":"IF(W84=\"\",\"\",LOOKUP(W84,Hilfstabelle!$A$1:$A$286,Hilfstabelle!$B$1:$B$286))","v":""}]
[null,null,null,null,null,null,null,null,null,null,null,null,null,null,null,null,null,null,null,null,{"$f":"IF(W85=\"\",\"\",LOOKUP(W85,Hilfstabelle!$A$1:$A$286,Hilfstabelle!$B$1:$B$286))","v":""}]
[null,null,null,null,null,null,null,null,null,null,null,null,null,null,null,null,null,null,null,null,{"$f":"IF(W86=\"\",\"\",LOOKUP(W86,Hilfstabelle!$A$1:$A$286,Hilfstabelle!$B$1:$B$286))","v":""}]
[null,null,null,null,null,null,null,null,null,null,null,null,null,null,null,null,null,null,null,null,{"$f":"IF(W87=\"\",\"\",LOOKUP(W87,Hilfstabelle!$A$1:$A$286,Hilfstabelle!$B$1:$B$286))","v":""}]
[null,null,null,null,null,null,null,null,null,null,null,null,null,null,null,null,null,null,null,null,{"$f":"IF(W88=\"\",\"\",LOOKUP(W88,Hilfstabelle!$A$1:$A$286,Hilfstabelle!$B$1:$B$286))","v":""}]
[null,null,null,null,null,null,null,null,null,null,null,null,null,null,null,null,null,null,null,null,{"$f":"IF(W89=\"\",\"\",LOOKUP(W89,Hilfstabelle!$A$1:$A$286,Hilfstabelle!$B$1:$B$286))","v":""}]
[null,null,null,null,null,null,null,null,null,null,null,null,null,null,null,null,null,null,null,null,{"$f":"IF(W90=\"\",\"\",LOOKUP(W90,Hilfstabelle!$A$1:$A$286,Hilfstabelle!$B$1:$B$286))","v":""}]
[null,null,null,null,null,null,null,null,null,null,null,null,null,null,null,null,null,null,null,null,{"$f":"IF(W91=\"\",\"\",LOOKUP(W91,Hilfstabelle!$A$1:$A$286,Hilfstabelle!$B$1:$B$286))","v":""}]
[null,null,null,null,null,null,null,null,null,null,null,null,null,null,null,null,null,null,null,null,{"$f":"IF(W92=\"\",\"\",LOOKUP(W92,Hilfstabelle!$A$1:$A$286,Hilfstabelle!$B$1:$B$286))","v":""}]
[null,null,null,null,null,null,null,null,null,null,null,null,null,null,null,null,null,null,null,null,{"$f":"IF(W93=\"\",\"\",LOOKUP(W93,Hilfstabelle!$A$1:$A$286,Hilfstabelle!$B$1:$B$286))","v":""}]
[null,null,null,null,null,null,null,null,null,null,null,null,null,null,null,null,null,null,null,null,{"$f":"IF(W94=\"\",\"\",LOOKUP(W94,Hilfstabelle!$A$1:$A$286,Hilfstabelle!$B$1:$B$286))","v":""}]
[null,null,null,null,null,null,null,null,null,null,null,null,null,null,null,null,null,null,null,null,{"$f":"IF(W95=\"\",\"\",LOOKUP(W95,Hilfstabelle!$A$1:$A$286,Hilfstabelle!$B$1:$B$286))","v":""}]
[null,null,null,null,null,null,null,null,null,null,null,null,null,null,null,null,null,null,null,null,{"$f":"IF(W96=\"\",\"\",LOOKUP(W96,Hilfstabelle!$A$1:$A$286,Hilfstabelle!$B$1:$B$286))","v":""}]
[null,null,null,null,null,null,null,null,null,null,null,null,null,null,null,null,null,null,null,null,{"$f":"IF(W97=\"\",\"\",LOOKUP(W97,Hilfstabelle!$A$1:$A$286,Hilfstabelle!$B$1:$B$286))","v":""}]
[null,null,null,null,null,null,null,null,null,null,null,null,null,null,null,null,null,null,null,null,{"$f":"IF(W98=\"\",\"\",LOOKUP(W98,Hilfstabelle!$A$1:$A$286,Hilfstabelle!$B$1:$B$286))","v":""}]
[null,null,null,null,null,null,null,null,null,null,null,null,null,null,null,null,null,null,null,null,{"$f":"IF(W99=\"\",\"\",LOOKUP(W99,Hilfstabelle!$A$1:$A$286,Hilfstabelle!$B$1:$B$286))","v":""}]
[null,null,null,null,null,null,null,null,null,null,null,null,null,null,null,null,null,null,null,null,{"$f":"IF(W100=\"\",\"\",LOOKUP(W100,Hilfstabelle!$A$1:$A$286,Hilfstabelle!$B$1:$B$286))","v":""}]
[null,null,null,null,null,null,null,null,null,null,null,null,null,null,null,null,null,null,null,null,{"$f":"IF(W101=\"\",\"\",LOOKUP(W101,Hilfstabelle!$A$1:$A$286,Hilfstabelle!$B$1:$B$286))","v":""}]
[null,null,null,null,null,null,null,null,null,null,null,null,null,null,null,null,null,null,null,null,{"$f":"IF(W102=\"\",\"\",LOOKUP(W102,Hilfstabelle!$A$1:$A$286,Hilfstabelle!$B$1:$B$286))","v":""}]
[null,null,null,null,null,null,null,null,null,null,null,null,null,null,null,null,null,null,null,null,{"$f":"IF(W103=\"\",\"\",LOOKUP(W103,Hilfstabelle!$A$1:$A$286,Hilfstabelle!$B$1:$B$286))","v":""}]
[null,null,null,null,null,null,null,null,null,null,null,null,null,null,null,null,null,null,null,null,{"$f":"IF(W104=\"\",\"\",LOOKUP(W104,Hilfstabelle!$A$1:$A$286,Hilfstabelle!$B$1:$B$286))","v":""}]
[null,null,null,null,null,null,null,null,null,null,null,null,null,null,null,null,null,null,null,null,{"$f":"IF(W105=\"\",\"\",LOOKUP(W105,Hilfstabelle!$A$1:$A$286,Hilfstabelle!$B$1:$B$286))","v":""}]
[null,null,null,null,null,null,null,null,null,null,null,null,null,null,null,null,null,null,null,null,{"$f":"IF(W106=\"\",\"\",LOOKUP(W106,Hilfstabelle!$A$1:$A$286,Hilfstabelle!$B$1:$B$286))","v":""}]
[null,null,null,null,null,null,null,null,null,null,null,null,null,null,null,null,null,null,null,null,{"$f":"IF(W107=\"\",\"\",LOOKUP(W107,Hilfstabelle!$A$1:$A$286,Hilfstabelle!$B$1:$B$286))","v":""}]
[null,null,null,null,null,null,null,null,null,null,null,null,null,null,null,null,null,null,null,null,{"$f":"IF(W108=\"\",\"\",LOOKUP(W108,Hilfstabelle!$A$1:$A$286,Hilfstabelle!$B$1:$B$286))","v":""}]
[null,null,null,null,null,null,null,null,null,null,null,null,null,null,null,null,null,null,null,null,{"$f":"IF(W109=\"\",\"\",LOOKUP(W109,Hilfstabelle!$A$1:$A$286,Hilfstabelle!$B$1:$B$286))","v":""}]
[null,null,null,null,null,null,null,null,null,null,null,null,null,null,null,null,null,null,null,null,{"$f":"IF(W110=\"\",\"\",LOOKUP(W110,Hilfstabelle!$A$1:$A$286,Hilfstabelle!$B$1:$B$286))","v":""}]
[null,null,null,null,null,null,null,null,null,null,null,null,null,null,null,null,null,null,null,null,{"$f":"IF(W111=\"\",\"\",LOOKUP(W111,Hilfstabelle!$A$1:$A$286,Hilfstabelle!$B$1:$B$286))","v":""}]
[null,null,null,null,null,null,null,null,null,null,null,null,null,null,null,null,null,null,null,null,{"$f":"IF(W112=\"\",\"\",LOOKUP(W112,Hilfstabelle!$A$1:$A$286,Hilfstabelle!$B$1:$B$286))","v":""}]
[null,null,null,null,null,null,null,null,null,null,null,null,null,null,null,null,null,null,null,null,{"$f":"IF(W113=\"\",\"\",LOOKUP(W113,Hilfstabelle!$A$1:$A$286,Hilfstabelle!$B$1:$B$286))","v":""}]
[null,null,null,null,null,null,null,null,null,null,null,null,null,null,null,null,null,null,null,null,{"$f":"IF(W114=\"\",\"\",LOOKUP(W114,Hilfstabelle!$A$1:$A$286,Hilfstabelle!$B$1:$B$286))","v":""}]
[null,null,null,null,null,null,null,null,null,null,null,null,null,null,null,null,null,null,null,null,{"$f":"IF(W115=\"\",\"\",LOOKUP(W115,Hilfstabelle!$A$1:$A$286,Hilfstabelle!$B$1:$B$286))","v":""}]
[null,null,null,null,null,null,null,null,null,null,null,null,null,null,null,null,null,null,null,null,{"$f":"IF(W116=\"\",\"\",LOOKUP(W116,Hilfstabelle!$A$1:$A$286,Hilfstabelle!$B$1:$B$286))","v":""}]
[null,null,null,null,null,null,null,null,null,null,null,null,null,null,null,null,null,null,null,null,{"$f":"IF(W117=\"\",\"\",LOOKUP(W117,Hilfstabelle!$A$1:$A$286,Hilfstabelle!$B$1:$B$286))","v":""}]
[null,null,null,null,null,null,null,null,null,null,null,null,null,null,null,null,null,null,null,null,{"$f":"IF(W118=\"\",\"\",LOOKUP(W118,Hilfstabelle!$A$1:$A$286,Hilfstabelle!$B$1:$B$286))","v":""}]
[null,null,null,null,null,null,null,null,null,null,null,null,null,null,null,null,null,null,null,null,{"$f":"IF(W119=\"\",\"\",LOOKUP(W119,Hilfstabelle!$A$1:$A$286,Hilfstabelle!$B$1:$B$286))","v":""}]
[null,null,null,null,null,null,null,null,null,null,null,null,null,null,null,null,null,null,null,null,{"$f":"IF(W120=\"\",\"\",LOOKUP(W120,Hilfstabelle!$A$1:$A$286,Hilfstabelle!$B$1:$B$286))","v":""}]
[null,null,null,null,null,null,null,null,null,null,null,null,null,null,null,null,null,null,null,null,{"$f":"IF(W121=\"\",\"\",LOOKUP(W121,Hilfstabelle!$A$1:$A$286,Hilfstabelle!$B$1:$B$286))","v":""}]
[null,null,null,null,null,null,null,null,null,null,null,null,null,null,null,null,null,null,null,null,{"$f":"IF(W122=\"\",\"\",LOOKUP(W122,Hilfstabelle!$A$1:$A$286,Hilfstabelle!$B$1:$B$286))","v":""}]
[null,null,null,null,null,null,null,null,null,null,null,null,null,null,null,null,null,null,null,null,{"$f":"IF(W123=\"\",\"\",LOOKUP(W123,Hilfstabelle!$A$1:$A$286,Hilfstabelle!$B$1:$B$286))","v":""}]
[null,null,null,null,null,null,null,null,null,null,null,null,null,null,null,null,null,null,null,null,{"$f":"IF(W124=\"\",\"\",LOOKUP(W124,Hilfstabelle!$A$1:$A$286,Hilfstabelle!$B$1:$B$286))","v":""}]
[null,null,null,null,null,null,null,null,null,null,null,null,null,null,null,null,null,null,null,null,{"$f":"IF(W125=\"\",\"\",LOOKUP(W125,Hilfstabelle!$A$1:$A$286,Hilfstabelle!$B$1:$B$286))","v":""}]
[null,null,null,null,null,null,null,null,null,null,null,null,null,null,null,null,null,null,null,null,{"$f":"IF(W126=\"\",\"\",LOOKUP(W126,Hilfstabelle!$A$1:$A$286,Hilfstabelle!$B$1:$B$286))","v":""}]
[null,null,null,null,null,null,null,null,null,null,null,null,null,null,null,null,null,null,null,null,{"$f":"IF(W127=\"\",\"\",LOOKUP(W127,Hilfstabelle!$A$1:$A$286,Hilfstabelle!$B$1:$B$286))","v":""}]
[null,null,null,null,null,null,null,null,null,null,null,null,null,null,null,null,null,null,null,null,{"$f":"IF(W128=\"\",\"\",LOOKUP(W128,Hilfstabelle!$A$1:$A$286,Hilfstabelle!$B$1:$B$286))","v":""}]
[null,null,null,null,null,null,null,null,null,null,null,null,null,null,null,null,null,null,null,null,{"$f":"IF(W129=\"\",\"\",LOOKUP(W129,Hilfstabelle!$A$1:$A$286,Hilfstabelle!$B$1:$B$286))","v":""}]
[null,null,null,null,null,null,null,null,null,null,null,null,null,null,null,null,null,null,null,null,{"$f":"IF(W130=\"\",\"\",LOOKUP(W130,Hilfstabelle!$A$1:$A$286,Hilfstabelle!$B$1:$B$286))","v":""}]
[null,null,null,null,null,null,null,null,null,null,null,null,null,null,null,null,null,null,null,null,{"$f":"IF(W131=\"\",\"\",LOOKUP(W131,Hilfstabelle!$A$1:$A$286,Hilfstabelle!$B$1:$B$286))","v":""}]
[null,null,null,null,null,null,null,null,null,null,null,null,null,null,null,null,null,null,null,null,{"$f":"IF(W132=\"\",\"\",LOOKUP(W132,Hilfstabelle!$A$1:$A$286,Hilfstabelle!$B$1:$B$286))","v":""}]
[null,null,null,null,null,null,null,null,null,null,null,null,null,null,null,null,null,null,null,null,{"$f":"IF(W133=\"\",\"\",LOOKUP(W133,Hilfstabelle!$A$1:$A$286,Hilfstabelle!$B$1:$B$286))","v":""}]
[null,null,null,null,null,null,null,null,null,null,null,null,null,null,null,null,null,null,null,null,{"$f":"IF(W134=\"\",\"\",LOOKUP(W134,Hilfstabelle!$A$1:$A$286,Hilfstabelle!$B$1:$B$286))","v":""}]
[null,null,null,null,null,null,null,null,null,null,null,null,null,null,null,null,null,null,null,null,{"$f":"IF(W135=\"\",\"\",LOOKUP(W135,Hilfstabelle!$A$1:$A$286,Hilfstabelle!$B$1:$B$286))","v":""}]
[null,null,null,null,null,null,null,null,null,null,null,null,null,null,null,null,null,null,null,null,{"$f":"IF(W136=\"\",\"\",LOOKUP(W136,Hilfstabelle!$A$1:$A$286,Hilfstabelle!$B$1:$B$286))","v":""}]
[null,null,null,null,null,null,null,null,null,null,null,null,null,null,null,null,null,null,null,null,{"$f":"IF(W137=\"\",\"\",LOOKUP(W137,Hilfstabelle!$A$1:$A$286,Hilfstabelle!$B$1:$B$286))","v":""}]
[null,null,null,null,null,null,null,null,null,null,null,null,null,null,null,null,null,null,null,null,{"$f":"IF(W138=\"\",\"\",LOOKUP(W138,Hilfstabelle!$A$1:$A$286,Hilfstabelle!$B$1:$B$286))","v":""}]
[null,null,null,null,null,null,null,null,null,null,null,null,null,null,null,null,null,null,null,null,{"$f":"IF(W139=\"\",\"\",LOOKUP(W139,Hilfstabelle!$A$1:$A$286,Hilfstabelle!$B$1:$B$286))","v":""}]
[null,null,null,null,null,null,null,null,null,null,null,null,null,null,null,null,null,null,null,null,{"$f":"IF(W140=\"\",\"\",LOOKUP(W140,Hilfstabelle!$A$1:$A$286,Hilfstabelle!$B$1:$B$286))","v":""}]
[null,null,null,null,null,null,null,null,null,null,null,null,null,null,null,null,null,null,null,null,{"$f":"IF(W141=\"\",\"\",LOOKUP(W141,Hilfstabelle!$A$1:$A$286,Hilfstabelle!$B$1:$B$286))","v":""}]
[null,null,null,null,null,null,null,null,null,null,null,null,null,null,null,null,null,null,null,null,{"$f":"IF(W142=\"\",\"\",LOOKUP(W142,Hilfstabelle!$A$1:$A$286,Hilfstabelle!$B$1:$B$286))","v":""}]
[null,null,null,null,null,null,null,null,null,null,null,null,null,null,null,null,null,null,null,null,{"$f":"IF(W143=\"\",\"\",LOOKUP(W143,Hilfstabelle!$A$1:$A$286,Hilfstabelle!$B$1:$B$286))","v":""}]
[null,null,null,null,null,null,null,null,null,null,null,null,null,null,null,null,null,null,null,null,{"$f":"IF(W144=\"\",\"\",LOOKUP(W144,Hilfstabelle!$A$1:$A$286,Hilfstabelle!$B$1:$B$286))","v":""}]
[null,null,null,null,null,null,null,null,null,null,null,null,null,null,null,null,null,null,null,null,{"$f":"IF(W145=\"\",\"\",LOOKUP(W145,Hilfstabelle!$A$1:$A$286,Hilfstabelle!$B$1:$B$286))","v":""}]
[null,null,null,null,null,null,null,null,null,null,null,null,null,null,null,null,null,null,null,null,{"$f":"IF(W146=\"\",\"\",LOOKUP(W146,Hilfstabelle!$A$1:$A$286,Hilfstabelle!$B$1:$B$286))","v":""}]
[null,null,null,null,null,null,null,null,null,null,null,null,null,null,null,null,null,null,null,null,{"$f":"IF(W147=\"\",\"\",LOOKUP(W147,Hilfstabelle!$A$1:$A$286,Hilfstabelle!$B$1:$B$286))","v":""}]
[null,null,null,null,null,null,null,null,null,null,null,null,null,null,null,null,null,null,null,null,{"$f":"IF(W148=\"\",\"\",LOOKUP(W148,Hilfstabelle!$A$1:$A$286,Hilfstabelle!$B$1:$B$286))","v":""}]
[null,null,null,null,null,null,null,null,null,null,null,null,null,null,null,null,null,null,null,null,{"$f":"IF(W149=\"\",\"\",LOOKUP(W149,Hilfstabelle!$A$1:$A$286,Hilfstabelle!$B$1:$B$286))","v":""}]
[null,null,null,null,null,null,null,null,null,null,null,null,null,null,null,null,null,null,null,null,{"$f":"IF(W150=\"\",\"\",LOOKUP(W150,Hilfstabelle!$A$1:$A$286,Hilfstabelle!$B$1:$B$286))","v":""}]
[null,null,null,null,null,null,null,null,null,null,null,null,null,null,null,null,null,null,null,null,{"$f":"IF(W151=\"\",\"\",LOOKUP(W151,Hilfstabelle!$A$1:$A$286,Hilfstabelle!$B$1:$B$286))","v":""}]
[null,null,null,null,null,null,null,null,null,null,null,null,null,null,null,null,null,null,null,null,{"$f":"IF(W152=\"\",\"\",LOOKUP(W152,Hilfstabelle!$A$1:$A$286,Hilfstabelle!$B$1:$B$286))","v":""}]
[null,null,null,null,null,null,null,null,null,null,null,null,null,null,null,null,null,null,null,null,{"$f":"IF(W153=\"\",\"\",LOOKUP(W153,Hilfstabelle!$A$1:$A$286,Hilfstabelle!$B$1:$B$286))","v":""}]
[null,null,null,null,null,null,null,null,null,null,null,null,null,null,null,null,null,null,null,null,{"$f":"IF(W154=\"\",\"\",LOOKUP(W154,Hilfstabelle!$A$1:$A$286,Hilfstabelle!$B$1:$B$286))","v":""}]
[null,null,null,null,null,null,null,null,null,null,null,null,null,null,null,null,null,null,null,null,{"$f":"IF(W155=\"\",\"\",LOOKUP(W155,Hilfstabelle!$A$1:$A$286,Hilfstabelle!$B$1:$B$286))","v":""}]
[null,null,null,null,null,null,null,null,null,null,null,null,null,null,null,null,null,null,null,null,{"$f":"IF(W156=\"\",\"\",LOOKUP(W156,Hilfstabelle!$A$1:$A$286,Hilfstabelle!$B$1:$B$286))","v":""}]
[null,null,null,null,null,null,null,null,null,null,null,null,null,null,null,null,null,null,null,null,{"$f":"IF(W157=\"\",\"\",LOOKUP(W157,Hilfstabelle!$A$1:$A$286,Hilfstabelle!$B$1:$B$286))","v":""}]
[null,null,null,null,null,null,null,null,null,null,null,null,null,null,null,null,null,null,null,null,{"$f":"IF(W158=\"\",\"\",LOOKUP(W158,Hilfstabelle!$A$1:$A$286,Hilfstabelle!$B$1:$B$286))","v":""}]
[null,null,null,null,null,null,null,null,null,null,null,null,null,null,null,null,null,null,null,null,{"$f":"IF(W159=\"\",\"\",LOOKUP(W159,Hilfstabelle!$A$1:$A$286,Hilfstabelle!$B$1:$B$286))","v":""}]
[null,null,null,null,null,null,null,null,null,null,null,null,null,null,null,null,null,null,null,null,{"$f":"IF(W160=\"\",\"\",LOOKUP(W160,Hilfstabelle!$A$1:$A$286,Hilfstabelle!$B$1:$B$286))","v":""}]
[null,null,null,null,null,null,null,null,null,null,null,null,null,null,null,null,null,null,null,null,{"$f":"IF(W161=\"\",\"\",LOOKUP(W161,Hilfstabelle!$A$1:$A$286,Hilfstabelle!$B$1:$B$286))","v":""}]
[null,null,null,null,null,null,null,null,null,null,null,null,null,null,null,null,null,null,null,null,{"$f":"IF(W162=\"\",\"\",LOOKUP(W162,Hilfstabelle!$A$1:$A$286,Hilfstabelle!$B$1:$B$286))","v":""}]
[null,null,null,null,null,null,null,null,null,null,null,null,null,null,null,null,null,null,null,null,{"$f":"IF(W163=\"\",\"\",LOOKUP(W163,Hilfstabelle!$A$1:$A$286,Hilfstabelle!$B$1:$B$286))","v":""}]
[null,null,null,null,null,null,null,null,null,null,null,null,null,null,null,null,null,null,null,null,{"$f":"IF(W164=\"\",\"\",LOOKUP(W164,Hilfstabelle!$A$1:$A$286,Hilfstabelle!$B$1:$B$286))","v":""}]
[null,null,null,null,null,null,null,null,null,null,null,null,null,null,null,null,null,null,null,null,{"$f":"IF(W165=\"\",\"\",LOOKUP(W165,Hilfstabelle!$A$1:$A$286,Hilfstabelle!$B$1:$B$286))","v":""}]
[null,null,null,null,null,null,null,null,null,null,null,null,null,null,null,null,null,null,null,null,{"$f":"IF(W166=\"\",\"\",LOOKUP(W166,Hilfstabelle!$A$1:$A$286,Hilfstabelle!$B$1:$B$286))","v":""}]
[null,null,null,null,null,null,null,null,null,null,null,null,null,null,null,null,null,null,null,null,{"$f":"IF(W167=\"\",\"\",LOOKUP(W167,Hilfstabelle!$A$1:$A$286,Hilfstabelle!$B$1:$B$286))","v":""}]
[null,null,null,null,null,null,null,null,null,null,null,null,null,null,null,null,null,null,null,null,{"$f":"IF(W168=\"\",\"\",LOOKUP(W168,Hilfstabelle!$A$1:$A$286,Hilfstabelle!$B$1:$B$286))","v":""}]
[null,null,null,null,null,null,null,null,null,null,null,null,null,null,null,null,null,null,null,null,{"$f":"IF(W169=\"\",\"\",LOOKUP(W169,Hilfstabelle!$A$1:$A$286,Hilfstabelle!$B$1:$B$286))","v":""}]
[null,null,null,null,null,null,null,null,null,null,null,null,null,null,null,null,null,null,null,null,{"$f":"IF(W170=\"\",\"\",LOOKUP(W170,Hilfstabelle!$A$1:$A$286,Hilfstabelle!$B$1:$B$286))","v":""}]
[null,null,null,null,null,null,null,null,null,null,null,null,null,null,null,null,null,null,null,null,{"$f":"IF(W171=\"\",\"\",LOOKUP(W171,Hilfstabelle!$A$1:$A$286,Hilfstabelle!$B$1:$B$286))","v":""}]
[null,null,null,null,null,null,null,null,null,null,null,null,null,null,null,null,null,null,null,null,{"$f":"IF(W172=\"\",\"\",LOOKUP(W172,Hilfstabelle!$A$1:$A$286,Hilfstabelle!$B$1:$B$286))","v":""}]
[null,null,null,null,null,null,null,null,null,null,null,null,null,null,null,null,null,null,null,null,{"$f":"IF(W173=\"\",\"\",LOOKUP(W173,Hilfstabelle!$A$1:$A$286,Hilfstabelle!$B$1:$B$286))","v":""}]
[null,null,null,null,null,null,null,null,null,null,null,null,null,null,null,null,null,null,null,null,{"$f":"IF(W174=\"\",\"\",LOOKUP(W174,Hilfstabelle!$A$1:$A$286,Hilfstabelle!$B$1:$B$286))","v":""}]
[null,null,null,null,null,null,null,null,null,null,null,null,null,null,null,null,null,null,null,null,{"$f":"IF(W175=\"\",\"\",LOOKUP(W175,Hilfstabelle!$A$1:$A$286,Hilfstabelle!$B$1:$B$286))","v":""}]
[null,null,null,null,null,null,null,null,null,null,null,null,null,null,null,null,null,null,null,null,{"$f":"IF(W176=\"\",\"\",LOOKUP(W176,Hilfstabelle!$A$1:$A$286,Hilfstabelle!$B$1:$B$286))","v":""}]
[null,null,null,null,null,null,null,null,null,null,null,null,null,null,null,null,null,null,null,null,{"$f":"IF(W177=\"\",\"\",LOOKUP(W177,Hilfstabelle!$A$1:$A$286,Hilfstabelle!$B$1:$B$286))","v":""}]
[null,null,null,null,null,null,null,null,null,null,null,null,null,null,null,null,null,null,null,null,{"$f":"IF(W178=\"\",\"\",LOOKUP(W178,Hilfstabelle!$A$1:$A$286,Hilfstabelle!$B$1:$B$286))","v":""}]
[null,null,null,null,null,null,null,null,null,null,null,null,null,null,null,null,null,null,null,null,{"$f":"IF(W179=\"\",\"\",LOOKUP(W179,Hilfstabelle!$A$1:$A$286,Hilfstabelle!$B$1:$B$286))","v":""}]
[null,null,null,null,null,null,null,null,null,null,null,null,null,null,null,null,null,null,null,null,{"$f":"IF(W180=\"\",\"\",LOOKUP(W180,Hilfstabelle!$A$1:$A$286,Hilfstabelle!$B$1:$B$286))","v":""}]
[null,null,null,null,null,null,null,null,null,null,null,null,null,null,null,null,null,null,null,null,{"$f":"IF(W181=\"\",\"\",LOOKUP(W181,Hilfstabelle!$A$1:$A$286,Hilfstabelle!$B$1:$B$286))","v":""}]
[null,null,null,null,null,null,null,null,null,null,null,null,null,null,null,null,null,null,null,null,{"$f":"IF(W182=\"\",\"\",LOOKUP(W182,Hilfstabelle!$A$1:$A$286,Hilfstabelle!$B$1:$B$286))","v":""}]
[null,null,null,null,null,null,null,null,null,null,null,null,null,null,null,null,null,null,null,null,{"$f":"IF(W183=\"\",\"\",LOOKUP(W183,Hilfstabelle!$A$1:$A$286,Hilfstabelle!$B$1:$B$286))","v":""}]
[null,null,null,null,null,null,null,null,null,null,null,null,null,null,null,null,null,null,null,null,{"$f":"IF(W184=\"\",\"\",LOOKUP(W184,Hilfstabelle!$A$1:$A$286,Hilfstabelle!$B$1:$B$286))","v":""}]
[null,null,null,null,null,null,null,null,null,null,null,null,null,null,null,null,null,null,null,null,{"$f":"IF(W185=\"\",\"\",LOOKUP(W185,Hilfstabelle!$A$1:$A$286,Hilfstabelle!$B$1:$B$286))","v":""}]
[null,null,null,null,null,null,null,null,null,null,null,null,null,null,null,null,null,null,null,null,{"$f":"IF(W186=\"\",\"\",LOOKUP(W186,Hilfstabelle!$A$1:$A$286,Hilfstabelle!$B$1:$B$286))","v":""}]
[null,null,null,null,null,null,null,null,null,null,null,null,null,null,null,null,null,null,null,null,{"$f":"IF(W187=\"\",\"\",LOOKUP(W187,Hilfstabelle!$A$1:$A$286,Hilfstabelle!$B$1:$B$286))","v":""}]
[null,null,null,null,null,null,null,null,null,null,null,null,null,null,null,null,null,null,null,null,{"$f":"IF(W188=\"\",\"\",LOOKUP(W188,Hilfstabelle!$A$1:$A$286,Hilfstabelle!$B$1:$B$286))","v":""}]
[null,null,null,null,null,null,null,null,null,null,null,null,null,null,null,null,null,null,null,null,{"$f":"IF(W189=\"\",\"\",LOOKUP(W189,Hilfstabelle!$A$1:$A$286,Hilfstabelle!$B$1:$B$286))","v":""}]
[null,null,null,null,null,null,null,null,null,null,null,null,null,null,null,null,null,null,null,null,{"$f":"IF(W190=\"\",\"\",LOOKUP(W190,Hilfstabelle!$A$1:$A$286,Hilfstabelle!$B$1:$B$286))","v":""}]
[null,null,null,null,null,null,null,null,null,null,null,null,null,null,null,null,null,null,null,null,{"$f":"IF(W191=\"\",\"\",LOOKUP(W191,Hilfstabelle!$A$1:$A$286,Hilfstabelle!$B$1:$B$286))","v":""}]
[null,null,null,null,null,null,null,null,null,null,null,null,null,null,null,null,null,null,null,null,{"$f":"IF(W192=\"\",\"\",LOOKUP(W192,Hilfstabelle!$A$1:$A$286,Hilfstabelle!$B$1:$B$286))","v":""}]
[null,null,null,null,null,null,null,null,null,null,null,null,null,null,null,null,null,null,null,null,{"$f":"IF(W193=\"\",\"\",LOOKUP(W193,Hilfstabelle!$A$1:$A$286,Hilfstabelle!$B$1:$B$286))","v":""}]
[null,null,null,null,null,null,null,null,null,null,null,null,null,null,null,null,null,null,null,null,{"$f":"IF(W194=\"\",\"\",LOOKUP(W194,Hilfstabelle!$A$1:$A$286,Hilfstabelle!$B$1:$B$286))","v":""}]
[null,null,null,null,null,null,null,null,null,null,null,null,null,null,null,null,null,null,null,null,{"$f":"IF(W195=\"\",\"\",LOOKUP(W195,Hilfstabelle!$A$1:$A$286,Hilfstabelle!$B$1:$B$286))","v":""}]
[null,null,null,null,null,null,null,null,null,null,null,null,null,null,null,null,null,null,null,null,{"$f":"IF(W196=\"\",\"\",LOOKUP(W196,Hilfstabelle!$A$1:$A$286,Hilfstabelle!$B$1:$B$286))","v":""}]
[null,null,null,null,null,null,null,null,null,null,null,null,null,null,null,null,null,null,null,null,{"$f":"IF(W197=\"\",\"\",LOOKUP(W197,Hilfstabelle!$A$1:$A$286,Hilfstabelle!$B$1:$B$286))","v":""}]
[null,null,null,null,null,null,null,null,null,null,null,null,null,null,null,null,null,null,null,null,{"$f":"IF(W198=\"\",\"\",LOOKUP(W198,Hilfstabelle!$A$1:$A$286,Hilfstabelle!$B$1:$B$286))","v":""}]
[null,null,null,null,null,null,null,null,null,null,null,null,null,null,null,null,null,null,null,null,{"$f":"IF(W199=\"\",\"\",LOOKUP(W199,Hilfstabelle!$A$1:$A$286,Hilfstabelle!$B$1:$B$286))","v":""}]
[null,null,null,null,null,null,null,null,null,null,null,null,null,null,null,null,null,null,null,null,{"$f":"IF(W200=\"\",\"\",LOOKUP(W200,Hilfstabelle!$A$1:$A$286,Hilfstabelle!$B$1:$B$286))","v":""}]
[null,null,null,null,null,null,null,null,null,null,null,null,null,null,null,null,null,null,null,null,{"$f":"IF(W201=\"\",\"\",LOOKUP(W201,Hilfstabelle!$A$1:$A$286,Hilfstabelle!$B$1:$B$286))","v":""}]
[null,null,null,null,null,null,null,null,null,null,null,null,null,null,null,null,null,null,null,null,{"$f":"IF(W202=\"\",\"\",LOOKUP(W202,Hilfstabelle!$A$1:$A$286,Hilfstabelle!$B$1:$B$286))","v":""}]
[null,null,null,null,null,null,null,null,null,null,null,null,null,null,null,null,null,null,null,null,{"$f":"IF(W203=\"\",\"\",LOOKUP(W203,Hilfstabelle!$A$1:$A$286,Hilfstabelle!$B$1:$B$286))","v":""}]
[null,null,null,null,null,null,null,null,null,null,null,null,null,null,null,null,null,null,null,null,{"$f":"IF(W204=\"\",\"\",LOOKUP(W204,Hilfstabelle!$A$1:$A$286,Hilfstabelle!$B$1:$B$286))","v":""}]
[null,null,null,null,null,null,null,null,null,null,null,null,null,null,null,null,null,null,null,null,{"$f":"IF(W205=\"\",\"\",LOOKUP(W205,Hilfstabelle!$A$1:$A$286,Hilfstabelle!$B$1:$B$286))","v":""}]
[null,null,null,null,null,null,null,null,null,null,null,null,null,null,null,null,null,null,null,null,{"$f":"IF(W206=\"\",\"\",LOOKUP(W206,Hilfstabelle!$A$1:$A$286,Hilfstabelle!$B$1:$B$286))","v":""}]
[null,null,null,null,null,null,null,null,null,null,null,null,null,null,null,null,null,null,null,null,{"$f":"IF(W207=\"\",\"\",LOOKUP(W207,Hilfstabelle!$A$1:$A$286,Hilfstabelle!$B$1:$B$286))","v":""}]
[null,null,null,null,null,null,null,null,null,null,null,null,null,null,null,null,null,null,null,null,{"$f":"IF(W208=\"\",\"\",LOOKUP(W208,Hilfstabelle!$A$1:$A$286,Hilfstabelle!$B$1:$B$286))","v":""}]
[null,null,null,null,null,null,null,null,null,null,null,null,null,null,null,null,null,null,null,null,{"$f":"IF(W209=\"\",\"\",LOOKUP(W209,Hilfstabelle!$A$1:$A$286,Hilfstabelle!$B$1:$B$286))","v":""}]
[null,null,null,null,null,null,null,null,null,null,null,null,null,null,null,null,null,null,null,null,{"$f":"IF(W210=\"\",\"\",LOOKUP(W210,Hilfstabelle!$A$1:$A$286,Hilfstabelle!$B$1:$B$286))","v":""}]
[null,null,null,null,null,null,null,null,null,null,null,null,null,null,null,null,null,null,null,null,{"$f":"IF(W211=\"\",\"\",LOOKUP(W211,Hilfstabelle!$A$1:$A$286,Hilfstabelle!$B$1:$B$286))","v":""}]
[null,null,null,null,null,null,null,null,null,null,null,null,null,null,null,null,null,null,null,null,{"$f":"IF(W212=\"\",\"\",LOOKUP(W212,Hilfstabelle!$A$1:$A$286,Hilfstabelle!$B$1:$B$286))","v":""}]
[null,null,null,null,null,null,null,null,null,null,null,null,null,null,null,null,null,null,null,null,{"$f":"IF(W213=\"\",\"\",LOOKUP(W213,Hilfstabelle!$A$1:$A$286,Hilfstabelle!$B$1:$B$286))","v":""}]
[null,null,null,null,null,null,null,null,null,null,null,null,null,null,null,null,null,null,null,null,{"$f":"IF(W214=\"\",\"\",LOOKUP(W214,Hilfstabelle!$A$1:$A$286,Hilfstabelle!$B$1:$B$286))","v":""}]
[null,null,null,null,null,null,null,null,null,null,null,null,null,null,null,null,null,null,null,null,{"$f":"IF(W215=\"\",\"\",LOOKUP(W215,Hilfstabelle!$A$1:$A$286,Hilfstabelle!$B$1:$B$286))","v":""}]
[null,null,null,null,null,null,null,null,null,null,null,null,null,null,null,null,null,null,null,null,{"$f":"IF(W216=\"\",\"\",LOOKUP(W216,Hilfstabelle!$A$1:$A$286,Hilfstabelle!$B$1:$B$286))","v":""}]
[null,null,null,null,null,null,null,null,null,null,null,null,null,null,null,null,null,null,null,null,{"$f":"IF(W217=\"\",\"\",LOOKUP(W217,Hilfstabelle!$A$1:$A$286,Hilfstabelle!$B$1:$B$286))","v":""}]
[null,null,null,null,null,null,null,null,null,null,null,null,null,null,null,null,null,null,null,null,{"$f":"IF(W218=\"\",\"\",LOOKUP(W218,Hilfstabelle!$A$1:$A$286,Hilfstabelle!$B$1:$B$286))","v":""}]
[null,null,null,null,null,null,null,null,null,null,null,null,null,null,null,null,null,null,null,null,{"$f":"IF(W219=\"\",\"\",LOOKUP(W219,Hilfstabelle!$A$1:$A$286,Hilfstabelle!$B$1:$B$286))","v":""}]
[null,null,null,null,null,null,null,null,null,null,null,null,null,null,null,null,null,null,null,null,{"$f":"IF(W220=\"\",\"\",LOOKUP(W220,Hilfstabelle!$A$1:$A$286,Hilfstabelle!$B$1:$B$286))","v":""}]
[null,null,null,null,null,null,null,null,null,null,null,null,null,null,null,null,null,null,null,null,{"$f":"IF(W221=\"\",\"\",LOOKUP(W221,Hilfstabelle!$A$1:$A$286,Hilfstabelle!$B$1:$B$286))","v":""}]
[null,null,null,null,null,null,null,null,null,null,null,null,null,null,null,null,null,null,null,null,{"$f":"IF(W222=\"\",\"\",LOOKUP(W222,Hilfstabelle!$A$1:$A$286,Hilfstabelle!$B$1:$B$286))","v":""}]
[null,null,null,null,null,null,null,null,null,null,null,null,null,null,null,null,null,null,null,null,{"$f":"IF(W223=\"\",\"\",LOOKUP(W223,Hilfstabelle!$A$1:$A$286,Hilfstabelle!$B$1:$B$286))","v":""}]
[null,null,null,null,null,null,null,null,null,null,null,null,null,null,null,null,null,null,null,null,{"$f":"IF(W224=\"\",\"\",LOOKUP(W224,Hilfstabelle!$A$1:$A$286,Hilfstabelle!$B$1:$B$286))","v":""}]
[null,null,null,null,null,null,null,null,null,null,null,null,null,null,null,null,null,null,null,null,{"$f":"IF(W225=\"\",\"\",LOOKUP(W225,Hilfstabelle!$A$1:$A$286,Hilfstabelle!$B$1:$B$286))","v":""}]
[null,null,null,null,null,null,null,null,null,null,null,null,null,null,null,null,null,null,null,null,{"$f":"IF(W226=\"\",\"\",LOOKUP(W226,Hilfstabelle!$A$1:$A$286,Hilfstabelle!$B$1:$B$286))","v":""}]
[null,null,null,null,null,null,null,null,null,null,null,null,null,null,null,null,null,null,null,null,{"$f":"IF(W227=\"\",\"\",LOOKUP(W227,Hilfstabelle!$A$1:$A$286,Hilfstabelle!$B$1:$B$286))","v":""}]
[null,null,null,null,null,null,null,null,null,null,null,null,null,null,null,null,null,null,null,null,{"$f":"IF(W228=\"\",\"\",LOOKUP(W228,Hilfstabelle!$A$1:$A$286,Hilfstabelle!$B$1:$B$286))","v":""}]
[null,null,null,null,null,null,null,null,null,null,null,null,null,null,null,null,null,null,null,null,{"$f":"IF(W229=\"\",\"\",LOOKUP(W229,Hilfstabelle!$A$1:$A$286,Hilfstabelle!$B$1:$B$286))","v":""}]
[null,null,null,null,null,null,null,null,null,null,null,null,null,null,null,null,null,null,null,null,{"$f":"IF(W230=\"\",\"\",LOOKUP(W230,Hilfstabelle!$A$1:$A$286,Hilfstabelle!$B$1:$B$286))","v":""}]
[null,null,null,null,null,null,null,null,null,null,null,null,null,null,null,null,null,null,null,null,{"$f":"IF(W231=\"\",\"\",LOOKUP(W231,Hilfstabelle!$A$1:$A$286,Hilfstabelle!$B$1:$B$286))","v":""}]
[null,null,null,null,null,null,null,null,null,null,null,null,null,null,null,null,null,null,null,null,{"$f":"IF(W232=\"\",\"\",LOOKUP(W232,Hilfstabelle!$A$1:$A$286,Hilfstabelle!$B$1:$B$286))","v":""}]
[null,null,null,null,null,null,null,null,null,null,null,null,null,null,null,null,null,null,null,null,{"$f":"IF(W233=\"\",\"\",LOOKUP(W233,Hilfstabelle!$A$1:$A$286,Hilfstabelle!$B$1:$B$286))","v":""}]
[null,null,null,null,null,null,null,null,null,null,null,null,null,null,null,null,null,null,null,null,{"$f":"IF(W234=\"\",\"\",LOOKUP(W234,Hilfstabelle!$A$1:$A$286,Hilfstabelle!$B$1:$B$286))","v":""}]
[null,null,null,null,null,null,null,null,null,null,null,null,null,null,null,null,null,null,null,null,{"$f":"IF(W235=\"\",\"\",LOOKUP(W235,Hilfstabelle!$A$1:$A$286,Hilfstabelle!$B$1:$B$286))","v":""}]
[null,null,null,null,null,null,null,null,null,null,null,null,null,null,null,null,null,null,null,null,{"$f":"IF(W236=\"\",\"\",LOOKUP(W236,Hilfstabelle!$A$1:$A$286,Hilfstabelle!$B$1:$B$286))","v":""}]
[null,null,null,null,null,null,null,null,null,null,null,null,null,null,null,null,null,null,null,null,{"$f":"IF(W237=\"\",\"\",LOOKUP(W237,Hilfstabelle!$A$1:$A$286,Hilfstabelle!$B$1:$B$286))","v":""}]
[null,null,null,null,null,null,null,null,null,null,null,null,null,null,null,null,null,null,null,null,{"$f":"IF(W238=\"\",\"\",LOOKUP(W238,Hilfstabelle!$A$1:$A$286,Hilfstabelle!$B$1:$B$286))","v":""}]
[null,null,null,null,null,null,null,null,null,null,null,null,null,null,null,null,null,null,null,null,{"$f":"IF(W239=\"\",\"\",LOOKUP(W239,Hilfstabelle!$A$1:$A$286,Hilfstabelle!$B$1:$B$286))","v":""}]
[null,null,null,null,null,null,null,null,null,null,null,null,null,null,null,null,null,null,null,null,{"$f":"IF(W240=\"\",\"\",LOOKUP(W240,Hilfstabelle!$A$1:$A$286,Hilfstabelle!$B$1:$B$286))","v":""}]
[null,null,null,null,null,null,null,null,null,null,null,null,null,null,null,null,null,null,null,null,{"$f":"IF(W241=\"\",\"\",LOOKUP(W241,Hilfstabelle!$A$1:$A$286,Hilfstabelle!$B$1:$B$286))","v":""}]
[null,null,null,null,null,null,null,null,null,null,null,null,null,null,null,null,null,null,null,null,{"$f":"IF(W242=\"\",\"\",LOOKUP(W242,Hilfstabelle!$A$1:$A$286,Hilfstabelle!$B$1:$B$286))","v":""}]
[null,null,null,null,null,null,null,null,null,null,null,null,null,null,null,null,null,null,null,null,{"$f":"IF(W243=\"\",\"\",LOOKUP(W243,Hilfstabelle!$A$1:$A$286,Hilfstabelle!$B$1:$B$286))","v":""}]
[null,null,null,null,null,null,null,null,null,null,null,null,null,null,null,null,null,null,null,null,{"$f":"IF(W244=\"\",\"\",LOOKUP(W244,Hilfstabelle!$A$1:$A$286,Hilfstabelle!$B$1:$B$286))","v":""}]
[null,null,null,null,null,null,null,null,null,null,null,null,null,null,null,null,null,null,null,null,{"$f":"IF(W245=\"\",\"\",LOOKUP(W245,Hilfstabelle!$A$1:$A$286,Hilfstabelle!$B$1:$B$286))","v":""}]
[null,null,null,null,null,null,null,null,null,null,null,null,null,null,null,null,null,null,null,null,{"$f":"IF(W246=\"\",\"\",LOOKUP(W246,Hilfstabelle!$A$1:$A$286,Hilfstabelle!$B$1:$B$286))","v":""}]
[null,null,null,null,null,null,null,null,null,null,null,null,null,null,null,null,null,null,null,null,{"$f":"IF(W247=\"\",\"\",LOOKUP(W247,Hilfstabelle!$A$1:$A$286,Hilfstabelle!$B$1:$B$286))","v":""}]
[null,null,null,null,null,null,null,null,null,null,null,null,null,null,null,null,null,null,null,null,{"$f":"IF(W248=\"\",\"\",LOOKUP(W248,Hilfstabelle!$A$1:$A$286,Hilfstabelle!$B$1:$B$286))","v":""}]
[null,null,null,null,null,null,null,null,null,null,null,null,null,null,null,null,null,null,null,null,{"$f":"IF(W249=\"\",\"\",LOOKUP(W249,Hilfstabelle!$A$1:$A$286,Hilfstabelle!$B$1:$B$286))","v":""}]
[null,null,null,null,null,null,null,null,null,null,null,null,null,null,null,null,null,null,null,null,{"$f":"IF(W250=\"\",\"\",LOOKUP(W250,Hilfstabelle!$A$1:$A$286,Hilfstabelle!$B$1:$B$286))","v":""}]
[null,null,null,null,null,null,null,null,null,null,null,null,null,null,null,null,null,null,null,null,{"$f":"IF(W251=\"\",\"\",LOOKUP(W251,Hilfstabelle!$A$1:$A$286,Hilfstabelle!$B$1:$B$286))","v":""}]
[null,null,null,null,null,null,null,null,null,null,null,null,null,null,null,null,null,null,null,null,{"$f":"IF(W252=\"\",\"\",LOOKUP(W252,Hilfstabelle!$A$1:$A$286,Hilfstabelle!$B$1:$B$286))","v":""}]
[null,null,null,null,null,null,null,null,null,null,null,null,null,null,null,null,null,null,null,null,{"$f":"IF(W253=\"\",\"\",LOOKUP(W253,Hilfstabelle!$A$1:$A$286,Hilfstabelle!$B$1:$B$286))","v":""}]
[null,null,null,null,null,null,null,null,null,null,null,null,null,null,null,null,null,null,null,null,{"$f":"IF(W254=\"\",\"\",LOOKUP(W254,Hilfstabelle!$A$1:$A$286,Hilfstabelle!$B$1:$B$286))","v":""}]
[null,null,null,null,null,null,null,null,null,null,null,null,null,null,null,null,null,null,null,null,{"$f":"IF(W255=\"\",\"\",LOOKUP(W255,Hilfstabelle!$A$1:$A$286,Hilfstabelle!$B$1:$B$286))","v":""}]
[null,null,null,null,null,null,null,null,null,null,null,null,null,null,null,null,null,null,null,null,{"$f":"IF(W256=\"\",\"\",LOOKUP(W256,Hilfstabelle!$A$1:$A$286,Hilfstabelle!$B$1:$B$286))","v":""}]
[null,null,null,null,null,null,null,null,null,null,null,null,null,null,null,null,null,null,null,null,{"$f":"IF(W257=\"\",\"\",LOOKUP(W257,Hilfstabelle!$A$1:$A$286,Hilfstabelle!$B$1:$B$286))","v":""}]
[null,null,null,null,null,null,null,null,null,null,null,null,null,null,null,null,null,null,null,null,{"$f":"IF(W258=\"\",\"\",LOOKUP(W258,Hilfstabelle!$A$1:$A$286,Hilfstabelle!$B$1:$B$286))","v":""}]
[null,null,null,null,null,null,null,null,null,null,null,null,null,null,null,null,null,null,null,null,{"$f":"IF(W259=\"\",\"\",LOOKUP(W259,Hilfstabelle!$A$1:$A$286,Hilfstabelle!$B$1:$B$286))","v":""}]
[null,null,null,null,null,null,null,null,null,null,null,null,null,null,null,null,null,null,null,null,{"$f":"IF(W260=\"\",\"\",LOOKUP(W260,Hilfstabelle!$A$1:$A$286,Hilfstabelle!$B$1:$B$286))","v":""}]
[null,null,null,null,null,null,null,null,null,null,null,null,null,null,null,null,null,null,null,null,{"$f":"IF(W261=\"\",\"\",LOOKUP(W261,Hilfstabelle!$A$1:$A$286,Hilfstabelle!$B$1:$B$286))","v":""}]
[null,null,null,null,null,null,null,null,null,null,null,null,null,null,null,null,null,null,null,null,{"$f":"IF(W262=\"\",\"\",LOOKUP(W262,Hilfstabelle!$A$1:$A$286,Hilfstabelle!$B$1:$B$286))","v":""}]
[null,null,null,null,null,null,null,null,null,null,null,null,null,null,null,null,null,null,null,null,{"$f":"IF(W263=\"\",\"\",LOOKUP(W263,Hilfstabelle!$A$1:$A$286,Hilfstabelle!$B$1:$B$286))","v":""}]
[null,null,null,null,null,null,null,null,null,null,null,null,null,null,null,null,null,null,null,null,{"$f":"IF(W264=\"\",\"\",LOOKUP(W264,Hilfstabelle!$A$1:$A$286,Hilfstabelle!$B$1:$B$286))","v":""}]
[null,null,null,null,null,null,null,null,null,null,null,null,null,null,null,null,null,null,null,null,{"$f":"IF(W265=\"\",\"\",LOOKUP(W265,Hilfstabelle!$A$1:$A$286,Hilfstabelle!$B$1:$B$286))","v":""}]
[null,null,null,null,null,null,null,null,null,null,null,null,null,null,null,null,null,null,null,null,{"$f":"IF(W266=\"\",\"\",LOOKUP(W266,Hilfstabelle!$A$1:$A$286,Hilfstabelle!$B$1:$B$286))","v":""}]
[null,null,null,null,null,null,null,null,null,null,null,null,null,null,null,null,null,null,null,null,{"$f":"IF(W267=\"\",\"\",LOOKUP(W267,Hilfstabelle!$A$1:$A$286,Hilfstabelle!$B$1:$B$286))","v":""}]
[null,null,null,null,null,null,null,null,null,null,null,null,null,null,null,null,null,null,null,null,{"$f":"IF(W268=\"\",\"\",LOOKUP(W268,Hilfstabelle!$A$1:$A$286,Hilfstabelle!$B$1:$B$286))","v":""}]
[null,null,null,null,null,null,null,null,null,null,null,null,null,null,null,null,null,null,null,null,{"$f":"IF(W269=\"\",\"\",LOOKUP(W269,Hilfstabelle!$A$1:$A$286,Hilfstabelle!$B$1:$B$286))","v":""}]
[null,null,null,null,null,null,null,null,null,null,null,null,null,null,null,null,null,null,null,null,{"$f":"IF(W270=\"\",\"\",LOOKUP(W270,Hilfstabelle!$A$1:$A$286,Hilfstabelle!$B$1:$B$286))","v":""}]
[null,null,null,null,null,null,null,null,null,null,null,null,null,null,null,null,null,null,null,null,{"$f":"IF(W271=\"\",\"\",LOOKUP(W271,Hilfstabelle!$A$1:$A$286,Hilfstabelle!$B$1:$B$286))","v":""}]
[null,null,null,null,null,null,null,null,null,null,null,null,null,null,null,null,null,null,null,null,{"$f":"IF(W272=\"\",\"\",LOOKUP(W272,Hilfstabelle!$A$1:$A$286,Hilfstabelle!$B$1:$B$286))","v":""}]
[null,null,null,null,null,null,null,null,null,null,null,null,null,null,null,null,null,null,null,null,{"$f":"IF(W273=\"\",\"\",LOOKUP(W273,Hilfstabelle!$A$1:$A$286,Hilfstabelle!$B$1:$B$286))","v":""}]
[null,null,null,null,null,null,null,null,null,null,null,null,null,null,null,null,null,null,null,null,{"$f":"IF(W274=\"\",\"\",LOOKUP(W274,Hilfstabelle!$A$1:$A$286,Hilfstabelle!$B$1:$B$286))","v":""}]
[null,null,null,null,null,null,null,null,null,null,null,null,null,null,null,null,null,null,null,null,{"$f":"IF(W275=\"\",\"\",LOOKUP(W275,Hilfstabelle!$A$1:$A$286,Hilfstabelle!$B$1:$B$286))","v":""}]
[null,null,null,null,null,null,null,null,null,null,null,null,null,null,null,null,null,null,null,null,{"$f":"IF(W276=\"\",\"\",LOOKUP(W276,Hilfstabelle!$A$1:$A$286,Hilfstabelle!$B$1:$B$286))","v":""}]
[null,null,null,null,null,null,null,null,null,null,null,null,null,null,null,null,null,null,null,null,{"$f":"IF(W277=\"\",\"\",LOOKUP(W277,Hilfstabelle!$A$1:$A$286,Hilfstabelle!$B$1:$B$286))","v":""}]
[null,null,null,null,null,null,null,null,null,null,null,null,null,null,null,null,null,null,null,null,{"$f":"IF(W278=\"\",\"\",LOOKUP(W278,Hilfstabelle!$A$1:$A$286,Hilfstabelle!$B$1:$B$286))","v":""}]
[null,null,null,null,null,null,null,null,null,null,null,null,null,null,null,null,null,null,null,null,{"$f":"IF(W279=\"\",\"\",LOOKUP(W279,Hilfstabelle!$A$1:$A$286,Hilfstabelle!$B$1:$B$286))","v":""}]
[null,null,null,null,null,null,null,null,null,null,null,null,null,null,null,null,null,null,null,null,{"$f":"IF(W280=\"\",\"\",LOOKUP(W280,Hilfstabelle!$A$1:$A$286,Hilfstabelle!$B$1:$B$286))","v":""}]
[null,null,null,null,null,null,null,null,null,null,null,null,null,null,null,null,null,null,null,null,{"$f":"IF(W281=\"\",\"\",LOOKUP(W281,Hilfstabelle!$A$1:$A$286,Hilfstabelle!$B$1:$B$286))","v":""}]
[null,null,null,null,null,null,null,null,null,null,null,null,null,null,null,null,null,null,null,null,{"$f":"IF(W282=\"\",\"\",LOOKUP(W282,Hilfstabelle!$A$1:$A$286,Hilfstabelle!$B$1:$B$286))","v":""}]
[null,null,null,null,null,null,null,null,null,null,null,null,null,null,null,null,null,null,null,null,{"$f":"IF(W283=\"\",\"\",LOOKUP(W283,Hilfstabelle!$A$1:$A$286,Hilfstabelle!$B$1:$B$286))","v":""}]
[null,null,null,null,null,null,null,null,null,null,null,null,null,null,null,null,null,null,null,null,{"$f":"IF(W284=\"\",\"\",LOOKUP(W284,Hilfstabelle!$A$1:$A$286,Hilfstabelle!$B$1:$B$286))","v":""}]
[null,null,null,null,null,null,null,null,null,null,null,null,null,null,null,null,null,null,null,null,{"$f":"IF(W285=\"\",\"\",LOOKUP(W285,Hilfstabelle!$A$1:$A$286,Hilfstabelle!$B$1:$B$286))","v":""}]
[null,null,null,null,null,null,null,null,null,null,null,null,null,null,null,null,null,null,null,null,{"$f":"IF(W286=\"\",\"\",LOOKUP(W286,Hilfstabelle!$A$1:$A$286,Hilfstabelle!$B$1:$B$286))","v":""}]
[null,null,null,null,null,null,null,null,null,null,null,null,null,null,null,null,null,null,null,null,{"$f":"IF(W287=\"\",\"\",LOOKUP(W287,Hilfstabelle!$A$1:$A$286,Hilfstabelle!$B$1:$B$286))","v":""}]
[null,null,null,null,null,null,null,null,null,null,null,null,null,null,null,null,null,null,null,null,{"$f":"IF(W288=\"\",\"\",LOOKUP(W288,Hilfstabelle!$A$1:$A$286,Hilfstabelle!$B$1:$B$286))","v":""}]
[null,null,null,null,null,null,null,null,null,null,null,null,null,null,null,null,null,null,null,null,{"$f":"IF(W289=\"\",\"\",LOOKUP(W289,Hilfstabelle!$A$1:$A$286,Hilfstabelle!$B$1:$B$286))","v":""}]
[null,null,null,null,null,null,null,null,null,null,null,null,null,null,null,null,null,null,null,null,{"$f":"IF(W290=\"\",\"\",LOOKUP(W290,Hilfstabelle!$A$1:$A$286,Hilfstabelle!$B$1:$B$286))","v":""}]
[null,null,null,null,null,null,null,null,null,null,null,null,null,null,null,null,null,null,null,null,{"$f":"IF(W291=\"\",\"\",LOOKUP(W291,Hilfstabelle!$A$1:$A$286,Hilfstabelle!$B$1:$B$286))","v":""}]
[null,null,null,null,null,null,null,null,null,null,null,null,null,null,null,null,null,null,null,null,{"$f":"IF(W292=\"\",\"\",LOOKUP(W292,Hilfstabelle!$A$1:$A$286,Hilfstabelle!$B$1:$B$286))","v":""}]
[null,null,null,null,null,null,null,null,null,null,null,null,null,null,null,null,null,null,null,null,{"$f":"IF(W293=\"\",\"\",LOOKUP(W293,Hilfstabelle!$A$1:$A$286,Hilfstabelle!$B$1:$B$286))","v":""}]
[null,null,null,null,null,null,null,null,null,null,null,null,null,null,null,null,null,null,null,null,{"$f":"IF(W294=\"\",\"\",LOOKUP(W294,Hilfstabelle!$A$1:$A$286,Hilfstabelle!$B$1:$B$286))","v":""}]
[null,null,null,null,null,null,null,null,null,null,null,null,null,null,null,null,null,null,null,null,{"$f":"IF(W295=\"\",\"\",LOOKUP(W295,Hilfstabelle!$A$1:$A$286,Hilfstabelle!$B$1:$B$286))","v":""}]
[null,null,null,null,null,null,null,null,null,null,null,null,null,null,null,null,null,null,null,null,{"$f":"IF(W296=\"\",\"\",LOOKUP(W296,Hilfstabelle!$A$1:$A$286,Hilfstabelle!$B$1:$B$286))","v":""}]
[null,null,null,null,null,null,null,null,null,null,null,null,null,null,null,null,null,null,null,null,{"$f":"IF(W297=\"\",\"\",LOOKUP(W297,Hilfstabelle!$A$1:$A$286,Hilfstabelle!$B$1:$B$286))","v":""}]
[null,null,null,null,null,null,null,null,null,null,null,null,null,null,null,null,null,null,null,null,{"$f":"IF(W298=\"\",\"\",LOOKUP(W298,Hilfstabelle!$A$1:$A$286,Hilfstabelle!$B$1:$B$286))","v":""}]
[null,null,null,null,null,null,null,null,null,null,null,null,null,null,null,null,null,null,null,null,{"$f":"IF(W299=\"\",\"\",LOOKUP(W299,Hilfstabelle!$A$1:$A$286,Hilfstabelle!$B$1:$B$286))","v":""}]
[null,null,null,null,null,null,null,null,null,null,null,null,null,null,null,null,null,null,null,null,{"$f":"IF(W300=\"\",\"\",LOOKUP(W300,Hilfstabelle!$A$1:$A$286,Hilfstabelle!$B$1:$B$286))","v":""}]
[null,null,null,null,null,null,null,null,null,null,null,null,null,null,null,null,null,null,null,null,{"$f":"IF(W301=\"\",\"\",LOOKUP(W301,Hilfstabelle!$A$1:$A$286,Hilfstabelle!$B$1:$B$286))","v":""}]
[null,null,null,null,null,null,null,null,null,null,null,null,null,null,null,null,null,null,null,null,{"$f":"IF(W302=\"\",\"\",LOOKUP(W302,Hilfstabelle!$A$1:$A$286,Hilfstabelle!$B$1:$B$286))","v":""}]
[null,null,null,null,null,null,null,null,null,null,null,null,null,null,null,null,null,null,null,null,{"$f":"IF(W303=\"\",\"\",LOOKUP(W303,Hilfstabelle!$A$1:$A$286,Hilfstabelle!$B$1:$B$286))","v":""}]
[null,null,null,null,null,null,null,null,null,null,null,null,null,null,null,null,null,null,null,null,{"$f":"IF(W304=\"\",\"\",LOOKUP(W304,Hilfstabelle!$A$1:$A$286,Hilfstabelle!$B$1:$B$286))","v":""}]
[null,null,null,null,null,null,null,null,null,null,null,null,null,null,null,null,null,null,null,null,{"$f":"IF(W305=\"\",\"\",LOOKUP(W305,Hilfstabelle!$A$1:$A$286,Hilfstabelle!$B$1:$B$286))","v":""}]
[null,null,null,null,null,null,null,null,null,null,null,null,null,null,null,null,null,null,null,null,{"$f":"IF(W306=\"\",\"\",LOOKUP(W306,Hilfstabelle!$A$1:$A$286,Hilfstabelle!$B$1:$B$286))","v":""}]
[null,null,null,null,null,null,null,null,null,null,null,null,null,null,null,null,null,null,null,null,{"$f":"IF(W307=\"\",\"\",LOOKUP(W307,Hilfstabelle!$A$1:$A$286,Hilfstabelle!$B$1:$B$286))","v":""}]
[null,null,null,null,null,null,null,null,null,null,null,null,null,null,null,null,null,null,null,null,{"$f":"IF(W308=\"\",\"\",LOOKUP(W308,Hilfstabelle!$A$1:$A$286,Hilfstabelle!$B$1:$B$286))","v":""}]
[null,null,null,null,null,null,null,null,null,null,null,null,null,null,null,null,null,null,null,null,{"$f":"IF(W309=\"\",\"\",LOOKUP(W309,Hilfstabelle!$A$1:$A$286,Hilfstabelle!$B$1:$B$286))","v":""}]
[null,null,null,null,null,null,null,null,null,null,null,null,null,null,null,null,null,null,null,null,{"$f":"IF(W310=\"\",\"\",LOOKUP(W310,Hilfstabelle!$A$1:$A$286,Hilfstabelle!$B$1:$B$286))","v":""}]
[null,null,null,null,null,null,null,null,null,null,null,null,null,null,null,null,null,null,null,null,{"$f":"IF(W311=\"\",\"\",LOOKUP(W311,Hilfstabelle!$A$1:$A$286,Hilfstabelle!$B$1:$B$286))","v":""}]
[null,null,null,null,null,null,null,null,null,null,null,null,null,null,null,null,null,null,null,null,{"$f":"IF(W312=\"\",\"\",LOOKUP(W312,Hilfstabelle!$A$1:$A$286,Hilfstabelle!$B$1:$B$286))","v":""}]
[null,null,null,null,null,null,null,null,null,null,null,null,null,null,null,null,null,null,null,null,{"$f":"IF(W313=\"\",\"\",LOOKUP(W313,Hilfstabelle!$A$1:$A$286,Hilfstabelle!$B$1:$B$286))","v":""}]
[null,null,null,null,null,null,null,null,null,null,null,null,null,null,null,null,null,null,null,null,{"$f":"IF(W314=\"\",\"\",LOOKUP(W314,Hilfstabelle!$A$1:$A$286,Hilfstabelle!$B$1:$B$286))","v":""}]
[null,null,null,null,null,null,null,null,null,null,null,null,null,null,null,null,null,null,null,null,{"$f":"IF(W315=\"\",\"\",LOOKUP(W315,Hilfstabelle!$A$1:$A$286,Hilfstabelle!$B$1:$B$286))","v":""}]
[null,null,null,null,null,null,null,null,null,null,null,null,null,null,null,null,null,null,null,null,{"$f":"IF(W316=\"\",\"\",LOOKUP(W316,Hilfstabelle!$A$1:$A$286,Hilfstabelle!$B$1:$B$286))","v":""}]
[null,null,null,null,null,null,null,null,null,null,null,null,null,null,null,null,null,null,null,null,{"$f":"IF(W317=\"\",\"\",LOOKUP(W317,Hilfstabelle!$A$1:$A$286,Hilfstabelle!$B$1:$B$286))","v":""}]
[null,null,null,null,null,null,null,null,null,null,null,null,null,null,null,null,null,null,null,null,{"$f":"IF(W318=\"\",\"\",LOOKUP(W318,Hilfstabelle!$A$1:$A$286,Hilfstabelle!$B$1:$B$286))","v":""}]
[null,null,null,null,null,null,null,null,null,null,null,null,null,null,null,null,null,null,null,null,{"$f":"IF(W319=\"\",\"\",LOOKUP(W319,Hilfstabelle!$A$1:$A$286,Hilfstabelle!$B$1:$B$286))","v":""}]
[null,null,null,null,null,null,null,null,null,null,null,null,null,null,null,null,null,null,null,null,{"$f":"IF(W320=\"\",\"\",LOOKUP(W320,Hilfstabelle!$A$1:$A$286,Hilfstabelle!$B$1:$B$286))","v":""}]
[null,null,null,null,null,null,null,null,null,null,null,null,null,null,null,null,null,null,null,null,{"$f":"IF(W321=\"\",\"\",LOOKUP(W321,Hilfstabelle!$A$1:$A$286,Hilfstabelle!$B$1:$B$286))","v":""}]
[null,null,null,null,null,null,null,null,null,null,null,null,null,null,null,null,null,null,null,null,{"$f":"IF(W322=\"\",\"\",LOOKUP(W322,Hilfstabelle!$A$1:$A$286,Hilfstabelle!$B$1:$B$286))","v":""}]
[null,null,null,null,null,null,null,null,null,null,null,null,null,null,null,null,null,null,null,null,{"$f":"IF(W323=\"\",\"\",LOOKUP(W323,Hilfstabelle!$A$1:$A$286,Hilfstabelle!$B$1:$B$286))","v":""}]
[null,null,null,null,null,null,null,null,null,null,null,null,null,null,null,null,null,null,null,null,{"$f":"IF(W324=\"\",\"\",LOOKUP(W324,Hilfstabelle!$A$1:$A$286,Hilfstabelle!$B$1:$B$286))","v":""}]
[null,null,null,null,null,null,null,null,null,null,null,null,null,null,null,null,null,null,null,null,{"$f":"IF(W325=\"\",\"\",LOOKUP(W325,Hilfstabelle!$A$1:$A$286,Hilfstabelle!$B$1:$B$286))","v":""}]
[null,null,null,null,null,null,null,null,null,null,null,null,null,null,null,null,null,null,null,null,{"$f":"IF(W326=\"\",\"\",LOOKUP(W326,Hilfstabelle!$A$1:$A$286,Hilfstabelle!$B$1:$B$286))","v":""}]
[null,null,null,null,null,null,null,null,null,null,null,null,null,null,null,null,null,null,null,null,{"$f":"IF(W327=\"\",\"\",LOOKUP(W327,Hilfstabelle!$A$1:$A$286,Hilfstabelle!$B$1:$B$286))","v":""}]
[null,null,null,null,null,null,null,null,null,null,null,null,null,null,null,null,null,null,null,null,{"$f":"IF(W328=\"\",\"\",LOOKUP(W328,Hilfstabelle!$A$1:$A$286,Hilfstabelle!$B$1:$B$286))","v":""}]
[null,null,null,null,null,null,null,null,null,null,null,null,null,null,null,null,null,null,null,null,{"$f":"IF(W329=\"\",\"\",LOOKUP(W329,Hilfstabelle!$A$1:$A$286,Hilfstabelle!$B$1:$B$286))","v":""}]
[null,null,null,null,null,null,null,null,null,null,null,null,null,null,null,null,null,null,null,null,{"$f":"IF(W330=\"\",\"\",LOOKUP(W330,Hilfstabelle!$A$1:$A$286,Hilfstabelle!$B$1:$B$286))","v":""}]
[null,null,null,null,null,null,null,null,null,null,null,null,null,null,null,null,null,null,null,null,{"$f":"IF(W331=\"\",\"\",LOOKUP(W331,Hilfstabelle!$A$1:$A$286,Hilfstabelle!$B$1:$B$286))","v":""}]
[null,null,null,null,null,null,null,null,null,null,null,null,null,null,null,null,null,null,null,null,{"$f":"IF(W332=\"\",\"\",LOOKUP(W332,Hilfstabelle!$A$1:$A$286,Hilfstabelle!$B$1:$B$286))","v":""}]
[null,null,null,null,null,null,null,null,null,null,null,null,null,null,null,null,null,null,null,null,{"$f":"IF(W333=\"\",\"\",LOOKUP(W333,Hilfstabelle!$A$1:$A$286,Hilfstabelle!$B$1:$B$286))","v":""}]
[null,null,null,null,null,null,null,null,null,null,null,null,null,null,null,null,null,null,null,null,{"$f":"IF(W334=\"\",\"\",LOOKUP(W334,Hilfstabelle!$A$1:$A$286,Hilfstabelle!$B$1:$B$286))","v":""}]
[null,null,null,null,null,null,null,null,null,null,null,null,null,null,null,null,null,null,null,null,{"$f":"IF(W335=\"\",\"\",LOOKUP(W335,Hilfstabelle!$A$1:$A$286,Hilfstabelle!$B$1:$B$286))","v":""}]
[null,null,null,null,null,null,null,null,null,null,null,null,null,null,null,null,null,null,null,null,{"$f":"IF(W336=\"\",\"\",LOOKUP(W336,Hilfstabelle!$A$1:$A$286,Hilfstabelle!$B$1:$B$286))","v":""}]
[null,null,null,null,null,null,null,null,null,null,null,null,null,null,null,null,null,null,null,null,{"$f":"IF(W337=\"\",\"\",LOOKUP(W337,Hilfstabelle!$A$1:$A$286,Hilfstabelle!$B$1:$B$286))","v":""}]
[null,null,null,null,null,null,null,null,null,null,null,null,null,null,null,null,null,null,null,null,{"$f":"IF(W338=\"\",\"\",LOOKUP(W338,Hilfstabelle!$A$1:$A$286,Hilfstabelle!$B$1:$B$286))","v":""}]
[null,null,null,null,null,null,null,null,null,null,null,null,null,null,null,null,null,null,null,null,{"$f":"IF(W339=\"\",\"\",LOOKUP(W339,Hilfstabelle!$A$1:$A$286,Hilfstabelle!$B$1:$B$286))","v":""}]
[null,null,null,null,null,null,null,null,null,null,null,null,null,null,null,null,null,null,null,null,{"$f":"IF(W340=\"\",\"\",LOOKUP(W340,Hilfstabelle!$A$1:$A$286,Hilfstabelle!$B$1:$B$286))","v":""}]
[null,null,null,null,null,null,null,null,null,null,null,null,null,null,null,null,null,null,null,null,{"$f":"IF(W341=\"\",\"\",LOOKUP(W341,Hilfstabelle!$A$1:$A$286,Hilfstabelle!$B$1:$B$286))","v":""}]
[null,null,null,null,null,null,null,null,null,null,null,null,null,null,null,null,null,null,null,null,{"$f":"IF(W342=\"\",\"\",LOOKUP(W342,Hilfstabelle!$A$1:$A$286,Hilfstabelle!$B$1:$B$286))","v":""}]
[null,null,null,null,null,null,null,null,null,null,null,null,null,null,null,null,null,null,null,null,{"$f":"IF(W343=\"\",\"\",LOOKUP(W343,Hilfstabelle!$A$1:$A$286,Hilfstabelle!$B$1:$B$286))","v":""}]
[null,null,null,null,null,null,null,null,null,null,null,null,null,null,null,null,null,null,null,null,{"$f":"IF(W344=\"\",\"\",LOOKUP(W344,Hilfstabelle!$A$1:$A$286,Hilfstabelle!$B$1:$B$286))","v":""}]
[null,null,null,null,null,null,null,null,null,null,null,null,null,null,null,null,null,null,null,null,{"$f":"IF(W345=\"\",\"\",LOOKUP(W345,Hilfstabelle!$A$1:$A$286,Hilfstabelle!$B$1:$B$286))","v":""}]
[null,null,null,null,null,null,null,null,null,null,null,null,null,null,null,null,null,null,null,null,{"$f":"IF(W346=\"\",\"\",LOOKUP(W346,Hilfstabelle!$A$1:$A$286,Hilfstabelle!$B$1:$B$286))","v":""}]
[null,null,null,null,null,null,null,null,null,null,null,null,null,null,null,null,null,null,null,null,{"$f":"IF(W347=\"\",\"\",LOOKUP(W347,Hilfstabelle!$A$1:$A$286,Hilfstabelle!$B$1:$B$286))","v":""}]
[null,null,null,null,null,null,null,null,null,null,null,null,null,null,null,null,null,null,null,null,{"$f":"IF(W348=\"\",\"\",LOOKUP(W348,Hilfstabelle!$A$1:$A$286,Hilfstabelle!$B$1:$B$286))","v":""}]
[null,null,null,null,null,null,null,null,null,null,null,null,null,null,null,null,null,null,null,null,{"$f":"IF(W349=\"\",\"\",LOOKUP(W349,Hilfstabelle!$A$1:$A$286,Hilfstabelle!$B$1:$B$286))","v":""}]
[null,null,null,null,null,null,null,null,null,null,null,null,null,null,null,null,null,null,null,null,{"$f":"IF(W350=\"\",\"\",LOOKUP(W350,Hilfstabelle!$A$1:$A$286,Hilfstabelle!$B$1:$B$286))","v":""}]
[null,null,null,null,null,null,null,null,null,null,null,null,null,null,null,null,null,null,null,null,{"$f":"IF(W351=\"\",\"\",LOOKUP(W351,Hilfstabelle!$A$1:$A$286,Hilfstabelle!$B$1:$B$286))","v":""}]
[null,null,null,null,null,null,null,null,null,null,null,null,null,null,null,null,null,null,null,null,{"$f":"IF(W352=\"\",\"\",LOOKUP(W352,Hilfstabelle!$A$1:$A$286,Hilfstabelle!$B$1:$B$286))","v":""}]
[null,null,null,null,null,null,null,null,null,null,null,null,null,null,null,null,null,null,null,null,{"$f":"IF(W353=\"\",\"\",LOOKUP(W353,Hilfstabelle!$A$1:$A$286,Hilfstabelle!$B$1:$B$286))","v":""}]
[null,null,null,null,null,null,null,null,null,null,null,null,null,null,null,null,null,null,null,null,{"$f":"IF(W354=\"\",\"\",LOOKUP(W354,Hilfstabelle!$A$1:$A$286,Hilfstabelle!$B$1:$B$286))","v":""}]
[null,null,null,null,null,null,null,null,null,null,null,null,null,null,null,null,null,null,null,null,{"$f":"IF(W355=\"\",\"\",LOOKUP(W355,Hilfstabelle!$A$1:$A$286,Hilfstabelle!$B$1:$B$286))","v":""}]
[null,null,null,null,null,null,null,null,null,null,null,null,null,null,null,null,null,null,null,null,{"$f":"IF(W356=\"\",\"\",LOOKUP(W356,Hilfstabelle!$A$1:$A$286,Hilfstabelle!$B$1:$B$286))","v":""}]
[null,null,null,null,null,null,null,null,null,null,null,null,null,null,null,null,null,null,null,null,{"$f":"IF(W357=\"\",\"\",LOOKUP(W357,Hilfstabelle!$A$1:$A$286,Hilfstabelle!$B$1:$B$286))","v":""}]
[null,null,null,null,null,null,null,null,null,null,null,null,null,null,null,null,null,null,null,null,{"$f":"IF(W358=\"\",\"\",LOOKUP(W358,Hilfstabelle!$A$1:$A$286,Hilfstabelle!$B$1:$B$286))","v":""}]
[null,null,null,null,null,null,null,null,null,null,null,null,null,null,null,null,null,null,null,null,{"$f":"IF(W359=\"\",\"\",LOOKUP(W359,Hilfstabelle!$A$1:$A$286,Hilfstabelle!$B$1:$B$286))","v":""}]
[null,null,null,null,null,null,null,null,null,null,null,null,null,null,null,null,null,null,null,null,{"$f":"IF(W360=\"\",\"\",LOOKUP(W360,Hilfstabelle!$A$1:$A$286,Hilfstabelle!$B$1:$B$286))","v":""}]
[null,null,null,null,null,null,null,null,null,null,null,null,null,null,null,null,null,null,null,null,{"$f":"IF(W361=\"\",\"\",LOOKUP(W361,Hilfstabelle!$A$1:$A$286,Hilfstabelle!$B$1:$B$286))","v":""}]
[null,null,null,null,null,null,null,null,null,null,null,null,null,null,null,null,null,null,null,null,{"$f":"IF(W362=\"\",\"\",LOOKUP(W362,Hilfstabelle!$A$1:$A$286,Hilfstabelle!$B$1:$B$286))","v":""}]
[null,null,null,null,null,null,null,null,null,null,null,null,null,null,null,null,null,null,null,null,{"$f":"IF(W363=\"\",\"\",LOOKUP(W363,Hilfstabelle!$A$1:$A$286,Hilfstabelle!$B$1:$B$286))","v":""}]
[null,null,null,null,null,null,null,null,null,null,null,null,null,null,null,null,null,null,null,null,{"$f":"IF(W364=\"\",\"\",LOOKUP(W364,Hilfstabelle!$A$1:$A$286,Hilfstabelle!$B$1:$B$286))","v":""}]
[null,null,null,null,null,null,null,null,null,null,null,null,null,null,null,null,null,null,null,null,{"$f":"IF(W365=\"\",\"\",LOOKUP(W365,Hilfstabelle!$A$1:$A$286,Hilfstabelle!$B$1:$B$286))","v":""}]
[null,null,null,null,null,null,null,null,null,null,null,null,null,null,null,null,null,null,null,null,{"$f":"IF(W366=\"\",\"\",LOOKUP(W366,Hilfstabelle!$A$1:$A$286,Hilfstabelle!$B$1:$B$286))","v":""}]
[null,null,null,null,null,null,null,null,null,null,null,null,null,null,null,null,null,null,null,null,{"$f":"IF(W367=\"\",\"\",LOOKUP(W367,Hilfstabelle!$A$1:$A$286,Hilfstabelle!$B$1:$B$286))","v":""}]
[null,null,null,null,null,null,null,null,null,null,null,null,null,null,null,null,null,null,null,null,{"$f":"IF(W368=\"\",\"\",LOOKUP(W368,Hilfstabelle!$A$1:$A$286,Hilfstabelle!$B$1:$B$286))","v":""}]
[null,null,null,null,null,null,null,null,null,null,null,null,null,null,null,null,null,null,null,null,{"$f":"IF(W369=\"\",\"\",LOOKUP(W369,Hilfstabelle!$A$1:$A$286,Hilfstabelle!$B$1:$B$286))","v":""}]
[null,null,null,null,null,null,null,null,null,null,null,null,null,null,null,null,null,null,null,null,{"$f":"IF(W370=\"\",\"\",LOOKUP(W370,Hilfstabelle!$A$1:$A$286,Hilfstabelle!$B$1:$B$286))","v":""}]
[null,null,null,null,null,null,null,null,null,null,null,null,null,null,null,null,null,null,null,null,{"$f":"IF(W371=\"\",\"\",LOOKUP(W371,Hilfstabelle!$A$1:$A$286,Hilfstabelle!$B$1:$B$286))","v":""}]
[null,null,null,null,null,null,null,null,null,null,null,null,null,null,null,null,null,null,null,null,{"$f":"IF(W372=\"\",\"\",LOOKUP(W372,Hilfstabelle!$A$1:$A$286,Hilfstabelle!$B$1:$B$286))","v":""}]
[null,null,null,null,null,null,null,null,null,null,null,null,null,null,null,null,null,null,null,null,{"$f":"IF(W373=\"\",\"\",LOOKUP(W373,Hilfstabelle!$A$1:$A$286,Hilfstabelle!$B$1:$B$286))","v":""}]
[null,null,null,null,null,null,null,null,null,null,null,null,null,null,null,null,null,null,null,null,{"$f":"IF(W374=\"\",\"\",LOOKUP(W374,Hilfstabelle!$A$1:$A$286,Hilfstabelle!$B$1:$B$286))","v":""}]
[null,null,null,null,null,null,null,null,null,null,null,null,null,null,null,null,null,null,null,null,{"$f":"IF(W375=\"\",\"\",LOOKUP(W375,Hilfstabelle!$A$1:$A$286,Hilfstabelle!$B$1:$B$286))","v":""}]
[null,null,null,null,null,null,null,null,null,null,null,null,null,null,null,null,null,null,null,null,{"$f":"IF(W376=\"\",\"\",LOOKUP(W376,Hilfstabelle!$A$1:$A$286,Hilfstabelle!$B$1:$B$286))","v":""}]
[null,null,null,null,null,null,null,null,null,null,null,null,null,null,null,null,null,null,null,null,{"$f":"IF(W377=\"\",\"\",LOOKUP(W377,Hilfstabelle!$A$1:$A$286,Hilfstabelle!$B$1:$B$286))","v":""}]
[null,null,null,null,null,null,null,null,null,null,null,null,null,null,null,null,null,null,null,null,{"$f":"IF(W378=\"\",\"\",LOOKUP(W378,Hilfstabelle!$A$1:$A$286,Hilfstabelle!$B$1:$B$286))","v":""}]
[null,null,null,null,null,null,null,null,null,null,null,null,null,null,null,null,null,null,null,null,{"$f":"IF(W379=\"\",\"\",LOOKUP(W379,Hilfstabelle!$A$1:$A$286,Hilfstabelle!$B$1:$B$286))","v":""}]
[null,null,null,null,null,null,null,null,null,null,null,null,null,null,null,null,null,null,null,null,{"$f":"IF(W380=\"\",\"\",LOOKUP(W380,Hilfstabelle!$A$1:$A$286,Hilfstabelle!$B$1:$B$286))","v":""}]
[null,null,null,null,null,null,null,null,null,null,null,null,null,null,null,null,null,null,null,null,{"$f":"IF(W381=\"\",\"\",LOOKUP(W381,Hilfstabelle!$A$1:$A$286,Hilfstabelle!$B$1:$B$286))","v":""}]
[null,null,null,null,null,null,null,null,null,null,null,null,null,null,null,null,null,null,null,null,{"$f":"IF(W382=\"\",\"\",LOOKUP(W382,Hilfstabelle!$A$1:$A$286,Hilfstabelle!$B$1:$B$286))","v":""}]
[null,null,null,null,null,null,null,null,null,null,null,null,null,null,null,null,null,null,null,null,{"$f":"IF(W383=\"\",\"\",LOOKUP(W383,Hilfstabelle!$A$1:$A$286,Hilfstabelle!$B$1:$B$286))","v":""}]
[null,null,null,null,null,null,null,null,null,null,null,null,null,null,null,null,null,null,null,null,{"$f":"IF(W384=\"\",\"\",LOOKUP(W384,Hilfstabelle!$A$1:$A$286,Hilfstabelle!$B$1:$B$286))","v":""}]
[null,null,null,null,null,null,null,null,null,null,null,null,null,null,null,null,null,null,null,null,{"$f":"IF(W385=\"\",\"\",LOOKUP(W385,Hilfstabelle!$A$1:$A$286,Hilfstabelle!$B$1:$B$286))","v":""}]
[null,null,null,null,null,null,null,null,null,null,null,null,null,null,null,null,null,null,null,null,{"$f":"IF(W386=\"\",\"\",LOOKUP(W386,Hilfstabelle!$A$1:$A$286,Hilfstabelle!$B$1:$B$286))","v":""}]
[null,null,null,null,null,null,null,null,null,null,null,null,null,null,null,null,null,null,null,null,{"$f":"IF(W387=\"\",\"\",LOOKUP(W387,Hilfstabelle!$A$1:$A$286,Hilfstabelle!$B$1:$B$286))","v":""}]
[null,null,null,null,null,null,null,null,null,null,null,null,null,null,null,null,null,null,null,null,{"$f":"IF(W388=\"\",\"\",LOOKUP(W388,Hilfstabelle!$A$1:$A$286,Hilfstabelle!$B$1:$B$286))","v":""}]
[null,null,null,null,null,null,null,null,null,null,null,null,null,null,null,null,null,null,null,null,{"$f":"IF(W389=\"\",\"\",LOOKUP(W389,Hilfstabelle!$A$1:$A$286,Hilfstabelle!$B$1:$B$286))","v":""}]
[null,null,null,null,null,null,null,null,null,null,null,null,null,null,null,null,null,null,null,null,{"$f":"IF(W390=\"\",\"\",LOOKUP(W390,Hilfstabelle!$A$1:$A$286,Hilfstabelle!$B$1:$B$286))","v":""}]
[null,null,null,null,null,null,null,null,null,null,null,null,null,null,null,null,null,null,null,null,{"$f":"IF(W391=\"\",\"\",LOOKUP(W391,Hilfstabelle!$A$1:$A$286,Hilfstabelle!$B$1:$B$286))","v":""}]
[null,null,null,null,null,null,null,null,null,null,null,null,null,null,null,null,null,null,null,null,{"$f":"IF(W392=\"\",\"\",LOOKUP(W392,Hilfstabelle!$A$1:$A$286,Hilfstabelle!$B$1:$B$286))","v":""}]
[null,null,null,null,null,null,null,null,null,null,null,null,null,null,null,null,null,null,null,null,{"$f":"IF(W393=\"\",\"\",LOOKUP(W393,Hilfstabelle!$A$1:$A$286,Hilfstabelle!$B$1:$B$286))","v":""}]
[null,null,null,null,null,null,null,null,null,null,null,null,null,null,null,null,null,null,null,null,{"$f":"IF(W394=\"\",\"\",LOOKUP(W394,Hilfstabelle!$A$1:$A$286,Hilfstabelle!$B$1:$B$286))","v":""}]
[null,null,null,null,null,null,null,null,null,null,null,null,null,null,null,null,null,null,null,null,{"$f":"IF(W395=\"\",\"\",LOOKUP(W395,Hilfstabelle!$A$1:$A$286,Hilfstabelle!$B$1:$B$286))","v":""}]
[null,null,null,null,null,null,null,null,null,null,null,null,null,null,null,null,null,null,null,null,{"$f":"IF(W396=\"\",\"\",LOOKUP(W396,Hilfstabelle!$A$1:$A$286,Hilfstabelle!$B$1:$B$286))","v":""}]
[null,null,null,null,null,null,null,null,null,null,null,null,null,null,null,null,null,null,null,null,{"$f":"IF(W397=\"\",\"\",LOOKUP(W397,Hilfstabelle!$A$1:$A$286,Hilfstabelle!$B$1:$B$286))","v":""}]
[null,null,null,null,null,null,null,null,null,null,null,null,null,null,null,null,null,null,null,null,{"$f":"IF(W398=\"\",\"\",LOOKUP(W398,Hilfstabelle!$A$1:$A$286,Hilfstabelle!$B$1:$B$286))","v":""}]
[null,null,null,null,null,null,null,null,null,null,null,null,null,null,null,null,null,null,null,null,{"$f":"IF(W399=\"\",\"\",LOOKUP(W399,Hilfstabelle!$A$1:$A$286,Hilfstabelle!$B$1:$B$286))","v":""}]
[null,null,null,null,null,null,null,null,null,null,null,null,null,null,null,null,null,null,null,null,{"$f":"IF(W400=\"\",\"\",LOOKUP(W400,Hilfstabelle!$A$1:$A$286,Hilfstabelle!$B$1:$B$286))","v":""}]
[null,null,null,null,null,null,null,null,null,null,null,null,null,null,null,null,null,null,null,null,{"$f":"IF(W401=\"\",\"\",LOOKUP(W401,Hilfstabelle!$A$1:$A$286,Hilfstabelle!$B$1:$B$286))","v":""}]
[null,null,null,null,null,null,null,null,null,null,null,null,null,null,null,null,null,null,null,null,{"$f":"IF(W402=\"\",\"\",LOOKUP(W402,Hilfstabelle!$A$1:$A$286,Hilfstabelle!$B$1:$B$286))","v":""}]
[null,null,null,null,null,null,null,null,null,null,null,null,null,null,null,null,null,null,null,null,{"$f":"IF(W403=\"\",\"\",LOOKUP(W403,Hilfstabelle!$A$1:$A$286,Hilfstabelle!$B$1:$B$286))","v":""}]
[null,null,null,null,null,null,null,null,null,null,null,null,null,null,null,null,null,null,null,null,{"$f":"IF(W404=\"\",\"\",LOOKUP(W404,Hilfstabelle!$A$1:$A$286,Hilfstabelle!$B$1:$B$286))","v":""}]
[null,null,null,null,null,null,null,null,null,null,null,null,null,null,null,null,null,null,null,null,{"$f":"IF(W405=\"\",\"\",LOOKUP(W405,Hilfstabelle!$A$1:$A$286,Hilfstabelle!$B$1:$B$286))","v":""}]
[null,null,null,null,null,null,null,null,null,null,null,null,null,null,null,null,null,null,null,null,{"$f":"IF(W406=\"\",\"\",LOOKUP(W406,Hilfstabelle!$A$1:$A$286,Hilfstabelle!$B$1:$B$286))","v":""}]
[null,null,null,null,null,null,null,null,null,null,null,null,null,null,null,null,null,null,null,null,{"$f":"IF(W407=\"\",\"\",LOOKUP(W407,Hilfstabelle!$A$1:$A$286,Hilfstabelle!$B$1:$B$286))","v":""}]
[null,null,null,null,null,null,null,null,null,null,null,null,null,null,null,null,null,null,null,null,{"$f":"IF(W408=\"\",\"\",LOOKUP(W408,Hilfstabelle!$A$1:$A$286,Hilfstabelle!$B$1:$B$286))","v":""}]
[null,null,null,null,null,null,null,null,null,null,null,null,null,null,null,null,null,null,null,null,{"$f":"IF(W409=\"\",\"\",LOOKUP(W409,Hilfstabelle!$A$1:$A$286,Hilfstabelle!$B$1:$B$286))","v":""}]
[null,null,null,null,null,null,null,null,null,null,null,null,null,null,null,null,null,null,null,null,{"$f":"IF(W410=\"\",\"\",LOOKUP(W410,Hilfstabelle!$A$1:$A$286,Hilfstabelle!$B$1:$B$286))","v":""}]
[null,null,null,null,null,null,null,null,null,null,null,null,null,null,null,null,null,null,null,null,{"$f":"IF(W411=\"\",\"\",LOOKUP(W411,Hilfstabelle!$A$1:$A$286,Hilfstabelle!$B$1:$B$286))","v":""}]
[null,null,null,null,null,null,null,null,null,null,null,null,null,null,null,null,null,null,null,null,{"$f":"IF(W412=\"\",\"\",LOOKUP(W412,Hilfstabelle!$A$1:$A$286,Hilfstabelle!$B$1:$B$286))","v":""}]
[null,null,null,null,null,null,null,null,null,null,null,null,null,null,null,null,null,null,null,null,{"$f":"IF(W413=\"\",\"\",LOOKUP(W413,Hilfstabelle!$A$1:$A$286,Hilfstabelle!$B$1:$B$286))","v":""}]
[null,null,null,null,null,null,null,null,null,null,null,null,null,null,null,null,null,null,null,null,{"$f":"IF(W414=\"\",\"\",LOOKUP(W414,Hilfstabelle!$A$1:$A$286,Hilfstabelle!$B$1:$B$286))","v":""}]
[null,null,null,null,null,null,null,null,null,null,null,null,null,null,null,null,null,null,null,null,{"$f":"IF(W415=\"\",\"\",LOOKUP(W415,Hilfstabelle!$A$1:$A$286,Hilfstabelle!$B$1:$B$286))","v":""}]
[null,null,null,null,null,null,null,null,null,null,null,null,null,null,null,null,null,null,null,null,{"$f":"IF(W416=\"\",\"\",LOOKUP(W416,Hilfstabelle!$A$1:$A$286,Hilfstabelle!$B$1:$B$286))","v":""}]
[null,null,null,null,null,null,null,null,null,null,null,null,null,null,null,null,null,null,null,null,{"$f":"IF(W417=\"\",\"\",LOOKUP(W417,Hilfstabelle!$A$1:$A$286,Hilfstabelle!$B$1:$B$286))","v":""}]
[null,null,null,null,null,null,null,null,null,null,null,null,null,null,null,null,null,null,null,null,{"$f":"IF(W418=\"\",\"\",LOOKUP(W418,Hilfstabelle!$A$1:$A$286,Hilfstabelle!$B$1:$B$286))","v":""}]
[null,null,null,null,null,null,null,null,null,null,null,null,null,null,null,null,null,null,null,null,{"$f":"IF(W419=\"\",\"\",LOOKUP(W419,Hilfstabelle!$A$1:$A$286,Hilfstabelle!$B$1:$B$286))","v":""}]
[null,null,null,null,null,null,null,null,null,null,null,null,null,null,null,null,null,null,null,null,{"$f":"IF(W420=\"\",\"\",LOOKUP(W420,Hilfstabelle!$A$1:$A$286,Hilfstabelle!$B$1:$B$286))","v":""}]
[null,null,null,null,null,null,null,null,null,null,null,null,null,null,null,null,null,null,null,null,{"$f":"IF(W421=\"\",\"\",LOOKUP(W421,Hilfstabelle!$A$1:$A$286,Hilfstabelle!$B$1:$B$286))","v":""}]
[null,null,null,null,null,null,null,null,null,null,null,null,null,null,null,null,null,null,null,null,{"$f":"IF(W422=\"\",\"\",LOOKUP(W422,Hilfstabelle!$A$1:$A$286,Hilfstabelle!$B$1:$B$286))","v":""}]
[null,null,null,null,null,null,null,null,null,null,null,null,null,null,null,null,null,null,null,null,{"$f":"IF(W423=\"\",\"\",LOOKUP(W423,Hilfstabelle!$A$1:$A$286,Hilfstabelle!$B$1:$B$286))","v":""}]
[null,null,null,null,null,null,null,null,null,null,null,null,null,null,null,null,null,null,null,null,{"$f":"IF(W424=\"\",\"\",LOOKUP(W424,Hilfstabelle!$A$1:$A$286,Hilfstabelle!$B$1:$B$286))","v":""}]
[null,null,null,null,null,null,null,null,null,null,null,null,null,null,null,null,null,null,null,null,{"$f":"IF(W425=\"\",\"\",LOOKUP(W425,Hilfstabelle!$A$1:$A$286,Hilfstabelle!$B$1:$B$286))","v":""}]
[null,null,null,null,null,null,null,null,null,null,null,null,null,null,null,null,null,null,null,null,{"$f":"IF(W426=\"\",\"\",LOOKUP(W426,Hilfstabelle!$A$1:$A$286,Hilfstabelle!$B$1:$B$286))","v":""}]
[null,null,null,null,null,null,null,null,null,null,null,null,null,null,null,null,null,null,null,null,{"$f":"IF(W427=\"\",\"\",LOOKUP(W427,Hilfstabelle!$A$1:$A$286,Hilfstabelle!$B$1:$B$286))","v":""}]
[null,null,null,null,null,null,null,null,null,null,null,null,null,null,null,null,null,null,null,null,{"$f":"IF(W428=\"\",\"\",LOOKUP(W428,Hilfstabelle!$A$1:$A$286,Hilfstabelle!$B$1:$B$286))","v":""}]
[null,null,null,null,null,null,null,null,null,null,null,null,null,null,null,null,null,null,null,null,{"$f":"IF(W429=\"\",\"\",LOOKUP(W429,Hilfstabelle!$A$1:$A$286,Hilfstabelle!$B$1:$B$286))","v":""}]
[null,null,null,null,null,null,null,null,null,null,null,null,null,null,null,null,null,null,null,null,{"$f":"IF(W430=\"\",\"\",LOOKUP(W430,Hilfstabelle!$A$1:$A$286,Hilfstabelle!$B$1:$B$286))","v":""}]
[null,null,null,null,null,null,null,null,null,null,null,null,null,null,null,null,null,null,null,null,{"$f":"IF(W431=\"\",\"\",LOOKUP(W431,Hilfstabelle!$A$1:$A$286,Hilfstabelle!$B$1:$B$286))","v":""}]
[null,null,null,null,null,null,null,null,null,null,null,null,null,null,null,null,null,null,null,null,{"$f":"IF(W432=\"\",\"\",LOOKUP(W432,Hilfstabelle!$A$1:$A$286,Hilfstabelle!$B$1:$B$286))","v":""}]
[null,null,null,null,null,null,null,null,null,null,null,null,null,null,null,null,null,null,null,null,{"$f":"IF(W433=\"\",\"\",LOOKUP(W433,Hilfstabelle!$A$1:$A$286,Hilfstabelle!$B$1:$B$286))","v":""}]
[null,null,null,null,null,null,null,null,null,null,null,null,null,null,null,null,null,null,null,null,{"$f":"IF(W434=\"\",\"\",LOOKUP(W434,Hilfstabelle!$A$1:$A$286,Hilfstabelle!$B$1:$B$286))","v":""}]
[null,null,null,null,null,null,null,null,null,null,null,null,null,null,null,null,null,null,null,null,{"$f":"IF(W435=\"\",\"\",LOOKUP(W435,Hilfstabelle!$A$1:$A$286,Hilfstabelle!$B$1:$B$286))","v":""}]
[null,null,null,null,null,null,null,null,null,null,null,null,null,null,null,null,null,null,null,null,{"$f":"IF(W436=\"\",\"\",LOOKUP(W436,Hilfstabelle!$A$1:$A$286,Hilfstabelle!$B$1:$B$286))","v":""}]
[null,null,null,null,null,null,null,null,null,null,null,null,null,null,null,null,null,null,null,null,{"$f":"IF(W437=\"\",\"\",LOOKUP(W437,Hilfstabelle!$A$1:$A$286,Hilfstabelle!$B$1:$B$286))","v":""}]
[null,null,null,null,null,null,null,null,null,null,null,null,null,null,null,null,null,null,null,null,{"$f":"IF(W438=\"\",\"\",LOOKUP(W438,Hilfstabelle!$A$1:$A$286,Hilfstabelle!$B$1:$B$286))","v":""}]
[null,null,null,null,null,null,null,null,null,null,null,null,null,null,null,null,null,null,null,null,{"$f":"IF(W439=\"\",\"\",LOOKUP(W439,Hilfstabelle!$A$1:$A$286,Hilfstabelle!$B$1:$B$286))","v":""}]
[null,null,null,null,null,null,null,null,null,null,null,null,null,null,null,null,null,null,null,null,{"$f":"IF(W440=\"\",\"\",LOOKUP(W440,Hilfstabelle!$A$1:$A$286,Hilfstabelle!$B$1:$B$286))","v":""}]
[null,null,null,null,null,null,null,null,null,null,null,null,null,null,null,null,null,null,null,null,{"$f":"IF(W441=\"\",\"\",LOOKUP(W441,Hilfstabelle!$A$1:$A$286,Hilfstabelle!$B$1:$B$286))","v":""}]
[null,null,null,null,null,null,null,null,null,null,null,null,null,null,null,null,null,null,null,null,{"$f":"IF(W442=\"\",\"\",LOOKUP(W442,Hilfstabelle!$A$1:$A$286,Hilfstabelle!$B$1:$B$286))","v":""}]
[null,null,null,null,null,null,null,null,null,null,null,null,null,null,null,null,null,null,null,null,{"$f":"IF(W443=\"\",\"\",LOOKUP(W443,Hilfstabelle!$A$1:$A$286,Hilfstabelle!$B$1:$B$286))","v":""}]
[null,null,null,null,null,null,null,null,null,null,null,null,null,null,null,null,null,null,null,null,{"$f":"IF(W444=\"\",\"\",LOOKUP(W444,Hilfstabelle!$A$1:$A$286,Hilfstabelle!$B$1:$B$286))","v":""}]
[null,null,null,null,null,null,null,null,null,null,null,null,null,null,null,null,null,null,null,null,{"$f":"IF(W445=\"\",\"\",LOOKUP(W445,Hilfstabelle!$A$1:$A$286,Hilfstabelle!$B$1:$B$286))","v":""}]
[null,null,null,null,null,null,null,null,null,null,null,null,null,null,null,null,null,null,null,null,{"$f":"IF(W446=\"\",\"\",LOOKUP(W446,Hilfstabelle!$A$1:$A$286,Hilfstabelle!$B$1:$B$286))","v":""}]
[null,null,null,null,null,null,null,null,null,null,null,null,null,null,null,null,null,null,null,null,{"$f":"IF(W447=\"\",\"\",LOOKUP(W447,Hilfstabelle!$A$1:$A$286,Hilfstabelle!$B$1:$B$286))","v":""}]
[null,null,null,null,null,null,null,null,null,null,null,null,null,null,null,null,null,null,null,null,{"$f":"IF(W448=\"\",\"\",LOOKUP(W448,Hilfstabelle!$A$1:$A$286,Hilfstabelle!$B$1:$B$286))","v":""}]
[null,null,null,null,null,null,null,null,null,null,null,null,null,null,null,null,null,null,null,null,{"$f":"IF(W449=\"\",\"\",LOOKUP(W449,Hilfstabelle!$A$1:$A$286,Hilfstabelle!$B$1:$B$286))","v":""}]
[null,null,null,null,null,null,null,null,null,null,null,null,null,null,null,null,null,null,null,null,{"$f":"IF(W450=\"\",\"\",LOOKUP(W450,Hilfstabelle!$A$1:$A$286,Hilfstabelle!$B$1:$B$286))","v":""}]
[null,null,null,null,null,null,null,null,null,null,null,null,null,null,null,null,null,null,null,null,{"$f":"IF(W451=\"\",\"\",LOOKUP(W451,Hilfstabelle!$A$1:$A$286,Hilfstabelle!$B$1:$B$286))","v":""}]
[null,null,null,null,null,null,null,null,null,null,null,null,null,null,null,null,null,null,null,null,{"$f":"IF(W452=\"\",\"\",LOOKUP(W452,Hilfstabelle!$A$1:$A$286,Hilfstabelle!$B$1:$B$286))","v":""}]
[null,null,null,null,null,null,null,null,null,null,null,null,null,null,null,null,null,null,null,null,{"$f":"IF(W453=\"\",\"\",LOOKUP(W453,Hilfstabelle!$A$1:$A$286,Hilfstabelle!$B$1:$B$286))","v":""}]
[null,null,null,null,null,null,null,null,null,null,null,null,null,null,null,null,null,null,null,null,{"$f":"IF(W454=\"\",\"\",LOOKUP(W454,Hilfstabelle!$A$1:$A$286,Hilfstabelle!$B$1:$B$286))","v":""}]
[null,null,null,null,null,null,null,null,null,null,null,null,null,null,null,null,null,null,null,null,{"$f":"IF(W455=\"\",\"\",LOOKUP(W455,Hilfstabelle!$A$1:$A$286,Hilfstabelle!$B$1:$B$286))","v":""}]
[null,null,null,null,null,null,null,null,null,null,null,null,null,null,null,null,null,null,null,null,{"$f":"IF(W456=\"\",\"\",LOOKUP(W456,Hilfstabelle!$A$1:$A$286,Hilfstabelle!$B$1:$B$286))","v":""}]
[null,null,null,null,null,null,null,null,null,null,null,null,null,null,null,null,null,null,null,null,{"$f":"IF(W457=\"\",\"\",LOOKUP(W457,Hilfstabelle!$A$1:$A$286,Hilfstabelle!$B$1:$B$286))","v":""}]
[null,null,null,null,null,null,null,null,null,null,null,null,null,null,null,null,null,null,null,null,{"$f":"IF(W458=\"\",\"\",LOOKUP(W458,Hilfstabelle!$A$1:$A$286,Hilfstabelle!$B$1:$B$286))","v":""}]
[null,null,null,null,null,null,null,null,null,null,null,null,null,null,null,null,null,null,null,null,{"$f":"IF(W459=\"\",\"\",LOOKUP(W459,Hilfstabelle!$A$1:$A$286,Hilfstabelle!$B$1:$B$286))","v":""}]
[null,null,null,null,null,null,null,null,null,null,null,null,null,null,null,null,null,null,null,null,{"$f":"IF(W460=\"\",\"\",LOOKUP(W460,Hilfstabelle!$A$1:$A$286,Hilfstabelle!$B$1:$B$286))","v":""}]
[null,null,null,null,null,null,null,null,null,null,null,null,null,null,null,null,null,null,null,null,{"$f":"IF(W461=\"\",\"\",LOOKUP(W461,Hilfstabelle!$A$1:$A$286,Hilfstabelle!$B$1:$B$286))","v":""}]
[null,null,null,null,null,null,null,null,null,null,null,null,null,null,null,null,null,null,null,null,{"$f":"IF(W462=\"\",\"\",LOOKUP(W462,Hilfstabelle!$A$1:$A$286,Hilfstabelle!$B$1:$B$286))","v":""}]
[null,null,null,null,null,null,null,null,null,null,null,null,null,null,null,null,null,null,null,null,{"$f":"IF(W463=\"\",\"\",LOOKUP(W463,Hilfstabelle!$A$1:$A$286,Hilfstabelle!$B$1:$B$286))","v":""}]
[null,null,null,null,null,null,null,null,null,null,null,null,null,null,null,null,null,null,null,null,{"$f":"IF(W464=\"\",\"\",LOOKUP(W464,Hilfstabelle!$A$1:$A$286,Hilfstabelle!$B$1:$B$286))","v":""}]
[null,null,null,null,null,null,null,null,null,null,null,null,null,null,null,null,null,null,null,null,{"$f":"IF(W465=\"\",\"\",LOOKUP(W465,Hilfstabelle!$A$1:$A$286,Hilfstabelle!$B$1:$B$286))","v":""}]
[null,null,null,null,null,null,null,null,null,null,null,null,null,null,null,null,null,null,null,null,{"$f":"IF(W466=\"\",\"\",LOOKUP(W466,Hilfstabelle!$A$1:$A$286,Hilfstabelle!$B$1:$B$286))","v":""}]
[null,null,null,null,null,null,null,null,null,null,null,null,null,null,null,null,null,null,null,null,{"$f":"IF(W467=\"\",\"\",LOOKUP(W467,Hilfstabelle!$A$1:$A$286,Hilfstabelle!$B$1:$B$286))","v":""}]
[null,null,null,null,null,null,null,null,null,null,null,null,null,null,null,null,null,null,null,null,{"$f":"IF(W468=\"\",\"\",LOOKUP(W468,Hilfstabelle!$A$1:$A$286,Hilfstabelle!$B$1:$B$286))","v":""}]
[null,null,null,null,null,null,null,null,null,null,null,null,null,null,null,null,null,null,null,null,{"$f":"IF(W469=\"\",\"\",LOOKUP(W469,Hilfstabelle!$A$1:$A$286,Hilfstabelle!$B$1:$B$286))","v":""}]
[null,null,null,null,null,null,null,null,null,null,null,null,null,null,null,null,null,null,null,null,{"$f":"IF(W470=\"\",\"\",LOOKUP(W470,Hilfstabelle!$A$1:$A$286,Hilfstabelle!$B$1:$B$286))","v":""}]
[null,null,null,null,null,null,null,null,null,null,null,null,null,null,null,null,null,null,null,null,{"$f":"IF(W471=\"\",\"\",LOOKUP(W471,Hilfstabelle!$A$1:$A$286,Hilfstabelle!$B$1:$B$286))","v":""}]
[null,null,null,null,null,null,null,null,null,null,null,null,null,null,null,null,null,null,null,null,{"$f":"IF(W472=\"\",\"\",LOOKUP(W472,Hilfstabelle!$A$1:$A$286,Hilfstabelle!$B$1:$B$286))","v":""}]
[null,null,null,null,null,null,null,null,null,null,null,null,null,null,null,null,null,null,null,null,{"$f":"IF(W473=\"\",\"\",LOOKUP(W473,Hilfstabelle!$A$1:$A$286,Hilfstabelle!$B$1:$B$286))","v":""}]
[null,null,null,null,null,null,null,null,null,null,null,null,null,null,null,null,null,null,null,null,{"$f":"IF(W474=\"\",\"\",LOOKUP(W474,Hilfstabelle!$A$1:$A$286,Hilfstabelle!$B$1:$B$286))","v":""}]
[null,null,null,null,null,null,null,null,null,null,null,null,null,null,null,null,null,null,null,null,{"$f":"IF(W475=\"\",\"\",LOOKUP(W475,Hilfstabelle!$A$1:$A$286,Hilfstabelle!$B$1:$B$286))","v":""}]
[null,null,null,null,null,null,null,null,null,null,null,null,null,null,null,null,null,null,null,null,{"$f":"IF(W476=\"\",\"\",LOOKUP(W476,Hilfstabelle!$A$1:$A$286,Hilfstabelle!$B$1:$B$286))","v":""}]
[null,null,null,null,null,null,null,null,null,null,null,null,null,null,null,null,null,null,null,null,{"$f":"IF(W477=\"\",\"\",LOOKUP(W477,Hilfstabelle!$A$1:$A$286,Hilfstabelle!$B$1:$B$286))","v":""}]
[null,null,null,null,null,null,null,null,null,null,null,null,null,null,null,null,null,null,null,null,{"$f":"IF(W478=\"\",\"\",LOOKUP(W478,Hilfstabelle!$A$1:$A$286,Hilfstabelle!$B$1:$B$286))","v":""}]
[null,null,null,null,null,null,null,null,null,null,null,null,null,null,null,null,null,null,null,null,{"$f":"IF(W479=\"\",\"\",LOOKUP(W479,Hilfstabelle!$A$1:$A$286,Hilfstabelle!$B$1:$B$286))","v":""}]
[null,null,null,null,null,null,null,null,null,null,null,null,null,null,null,null,null,null,null,null,{"$f":"IF(W480=\"\",\"\",LOOKUP(W480,Hilfstabelle!$A$1:$A$286,Hilfstabelle!$B$1:$B$286))","v":""}]
[null,null,null,null,null,null,null,null,null,null,null,null,null,null,null,null,null,null,null,null,{"$f":"IF(W481=\"\",\"\",LOOKUP(W481,Hilfstabelle!$A$1:$A$286,Hilfstabelle!$B$1:$B$286))","v":""}]
[null,null,null,null,null,null,null,null,null,null,null,null,null,null,null,null,null,null,null,null,{"$f":"IF(W482=\"\",\"\",LOOKUP(W482,Hilfstabelle!$A$1:$A$286,Hilfstabelle!$B$1:$B$286))","v":""}]
[null,null,null,null,null,null,null,null,null,null,null,null,null,null,null,null,null,null,null,null,{"$f":"IF(W483=\"\",\"\",LOOKUP(W483,Hilfstabelle!$A$1:$A$286,Hilfstabelle!$B$1:$B$286))","v":""}]
[null,null,null,null,null,null,null,null,null,null,null,null,null,null,null,null,null,null,null,null,{"$f":"IF(W484=\"\",\"\",LOOKUP(W484,Hilfstabelle!$A$1:$A$286,Hilfstabelle!$B$1:$B$286))","v":""}]
[null,null,null,null,null,null,null,null,null,null,null,null,null,null,null,null,null,null,null,null,{"$f":"IF(W485=\"\",\"\",LOOKUP(W485,Hilfstabelle!$A$1:$A$286,Hilfstabelle!$B$1:$B$286))","v":""}]
[null,null,null,null,null,null,null,null,null,null,null,null,null,null,null,null,null,null,null,null,{"$f":"IF(W486=\"\",\"\",LOOKUP(W486,Hilfstabelle!$A$1:$A$286,Hilfstabelle!$B$1:$B$286))","v":""}]
[null,null,null,null,null,null,null,null,null,null,null,null,null,null,null,null,null,null,null,null,{"$f":"IF(W487=\"\",\"\",LOOKUP(W487,Hilfstabelle!$A$1:$A$286,Hilfstabelle!$B$1:$B$286))","v":""}]
[null,null,null,null,null,null,null,null,null,null,null,null,null,null,null,null,null,null,null,null,{"$f":"IF(W488=\"\",\"\",LOOKUP(W488,Hilfstabelle!$A$1:$A$286,Hilfstabelle!$B$1:$B$286))","v":""}]
[null,null,null,null,null,null,null,null,null,null,null,null,null,null,null,null,null,null,null,null,{"$f":"IF(W489=\"\",\"\",LOOKUP(W489,Hilfstabelle!$A$1:$A$286,Hilfstabelle!$B$1:$B$286))","v":""}]
[null,null,null,null,null,null,null,null,null,null,null,null,null,null,null,null,null,null,null,null,{"$f":"IF(W490=\"\",\"\",LOOKUP(W490,Hilfstabelle!$A$1:$A$286,Hilfstabelle!$B$1:$B$286))","v":""}]
[null,null,null,null,null,null,null,null,null,null,null,null,null,null,null,null,null,null,null,null,{"$f":"IF(W491=\"\",\"\",LOOKUP(W491,Hilfstabelle!$A$1:$A$286,Hilfstabelle!$B$1:$B$286))","v":""}]
[null,null,null,null,null,null,null,null,null,null,null,null,null,null,null,null,null,null,null,null,{"$f":"IF(W492=\"\",\"\",LOOKUP(W492,Hilfstabelle!$A$1:$A$286,Hilfstabelle!$B$1:$B$286))","v":""}]
[null,null,null,null,null,null,null,null,null,null,null,null,null,null,null,null,null,null,null,null,{"$f":"IF(W493=\"\",\"\",LOOKUP(W493,Hilfstabelle!$A$1:$A$286,Hilfstabelle!$B$1:$B$286))","v":""}]
[null,null,null,null,null,null,null,null,null,null,null,null,null,null,null,null,null,null,null,null,{"$f":"IF(W494=\"\",\"\",LOOKUP(W494,Hilfstabelle!$A$1:$A$286,Hilfstabelle!$B$1:$B$286))","v":""}]
[null,null,null,null,null,null,null,null,null,null,null,null,null,null,null,null,null,null,null,null,{"$f":"IF(W495=\"\",\"\",LOOKUP(W495,Hilfstabelle!$A$1:$A$286,Hilfstabelle!$B$1:$B$286))","v":""}]
[null,null,null,null,null,null,null,null,null,null,null,null,null,null,null,null,null,null,null,null,{"$f":"IF(W496=\"\",\"\",LOOKUP(W496,Hilfstabelle!$A$1:$A$286,Hilfstabelle!$B$1:$B$286))","v":""}]
[null,null,null,null,null,null,null,null,null,null,null,null,null,null,null,null,null,null,null,null,{"$f":"IF(W497=\"\",\"\",LOOKUP(W497,Hilfstabelle!$A$1:$A$286,Hilfstabelle!$B$1:$B$286))","v":""}]
[null,null,null,null,null,null,null,null,null,null,null,null,null,null,null,null,null,null,null,null,{"$f":"IF(W498=\"\",\"\",LOOKUP(W498,Hilfstabelle!$A$1:$A$286,Hilfstabelle!$B$1:$B$286))","v":""}]
[null,null,null,null,null,null,null,null,null,null,null,null,null,null,null,null,null,null,null,null,{"$f":"IF(W499=\"\",\"\",LOOKUP(W499,Hilfstabelle!$A$1:$A$286,Hilfstabelle!$B$1:$B$286))","v":""}]
[null,null,null,null,null,null,null,null,null,null,null,null,null,null,null,null,null,null,null,null,{"$f":"IF(W500=\"\",\"\",LOOKUP(W500,Hilfstabelle!$A$1:$A$286,Hilfstabelle!$B$1:$B$286))","v":""}]
[null,null,null,null,null,null,null,null,null,null,null,null,null,null,null,null,null,null,null,null,{"$f":"IF(W501=\"\",\"\",LOOKUP(W501,Hilfstabelle!$A$1:$A$286,Hilfstabelle!$B$1:$B$286))","v":""}]
[null,null,null,null,null,null,null,null,null,null,null,null,null,null,null,null,null,null,null,null,{"$f":"IF(W502=\"\",\"\",LOOKUP(W502,Hilfstabelle!$A$1:$A$286,Hilfstabelle!$B$1:$B$286))","v":""}]
[null,null,null,null,null,null,null,null,null,null,null,null,null,null,null,null,null,null,null,null,{"$f":"IF(W503=\"\",\"\",LOOKUP(W503,Hilfstabelle!$A$1:$A$286,Hilfstabelle!$B$1:$B$286))","v":""}]
[null,null,null,null,null,null,null,null,null,null,null,null,null,null,null,null,null,null,null,null,{"$f":"IF(W504=\"\",\"\",LOOKUP(W504,Hilfstabelle!$A$1:$A$286,Hilfstabelle!$B$1:$B$286))","v":""}]
[null,null,null,null,null,null,null,null,null,null,null,null,null,null,null,null,null,null,null,null,{"$f":"IF(W505=\"\",\"\",LOOKUP(W505,Hilfstabelle!$A$1:$A$286,Hilfstabelle!$B$1:$B$286))","v":""}]
[null,null,null,null,null,null,null,null,null,null,null,null,null,null,null,null,null,null,null,null,{"$f":"IF(W506=\"\",\"\",LOOKUP(W506,Hilfstabelle!$A$1:$A$286,Hilfstabelle!$B$1:$B$286))","v":""}]
[null,null,null,null,null,null,null,null,null,null,null,null,null,null,null,null,null,null,null,null,{"$f":"IF(W507=\"\",\"\",LOOKUP(W507,Hilfstabelle!$A$1:$A$286,Hilfstabelle!$B$1:$B$286))","v":""}]
[null,null,null,null,null,null,null,null,null,null,null,null,null,null,null,null,null,null,null,null,{"$f":"IF(W508=\"\",\"\",LOOKUP(W508,Hilfstabelle!$A$1:$A$286,Hilfstabelle!$B$1:$B$286))","v":""}]
[null,null,null,null,null,null,null,null,null,null,null,null,null,null,null,null,null,null,null,null,{"$f":"IF(W509=\"\",\"\",LOOKUP(W509,Hilfstabelle!$A$1:$A$286,Hilfstabelle!$B$1:$B$286))","v":""}]
[null,null,null,null,null,null,null,null,null,null,null,null,null,null,null,null,null,null,null,null,{"$f":"IF(W510=\"\",\"\",LOOKUP(W510,Hilfstabelle!$A$1:$A$286,Hilfstabelle!$B$1:$B$286))","v":""}]
[null,null,null,null,null,null,null,null,null,null,null,null,null,null,null,null,null,null,null,null,{"$f":"IF(W511=\"\",\"\",LOOKUP(W511,Hilfstabelle!$A$1:$A$286,Hilfstabelle!$B$1:$B$286))","v":""}]
[null,null,null,null,null,null,null,null,null,null,null,null,null,null,null,null,null,null,null,null,{"$f":"IF(W512=\"\",\"\",LOOKUP(W512,Hilfstabelle!$A$1:$A$286,Hilfstabelle!$B$1:$B$286))","v":""}]
[null,null,null,null,null,null,null,null,null,null,null,null,null,null,null,null,null,null,null,null,{"$f":"IF(W513=\"\",\"\",LOOKUP(W513,Hilfstabelle!$A$1:$A$286,Hilfstabelle!$B$1:$B$286))","v":""}]
[null,null,null,null,null,null,null,null,null,null,null,null,null,null,null,null,null,null,null,null,{"$f":"IF(W514=\"\",\"\",LOOKUP(W514,Hilfstabelle!$A$1:$A$286,Hilfstabelle!$B$1:$B$286))","v":""}]
[null,null,null,null,null,null,null,null,null,null,null,null,null,null,null,null,null,null,null,null,{"$f":"IF(W515=\"\",\"\",LOOKUP(W515,Hilfstabelle!$A$1:$A$286,Hilfstabelle!$B$1:$B$286))","v":""}]
[null,null,null,null,null,null,null,null,null,null,null,null,null,null,null,null,null,null,null,null,{"$f":"IF(W516=\"\",\"\",LOOKUP(W516,Hilfstabelle!$A$1:$A$286,Hilfstabelle!$B$1:$B$286))","v":""}]
[null,null,null,null,null,null,null,null,null,null,null,null,null,null,null,null,null,null,null,null,{"$f":"IF(W517=\"\",\"\",LOOKUP(W517,Hilfstabelle!$A$1:$A$286,Hilfstabelle!$B$1:$B$286))","v":""}]
[null,null,null,null,null,null,null,null,null,null,null,null,null,null,null,null,null,null,null,null,{"$f":"IF(W518=\"\",\"\",LOOKUP(W518,Hilfstabelle!$A$1:$A$286,Hilfstabelle!$B$1:$B$286))","v":""}]
[null,null,null,null,null,null,null,null,null,null,null,null,null,null,null,null,null,null,null,null,{"$f":"IF(W519=\"\",\"\",LOOKUP(W519,Hilfstabelle!$A$1:$A$286,Hilfstabelle!$B$1:$B$286))","v":""}]
[null,null,null,null,null,null,null,null,null,null,null,null,null,null,null,null,null,null,null,null,{"$f":"IF(W520=\"\",\"\",LOOKUP(W520,Hilfstabelle!$A$1:$A$286,Hilfstabelle!$B$1:$B$286))","v":""}]
[null,null,null,null,null,null,null,null,null,null,null,null,null,null,null,null,null,null,null,null,{"$f":"IF(W521=\"\",\"\",LOOKUP(W521,Hilfstabelle!$A$1:$A$286,Hilfstabelle!$B$1:$B$286))","v":""}]
[null,null,null,null,null,null,null,null,null,null,null,null,null,null,null,null,null,null,null,null,{"$f":"IF(W522=\"\",\"\",LOOKUP(W522,Hilfstabelle!$A$1:$A$286,Hilfstabelle!$B$1:$B$286))","v":""}]
[null,null,null,null,null,null,null,null,null,null,null,null,null,null,null,null,null,null,null,null,{"$f":"IF(W523=\"\",\"\",LOOKUP(W523,Hilfstabelle!$A$1:$A$286,Hilfstabelle!$B$1:$B$286))","v":""}]
[null,null,null,null,null,null,null,null,null,null,null,null,null,null,null,null,null,null,null,null,{"$f":"IF(W524=\"\",\"\",LOOKUP(W524,Hilfstabelle!$A$1:$A$286,Hilfstabelle!$B$1:$B$286))","v":""}]
[null,null,null,null,null,null,null,null,null,null,null,null,null,null,null,null,null,null,null,null,{"$f":"IF(W525=\"\",\"\",LOOKUP(W525,Hilfstabelle!$A$1:$A$286,Hilfstabelle!$B$1:$B$286))","v":""}]
[null,null,null,null,null,null,null,null,null,null,null,null,null,null,null,null,null,null,null,null,{"$f":"IF(W526=\"\",\"\",LOOKUP(W526,Hilfstabelle!$A$1:$A$286,Hilfstabelle!$B$1:$B$286))","v":""}]
[null,null,null,null,null,null,null,null,null,null,null,null,null,null,null,null,null,null,null,null,{"$f":"IF(W527=\"\",\"\",LOOKUP(W527,Hilfstabelle!$A$1:$A$286,Hilfstabelle!$B$1:$B$286))","v":""}]
[null,null,null,null,null,null,null,null,null,null,null,null,null,null,null,null,null,null,null,null,{"$f":"IF(W528=\"\",\"\",LOOKUP(W528,Hilfstabelle!$A$1:$A$286,Hilfstabelle!$B$1:$B$286))","v":""}]
[null,null,null,null,null,null,null,null,null,null,null,null,null,null,null,null,null,null,null,null,{"$f":"IF(W529=\"\",\"\",LOOKUP(W529,Hilfstabelle!$A$1:$A$286,Hilfstabelle!$B$1:$B$286))","v":""}]
[null,null,null,null,null,null,null,null,null,null,null,null,null,null,null,null,null,null,null,null,{"$f":"IF(W530=\"\",\"\",LOOKUP(W530,Hilfstabelle!$A$1:$A$286,Hilfstabelle!$B$1:$B$286))","v":""}]
[null,null,null,null,null,null,null,null,null,null,null,null,null,null,null,null,null,null,null,null,{"$f":"IF(W531=\"\",\"\",LOOKUP(W531,Hilfstabelle!$A$1:$A$286,Hilfstabelle!$B$1:$B$286))","v":""}]
[null,null,null,null,null,null,null,null,null,null,null,null,null,null,null,null,null,null,null,null,{"$f":"IF(W532=\"\",\"\",LOOKUP(W532,Hilfstabelle!$A$1:$A$286,Hilfstabelle!$B$1:$B$286))","v":""}]
[null,null,null,null,null,null,null,null,null,null,null,null,null,null,null,null,null,null,null,null,{"$f":"IF(W533=\"\",\"\",LOOKUP(W533,Hilfstabelle!$A$1:$A$286,Hilfstabelle!$B$1:$B$286))","v":""}]
[null,null,null,null,null,null,null,null,null,null,null,null,null,null,null,null,null,null,null,null,{"$f":"IF(W534=\"\",\"\",LOOKUP(W534,Hilfstabelle!$A$1:$A$286,Hilfstabelle!$B$1:$B$286))","v":""}]
[null,null,null,null,null,null,null,null,null,null,null,null,null,null,null,null,null,null,null,null,{"$f":"IF(W535=\"\",\"\",LOOKUP(W535,Hilfstabelle!$A$1:$A$286,Hilfstabelle!$B$1:$B$286))","v":""}]
[null,null,null,null,null,null,null,null,null,null,null,null,null,null,null,null,null,null,null,null,{"$f":"IF(W536=\"\",\"\",LOOKUP(W536,Hilfstabelle!$A$1:$A$286,Hilfstabelle!$B$1:$B$286))","v":""}]
[null,null,null,null,null,null,null,null,null,null,null,null,null,null,null,null,null,null,null,null,{"$f":"IF(W537=\"\",\"\",LOOKUP(W537,Hilfstabelle!$A$1:$A$286,Hilfstabelle!$B$1:$B$286))","v":""}]
[null,null,null,null,null,null,null,null,null,null,null,null,null,null,null,null,null,null,null,null,{"$f":"IF(W538=\"\",\"\",LOOKUP(W538,Hilfstabelle!$A$1:$A$286,Hilfstabelle!$B$1:$B$286))","v":""}]
[null,null,null,null,null,null,null,null,null,null,null,null,null,null,null,null,null,null,null,null,{"$f":"IF(W539=\"\",\"\",LOOKUP(W539,Hilfstabelle!$A$1:$A$286,Hilfstabelle!$B$1:$B$286))","v":""}]
[null,null,null,null,null,null,null,null,null,null,null,null,null,null,null,null,null,null,null,null,{"$f":"IF(W540=\"\",\"\",LOOKUP(W540,Hilfstabelle!$A$1:$A$286,Hilfstabelle!$B$1:$B$286))","v":""}]
[null,null,null,null,null,null,null,null,null,null,null,null,null,null,null,null,null,null,null,null,{"$f":"IF(W541=\"\",\"\",LOOKUP(W541,Hilfstabelle!$A$1:$A$286,Hilfstabelle!$B$1:$B$286))","v":""}]
[null,null,null,null,null,null,null,null,null,null,null,null,null,null,null,null,null,null,null,null,{"$f":"IF(W542=\"\",\"\",LOOKUP(W542,Hilfstabelle!$A$1:$A$286,Hilfstabelle!$B$1:$B$286))","v":""}]
[null,null,null,null,null,null,null,null,null,null,null,null,null,null,null,null,null,null,null,null,{"$f":"IF(W543=\"\",\"\",LOOKUP(W543,Hilfstabelle!$A$1:$A$286,Hilfstabelle!$B$1:$B$286))","v":""}]
[null,null,null,null,null,null,null,null,null,null,null,null,null,null,null,null,null,null,null,null,{"$f":"IF(W544=\"\",\"\",LOOKUP(W544,Hilfstabelle!$A$1:$A$286,Hilfstabelle!$B$1:$B$286))","v":""}]
[null,null,null,null,null,null,null,null,null,null,null,null,null,null,null,null,null,null,null,null,{"$f":"IF(W545=\"\",\"\",LOOKUP(W545,Hilfstabelle!$A$1:$A$286,Hilfstabelle!$B$1:$B$286))","v":""}]
[null,null,null,null,null,null,null,null,null,null,null,null,null,null,null,null,null,null,null,null,{"$f":"IF(W546=\"\",\"\",LOOKUP(W546,Hilfstabelle!$A$1:$A$286,Hilfstabelle!$B$1:$B$286))","v":""}]
[null,null,null,null,null,null,null,null,null,null,null,null,null,null,null,null,null,null,null,null,{"$f":"IF(W547=\"\",\"\",LOOKUP(W547,Hilfstabelle!$A$1:$A$286,Hilfstabelle!$B$1:$B$286))","v":""}]
[null,null,null,null,null,null,null,null,null,null,null,null,null,null,null,null,null,null,null,null,{"$f":"IF(W548=\"\",\"\",LOOKUP(W548,Hilfstabelle!$A$1:$A$286,Hilfstabelle!$B$1:$B$286))","v":""}]
[null,null,null,null,null,null,null,null,null,null,null,null,null,null,null,null,null,null,null,null,{"$f":"IF(W549=\"\",\"\",LOOKUP(W549,Hilfstabelle!$A$1:$A$286,Hilfstabelle!$B$1:$B$286))","v":""}]
[null,null,null,null,null,null,null,null,null,null,null,null,null,null,null,null,null,null,null,null,{"$f":"IF(W550=\"\",\"\",LOOKUP(W550,Hilfstabelle!$A$1:$A$286,Hilfstabelle!$B$1:$B$286))","v":""}]
[null,null,null,null,null,null,null,null,null,null,null,null,null,null,null,null,null,null,null,null,{"$f":"IF(W551=\"\",\"\",LOOKUP(W551,Hilfstabelle!$A$1:$A$286,Hilfstabelle!$B$1:$B$286))","v":""}]
[null,null,null,null,null,null,null,null,null,null,null,null,null,null,null,null,null,null,null,null,{"$f":"IF(W552=\"\",\"\",LOOKUP(W552,Hilfstabelle!$A$1:$A$286,Hilfstabelle!$B$1:$B$286))","v":""}]
[null,null,null,null,null,null,null,null,null,null,null,null,null,null,null,null,null,null,null,null,{"$f":"IF(W553=\"\",\"\",LOOKUP(W553,Hilfstabelle!$A$1:$A$286,Hilfstabelle!$B$1:$B$286))","v":""}]
[null,null,null,null,null,null,null,null,null,null,null,null,null,null,null,null,null,null,null,null,{"$f":"IF(W554=\"\",\"\",LOOKUP(W554,Hilfstabelle!$A$1:$A$286,Hilfstabelle!$B$1:$B$286))","v":""}]
[null,null,null,null,null,null,null,null,null,null,null,null,null,null,null,null,null,null,null,null,{"$f":"IF(W555=\"\",\"\",LOOKUP(W555,Hilfstabelle!$A$1:$A$286,Hilfstabelle!$B$1:$B$286))","v":""}]
[null,null,null,null,null,null,null,null,null,null,null,null,null,null,null,null,null,null,null,null,{"$f":"IF(W556=\"\",\"\",LOOKUP(W556,Hilfstabelle!$A$1:$A$286,Hilfstabelle!$B$1:$B$286))","v":""}]
[null,null,null,null,null,null,null,null,null,null,null,null,null,null,null,null,null,null,null,null,{"$f":"IF(W557=\"\",\"\",LOOKUP(W557,Hilfstabelle!$A$1:$A$286,Hilfstabelle!$B$1:$B$286))","v":""}]
[null,null,null,null,null,null,null,null,null,null,null,null,null,null,null,null,null,null,null,null,{"$f":"IF(W558=\"\",\"\",LOOKUP(W558,Hilfstabelle!$A$1:$A$286,Hilfstabelle!$B$1:$B$286))","v":""}]
[null,null,null,null,null,null,null,null,null,null,null,null,null,null,null,null,null,null,null,null,{"$f":"IF(W559=\"\",\"\",LOOKUP(W559,Hilfstabelle!$A$1:$A$286,Hilfstabelle!$B$1:$B$286))","v":""}]
[null,null,null,null,null,null,null,null,null,null,null,null,null,null,null,null,null,null,null,null,{"$f":"IF(W560=\"\",\"\",LOOKUP(W560,Hilfstabelle!$A$1:$A$286,Hilfstabelle!$B$1:$B$286))","v":""}]
[null,null,null,null,null,null,null,null,null,null,null,null,null,null,null,null,null,null,null,null,{"$f":"IF(W561=\"\",\"\",LOOKUP(W561,Hilfstabelle!$A$1:$A$286,Hilfstabelle!$B$1:$B$286))","v":""}]
[null,null,null,null,null,null,null,null,null,null,null,null,null,null,null,null,null,null,null,null,{"$f":"IF(W562=\"\",\"\",LOOKUP(W562,Hilfstabelle!$A$1:$A$286,Hilfstabelle!$B$1:$B$286))","v":""}]
[null,null,null,null,null,null,null,null,null,null,null,null,null,null,null,null,null,null,null,null,{"$f":"IF(W563=\"\",\"\",LOOKUP(W563,Hilfstabelle!$A$1:$A$286,Hilfstabelle!$B$1:$B$286))","v":""}]
[null,null,null,null,null,null,null,null,null,null,null,null,null,null,null,null,null,null,null,null,{"$f":"IF(W564=\"\",\"\",LOOKUP(W564,Hilfstabelle!$A$1:$A$286,Hilfstabelle!$B$1:$B$286))","v":""}]
[null,null,null,null,null,null,null,null,null,null,null,null,null,null,null,null,null,null,null,null,{"$f":"IF(W565=\"\",\"\",LOOKUP(W565,Hilfstabelle!$A$1:$A$286,Hilfstabelle!$B$1:$B$286))","v":""}]
[null,null,null,null,null,null,null,null,null,null,null,null,null,null,null,null,null,null,null,null,{"$f":"IF(W566=\"\",\"\",LOOKUP(W566,Hilfstabelle!$A$1:$A$286,Hilfstabelle!$B$1:$B$286))","v":""}]
[null,null,null,null,null,null,null,null,null,null,null,null,null,null,null,null,null,null,null,null,{"$f":"IF(W567=\"\",\"\",LOOKUP(W567,Hilfstabelle!$A$1:$A$286,Hilfstabelle!$B$1:$B$286))","v":""}]
[null,null,null,null,null,null,null,null,null,null,null,null,null,null,null,null,null,null,null,null,{"$f":"IF(W568=\"\",\"\",LOOKUP(W568,Hilfstabelle!$A$1:$A$286,Hilfstabelle!$B$1:$B$286))","v":""}]
[null,null,null,null,null,null,null,null,null,null,null,null,null,null,null,null,null,null,null,null,{"$f":"IF(W569=\"\",\"\",LOOKUP(W569,Hilfstabelle!$A$1:$A$286,Hilfstabelle!$B$1:$B$286))","v":""}]
[null,null,null,null,null,null,null,null,null,null,null,null,null,null,null,null,null,null,null,null,{"$f":"IF(W570=\"\",\"\",LOOKUP(W570,Hilfstabelle!$A$1:$A$286,Hilfstabelle!$B$1:$B$286))","v":""}]
[null,null,null,null,null,null,null,null,null,null,null,null,null,null,null,null,null,null,null,null,{"$f":"IF(W571=\"\",\"\",LOOKUP(W571,Hilfstabelle!$A$1:$A$286,Hilfstabelle!$B$1:$B$286))","v":""}]
[null,null,null,null,null,null,null,null,null,null,null,null,null,null,null,null,null,null,null,null,{"$f":"IF(W572=\"\",\"\",LOOKUP(W572,Hilfstabelle!$A$1:$A$286,Hilfstabelle!$B$1:$B$286))","v":""}]
[null,null,null,null,null,null,null,null,null,null,null,null,null,null,null,null,null,null,null,null,{"$f":"IF(W573=\"\",\"\",LOOKUP(W573,Hilfstabelle!$A$1:$A$286,Hilfstabelle!$B$1:$B$286))","v":""}]
[null,null,null,null,null,null,null,null,null,null,null,null,null,null,null,null,null,null,null,null,{"$f":"IF(W574=\"\",\"\",LOOKUP(W574,Hilfstabelle!$A$1:$A$286,Hilfstabelle!$B$1:$B$286))","v":""}]
[null,null,null,null,null,null,null,null,null,null,null,null,null,null,null,null,null,null,null,null,{"$f":"IF(W575=\"\",\"\",LOOKUP(W575,Hilfstabelle!$A$1:$A$286,Hilfstabelle!$B$1:$B$286))","v":""}]
[null,null,null,null,null,null,null,null,null,null,null,null,null,null,null,null,null,null,null,null,{"$f":"IF(W576=\"\",\"\",LOOKUP(W576,Hilfstabelle!$A$1:$A$286,Hilfstabelle!$B$1:$B$286))","v":""}]
[null,null,null,null,null,null,null,null,null,null,null,null,null,null,null,null,null,null,null,null,{"$f":"IF(W577=\"\",\"\",LOOKUP(W577,Hilfstabelle!$A$1:$A$286,Hilfstabelle!$B$1:$B$286))","v":""}]
[null,null,null,null,null,null,null,null,null,null,null,null,null,null,null,null,null,null,null,null,{"$f":"IF(W578=\"\",\"\",LOOKUP(W578,Hilfstabelle!$A$1:$A$286,Hilfstabelle!$B$1:$B$286))","v":""}]
[null,null,null,null,null,null,null,null,null,null,null,null,null,null,null,null,null,null,null,null,{"$f":"IF(W579=\"\",\"\",LOOKUP(W579,Hilfstabelle!$A$1:$A$286,Hilfstabelle!$B$1:$B$286))","v":""}]
[null,null,null,null,null,null,null,null,null,null,null,null,null,null,null,null,null,null,null,null,{"$f":"IF(W580=\"\",\"\",LOOKUP(W580,Hilfstabelle!$A$1:$A$286,Hilfstabelle!$B$1:$B$286))","v":""}]
[null,null,null,null,null,null,null,null,null,null,null,null,null,null,null,null,null,null,null,null,{"$f":"IF(W581=\"\",\"\",LOOKUP(W581,Hilfstabelle!$A$1:$A$286,Hilfstabelle!$B$1:$B$286))","v":""}]
[null,null,null,null,null,null,null,null,null,null,null,null,null,null,null,null,null,null,null,null,{"$f":"IF(W582=\"\",\"\",LOOKUP(W582,Hilfstabelle!$A$1:$A$286,Hilfstabelle!$B$1:$B$286))","v":""}]
[null,null,null,null,null,null,null,null,null,null,null,null,null,null,null,null,null,null,null,null,{"$f":"IF(W583=\"\",\"\",LOOKUP(W583,Hilfstabelle!$A$1:$A$286,Hilfstabelle!$B$1:$B$286))","v":""}]
[null,null,null,null,null,null,null,null,null,null,null,null,null,null,null,null,null,null,null,null,{"$f":"IF(W584=\"\",\"\",LOOKUP(W584,Hilfstabelle!$A$1:$A$286,Hilfstabelle!$B$1:$B$286))","v":""}]
[null,null,null,null,null,null,null,null,null,null,null,null,null,null,null,null,null,null,null,null,{"$f":"IF(W585=\"\",\"\",LOOKUP(W585,Hilfstabelle!$A$1:$A$286,Hilfstabelle!$B$1:$B$286))","v":""}]
[null,null,null,null,null,null,null,null,null,null,null,null,null,null,null,null,null,null,null,null,{"$f":"IF(W586=\"\",\"\",LOOKUP(W586,Hilfstabelle!$A$1:$A$286,Hilfstabelle!$B$1:$B$286))","v":""}]
[null,null,null,null,null,null,null,null,null,null,null,null,null,null,null,null,null,null,null,null,{"$f":"IF(W587=\"\",\"\",LOOKUP(W587,Hilfstabelle!$A$1:$A$286,Hilfstabelle!$B$1:$B$286))","v":""}]
[null,null,null,null,null,null,null,null,null,null,null,null,null,null,null,null,null,null,null,null,{"$f":"IF(W588=\"\",\"\",LOOKUP(W588,Hilfstabelle!$A$1:$A$286,Hilfstabelle!$B$1:$B$286))","v":""}]
[null,null,null,null,null,null,null,null,null,null,null,null,null,null,null,null,null,null,null,null,{"$f":"IF(W589=\"\",\"\",LOOKUP(W589,Hilfstabelle!$A$1:$A$286,Hilfstabelle!$B$1:$B$286))","v":""}]
[null,null,null,null,null,null,null,null,null,null,null,null,null,null,null,null,null,null,null,null,{"$f":"IF(W590=\"\",\"\",LOOKUP(W590,Hilfstabelle!$A$1:$A$286,Hilfstabelle!$B$1:$B$286))","v":""}]
[null,null,null,null,null,null,null,null,null,null,null,null,null,null,null,null,null,null,null,null,{"$f":"IF(W591=\"\",\"\",LOOKUP(W591,Hilfstabelle!$A$1:$A$286,Hilfstabelle!$B$1:$B$286))","v":""}]
[null,null,null,null,null,null,null,null,null,null,null,null,null,null,null,null,null,null,null,null,{"$f":"IF(W592=\"\",\"\",LOOKUP(W592,Hilfstabelle!$A$1:$A$286,Hilfstabelle!$B$1:$B$286))","v":""}]
[null,null,null,null,null,null,null,null,null,null,null,null,null,null,null,null,null,null,null,null,{"$f":"IF(W593=\"\",\"\",LOOKUP(W593,Hilfstabelle!$A$1:$A$286,Hilfstabelle!$B$1:$B$286))","v":""}]
[null,null,null,null,null,null,null,null,null,null,null,null,null,null,null,null,null,null,null,null,{"$f":"IF(W594=\"\",\"\",LOOKUP(W594,Hilfstabelle!$A$1:$A$286,Hilfstabelle!$B$1:$B$286))","v":""}]
[null,null,null,null,null,null,null,null,null,null,null,null,null,null,null,null,null,null,null,null,{"$f":"IF(W595=\"\",\"\",LOOKUP(W595,Hilfstabelle!$A$1:$A$286,Hilfstabelle!$B$1:$B$286))","v":""}]
[null,null,null,null,null,null,null,null,null,null,null,null,null,null,null,null,null,null,null,null,{"$f":"IF(W596=\"\",\"\",LOOKUP(W596,Hilfstabelle!$A$1:$A$286,Hilfstabelle!$B$1:$B$286))","v":""}]
[null,null,null,null,null,null,null,null,null,null,null,null,null,null,null,null,null,null,null,null,{"$f":"IF(W597=\"\",\"\",LOOKUP(W597,Hilfstabelle!$A$1:$A$286,Hilfstabelle!$B$1:$B$286))","v":""}]
[null,null,null,null,null,null,null,null,null,null,null,null,null,null,null,null,null,null,null,null,{"$f":"IF(W598=\"\",\"\",LOOKUP(W598,Hilfstabelle!$A$1:$A$286,Hilfstabelle!$B$1:$B$286))","v":""}]
[null,null,null,null,null,null,null,null,null,null,null,null,null,null,null,null,null,null,null,null,{"$f":"IF(W599=\"\",\"\",LOOKUP(W599,Hilfstabelle!$A$1:$A$286,Hilfstabelle!$B$1:$B$286))","v":""}]
[null,null,null,null,null,null,null,null,null,null,null,null,null,null,null,null,null,null,null,null,{"$f":"IF(W600=\"\",\"\",LOOKUP(W600,Hilfstabelle!$A$1:$A$286,Hilfstabelle!$B$1:$B$286))","v":""}]
[null,null,null,null,null,null,null,null,null,null,null,null,null,null,null,null,null,null,null,null,{"$f":"IF(W601=\"\",\"\",LOOKUP(W601,Hilfstabelle!$A$1:$A$286,Hilfstabelle!$B$1:$B$286))","v":""}]
[null,null,null,null,null,null,null,null,null,null,null,null,null,null,null,null,null,null,null,null,{"$f":"IF(W602=\"\",\"\",LOOKUP(W602,Hilfstabelle!$A$1:$A$286,Hilfstabelle!$B$1:$B$286))","v":""}]
[null,null,null,null,null,null,null,null,null,null,null,null,null,null,null,null,null,null,null,null,{"$f":"IF(W603=\"\",\"\",LOOKUP(W603,Hilfstabelle!$A$1:$A$286,Hilfstabelle!$B$1:$B$286))","v":""}]
[null,null,null,null,null,null,null,null,null,null,null,null,null,null,null,null,null,null,null,null,{"$f":"IF(W604=\"\",\"\",LOOKUP(W604,Hilfstabelle!$A$1:$A$286,Hilfstabelle!$B$1:$B$286))","v":""}]
[null,null,null,null,null,null,null,null,null,null,null,null,null,null,null,null,null,null,null,null,{"$f":"IF(W605=\"\",\"\",LOOKUP(W605,Hilfstabelle!$A$1:$A$286,Hilfstabelle!$B$1:$B$286))","v":""}]
[null,null,null,null,null,null,null,null,null,null,null,null,null,null,null,null,null,null,null,null,{"$f":"IF(W606=\"\",\"\",LOOKUP(W606,Hilfstabelle!$A$1:$A$286,Hilfstabelle!$B$1:$B$286))","v":""}]
[null,null,null,null,null,null,null,null,null,null,null,null,null,null,null,null,null,null,null,null,{"$f":"IF(W607=\"\",\"\",LOOKUP(W607,Hilfstabelle!$A$1:$A$286,Hilfstabelle!$B$1:$B$286))","v":""}]
[null,null,null,null,null,null,null,null,null,null,null,null,null,null,null,null,null,null,null,null,{"$f":"IF(W608=\"\",\"\",LOOKUP(W608,Hilfstabelle!$A$1:$A$286,Hilfstabelle!$B$1:$B$286))","v":""}]
[null,null,null,null,null,null,null,null,null,null,null,null,null,null,null,null,null,null,null,null,{"$f":"IF(W609=\"\",\"\",LOOKUP(W609,Hilfstabelle!$A$1:$A$286,Hilfstabelle!$B$1:$B$286))","v":""}]
[null,null,null,null,null,null,null,null,null,null,null,null,null,null,null,null,null,null,null,null,{"$f":"IF(W610=\"\",\"\",LOOKUP(W610,Hilfstabelle!$A$1:$A$286,Hilfstabelle!$B$1:$B$286))","v":""}]
[null,null,null,null,null,null,null,null,null,null,null,null,null,null,null,null,null,null,null,null,{"$f":"IF(W611=\"\",\"\",LOOKUP(W611,Hilfstabelle!$A$1:$A$286,Hilfstabelle!$B$1:$B$286))","v":""}]
[null,null,null,null,null,null,null,null,null,null,null,null,null,null,null,null,null,null,null,null,{"$f":"IF(W612=\"\",\"\",LOOKUP(W612,Hilfstabelle!$A$1:$A$286,Hilfstabelle!$B$1:$B$286))","v":""}]
[null,null,null,null,null,null,null,null,null,null,null,null,null,null,null,null,null,null,null,null,{"$f":"IF(W613=\"\",\"\",LOOKUP(W613,Hilfstabelle!$A$1:$A$286,Hilfstabelle!$B$1:$B$286))","v":""}]
[null,null,null,null,null,null,null,null,null,null,null,null,null,null,null,null,null,null,null,null,{"$f":"IF(W614=\"\",\"\",LOOKUP(W614,Hilfstabelle!$A$1:$A$286,Hilfstabelle!$B$1:$B$286))","v":""}]
[null,null,null,null,null,null,null,null,null,null,null,null,null,null,null,null,null,null,null,null,{"$f":"IF(W615=\"\",\"\",LOOKUP(W615,Hilfstabelle!$A$1:$A$286,Hilfstabelle!$B$1:$B$286))","v":""}]
[null,null,null,null,null,null,null,null,null,null,null,null,null,null,null,null,null,null,null,null,{"$f":"IF(W616=\"\",\"\",LOOKUP(W616,Hilfstabelle!$A$1:$A$286,Hilfstabelle!$B$1:$B$286))","v":""}]
[null,null,null,null,null,null,null,null,null,null,null,null,null,null,null,null,null,null,null,null,{"$f":"IF(W617=\"\",\"\",LOOKUP(W617,Hilfstabelle!$A$1:$A$286,Hilfstabelle!$B$1:$B$286))","v":""}]
[null,null,null,null,null,null,null,null,null,null,null,null,null,null,null,null,null,null,null,null,{"$f":"IF(W618=\"\",\"\",LOOKUP(W618,Hilfstabelle!$A$1:$A$286,Hilfstabelle!$B$1:$B$286))","v":""}]
[null,null,null,null,null,null,null,null,null,null,null,null,null,null,null,null,null,null,null,null,{"$f":"IF(W619=\"\",\"\",LOOKUP(W619,Hilfstabelle!$A$1:$A$286,Hilfstabelle!$B$1:$B$286))","v":""}]
[null,null,null,null,null,null,null,null,null,null,null,null,null,null,null,null,null,null,null,null,{"$f":"IF(W620=\"\",\"\",LOOKUP(W620,Hilfstabelle!$A$1:$A$286,Hilfstabelle!$B$1:$B$286))","v":""}]
[null,null,null,null,null,null,null,null,null,null,null,null,null,null,null,null,null,null,null,null,{"$f":"IF(W621=\"\",\"\",LOOKUP(W621,Hilfstabelle!$A$1:$A$286,Hilfstabelle!$B$1:$B$286))","v":""}]
[null,null,null,null,null,null,null,null,null,null,null,null,null,null,null,null,null,null,null,null,{"$f":"IF(W622=\"\",\"\",LOOKUP(W622,Hilfstabelle!$A$1:$A$286,Hilfstabelle!$B$1:$B$286))","v":""}]
[null,null,null,null,null,null,null,null,null,null,null,null,null,null,null,null,null,null,null,null,{"$f":"IF(W623=\"\",\"\",LOOKUP(W623,Hilfstabelle!$A$1:$A$286,Hilfstabelle!$B$1:$B$286))","v":""}]
[null,null,null,null,null,null,null,null,null,null,null,null,null,null,null,null,null,null,null,null,{"$f":"IF(W624=\"\",\"\",LOOKUP(W624,Hilfstabelle!$A$1:$A$286,Hilfstabelle!$B$1:$B$286))","v":""}]
[null,null,null,null,null,null,null,null,null,null,null,null,null,null,null,null,null,null,null,null,{"$f":"IF(W625=\"\",\"\",LOOKUP(W625,Hilfstabelle!$A$1:$A$286,Hilfstabelle!$B$1:$B$286))","v":""}]
[null,null,null,null,null,null,null,null,null,null,null,null,null,null,null,null,null,null,null,null,{"$f":"IF(W626=\"\",\"\",LOOKUP(W626,Hilfstabelle!$A$1:$A$286,Hilfstabelle!$B$1:$B$286))","v":""}]
[null,null,null,null,null,null,null,null,null,null,null,null,null,null,null,null,null,null,null,null,{"$f":"IF(W627=\"\",\"\",LOOKUP(W627,Hilfstabelle!$A$1:$A$286,Hilfstabelle!$B$1:$B$286))","v":""}]
[null,null,null,null,null,null,null,null,null,null,null,null,null,null,null,null,null,null,null,null,{"$f":"IF(W628=\"\",\"\",LOOKUP(W628,Hilfstabelle!$A$1:$A$286,Hilfstabelle!$B$1:$B$286))","v":""}]
[null,null,null,null,null,null,null,null,null,null,null,null,null,null,null,null,null,null,null,null,{"$f":"IF(W629=\"\",\"\",LOOKUP(W629,Hilfstabelle!$A$1:$A$286,Hilfstabelle!$B$1:$B$286))","v":""}]
[null,null,null,null,null,null,null,null,null,null,null,null,null,null,null,null,null,null,null,null,{"$f":"IF(W630=\"\",\"\",LOOKUP(W630,Hilfstabelle!$A$1:$A$286,Hilfstabelle!$B$1:$B$286))","v":""}]
[null,null,null,null,null,null,null,null,null,null,null,null,null,null,null,null,null,null,null,null,{"$f":"IF(W631=\"\",\"\",LOOKUP(W631,Hilfstabelle!$A$1:$A$286,Hilfstabelle!$B$1:$B$286))","v":""}]
[null,null,null,null,null,null,null,null,null,null,null,null,null,null,null,null,null,null,null,null,{"$f":"IF(W632=\"\",\"\",LOOKUP(W632,Hilfstabelle!$A$1:$A$286,Hilfstabelle!$B$1:$B$286))","v":""}]
[null,null,null,null,null,null,null,null,null,null,null,null,null,null,null,null,null,null,null,null,{"$f":"IF(W633=\"\",\"\",LOOKUP(W633,Hilfstabelle!$A$1:$A$286,Hilfstabelle!$B$1:$B$286))","v":""}]
[null,null,null,null,null,null,null,null,null,null,null,null,null,null,null,null,null,null,null,null,{"$f":"IF(W634=\"\",\"\",LOOKUP(W634,Hilfstabelle!$A$1:$A$286,Hilfstabelle!$B$1:$B$286))","v":""}]
[null,null,null,null,null,null,null,null,null,null,null,null,null,null,null,null,null,null,null,null,{"$f":"IF(W635=\"\",\"\",LOOKUP(W635,Hilfstabelle!$A$1:$A$286,Hilfstabelle!$B$1:$B$286))","v":""}]
[null,null,null,null,null,null,null,null,null,null,null,null,null,null,null,null,null,null,null,null,{"$f":"IF(W636=\"\",\"\",LOOKUP(W636,Hilfstabelle!$A$1:$A$286,Hilfstabelle!$B$1:$B$286))","v":""}]
[null,null,null,null,null,null,null,null,null,null,null,null,null,null,null,null,null,null,null,null,{"$f":"IF(W637=\"\",\"\",LOOKUP(W637,Hilfstabelle!$A$1:$A$286,Hilfstabelle!$B$1:$B$286))","v":""}]
[null,null,null,null,null,null,null,null,null,null,null,null,null,null,null,null,null,null,null,null,{"$f":"IF(W638=\"\",\"\",LOOKUP(W638,Hilfstabelle!$A$1:$A$286,Hilfstabelle!$B$1:$B$286))","v":""}]
[null,null,null,null,null,null,null,null,null,null,null,null,null,null,null,null,null,null,null,null,{"$f":"IF(W639=\"\",\"\",LOOKUP(W639,Hilfstabelle!$A$1:$A$286,Hilfstabelle!$B$1:$B$286))","v":""}]
[null,null,null,null,null,null,null,null,null,null,null,null,null,null,null,null,null,null,null,null,{"$f":"IF(W640=\"\",\"\",LOOKUP(W640,Hilfstabelle!$A$1:$A$286,Hilfstabelle!$B$1:$B$286))","v":""}]
[null,null,null,null,null,null,null,null,null,null,null,null,null,null,null,null,null,null,null,null,{"$f":"IF(W641=\"\",\"\",LOOKUP(W641,Hilfstabelle!$A$1:$A$286,Hilfstabelle!$B$1:$B$286))","v":""}]
[null,null,null,null,null,null,null,null,null,null,null,null,null,null,null,null,null,null,null,null,{"$f":"IF(W642=\"\",\"\",LOOKUP(W642,Hilfstabelle!$A$1:$A$286,Hilfstabelle!$B$1:$B$286))","v":""}]
[null,null,null,null,null,null,null,null,null,null,null,null,null,null,null,null,null,null,null,null,{"$f":"IF(W643=\"\",\"\",LOOKUP(W643,Hilfstabelle!$A$1:$A$286,Hilfstabelle!$B$1:$B$286))","v":""}]
[null,null,null,null,null,null,null,null,null,null,null,null,null,null,null,null,null,null,null,null,{"$f":"IF(W644=\"\",\"\",LOOKUP(W644,Hilfstabelle!$A$1:$A$286,Hilfstabelle!$B$1:$B$286))","v":""}]
[null,null,null,null,null,null,null,null,null,null,null,null,null,null,null,null,null,null,null,null,{"$f":"IF(W645=\"\",\"\",LOOKUP(W645,Hilfstabelle!$A$1:$A$286,Hilfstabelle!$B$1:$B$286))","v":""}]
[null,null,null,null,null,null,null,null,null,null,null,null,null,null,null,null,null,null,null,null,{"$f":"IF(W646=\"\",\"\",LOOKUP(W646,Hilfstabelle!$A$1:$A$286,Hilfstabelle!$B$1:$B$286))","v":""}]
[null,null,null,null,null,null,null,null,null,null,null,null,null,null,null,null,null,null,null,null,{"$f":"IF(W647=\"\",\"\",LOOKUP(W647,Hilfstabelle!$A$1:$A$286,Hilfstabelle!$B$1:$B$286))","v":""}]
[null,null,null,null,null,null,null,null,null,null,null,null,null,null,null,null,null,null,null,null,{"$f":"IF(W648=\"\",\"\",LOOKUP(W648,Hilfstabelle!$A$1:$A$286,Hilfstabelle!$B$1:$B$286))","v":""}]
[null,null,null,null,null,null,null,null,null,null,null,null,null,null,null,null,null,null,null,null,{"$f":"IF(W649=\"\",\"\",LOOKUP(W649,Hilfstabelle!$A$1:$A$286,Hilfstabelle!$B$1:$B$286))","v":""}]
[null,null,null,null,null,null,null,null,null,null,null,null,null,null,null,null,null,null,null,null,{"$f":"IF(W650=\"\",\"\",LOOKUP(W650,Hilfstabelle!$A$1:$A$286,Hilfstabelle!$B$1:$B$286))","v":""}]
[null,null,null,null,null,null,null,null,null,null,null,null,null,null,null,null,null,null,null,null,{"$f":"IF(W651=\"\",\"\",LOOKUP(W651,Hilfstabelle!$A$1:$A$286,Hilfstabelle!$B$1:$B$286))","v":""}]
[null,null,null,null,null,null,null,null,null,null,null,null,null,null,null,null,null,null,null,null,{"$f":"IF(W652=\"\",\"\",LOOKUP(W652,Hilfstabelle!$A$1:$A$286,Hilfstabelle!$B$1:$B$286))","v":""}]
[null,null,null,null,null,null,null,null,null,null,null,null,null,null,null,null,null,null,null,null,{"$f":"IF(W653=\"\",\"\",LOOKUP(W653,Hilfstabelle!$A$1:$A$286,Hilfstabelle!$B$1:$B$286))","v":""}]
[null,null,null,null,null,null,null,null,null,null,null,null,null,null,null,null,null,null,null,null,{"$f":"IF(W654=\"\",\"\",LOOKUP(W654,Hilfstabelle!$A$1:$A$286,Hilfstabelle!$B$1:$B$286))","v":""}]
[null,null,null,null,null,null,null,null,null,null,null,null,null,null,null,null,null,null,null,null,{"$f":"IF(W655=\"\",\"\",LOOKUP(W655,Hilfstabelle!$A$1:$A$286,Hilfstabelle!$B$1:$B$286))","v":""}]
[null,null,null,null,null,null,null,null,null,null,null,null,null,null,null,null,null,null,null,null,{"$f":"IF(W656=\"\",\"\",LOOKUP(W656,Hilfstabelle!$A$1:$A$286,Hilfstabelle!$B$1:$B$286))","v":""}]
[null,null,null,null,null,null,null,null,null,null,null,null,null,null,null,null,null,null,null,null,{"$f":"IF(W657=\"\",\"\",LOOKUP(W657,Hilfstabelle!$A$1:$A$286,Hilfstabelle!$B$1:$B$286))","v":""}]
[null,null,null,null,null,null,null,null,null,null,null,null,null,null,null,null,null,null,null,null,{"$f":"IF(W658=\"\",\"\",LOOKUP(W658,Hilfstabelle!$A$1:$A$286,Hilfstabelle!$B$1:$B$286))","v":""}]
[null,null,null,null,null,null,null,null,null,null,null,null,null,null,null,null,null,null,null,null,{"$f":"IF(W659=\"\",\"\",LOOKUP(W659,Hilfstabelle!$A$1:$A$286,Hilfstabelle!$B$1:$B$286))","v":""}]
[null,null,null,null,null,null,null,null,null,null,null,null,null,null,null,null,null,null,null,null,{"$f":"IF(W660=\"\",\"\",LOOKUP(W660,Hilfstabelle!$A$1:$A$286,Hilfstabelle!$B$1:$B$286))","v":""}]
[null,null,null,null,null,null,null,null,null,null,null,null,null,null,null,null,null,null,null,null,{"$f":"IF(W661=\"\",\"\",LOOKUP(W661,Hilfstabelle!$A$1:$A$286,Hilfstabelle!$B$1:$B$286))","v":""}]
[null,null,null,null,null,null,null,null,null,null,null,null,null,null,null,null,null,null,null,null,{"$f":"IF(W662=\"\",\"\",LOOKUP(W662,Hilfstabelle!$A$1:$A$286,Hilfstabelle!$B$1:$B$286))","v":""}]
[null,null,null,null,null,null,null,null,null,null,null,null,null,null,null,null,null,null,null,null,{"$f":"IF(W663=\"\",\"\",LOOKUP(W663,Hilfstabelle!$A$1:$A$286,Hilfstabelle!$B$1:$B$286))","v":""}]
[null,null,null,null,null,null,null,null,null,null,null,null,null,null,null,null,null,null,null,null,{"$f":"IF(W664=\"\",\"\",LOOKUP(W664,Hilfstabelle!$A$1:$A$286,Hilfstabelle!$B$1:$B$286))","v":""}]
[null,null,null,null,null,null,null,null,null,null,null,null,null,null,null,null,null,null,null,null,{"$f":"IF(W665=\"\",\"\",LOOKUP(W665,Hilfstabelle!$A$1:$A$286,Hilfstabelle!$B$1:$B$286))","v":""}]
[null,null,null,null,null,null,null,null,null,null,null,null,null,null,null,null,null,null,null,null,{"$f":"IF(W666=\"\",\"\",LOOKUP(W666,Hilfstabelle!$A$1:$A$286,Hilfstabelle!$B$1:$B$286))","v":""}]
[null,null,null,null,null,null,null,null,null,null,null,null,null,null,null,null,null,null,null,null,{"$f":"IF(W667=\"\",\"\",LOOKUP(W667,Hilfstabelle!$A$1:$A$286,Hilfstabelle!$B$1:$B$286))","v":""}]
[null,null,null,null,null,null,null,null,null,null,null,null,null,null,null,null,null,null,null,null,{"$f":"IF(W668=\"\",\"\",LOOKUP(W668,Hilfstabelle!$A$1:$A$286,Hilfstabelle!$B$1:$B$286))","v":""}]
[null,null,null,null,null,null,null,null,null,null,null,null,null,null,null,null,null,null,null,null,{"$f":"IF(W669=\"\",\"\",LOOKUP(W669,Hilfstabelle!$A$1:$A$286,Hilfstabelle!$B$1:$B$286))","v":""}]
[null,null,null,null,null,null,null,null,null,null,null,null,null,null,null,null,null,null,null,null,{"$f":"IF(W670=\"\",\"\",LOOKUP(W670,Hilfstabelle!$A$1:$A$286,Hilfstabelle!$B$1:$B$286))","v":""}]
[null,null,null,null,null,null,null,null,null,null,null,null,null,null,null,null,null,null,null,null,{"$f":"IF(W671=\"\",\"\",LOOKUP(W671,Hilfstabelle!$A$1:$A$286,Hilfstabelle!$B$1:$B$286))","v":""}]
[null,null,null,null,null,null,null,null,null,null,null,null,null,null,null,null,null,null,null,null,{"$f":"IF(W672=\"\",\"\",LOOKUP(W672,Hilfstabelle!$A$1:$A$286,Hilfstabelle!$B$1:$B$286))","v":""}]
[null,null,null,null,null,null,null,null,null,null,null,null,null,null,null,null,null,null,null,null,{"$f":"IF(W673=\"\",\"\",LOOKUP(W673,Hilfstabelle!$A$1:$A$286,Hilfstabelle!$B$1:$B$286))","v":""}]
[null,null,null,null,null,null,null,null,null,null,null,null,null,null,null,null,null,null,null,null,{"$f":"IF(W674=\"\",\"\",LOOKUP(W674,Hilfstabelle!$A$1:$A$286,Hilfstabelle!$B$1:$B$286))","v":""}]
[null,null,null,null,null,null,null,null,null,null,null,null,null,null,null,null,null,null,null,null,{"$f":"IF(W675=\"\",\"\",LOOKUP(W675,Hilfstabelle!$A$1:$A$286,Hilfstabelle!$B$1:$B$286))","v":""}]
[null,null,null,null,null,null,null,null,null,null,null,null,null,null,null,null,null,null,null,null,{"$f":"IF(W676=\"\",\"\",LOOKUP(W676,Hilfstabelle!$A$1:$A$286,Hilfstabelle!$B$1:$B$286))","v":""}]
[null,null,null,null,null,null,null,null,null,null,null,null,null,null,null,null,null,null,null,null,{"$f":"IF(W677=\"\",\"\",LOOKUP(W677,Hilfstabelle!$A$1:$A$286,Hilfstabelle!$B$1:$B$286))","v":""}]
[null,null,null,null,null,null,null,null,null,null,null,null,null,null,null,null,null,null,null,null,{"$f":"IF(W678=\"\",\"\",LOOKUP(W678,Hilfstabelle!$A$1:$A$286,Hilfstabelle!$B$1:$B$286))","v":""}]
[null,null,null,null,null,null,null,null,null,null,null,null,null,null,null,null,null,null,null,null,{"$f":"IF(W679=\"\",\"\",LOOKUP(W679,Hilfstabelle!$A$1:$A$286,Hilfstabelle!$B$1:$B$286))","v":""}]
[null,null,null,null,null,null,null,null,null,null,null,null,null,null,null,null,null,null,null,null,{"$f":"IF(W680=\"\",\"\",LOOKUP(W680,Hilfstabelle!$A$1:$A$286,Hilfstabelle!$B$1:$B$286))","v":""}]
[null,null,null,null,null,null,null,null,null,null,null,null,null,null,null,null,null,null,null,null,{"$f":"IF(W681=\"\",\"\",LOOKUP(W681,Hilfstabelle!$A$1:$A$286,Hilfstabelle!$B$1:$B$286))","v":""}]
[null,null,null,null,null,null,null,null,null,null,null,null,null,null,null,null,null,null,null,null,{"$f":"IF(W682=\"\",\"\",LOOKUP(W682,Hilfstabelle!$A$1:$A$286,Hilfstabelle!$B$1:$B$286))","v":""}]
[null,null,null,null,null,null,null,null,null,null,null,null,null,null,null,null,null,null,null,null,{"$f":"IF(W683=\"\",\"\",LOOKUP(W683,Hilfstabelle!$A$1:$A$286,Hilfstabelle!$B$1:$B$286))","v":""}]
[null,null,null,null,null,null,null,null,null,null,null,null,null,null,null,null,null,null,null,null,{"$f":"IF(W684=\"\",\"\",LOOKUP(W684,Hilfstabelle!$A$1:$A$286,Hilfstabelle!$B$1:$B$286))","v":""}]
[null,null,null,null,null,null,null,null,null,null,null,null,null,null,null,null,null,null,null,null,{"$f":"IF(W685=\"\",\"\",LOOKUP(W685,Hilfstabelle!$A$1:$A$286,Hilfstabelle!$B$1:$B$286))","v":""}]
[null,null,null,null,null,null,null,null,null,null,null,null,null,null,null,null,null,null,null,null,{"$f":"IF(W686=\"\",\"\",LOOKUP(W686,Hilfstabelle!$A$1:$A$286,Hilfstabelle!$B$1:$B$286))","v":""}]
[null,null,null,null,null,null,null,null,null,null,null,null,null,null,null,null,null,null,null,null,{"$f":"IF(W687=\"\",\"\",LOOKUP(W687,Hilfstabelle!$A$1:$A$286,Hilfstabelle!$B$1:$B$286))","v":""}]
[null,null,null,null,null,null,null,null,null,null,null,null,null,null,null,null,null,null,null,null,{"$f":"IF(W688=\"\",\"\",LOOKUP(W688,Hilfstabelle!$A$1:$A$286,Hilfstabelle!$B$1:$B$286))","v":""}]
[null,null,null,null,null,null,null,null,null,null,null,null,null,null,null,null,null,null,null,null,{"$f":"IF(W689=\"\",\"\",LOOKUP(W689,Hilfstabelle!$A$1:$A$286,Hilfstabelle!$B$1:$B$286))","v":""}]
[null,null,null,null,null,null,null,null,null,null,null,null,null,null,null,null,null,null,null,null,{"$f":"IF(W690=\"\",\"\",LOOKUP(W690,Hilfstabelle!$A$1:$A$286,Hilfstabelle!$B$1:$B$286))","v":""}]
[null,null,null,null,null,null,null,null,null,null,null,null,null,null,null,null,null,null,null,null,{"$f":"IF(W691=\"\",\"\",LOOKUP(W691,Hilfstabelle!$A$1:$A$286,Hilfstabelle!$B$1:$B$286))","v":""}]
[null,null,null,null,null,null,null,null,null,null,null,null,null,null,null,null,null,null,null,null,{"$f":"IF(W692=\"\",\"\",LOOKUP(W692,Hilfstabelle!$A$1:$A$286,Hilfstabelle!$B$1:$B$286))","v":""}]
[null,null,null,null,null,null,null,null,null,null,null,null,null,null,null,null,null,null,null,null,{"$f":"IF(W693=\"\",\"\",LOOKUP(W693,Hilfstabelle!$A$1:$A$286,Hilfstabelle!$B$1:$B$286))","v":""}]
[null,null,null,null,null,null,null,null,null,null,null,null,null,null,null,null,null,null,null,null,{"$f":"IF(W694=\"\",\"\",LOOKUP(W694,Hilfstabelle!$A$1:$A$286,Hilfstabelle!$B$1:$B$286))","v":""}]
[null,null,null,null,null,null,null,null,null,null,null,null,null,null,null,null,null,null,null,null,{"$f":"IF(W695=\"\",\"\",LOOKUP(W695,Hilfstabelle!$A$1:$A$286,Hilfstabelle!$B$1:$B$286))","v":""}]
[null,null,null,null,null,null,null,null,null,null,null,null,null,null,null,null,null,null,null,null,{"$f":"IF(W696=\"\",\"\",LOOKUP(W696,Hilfstabelle!$A$1:$A$286,Hilfstabelle!$B$1:$B$286))","v":""}]
[null,null,null,null,null,null,null,null,null,null,null,null,null,null,null,null,null,null,null,null,{"$f":"IF(W697=\"\",\"\",LOOKUP(W697,Hilfstabelle!$A$1:$A$286,Hilfstabelle!$B$1:$B$286))","v":""}]
[null,null,null,null,null,null,null,null,null,null,null,null,null,null,null,null,null,null,null,null,{"$f":"IF(W698=\"\",\"\",LOOKUP(W698,Hilfstabelle!$A$1:$A$286,Hilfstabelle!$B$1:$B$286))","v":""}]
[null,null,null,null,null,null,null,null,null,null,null,null,null,null,null,null,null,null,null,null,{"$f":"IF(W699=\"\",\"\",LOOKUP(W699,Hilfstabelle!$A$1:$A$286,Hilfstabelle!$B$1:$B$286))","v":""}]
[null,null,null,null,null,null,null,null,null,null,null,null,null,null,null,null,null,null,null,null,{"$f":"IF(W700=\"\",\"\",LOOKUP(W700,Hilfstabelle!$A$1:$A$286,Hilfstabelle!$B$1:$B$286))","v":""}]
[null,null,null,null,null,null,null,null,null,null,null,null,null,null,null,null,null,null,null,null,{"$f":"IF(W701=\"\",\"\",LOOKUP(W701,Hilfstabelle!$A$1:$A$286,Hilfstabelle!$B$1:$B$286))","v":""}]
[null,null,null,null,null,null,null,null,null,null,null,null,null,null,null,null,null,null,null,null,{"$f":"IF(W702=\"\",\"\",LOOKUP(W702,Hilfstabelle!$A$1:$A$286,Hilfstabelle!$B$1:$B$286))","v":""}]
[null,null,null,null,null,null,null,null,null,null,null,null,null,null,null,null,null,null,null,null,{"$f":"IF(W703=\"\",\"\",LOOKUP(W703,Hilfstabelle!$A$1:$A$286,Hilfstabelle!$B$1:$B$286))","v":""}]
[null,null,null,null,null,null,null,null,null,null,null,null,null,null,null,null,null,null,null,null,{"$f":"IF(W704=\"\",\"\",LOOKUP(W704,Hilfstabelle!$A$1:$A$286,Hilfstabelle!$B$1:$B$286))","v":""}]
[null,null,null,null,null,null,null,null,null,null,null,null,null,null,null,null,null,null,null,null,{"$f":"IF(W705=\"\",\"\",LOOKUP(W705,Hilfstabelle!$A$1:$A$286,Hilfstabelle!$B$1:$B$286))","v":""}]
[null,null,null,null,null,null,null,null,null,null,null,null,null,null,null,null,null,null,null,null,{"$f":"IF(W706=\"\",\"\",LOOKUP(W706,Hilfstabelle!$A$1:$A$286,Hilfstabelle!$B$1:$B$286))","v":""}]
[null,null,null,null,null,null,null,null,null,null,null,null,null,null,null,null,null,null,null,null,{"$f":"IF(W707=\"\",\"\",LOOKUP(W707,Hilfstabelle!$A$1:$A$286,Hilfstabelle!$B$1:$B$286))","v":""}]
[null,null,null,null,null,null,null,null,null,null,null,null,null,null,null,null,null,null,null,null,{"$f":"IF(W708=\"\",\"\",LOOKUP(W708,Hilfstabelle!$A$1:$A$286,Hilfstabelle!$B$1:$B$286))","v":""}]
[null,null,null,null,null,null,null,null,null,null,null,null,null,null,null,null,null,null,null,null,{"$f":"IF(W709=\"\",\"\",LOOKUP(W709,Hilfstabelle!$A$1:$A$286,Hilfstabelle!$B$1:$B$286))","v":""}]
[null,null,null,null,null,null,null,null,null,null,null,null,null,null,null,null,null,null,null,null,{"$f":"IF(W710=\"\",\"\",LOOKUP(W710,Hilfstabelle!$A$1:$A$286,Hilfstabelle!$B$1:$B$286))","v":""}]
[null,null,null,null,null,null,null,null,null,null,null,null,null,null,null,null,null,null,null,null,{"$f":"IF(W711=\"\",\"\",LOOKUP(W711,Hilfstabelle!$A$1:$A$286,Hilfstabelle!$B$1:$B$286))","v":""}]
[null,null,null,null,null,null,null,null,null,null,null,null,null,null,null,null,null,null,null,null,{"$f":"IF(W712=\"\",\"\",LOOKUP(W712,Hilfstabelle!$A$1:$A$286,Hilfstabelle!$B$1:$B$286))","v":""}]
[null,null,null,null,null,null,null,null,null,null,null,null,null,null,null,null,null,null,null,null,{"$f":"IF(W713=\"\",\"\",LOOKUP(W713,Hilfstabelle!$A$1:$A$286,Hilfstabelle!$B$1:$B$286))","v":""}]
[null,null,null,null,null,null,null,null,null,null,null,null,null,null,null,null,null,null,null,null,{"$f":"IF(W714=\"\",\"\",LOOKUP(W714,Hilfstabelle!$A$1:$A$286,Hilfstabelle!$B$1:$B$286))","v":""}]
[null,null,null,null,null,null,null,null,null,null,null,null,null,null,null,null,null,null,null,null,{"$f":"IF(W715=\"\",\"\",LOOKUP(W715,Hilfstabelle!$A$1:$A$286,Hilfstabelle!$B$1:$B$286))","v":""}]
[null,null,null,null,null,null,null,null,null,null,null,null,null,null,null,null,null,null,null,null,{"$f":"IF(W716=\"\",\"\",LOOKUP(W716,Hilfstabelle!$A$1:$A$286,Hilfstabelle!$B$1:$B$286))","v":""}]
[null,null,null,null,null,null,null,null,null,null,null,null,null,null,null,null,null,null,null,null,{"$f":"IF(W717=\"\",\"\",LOOKUP(W717,Hilfstabelle!$A$1:$A$286,Hilfstabelle!$B$1:$B$286))","v":""}]
[null,null,null,null,null,null,null,null,null,null,null,null,null,null,null,null,null,null,null,null,{"$f":"IF(W718=\"\",\"\",LOOKUP(W718,Hilfstabelle!$A$1:$A$286,Hilfstabelle!$B$1:$B$286))","v":""}]
[null,null,null,null,null,null,null,null,null,null,null,null,null,null,null,null,null,null,null,null,{"$f":"IF(W719=\"\",\"\",LOOKUP(W719,Hilfstabelle!$A$1:$A$286,Hilfstabelle!$B$1:$B$286))","v":""}]
[null,null,null,null,null,null,null,null,null,null,null,null,null,null,null,null,null,null,null,null,{"$f":"IF(W720=\"\",\"\",LOOKUP(W720,Hilfstabelle!$A$1:$A$286,Hilfstabelle!$B$1:$B$286))","v":""}]
[null,null,null,null,null,null,null,null,null,null,null,null,null,null,null,null,null,null,null,null,{"$f":"IF(W721=\"\",\"\",LOOKUP(W721,Hilfstabelle!$A$1:$A$286,Hilfstabelle!$B$1:$B$286))","v":""}]
[null,null,null,null,null,null,null,null,null,null,null,null,null,null,null,null,null,null,null,null,{"$f":"IF(W722=\"\",\"\",LOOKUP(W722,Hilfstabelle!$A$1:$A$286,Hilfstabelle!$B$1:$B$286))","v":""}]
[null,null,null,null,null,null,null,null,null,null,null,null,null,null,null,null,null,null,null,null,{"$f":"IF(W723=\"\",\"\",LOOKUP(W723,Hilfstabelle!$A$1:$A$286,Hilfstabelle!$B$1:$B$286))","v":""}]
[null,null,null,null,null,null,null,null,null,null,null,null,null,null,null,null,null,null,null,null,{"$f":"IF(W724=\"\",\"\",LOOKUP(W724,Hilfstabelle!$A$1:$A$286,Hilfstabelle!$B$1:$B$286))","v":""}]
[null,null,null,null,null,null,null,null,null,null,null,null,null,null,null,null,null,null,null,null,{"$f":"IF(W725=\"\",\"\",LOOKUP(W725,Hilfstabelle!$A$1:$A$286,Hilfstabelle!$B$1:$B$286))","v":""}]
[null,null,null,null,null,null,null,null,null,null,null,null,null,null,null,null,null,null,null,null,{"$f":"IF(W726=\"\",\"\",LOOKUP(W726,Hilfstabelle!$A$1:$A$286,Hilfstabelle!$B$1:$B$286))","v":""}]
[null,null,null,null,null,null,null,null,null,null,null,null,null,null,null,null,null,null,null,null,{"$f":"IF(W727=\"\",\"\",LOOKUP(W727,Hilfstabelle!$A$1:$A$286,Hilfstabelle!$B$1:$B$286))","v":""}]
[null,null,null,null,null,null,null,null,null,null,null,null,null,null,null,null,null,null,null,null,{"$f":"IF(W728=\"\",\"\",LOOKUP(W728,Hilfstabelle!$A$1:$A$286,Hilfstabelle!$B$1:$B$286))","v":""}]
[null,null,null,null,null,null,null,null,null,null,null,null,null,null,null,null,null,null,null,null,{"$f":"IF(W729=\"\",\"\",LOOKUP(W729,Hilfstabelle!$A$1:$A$286,Hilfstabelle!$B$1:$B$286))","v":""}]
[null,null,null,null,null,null,null,null,null,null,null,null,null,null,null,null,null,null,null,null,{"$f":"IF(W730=\"\",\"\",LOOKUP(W730,Hilfstabelle!$A$1:$A$286,Hilfstabelle!$B$1:$B$286))","v":""}]
[null,null,null,null,null,null,null,null,null,null,null,null,null,null,null,null,null,null,null,null,{"$f":"IF(W731=\"\",\"\",LOOKUP(W731,Hilfstabelle!$A$1:$A$286,Hilfstabelle!$B$1:$B$286))","v":""}]
[null,null,null,null,null,null,null,null,null,null,null,null,null,null,null,null,null,null,null,null,{"$f":"IF(W732=\"\",\"\",LOOKUP(W732,Hilfstabelle!$A$1:$A$286,Hilfstabelle!$B$1:$B$286))","v":""}]
[null,null,null,null,null,null,null,null,null,null,null,null,null,null,null,null,null,null,null,null,{"$f":"IF(W733=\"\",\"\",LOOKUP(W733,Hilfstabelle!$A$1:$A$286,Hilfstabelle!$B$1:$B$286))","v":""}]
[null,null,null,null,null,null,null,null,null,null,null,null,null,null,null,null,null,null,null,null,{"$f":"IF(W734=\"\",\"\",LOOKUP(W734,Hilfstabelle!$A$1:$A$286,Hilfstabelle!$B$1:$B$286))","v":""}]
[null,null,null,null,null,null,null,null,null,null,null,null,null,null,null,null,null,null,null,null,{"$f":"IF(W735=\"\",\"\",LOOKUP(W735,Hilfstabelle!$A$1:$A$286,Hilfstabelle!$B$1:$B$286))","v":""}]
[null,null,null,null,null,null,null,null,null,null,null,null,null,null,null,null,null,null,null,null,{"$f":"IF(W736=\"\",\"\",LOOKUP(W736,Hilfstabelle!$A$1:$A$286,Hilfstabelle!$B$1:$B$286))","v":""}]
[null,null,null,null,null,null,null,null,null,null,null,null,null,null,null,null,null,null,null,null,{"$f":"IF(W737=\"\",\"\",LOOKUP(W737,Hilfstabelle!$A$1:$A$286,Hilfstabelle!$B$1:$B$286))","v":""}]
[null,null,null,null,null,null,null,null,null,null,null,null,null,null,null,null,null,null,null,null,{"$f":"IF(W738=\"\",\"\",LOOKUP(W738,Hilfstabelle!$A$1:$A$286,Hilfstabelle!$B$1:$B$286))","v":""}]
[null,null,null,null,null,null,null,null,null,null,null,null,null,null,null,null,null,null,null,null,{"$f":"IF(W739=\"\",\"\",LOOKUP(W739,Hilfstabelle!$A$1:$A$286,Hilfstabelle!$B$1:$B$286))","v":""}]
[null,null,null,null,null,null,null,null,null,null,null,null,null,null,null,null,null,null,null,null,{"$f":"IF(W740=\"\",\"\",LOOKUP(W740,Hilfstabelle!$A$1:$A$286,Hilfstabelle!$B$1:$B$286))","v":""}]
[null,null,null,null,null,null,null,null,null,null,null,null,null,null,null,null,null,null,null,null,{"$f":"IF(W741=\"\",\"\",LOOKUP(W741,Hilfstabelle!$A$1:$A$286,Hilfstabelle!$B$1:$B$286))","v":""}]
[null,null,null,null,null,null,null,null,null,null,null,null,null,null,null,null,null,null,null,null,{"$f":"IF(W742=\"\",\"\",LOOKUP(W742,Hilfstabelle!$A$1:$A$286,Hilfstabelle!$B$1:$B$286))","v":""}]
[null,null,null,null,null,null,null,null,null,null,null,null,null,null,null,null,null,null,null,null,{"$f":"IF(W743=\"\",\"\",LOOKUP(W743,Hilfstabelle!$A$1:$A$286,Hilfstabelle!$B$1:$B$286))","v":""}]
[null,null,null,null,null,null,null,null,null,null,null,null,null,null,null,null,null,null,null,null,{"$f":"IF(W744=\"\",\"\",LOOKUP(W744,Hilfstabelle!$A$1:$A$286,Hilfstabelle!$B$1:$B$286))","v":""}]
[null,null,null,null,null,null,null,null,null,null,null,null,null,null,null,null,null,null,null,null,{"$f":"IF(W745=\"\",\"\",LOOKUP(W745,Hilfstabelle!$A$1:$A$286,Hilfstabelle!$B$1:$B$286))","v":""}]
[null,null,null,null,null,null,null,null,null,null,null,null,null,null,null,null,null,null,null,null,{"$f":"IF(W746=\"\",\"\",LOOKUP(W746,Hilfstabelle!$A$1:$A$286,Hilfstabelle!$B$1:$B$286))","v":""}]
[null,null,null,null,null,null,null,null,null,null,null,null,null,null,null,null,null,null,null,null,{"$f":"IF(W747=\"\",\"\",LOOKUP(W747,Hilfstabelle!$A$1:$A$286,Hilfstabelle!$B$1:$B$286))","v":""}]
[null,null,null,null,null,null,null,null,null,null,null,null,null,null,null,null,null,null,null,null,{"$f":"IF(W748=\"\",\"\",LOOKUP(W748,Hilfstabelle!$A$1:$A$286,Hilfstabelle!$B$1:$B$286))","v":""}]
[null,null,null,null,null,null,null,null,null,null,null,null,null,null,null,null,null,null,null,null,{"$f":"IF(W749=\"\",\"\",LOOKUP(W749,Hilfstabelle!$A$1:$A$286,Hilfstabelle!$B$1:$B$286))","v":""}]
[null,null,null,null,null,null,null,null,null,null,null,null,null,null,null,null,null,null,null,null,{"$f":"IF(W750=\"\",\"\",LOOKUP(W750,Hilfstabelle!$A$1:$A$286,Hilfstabelle!$B$1:$B$286))","v":""}]
[null,null,null,null,null,null,null,null,null,null,null,null,null,null,null,null,null,null,null,null,{"$f":"IF(W751=\"\",\"\",LOOKUP(W751,Hilfstabelle!$A$1:$A$286,Hilfstabelle!$B$1:$B$286))","v":""}]
[null,null,null,null,null,null,null,null,null,null,null,null,null,null,null,null,null,null,null,null,{"$f":"IF(W752=\"\",\"\",LOOKUP(W752,Hilfstabelle!$A$1:$A$286,Hilfstabelle!$B$1:$B$286))","v":""}]
[null,null,null,null,null,null,null,null,null,null,null,null,null,null,null,null,null,null,null,null,{"$f":"IF(W753=\"\",\"\",LOOKUP(W753,Hilfstabelle!$A$1:$A$286,Hilfstabelle!$B$1:$B$286))","v":""}]
[null,null,null,null,null,null,null,null,null,null,null,null,null,null,null,null,null,null,null,null,{"$f":"IF(W754=\"\",\"\",LOOKUP(W754,Hilfstabelle!$A$1:$A$286,Hilfstabelle!$B$1:$B$286))","v":""}]
[null,null,null,null,null,null,null,null,null,null,null,null,null,null,null,null,null,null,null,null,{"$f":"IF(W755=\"\",\"\",LOOKUP(W755,Hilfstabelle!$A$1:$A$286,Hilfstabelle!$B$1:$B$286))","v":""}]
[null,null,null,null,null,null,null,null,null,null,null,null,null,null,null,null,null,null,null,null,{"$f":"IF(W756=\"\",\"\",LOOKUP(W756,Hilfstabelle!$A$1:$A$286,Hilfstabelle!$B$1:$B$286))","v":""}]
[null,null,null,null,null,null,null,null,null,null,null,null,null,null,null,null,null,null,null,null,{"$f":"IF(W757=\"\",\"\",LOOKUP(W757,Hilfstabelle!$A$1:$A$286,Hilfstabelle!$B$1:$B$286))","v":""}]
[null,null,null,null,null,null,null,null,null,null,null,null,null,null,null,null,null,null,null,null,{"$f":"IF(W758=\"\",\"\",LOOKUP(W758,Hilfstabelle!$A$1:$A$286,Hilfstabelle!$B$1:$B$286))","v":""}]
[null,null,null,null,null,null,null,null,null,null,null,null,null,null,null,null,null,null,null,null,{"$f":"IF(W759=\"\",\"\",LOOKUP(W759,Hilfstabelle!$A$1:$A$286,Hilfstabelle!$B$1:$B$286))","v":""}]
[null,null,null,null,null,null,null,null,null,null,null,null,null,null,null,null,null,null,null,null,{"$f":"IF(W760=\"\",\"\",LOOKUP(W760,Hilfstabelle!$A$1:$A$286,Hilfstabelle!$B$1:$B$286))","v":""}]
[null,null,null,null,null,null,null,null,null,null,null,null,null,null,null,null,null,null,null,null,{"$f":"IF(W761=\"\",\"\",LOOKUP(W761,Hilfstabelle!$A$1:$A$286,Hilfstabelle!$B$1:$B$286))","v":""}]
[null,null,null,null,null,null,null,null,null,null,null,null,null,null,null,null,null,null,null,null,{"$f":"IF(W762=\"\",\"\",LOOKUP(W762,Hilfstabelle!$A$1:$A$286,Hilfstabelle!$B$1:$B$286))","v":""}]
[null,null,null,null,null,null,null,null,null,null,null,null,null,null,null,null,null,null,null,null,{"$f":"IF(W763=\"\",\"\",LOOKUP(W763,Hilfstabelle!$A$1:$A$286,Hilfstabelle!$B$1:$B$286))","v":""}]
[null,null,null,null,null,null,null,null,null,null,null,null,null,null,null,null,null,null,null,null,{"$f":"IF(W764=\"\",\"\",LOOKUP(W764,Hilfstabelle!$A$1:$A$286,Hilfstabelle!$B$1:$B$286))","v":""}]
[null,null,null,null,null,null,null,null,null,null,null,null,null,null,null,null,null,null,null,null,{"$f":"IF(W765=\"\",\"\",LOOKUP(W765,Hilfstabelle!$A$1:$A$286,Hilfstabelle!$B$1:$B$286))","v":""}]
[null,null,null,null,null,null,null,null,null,null,null,null,null,null,null,null,null,null,null,null,{"$f":"IF(W766=\"\",\"\",LOOKUP(W766,Hilfstabelle!$A$1:$A$286,Hilfstabelle!$B$1:$B$286))","v":""}]
[null,null,null,null,null,null,null,null,null,null,null,null,null,null,null,null,null,null,null,null,{"$f":"IF(W767=\"\",\"\",LOOKUP(W767,Hilfstabelle!$A$1:$A$286,Hilfstabelle!$B$1:$B$286))","v":""}]
[null,null,null,null,null,null,null,null,null,null,null,null,null,null,null,null,null,null,null,null,{"$f":"IF(W768=\"\",\"\",LOOKUP(W768,Hilfstabelle!$A$1:$A$286,Hilfstabelle!$B$1:$B$286))","v":""}]
[null,null,null,null,null,null,null,null,null,null,null,null,null,null,null,null,null,null,null,null,{"$f":"IF(W769=\"\",\"\",LOOKUP(W769,Hilfstabelle!$A$1:$A$286,Hilfstabelle!$B$1:$B$286))","v":""}]
[null,null,null,null,null,null,null,null,null,null,null,null,null,null,null,null,null,null,null,null,{"$f":"IF(W770=\"\",\"\",LOOKUP(W770,Hilfstabelle!$A$1:$A$286,Hilfstabelle!$B$1:$B$286))","v":""}]
[null,null,null,null,null,null,null,null,null,null,null,null,null,null,null,null,null,null,null,null,{"$f":"IF(W771=\"\",\"\",LOOKUP(W771,Hilfstabelle!$A$1:$A$286,Hilfstabelle!$B$1:$B$286))","v":""}]
[null,null,null,null,null,null,null,null,null,null,null,null,null,null,null,null,null,null,null,null,{"$f":"IF(W772=\"\",\"\",LOOKUP(W772,Hilfstabelle!$A$1:$A$286,Hilfstabelle!$B$1:$B$286))","v":""}]
[null,null,null,null,null,null,null,null,null,null,null,null,null,null,null,null,null,null,null,null,{"$f":"IF(W773=\"\",\"\",LOOKUP(W773,Hilfstabelle!$A$1:$A$286,Hilfstabelle!$B$1:$B$286))","v":""}]
[null,null,null,null,null,null,null,null,null,null,null,null,null,null,null,null,null,null,null,null,{"$f":"IF(W774=\"\",\"\",LOOKUP(W774,Hilfstabelle!$A$1:$A$286,Hilfstabelle!$B$1:$B$286))","v":""}]
[null,null,null,null,null,null,null,null,null,null,null,null,null,null,null,null,null,null,null,null,{"$f":"IF(W775=\"\",\"\",LOOKUP(W775,Hilfstabelle!$A$1:$A$286,Hilfstabelle!$B$1:$B$286))","v":""}]
[null,null,null,null,null,null,null,null,null,null,null,null,null,null,null,null,null,null,null,null,{"$f":"IF(W776=\"\",\"\",LOOKUP(W776,Hilfstabelle!$A$1:$A$286,Hilfstabelle!$B$1:$B$286))","v":""}]
[null,null,null,null,null,null,null,null,null,null,null,null,null,null,null,null,null,null,null,null,{"$f":"IF(W777=\"\",\"\",LOOKUP(W777,Hilfstabelle!$A$1:$A$286,Hilfstabelle!$B$1:$B$286))","v":""}]
[null,null,null,null,null,null,null,null,null,null,null,null,null,null,null,null,null,null,null,null,{"$f":"IF(W778=\"\",\"\",LOOKUP(W778,Hilfstabelle!$A$1:$A$286,Hilfstabelle!$B$1:$B$286))","v":""}]
[null,null,null,null,null,null,null,null,null,null,null,null,null,null,null,null,null,null,null,null,{"$f":"IF(W779=\"\",\"\",LOOKUP(W779,Hilfstabelle!$A$1:$A$286,Hilfstabelle!$B$1:$B$286))","v":""}]
[null,null,null,null,null,null,null,null,null,null,null,null,null,null,null,null,null,null,null,null,{"$f":"IF(W780=\"\",\"\",LOOKUP(W780,Hilfstabelle!$A$1:$A$286,Hilfstabelle!$B$1:$B$286))","v":""}]
[null,null,null,null,null,null,null,null,null,null,null,null,null,null,null,null,null,null,null,null,{"$f":"IF(W781=\"\",\"\",LOOKUP(W781,Hilfstabelle!$A$1:$A$286,Hilfstabelle!$B$1:$B$286))","v":""}]
[null,null,null,null,null,null,null,null,null,null,null,null,null,null,null,null,null,null,null,null,{"$f":"IF(W782=\"\",\"\",LOOKUP(W782,Hilfstabelle!$A$1:$A$286,Hilfstabelle!$B$1:$B$286))","v":""}]
[null,null,null,null,null,null,null,null,null,null,null,null,null,null,null,null,null,null,null,null,{"$f":"IF(W783=\"\",\"\",LOOKUP(W783,Hilfstabelle!$A$1:$A$286,Hilfstabelle!$B$1:$B$286))","v":""}]
[null,null,null,null,null,null,null,null,null,null,null,null,null,null,null,null,null,null,null,null,{"$f":"IF(W784=\"\",\"\",LOOKUP(W784,Hilfstabelle!$A$1:$A$286,Hilfstabelle!$B$1:$B$286))","v":""}]
[null,null,null,null,null,null,null,null,null,null,null,null,null,null,null,null,null,null,null,null,{"$f":"IF(W785=\"\",\"\",LOOKUP(W785,Hilfstabelle!$A$1:$A$286,Hilfstabelle!$B$1:$B$286))","v":""}]
[null,null,null,null,null,null,null,null,null,null,null,null,null,null,null,null,null,null,null,null,{"$f":"IF(W786=\"\",\"\",LOOKUP(W786,Hilfstabelle!$A$1:$A$286,Hilfstabelle!$B$1:$B$286))","v":""}]
[null,null,null,null,null,null,null,null,null,null,null,null,null,null,null,null,null,null,null,null,{"$f":"IF(W787=\"\",\"\",LOOKUP(W787,Hilfstabelle!$A$1:$A$286,Hilfstabelle!$B$1:$B$286))","v":""}]
[null,null,null,null,null,null,null,null,null,null,null,null,null,null,null,null,null,null,null,null,{"$f":"IF(W788=\"\",\"\",LOOKUP(W788,Hilfstabelle!$A$1:$A$286,Hilfstabelle!$B$1:$B$286))","v":""}]
[null,null,null,null,null,null,null,null,null,null,null,null,null,null,null,null,null,null,null,null,{"$f":"IF(W789=\"\",\"\",LOOKUP(W789,Hilfstabelle!$A$1:$A$286,Hilfstabelle!$B$1:$B$286))","v":""}]
[null,null,null,null,null,null,null,null,null,null,null,null,null,null,null,null,null,null,null,null,{"$f":"IF(W790=\"\",\"\",LOOKUP(W790,Hilfstabelle!$A$1:$A$286,Hilfstabelle!$B$1:$B$286))","v":""}]
[null,null,null,null,null,null,null,null,null,null,null,null,null,null,null,null,null,null,null,null,{"$f":"IF(W791=\"\",\"\",LOOKUP(W791,Hilfstabelle!$A$1:$A$286,Hilfstabelle!$B$1:$B$286))","v":""}]
[null,null,null,null,null,null,null,null,null,null,null,null,null,null,null,null,null,null,null,null,{"$f":"IF(W792=\"\",\"\",LOOKUP(W792,Hilfstabelle!$A$1:$A$286,Hilfstabelle!$B$1:$B$286))","v":""}]
[null,null,null,null,null,null,null,null,null,null,null,null,null,null,null,null,null,null,null,null,{"$f":"IF(W793=\"\",\"\",LOOKUP(W793,Hilfstabelle!$A$1:$A$286,Hilfstabelle!$B$1:$B$286))","v":""}]
[null,null,null,null,null,null,null,null,null,null,null,null,null,null,null,null,null,null,null,null,{"$f":"IF(W794=\"\",\"\",LOOKUP(W794,Hilfstabelle!$A$1:$A$286,Hilfstabelle!$B$1:$B$286))","v":""}]
[null,null,null,null,null,null,null,null,null,null,null,null,null,null,null,null,null,null,null,null,{"$f":"IF(W795=\"\",\"\",LOOKUP(W795,Hilfstabelle!$A$1:$A$286,Hilfstabelle!$B$1:$B$286))","v":""}]
[null,null,null,null,null,null,null,null,null,null,null,null,null,null,null,null,null,null,null,null,{"$f":"IF(W796=\"\",\"\",LOOKUP(W796,Hilfstabelle!$A$1:$A$286,Hilfstabelle!$B$1:$B$286))","v":""}]
[null,null,null,null,null,null,null,null,null,null,null,null,null,null,null,null,null,null,null,null,{"$f":"IF(W797=\"\",\"\",LOOKUP(W797,Hilfstabelle!$A$1:$A$286,Hilfstabelle!$B$1:$B$286))","v":""}]
[null,null,null,null,null,null,null,null,null,null,null,null,null,null,null,null,null,null,null,null,{"$f":"IF(W798=\"\",\"\",LOOKUP(W798,Hilfstabelle!$A$1:$A$286,Hilfstabelle!$B$1:$B$286))","v":""}]
[null,null,null,null,null,null,null,null,null,null,null,null,null,null,null,null,null,null,null,null,{"$f":"IF(W799=\"\",\"\",LOOKUP(W799,Hilfstabelle!$A$1:$A$286,Hilfstabelle!$B$1:$B$286))","v":""}]
[null,null,null,null,null,null,null,null,null,null,null,null,null,null,null,null,null,null,null,null,{"$f":"IF(W800=\"\",\"\",LOOKUP(W800,Hilfstabelle!$A$1:$A$286,Hilfstabelle!$B$1:$B$286))","v":""}]
[null,null,null,null,null,null,null,null,null,null,null,null,null,null,null,null,null,null,null,null,{"$f":"IF(W801=\"\",\"\",LOOKUP(W801,Hilfstabelle!$A$1:$A$286,Hilfstabelle!$B$1:$B$286))","v":""}]
[null,null,null,null,null,null,null,null,null,null,null,null,null,null,null,null,null,null,null,null,{"$f":"IF(W802=\"\",\"\",LOOKUP(W802,Hilfstabelle!$A$1:$A$286,Hilfstabelle!$B$1:$B$286))","v":""}]
[null,null,null,null,null,null,null,null,null,null,null,null,null,null,null,null,null,null,null,null,{"$f":"IF(W803=\"\",\"\",LOOKUP(W803,Hilfstabelle!$A$1:$A$286,Hilfstabelle!$B$1:$B$286))","v":""}]
[null,null,null,null,null,null,null,null,null,null,null,null,null,null,null,null,null,null,null,null,{"$f":"IF(W804=\"\",\"\",LOOKUP(W804,Hilfstabelle!$A$1:$A$286,Hilfstabelle!$B$1:$B$286))","v":""}]
[null,null,null,null,null,null,null,null,null,null,null,null,null,null,null,null,null,null,null,null,{"$f":"IF(W805=\"\",\"\",LOOKUP(W805,Hilfstabelle!$A$1:$A$286,Hilfstabelle!$B$1:$B$286))","v":""}]
[null,null,null,null,null,null,null,null,null,null,null,null,null,null,null,null,null,null,null,null,{"$f":"IF(W806=\"\",\"\",LOOKUP(W806,Hilfstabelle!$A$1:$A$286,Hilfstabelle!$B$1:$B$286))","v":""}]
[null,null,null,null,null,null,null,null,null,null,null,null,null,null,null,null,null,null,null,null,{"$f":"IF(W807=\"\",\"\",LOOKUP(W807,Hilfstabelle!$A$1:$A$286,Hilfstabelle!$B$1:$B$286))","v":""}]
[null,null,null,null,null,null,null,null,null,null,null,null,null,null,null,null,null,null,null,null,{"$f":"IF(W808=\"\",\"\",LOOKUP(W808,Hilfstabelle!$A$1:$A$286,Hilfstabelle!$B$1:$B$286))","v":""}]
[null,null,null,null,null,null,null,null,null,null,null,null,null,null,null,null,null,null,null,null,{"$f":"IF(W809=\"\",\"\",LOOKUP(W809,Hilfstabelle!$A$1:$A$286,Hilfstabelle!$B$1:$B$286))","v":""}]
[null,null,null,null,null,null,null,null,null,null,null,null,null,null,null,null,null,null,null,null,{"$f":"IF(W810=\"\",\"\",LOOKUP(W810,Hilfstabelle!$A$1:$A$286,Hilfstabelle!$B$1:$B$286))","v":""}]
[null,null,null,null,null,null,null,null,null,null,null,null,null,null,null,null,null,null,null,null,{"$f":"IF(W811=\"\",\"\",LOOKUP(W811,Hilfstabelle!$A$1:$A$286,Hilfstabelle!$B$1:$B$286))","v":""}]
[null,null,null,null,null,null,null,null,null,null,null,null,null,null,null,null,null,null,null,null,{"$f":"IF(W812=\"\",\"\",LOOKUP(W812,Hilfstabelle!$A$1:$A$286,Hilfstabelle!$B$1:$B$286))","v":""}]
[null,null,null,null,null,null,null,null,null,null,null,null,null,null,null,null,null,null,null,null,{"$f":"IF(W813=\"\",\"\",LOOKUP(W813,Hilfstabelle!$A$1:$A$286,Hilfstabelle!$B$1:$B$286))","v":""}]
[null,null,null,null,null,null,null,null,null,null,null,null,null,null,null,null,null,null,null,null,{"$f":"IF(W814=\"\",\"\",LOOKUP(W814,Hilfstabelle!$A$1:$A$286,Hilfstabelle!$B$1:$B$286))","v":""}]
[null,null,null,null,null,null,null,null,null,null,null,null,null,null,null,null,null,null,null,null,{"$f":"IF(W815=\"\",\"\",LOOKUP(W815,Hilfstabelle!$A$1:$A$286,Hilfstabelle!$B$1:$B$286))","v":""}]
[null,null,null,null,null,null,null,null,null,null,null,null,null,null,null,null,null,null,null,null,{"$f":"IF(W816=\"\",\"\",LOOKUP(W816,Hilfstabelle!$A$1:$A$286,Hilfstabelle!$B$1:$B$286))","v":""}]
[null,null,null,null,null,null,null,null,null,null,null,null,null,null,null,null,null,null,null,null,{"$f":"IF(W817=\"\",\"\",LOOKUP(W817,Hilfstabelle!$A$1:$A$286,Hilfstabelle!$B$1:$B$286))","v":""}]
[null,null,null,null,null,null,null,null,null,null,null,null,null,null,null,null,null,null,null,null,{"$f":"IF(W818=\"\",\"\",LOOKUP(W818,Hilfstabelle!$A$1:$A$286,Hilfstabelle!$B$1:$B$286))","v":""}]
[null,null,null,null,null,null,null,null,null,null,null,null,null,null,null,null,null,null,null,null,{"$f":"IF(W819=\"\",\"\",LOOKUP(W819,Hilfstabelle!$A$1:$A$286,Hilfstabelle!$B$1:$B$286))","v":""}]
[null,null,null,null,null,null,null,null,null,null,null,null,null,null,null,null,null,null,null,null,{"$f":"IF(W820=\"\",\"\",LOOKUP(W820,Hilfstabelle!$A$1:$A$286,Hilfstabelle!$B$1:$B$286))","v":""}]
[null,null,null,null,null,null,null,null,null,null,null,null,null,null,null,null,null,null,null,null,{"$f":"IF(W821=\"\",\"\",LOOKUP(W821,Hilfstabelle!$A$1:$A$286,Hilfstabelle!$B$1:$B$286))","v":""}]
[null,null,null,null,null,null,null,null,null,null,null,null,null,null,null,null,null,null,null,null,{"$f":"IF(W822=\"\",\"\",LOOKUP(W822,Hilfstabelle!$A$1:$A$286,Hilfstabelle!$B$1:$B$286))","v":""}]
[null,null,null,null,null,null,null,null,null,null,null,null,null,null,null,null,null,null,null,null,{"$f":"IF(W823=\"\",\"\",LOOKUP(W823,Hilfstabelle!$A$1:$A$286,Hilfstabelle!$B$1:$B$286))","v":""}]
[null,null,null,null,null,null,null,null,null,null,null,null,null,null,null,null,null,null,null,null,{"$f":"IF(W824=\"\",\"\",LOOKUP(W824,Hilfstabelle!$A$1:$A$286,Hilfstabelle!$B$1:$B$286))","v":""}]
[null,null,null,null,null,null,null,null,null,null,null,null,null,null,null,null,null,null,null,null,{"$f":"IF(W825=\"\",\"\",LOOKUP(W825,Hilfstabelle!$A$1:$A$286,Hilfstabelle!$B$1:$B$286))","v":""}]
[null,null,null,null,null,null,null,null,null,null,null,null,null,null,null,null,null,null,null,null,{"$f":"IF(W826=\"\",\"\",LOOKUP(W826,Hilfstabelle!$A$1:$A$286,Hilfstabelle!$B$1:$B$286))","v":""}]
[null,null,null,null,null,null,null,null,null,null,null,null,null,null,null,null,null,null,null,null,{"$f":"IF(W827=\"\",\"\",LOOKUP(W827,Hilfstabelle!$A$1:$A$286,Hilfstabelle!$B$1:$B$286))","v":""}]
[null,null,null,null,null,null,null,null,null,null,null,null,null,null,null,null,null,null,null,null,{"$f":"IF(W828=\"\",\"\",LOOKUP(W828,Hilfstabelle!$A$1:$A$286,Hilfstabelle!$B$1:$B$286))","v":""}]
[null,null,null,null,null,null,null,null,null,null,null,null,null,null,null,null,null,null,null,null,{"$f":"IF(W829=\"\",\"\",LOOKUP(W829,Hilfstabelle!$A$1:$A$286,Hilfstabelle!$B$1:$B$286))","v":""}]
[null,null,null,null,null,null,null,null,null,null,null,null,null,null,null,null,null,null,null,null,{"$f":"IF(W830=\"\",\"\",LOOKUP(W830,Hilfstabelle!$A$1:$A$286,Hilfstabelle!$B$1:$B$286))","v":""}]
[null,null,null,null,null,null,null,null,null,null,null,null,null,null,null,null,null,null,null,null,{"$f":"IF(W831=\"\",\"\",LOOKUP(W831,Hilfstabelle!$A$1:$A$286,Hilfstabelle!$B$1:$B$286))","v":""}]
[null,null,null,null,null,null,null,null,null,null,null,null,null,null,null,null,null,null,null,null,{"$f":"IF(W832=\"\",\"\",LOOKUP(W832,Hilfstabelle!$A$1:$A$286,Hilfstabelle!$B$1:$B$286))","v":""}]
[null,null,null,null,null,null,null,null,null,null,null,null,null,null,null,null,null,null,null,null,{"$f":"IF(W833=\"\",\"\",LOOKUP(W833,Hilfstabelle!$A$1:$A$286,Hilfstabelle!$B$1:$B$286))","v":""}]
[null,null,null,null,null,null,null,null,null,null,null,null,null,null,null,null,null,null,null,null,{"$f":"IF(W834=\"\",\"\",LOOKUP(W834,Hilfstabelle!$A$1:$A$286,Hilfstabelle!$B$1:$B$286))","v":""}]
[null,null,null,null,null,null,null,null,null,null,null,null,null,null,null,null,null,null,null,null,{"$f":"IF(W835=\"\",\"\",LOOKUP(W835,Hilfstabelle!$A$1:$A$286,Hilfstabelle!$B$1:$B$286))","v":""}]
[null,null,null,null,null,null,null,null,null,null,null,null,null,null,null,null,null,null,null,null,{"$f":"IF(W836=\"\",\"\",LOOKUP(W836,Hilfstabelle!$A$1:$A$286,Hilfstabelle!$B$1:$B$286))","v":""}]
[null,null,null,null,null,null,null,null,null,null,null,null,null,null,null,null,null,null,null,null,{"$f":"IF(W837=\"\",\"\",LOOKUP(W837,Hilfstabelle!$A$1:$A$286,Hilfstabelle!$B$1:$B$286))","v":""}]
[null,null,null,null,null,null,null,null,null,null,null,null,null,null,null,null,null,null,null,null,{"$f":"IF(W838=\"\",\"\",LOOKUP(W838,Hilfstabelle!$A$1:$A$286,Hilfstabelle!$B$1:$B$286))","v":""}]
[null,null,null,null,null,null,null,null,null,null,null,null,null,null,null,null,null,null,null,null,{"$f":"IF(W839=\"\",\"\",LOOKUP(W839,Hilfstabelle!$A$1:$A$286,Hilfstabelle!$B$1:$B$286))","v":""}]
[null,null,null,null,null,null,null,null,null,null,null,null,null,null,null,null,null,null,null,null,{"$f":"IF(W840=\"\",\"\",LOOKUP(W840,Hilfstabelle!$A$1:$A$286,Hilfstabelle!$B$1:$B$286))","v":""}]
[null,null,null,null,null,null,null,null,null,null,null,null,null,null,null,null,null,null,null,null,{"$f":"IF(W841=\"\",\"\",LOOKUP(W841,Hilfstabelle!$A$1:$A$286,Hilfstabelle!$B$1:$B$286))","v":""}]
[null,null,null,null,null,null,null,null,null,null,null,null,null,null,null,null,null,null,null,null,{"$f":"IF(W842=\"\",\"\",LOOKUP(W842,Hilfstabelle!$A$1:$A$286,Hilfstabelle!$B$1:$B$286))","v":""}]
[null,null,null,null,null,null,null,null,null,null,null,null,null,null,null,null,null,null,null,null,{"$f":"IF(W843=\"\",\"\",LOOKUP(W843,Hilfstabelle!$A$1:$A$286,Hilfstabelle!$B$1:$B$286))","v":""}]
[null,null,null,null,null,null,null,null,null,null,null,null,null,null,null,null,null,null,null,null,{"$f":"IF(W844=\"\",\"\",LOOKUP(W844,Hilfstabelle!$A$1:$A$286,Hilfstabelle!$B$1:$B$286))","v":""}]
[null,null,null,null,null,null,null,null,null,null,null,null,null,null,null,null,null,null,null,null,{"$f":"IF(W845=\"\",\"\",LOOKUP(W845,Hilfstabelle!$A$1:$A$286,Hilfstabelle!$B$1:$B$286))","v":""}]
[null,null,null,null,null,null,null,null,null,null,null,null,null,null,null,null,null,null,null,null,{"$f":"IF(W846=\"\",\"\",LOOKUP(W846,Hilfstabelle!$A$1:$A$286,Hilfstabelle!$B$1:$B$286))","v":""}]
[null,null,null,null,null,null,null,null,null,null,null,null,null,null,null,null,null,null,null,null,{"$f":"IF(W847=\"\",\"\",LOOKUP(W847,Hilfstabelle!$A$1:$A$286,Hilfstabelle!$B$1:$B$286))","v":""}]
[null,null,null,null,null,null,null,null,null,null,null,null,null,null,null,null,null,null,null,null,{"$f":"IF(W848=\"\",\"\",LOOKUP(W848,Hilfstabelle!$A$1:$A$286,Hilfstabelle!$B$1:$B$286))","v":""}]
[null,null,null,null,null,null,null,null,null,null,null,null,null,null,null,null,null,null,null,null,{"$f":"IF(W849=\"\",\"\",LOOKUP(W849,Hilfstabelle!$A$1:$A$286,Hilfstabelle!$B$1:$B$286))","v":""}]
[null,null,null,null,null,null,null,null,null,null,null,null,null,null,null,null,null,null,null,null,{"$f":"IF(W850=\"\",\"\",LOOKUP(W850,Hilfstabelle!$A$1:$A$286,Hilfstabelle!$B$1:$B$286))","v":""}]
[null,null,null,null,null,null,null,null,null,null,null,null,null,null,null,null,null,null,null,null,{"$f":"IF(W851=\"\",\"\",LOOKUP(W851,Hilfstabelle!$A$1:$A$286,Hilfstabelle!$B$1:$B$286))","v":""}]
[null,null,null,null,null,null,null,null,null,null,null,null,null,null,null,null,null,null,null,null,{"$f":"IF(W852=\"\",\"\",LOOKUP(W852,Hilfstabelle!$A$1:$A$286,Hilfstabelle!$B$1:$B$286))","v":""}]
[null,null,null,null,null,null,null,null,null,null,null,null,null,null,null,null,null,null,null,null,{"$f":"IF(W853=\"\",\"\",LOOKUP(W853,Hilfstabelle!$A$1:$A$286,Hilfstabelle!$B$1:$B$286))","v":""}]
[null,null,null,null,null,null,null,null,null,null,null,null,null,null,null,null,null,null,null,null,{"$f":"IF(W854=\"\",\"\",LOOKUP(W854,Hilfstabelle!$A$1:$A$286,Hilfstabelle!$B$1:$B$286))","v":""}]
[null,null,null,null,null,null,null,null,null,null,null,null,null,null,null,null,null,null,null,null,{"$f":"IF(W855=\"\",\"\",LOOKUP(W855,Hilfstabelle!$A$1:$A$286,Hilfstabelle!$B$1:$B$286))","v":""}]
[null,null,null,null,null,null,null,null,null,null,null,null,null,null,null,null,null,null,null,null,{"$f":"IF(W856=\"\",\"\",LOOKUP(W856,Hilfstabelle!$A$1:$A$286,Hilfstabelle!$B$1:$B$286))","v":""}]
[null,null,null,null,null,null,null,null,null,null,null,null,null,null,null,null,null,null,null,null,{"$f":"IF(W857=\"\",\"\",LOOKUP(W857,Hilfstabelle!$A$1:$A$286,Hilfstabelle!$B$1:$B$286))","v":""}]
[null,null,null,null,null,null,null,null,null,null,null,null,null,null,null,null,null,null,null,null,{"$f":"IF(W858=\"\",\"\",LOOKUP(W858,Hilfstabelle!$A$1:$A$286,Hilfstabelle!$B$1:$B$286))","v":""}]
[null,null,null,null,null,null,null,null,null,null,null,null,null,null,null,null,null,null,null,null,{"$f":"IF(W859=\"\",\"\",LOOKUP(W859,Hilfstabelle!$A$1:$A$286,Hilfstabelle!$B$1:$B$286))","v":""}]
[null,null,null,null,null,null,null,null,null,null,null,null,null,null,null,null,null,null,null,null,{"$f":"IF(W860=\"\",\"\",LOOKUP(W860,Hilfstabelle!$A$1:$A$286,Hilfstabelle!$B$1:$B$286))","v":""}]
[null,null,null,null,null,null,null,null,null,null,null,null,null,null,null,null,null,null,null,null,{"$f":"IF(W861=\"\",\"\",LOOKUP(W861,Hilfstabelle!$A$1:$A$286,Hilfstabelle!$B$1:$B$286))","v":""}]
[null,null,null,null,null,null,null,null,null,null,null,null,null,null,null,null,null,null,null,null,{"$f":"IF(W862=\"\",\"\",LOOKUP(W862,Hilfstabelle!$A$1:$A$286,Hilfstabelle!$B$1:$B$286))","v":""}]
[null,null,null,null,null,null,null,null,null,null,null,null,null,null,null,null,null,null,null,null,{"$f":"IF(W863=\"\",\"\",LOOKUP(W863,Hilfstabelle!$A$1:$A$286,Hilfstabelle!$B$1:$B$286))","v":""}]
[null,null,null,null,null,null,null,null,null,null,null,null,null,null,null,null,null,null,null,null,{"$f":"IF(W864=\"\",\"\",LOOKUP(W864,Hilfstabelle!$A$1:$A$286,Hilfstabelle!$B$1:$B$286))","v":""}]
[null,null,null,null,null,null,null,null,null,null,null,null,null,null,null,null,null,null,null,null,{"$f":"IF(W865=\"\",\"\",LOOKUP(W865,Hilfstabelle!$A$1:$A$286,Hilfstabelle!$B$1:$B$286))","v":""}]
[null,null,null,null,null,null,null,null,null,null,null,null,null,null,null,null,null,null,null,null,{"$f":"IF(W866=\"\",\"\",LOOKUP(W866,Hilfstabelle!$A$1:$A$286,Hilfstabelle!$B$1:$B$286))","v":""}]
[null,null,null,null,null,null,null,null,null,null,null,null,null,null,null,null,null,null,null,null,{"$f":"IF(W867=\"\",\"\",LOOKUP(W867,Hilfstabelle!$A$1:$A$286,Hilfstabelle!$B$1:$B$286))","v":""}]
[null,null,null,null,null,null,null,null,null,null,null,null,null,null,null,null,null,null,null,null,{"$f":"IF(W868=\"\",\"\",LOOKUP(W868,Hilfstabelle!$A$1:$A$286,Hilfstabelle!$B$1:$B$286))","v":""}]
[null,null,null,null,null,null,null,null,null,null,null,null,null,null,null,null,null,null,null,null,{"$f":"IF(W869=\"\",\"\",LOOKUP(W869,Hilfstabelle!$A$1:$A$286,Hilfstabelle!$B$1:$B$286))","v":""}]
[null,null,null,null,null,null,null,null,null,null,null,null,null,null,null,null,null,null,null,null,{"$f":"IF(W870=\"\",\"\",LOOKUP(W870,Hilfstabelle!$A$1:$A$286,Hilfstabelle!$B$1:$B$286))","v":""}]
[null,null,null,null,null,null,null,null,null,null,null,null,null,null,null,null,null,null,null,null,{"$f":"IF(W871=\"\",\"\",LOOKUP(W871,Hilfstabelle!$A$1:$A$286,Hilfstabelle!$B$1:$B$286))","v":""}]
[null,null,null,null,null,null,null,null,null,null,null,null,null,null,null,null,null,null,null,null,{"$f":"IF(W872=\"\",\"\",LOOKUP(W872,Hilfstabelle!$A$1:$A$286,Hilfstabelle!$B$1:$B$286))","v":""}]
[null,null,null,null,null,null,null,null,null,null,null,null,null,null,null,null,null,null,null,null,{"$f":"IF(W873=\"\",\"\",LOOKUP(W873,Hilfstabelle!$A$1:$A$286,Hilfstabelle!$B$1:$B$286))","v":""}]
[null,null,null,null,null,null,null,null,null,null,null,null,null,null,null,null,null,null,null,null,{"$f":"IF(W874=\"\",\"\",LOOKUP(W874,Hilfstabelle!$A$1:$A$286,Hilfstabelle!$B$1:$B$286))","v":""}]
[null,null,null,null,null,null,null,null,null,null,null,null,null,null,null,null,null,null,null,null,{"$f":"IF(W875=\"\",\"\",LOOKUP(W875,Hilfstabelle!$A$1:$A$286,Hilfstabelle!$B$1:$B$286))","v":""}]
[null,null,null,null,null,null,null,null,null,null,null,null,null,null,null,null,null,null,null,null,{"$f":"IF(W876=\"\",\"\",LOOKUP(W876,Hilfstabelle!$A$1:$A$286,Hilfstabelle!$B$1:$B$286))","v":""}]
[null,null,null,null,null,null,null,null,null,null,null,null,null,null,null,null,null,null,null,null,{"$f":"IF(W877=\"\",\"\",LOOKUP(W877,Hilfstabelle!$A$1:$A$286,Hilfstabelle!$B$1:$B$286))","v":""}]
[null,null,null,null,null,null,null,null,null,null,null,null,null,null,null,null,null,null,null,null,{"$f":"IF(W878=\"\",\"\",LOOKUP(W878,Hilfstabelle!$A$1:$A$286,Hilfstabelle!$B$1:$B$286))","v":""}]
[null,null,null,null,null,null,null,null,null,null,null,null,null,null,null,null,null,null,null,null,{"$f":"IF(W879=\"\",\"\",LOOKUP(W879,Hilfstabelle!$A$1:$A$286,Hilfstabelle!$B$1:$B$286))","v":""}]
[null,null,null,null,null,null,null,null,null,null,null,null,null,null,null,null,null,null,null,null,{"$f":"IF(W880=\"\",\"\",LOOKUP(W880,Hilfstabelle!$A$1:$A$286,Hilfstabelle!$B$1:$B$286))","v":""}]
[null,null,null,null,null,null,null,null,null,null,null,null,null,null,null,null,null,null,null,null,{"$f":"IF(W881=\"\",\"\",LOOKUP(W881,Hilfstabelle!$A$1:$A$286,Hilfstabelle!$B$1:$B$286))","v":""}]
[null,null,null,null,null,null,null,null,null,null,null,null,null,null,null,null,null,null,null,null,{"$f":"IF(W882=\"\",\"\",LOOKUP(W882,Hilfstabelle!$A$1:$A$286,Hilfstabelle!$B$1:$B$286))","v":""}]
[null,null,null,null,null,null,null,null,null,null,null,null,null,null,null,null,null,null,null,null,{"$f":"IF(W883=\"\",\"\",LOOKUP(W883,Hilfstabelle!$A$1:$A$286,Hilfstabelle!$B$1:$B$286))","v":""}]
[null,null,null,null,null,null,null,null,null,null,null,null,null,null,null,null,null,null,null,null,{"$f":"IF(W884=\"\",\"\",LOOKUP(W884,Hilfstabelle!$A$1:$A$286,Hilfstabelle!$B$1:$B$286))","v":""}]
[null,null,null,null,null,null,null,null,null,null,null,null,null,null,null,null,null,null,null,null,{"$f":"IF(W885=\"\",\"\",LOOKUP(W885,Hilfstabelle!$A$1:$A$286,Hilfstabelle!$B$1:$B$286))","v":""}]
[null,null,null,null,null,null,null,null,null,null,null,null,null,null,null,null,null,null,null,null,{"$f":"IF(W886=\"\",\"\",LOOKUP(W886,Hilfstabelle!$A$1:$A$286,Hilfstabelle!$B$1:$B$286))","v":""}]
[null,null,null,null,null,null,null,null,null,null,null,null,null,null,null,null,null,null,null,null,{"$f":"IF(W887=\"\",\"\",LOOKUP(W887,Hilfstabelle!$A$1:$A$286,Hilfstabelle!$B$1:$B$286))","v":""}]
[null,null,null,null,null,null,null,null,null,null,null,null,null,null,null,null,null,null,null,null,{"$f":"IF(W888=\"\",\"\",LOOKUP(W888,Hilfstabelle!$A$1:$A$286,Hilfstabelle!$B$1:$B$286))","v":""}]
[null,null,null,null,null,null,null,null,null,null,null,null,null,null,null,null,null,null,null,null,{"$f":"IF(W889=\"\",\"\",LOOKUP(W889,Hilfstabelle!$A$1:$A$286,Hilfstabelle!$B$1:$B$286))","v":""}]
[null,null,null,null,null,null,null,null,null,null,null,null,null,null,null,null,null,null,null,null,{"$f":"IF(W890=\"\",\"\",LOOKUP(W890,Hilfstabelle!$A$1:$A$286,Hilfstabelle!$B$1:$B$286))","v":""}]
[null,null,null,null,null,null,null,null,null,null,null,null,null,null,null,null,null,null,null,null,{"$f":"IF(W891=\"\",\"\",LOOKUP(W891,Hilfstabelle!$A$1:$A$286,Hilfstabelle!$B$1:$B$286))","v":""}]
[null,null,null,null,null,null,null,null,null,null,null,null,null,null,null,null,null,null,null,null,{"$f":"IF(W892=\"\",\"\",LOOKUP(W892,Hilfstabelle!$A$1:$A$286,Hilfstabelle!$B$1:$B$286))","v":""}]
[null,null,null,null,null,null,null,null,null,null,null,null,null,null,null,null,null,null,null,null,{"$f":"IF(W893=\"\",\"\",LOOKUP(W893,Hilfstabelle!$A$1:$A$286,Hilfstabelle!$B$1:$B$286))","v":""}]
[null,null,null,null,null,null,null,null,null,null,null,null,null,null,null,null,null,null,null,null,{"$f":"IF(W894=\"\",\"\",LOOKUP(W894,Hilfstabelle!$A$1:$A$286,Hilfstabelle!$B$1:$B$286))","v":""}]
[null,null,null,null,null,null,null,null,null,null,null,null,null,null,null,null,null,null,null,null,{"$f":"IF(W895=\"\",\"\",LOOKUP(W895,Hilfstabelle!$A$1:$A$286,Hilfstabelle!$B$1:$B$286))","v":""}]
[null,null,null,null,null,null,null,null,null,null,null,null,null,null,null,null,null,null,null,null,{"$f":"IF(W896=\"\",\"\",LOOKUP(W896,Hilfstabelle!$A$1:$A$286,Hilfstabelle!$B$1:$B$286))","v":""}]
[null,null,null,null,null,null,null,null,null,null,null,null,null,null,null,null,null,null,null,null,{"$f":"IF(W897=\"\",\"\",LOOKUP(W897,Hilfstabelle!$A$1:$A$286,Hilfstabelle!$B$1:$B$286))","v":""}]
[null,null,null,null,null,null,null,null,null,null,null,null,null,null,null,null,null,null,null,null,{"$f":"IF(W898=\"\",\"\",LOOKUP(W898,Hilfstabelle!$A$1:$A$286,Hilfstabelle!$B$1:$B$286))","v":""}]
[null,null,null,null,null,null,null,null,null,null,null,null,null,null,null,null,null,null,null,null,{"$f":"IF(W899=\"\",\"\",LOOKUP(W899,Hilfstabelle!$A$1:$A$286,Hilfstabelle!$B$1:$B$286))","v":""}]
[null,null,null,null,null,null,null,null,null,null,null,null,null,null,null,null,null,null,null,null,{"$f":"IF(W900=\"\",\"\",LOOKUP(W900,Hilfstabelle!$A$1:$A$286,Hilfstabelle!$B$1:$B$286))","v":""}]
[null,null,null,null,null,null,null,null,null,null,null,null,null,null,null,null,null,null,null,null,{"$f":"IF(W901=\"\",\"\",LOOKUP(W901,Hilfstabelle!$A$1:$A$286,Hilfstabelle!$B$1:$B$286))","v":""}]
[null,null,null,null,null,null,null,null,null,null,null,null,null,null,null,null,null,null,null,null,{"$f":"IF(W902=\"\",\"\",LOOKUP(W902,Hilfstabelle!$A$1:$A$286,Hilfstabelle!$B$1:$B$286))","v":""}]
[null,null,null,null,null,null,null,null,null,null,null,null,null,null,null,null,null,null,null,null,{"$f":"IF(W903=\"\",\"\",LOOKUP(W903,Hilfstabelle!$A$1:$A$286,Hilfstabelle!$B$1:$B$286))","v":""}]
[null,null,null,null,null,null,null,null,null,null,null,null,null,null,null,null,null,null,null,null,{"$f":"IF(W904=\"\",\"\",LOOKUP(W904,Hilfstabelle!$A$1:$A$286,Hilfstabelle!$B$1:$B$286))","v":""}]
[null,null,null,null,null,null,null,null,null,null,null,null,null,null,null,null,null,null,null,null,{"$f":"IF(W905=\"\",\"\",LOOKUP(W905,Hilfstabelle!$A$1:$A$286,Hilfstabelle!$B$1:$B$286))","v":""}]
[null,null,null,null,null,null,null,null,null,null,null,null,null,null,null,null,null,null,null,null,{"$f":"IF(W906=\"\",\"\",LOOKUP(W906,Hilfstabelle!$A$1:$A$286,Hilfstabelle!$B$1:$B$286))","v":""}]
[null,null,null,null,null,null,null,null,null,null,null,null,null,null,null,null,null,null,null,null,{"$f":"IF(W907=\"\",\"\",LOOKUP(W907,Hilfstabelle!$A$1:$A$286,Hilfstabelle!$B$1:$B$286))","v":""}]
[null,null,null,null,null,null,null,null,null,null,null,null,null,null,null,null,null,null,null,null,{"$f":"IF(W908=\"\",\"\",LOOKUP(W908,Hilfstabelle!$A$1:$A$286,Hilfstabelle!$B$1:$B$286))","v":""}]
[null,null,null,null,null,null,null,null,null,null,null,null,null,null,null,null,null,null,null,null,{"$f":"IF(W909=\"\",\"\",LOOKUP(W909,Hilfstabelle!$A$1:$A$286,Hilfstabelle!$B$1:$B$286))","v":""}]
[null,null,null,null,null,null,null,null,null,null,null,null,null,null,null,null,null,null,null,null,{"$f":"IF(W910=\"\",\"\",LOOKUP(W910,Hilfstabelle!$A$1:$A$286,Hilfstabelle!$B$1:$B$286))","v":""}]
[null,null,null,null,null,null,null,null,null,null,null,null,null,null,null,null,null,null,null,null,{"$f":"IF(W911=\"\",\"\",LOOKUP(W911,Hilfstabelle!$A$1:$A$286,Hilfstabelle!$B$1:$B$286))","v":""}]
[null,null,null,null,null,null,null,null,null,null,null,null,null,null,null,null,null,null,null,null,{"$f":"IF(W912=\"\",\"\",LOOKUP(W912,Hilfstabelle!$A$1:$A$286,Hilfstabelle!$B$1:$B$286))","v":""}]
[null,null,null,null,null,null,null,null,null,null,null,null,null,null,null,null,null,null,null,null,{"$f":"IF(W913=\"\",\"\",LOOKUP(W913,Hilfstabelle!$A$1:$A$286,Hilfstabelle!$B$1:$B$286))","v":""}]
[null,null,null,null,null,null,null,null,null,null,null,null,null,null,null,null,null,null,null,null,{"$f":"IF(W914=\"\",\"\",LOOKUP(W914,Hilfstabelle!$A$1:$A$286,Hilfstabelle!$B$1:$B$286))","v":""}]
[null,null,null,null,null,null,null,null,null,null,null,null,null,null,null,null,null,null,null,null,{"$f":"IF(W915=\"\",\"\",LOOKUP(W915,Hilfstabelle!$A$1:$A$286,Hilfstabelle!$B$1:$B$286))","v":""}]
[null,null,null,null,null,null,null,null,null,null,null,null,null,null,null,null,null,null,null,null,{"$f":"IF(W916=\"\",\"\",LOOKUP(W916,Hilfstabelle!$A$1:$A$286,Hilfstabelle!$B$1:$B$286))","v":""}]
[null,null,null,null,null,null,null,null,null,null,null,null,null,null,null,null,null,null,null,null,{"$f":"IF(W917=\"\",\"\",LOOKUP(W917,Hilfstabelle!$A$1:$A$286,Hilfstabelle!$B$1:$B$286))","v":""}]
[null,null,null,null,null,null,null,null,null,null,null,null,null,null,null,null,null,null,null,null,{"$f":"IF(W918=\"\",\"\",LOOKUP(W918,Hilfstabelle!$A$1:$A$286,Hilfstabelle!$B$1:$B$286))","v":""}]
[null,null,null,null,null,null,null,null,null,null,null,null,null,null,null,null,null,null,null,null,{"$f":"IF(W919=\"\",\"\",LOOKUP(W919,Hilfstabelle!$A$1:$A$286,Hilfstabelle!$B$1:$B$286))","v":""}]
[null,null,null,null,null,null,null,null,null,null,null,null,null,null,null,null,null,null,null,null,{"$f":"IF(W920=\"\",\"\",LOOKUP(W920,Hilfstabelle!$A$1:$A$286,Hilfstabelle!$B$1:$B$286))","v":""}]
[null,null,null,null,null,null,null,null,null,null,null,null,null,null,null,null,null,null,null,null,{"$f":"IF(W921=\"\",\"\",LOOKUP(W921,Hilfstabelle!$A$1:$A$286,Hilfstabelle!$B$1:$B$286))","v":""}]
[null,null,null,null,null,null,null,null,null,null,null,null,null,null,null,null,null,null,null,null,{"$f":"IF(W922=\"\",\"\",LOOKUP(W922,Hilfstabelle!$A$1:$A$286,Hilfstabelle!$B$1:$B$286))","v":""}]
[null,null,null,null,null,null,null,null,null,null,null,null,null,null,null,null,null,null,null,null,{"$f":"IF(W923=\"\",\"\",LOOKUP(W923,Hilfstabelle!$A$1:$A$286,Hilfstabelle!$B$1:$B$286))","v":""}]
[null,null,null,null,null,null,null,null,null,null,null,null,null,null,null,null,null,null,null,null,{"$f":"IF(W924=\"\",\"\",LOOKUP(W924,Hilfstabelle!$A$1:$A$286,Hilfstabelle!$B$1:$B$286))","v":""}]
[null,null,null,null,null,null,null,null,null,null,null,null,null,null,null,null,null,null,null,null,{"$f":"IF(W925=\"\",\"\",LOOKUP(W925,Hilfstabelle!$A$1:$A$286,Hilfstabelle!$B$1:$B$286))","v":""}]
[null,null,null,null,null,null,null,null,null,null,null,null,null,null,null,null,null,null,null,null,{"$f":"IF(W926=\"\",\"\",LOOKUP(W926,Hilfstabelle!$A$1:$A$286,Hilfstabelle!$B$1:$B$286))","v":""}]
[null,null,null,null,null,null,null,null,null,null,null,null,null,null,null,null,null,null,null,null,{"$f":"IF(W927=\"\",\"\",LOOKUP(W927,Hilfstabelle!$A$1:$A$286,Hilfstabelle!$B$1:$B$286))","v":""}]
[null,null,null,null,null,null,null,null,null,null,null,null,null,null,null,null,null,null,null,null,{"$f":"IF(W928=\"\",\"\",LOOKUP(W928,Hilfstabelle!$A$1:$A$286,Hilfstabelle!$B$1:$B$286))","v":""}]
[null,null,null,null,null,null,null,null,null,null,null,null,null,null,null,null,null,null,null,null,{"$f":"IF(W929=\"\",\"\",LOOKUP(W929,Hilfstabelle!$A$1:$A$286,Hilfstabelle!$B$1:$B$286))","v":""}]
[null,null,null,null,null,null,null,null,null,null,null,null,null,null,null,null,null,null,null,null,{"$f":"IF(W930=\"\",\"\",LOOKUP(W930,Hilfstabelle!$A$1:$A$286,Hilfstabelle!$B$1:$B$286))","v":""}]
[null,null,null,null,null,null,null,null,null,null,null,null,null,null,null,null,null,null,null,null,{"$f":"IF(W931=\"\",\"\",LOOKUP(W931,Hilfstabelle!$A$1:$A$286,Hilfstabelle!$B$1:$B$286))","v":""}]
[null,null,null,null,null,null,null,null,null,null,null,null,null,null,null,null,null,null,null,null,{"$f":"IF(W932=\"\",\"\",LOOKUP(W932,Hilfstabelle!$A$1:$A$286,Hilfstabelle!$B$1:$B$286))","v":""}]
[null,null,null,null,null,null,null,null,null,null,null,null,null,null,null,null,null,null,null,null,{"$f":"IF(W933=\"\",\"\",LOOKUP(W933,Hilfstabelle!$A$1:$A$286,Hilfstabelle!$B$1:$B$286))","v":""}]
[null,null,null,null,null,null,null,null,null,null,null,null,null,null,null,null,null,null,null,null,{"$f":"IF(W934=\"\",\"\",LOOKUP(W934,Hilfstabelle!$A$1:$A$286,Hilfstabelle!$B$1:$B$286))","v":""}]
[null,null,null,null,null,null,null,null,null,null,null,null,null,null,null,null,null,null,null,null,{"$f":"IF(W935=\"\",\"\",LOOKUP(W935,Hilfstabelle!$A$1:$A$286,Hilfstabelle!$B$1:$B$286))","v":""}]
[null,null,null,null,null,null,null,null,null,null,null,null,null,null,null,null,null,null,null,null,{"$f":"IF(W936=\"\",\"\",LOOKUP(W936,Hilfstabelle!$A$1:$A$286,Hilfstabelle!$B$1:$B$286))","v":""}]
[null,null,null,null,null,null,null,null,null,null,null,null,null,null,null,null,null,null,null,null,{"$f":"IF(W937=\"\",\"\",LOOKUP(W937,Hilfstabelle!$A$1:$A$286,Hilfstabelle!$B$1:$B$286))","v":""}]
[null,null,null,null,null,null,null,null,null,null,null,null,null,null,null,null,null,null,null,null,{"$f":"IF(W938=\"\",\"\",LOOKUP(W938,Hilfstabelle!$A$1:$A$286,Hilfstabelle!$B$1:$B$286))","v":""}]
[null,null,null,null,null,null,null,null,null,null,null,null,null,null,null,null,null,null,null,null,{"$f":"IF(W939=\"\",\"\",LOOKUP(W939,Hilfstabelle!$A$1:$A$286,Hilfstabelle!$B$1:$B$286))","v":""}]
[null,null,null,null,null,null,null,null,null,null,null,null,null,null,null,null,null,null,null,null,{"$f":"IF(W940=\"\",\"\",LOOKUP(W940,Hilfstabelle!$A$1:$A$286,Hilfstabelle!$B$1:$B$286))","v":""}]
[null,null,null,null,null,null,null,null,null,null,null,null,null,null,null,null,null,null,null,null,{"$f":"IF(W941=\"\",\"\",LOOKUP(W941,Hilfstabelle!$A$1:$A$286,Hilfstabelle!$B$1:$B$286))","v":""}]
[null,null,null,null,null,null,null,null,null,null,null,null,null,null,null,null,null,null,null,null,{"$f":"IF(W942=\"\",\"\",LOOKUP(W942,Hilfstabelle!$A$1:$A$286,Hilfstabelle!$B$1:$B$286))","v":""}]
[null,null,null,null,null,null,null,null,null,null,null,null,null,null,null,null,null,null,null,null,{"$f":"IF(W943=\"\",\"\",LOOKUP(W943,Hilfstabelle!$A$1:$A$286,Hilfstabelle!$B$1:$B$286))","v":""}]
[null,null,null,null,null,null,null,null,null,null,null,null,null,null,null,null,null,null,null,null,{"$f":"IF(W944=\"\",\"\",LOOKUP(W944,Hilfstabelle!$A$1:$A$286,Hilfstabelle!$B$1:$B$286))","v":""}]
[null,null,null,null,null,null,null,null,null,null,null,null,null,null,null,null,null,null,null,null,{"$f":"IF(W945=\"\",\"\",LOOKUP(W945,Hilfstabelle!$A$1:$A$286,Hilfstabelle!$B$1:$B$286))","v":""}]
[null,null,null,null,null,null,null,null,null,null,null,null,null,null,null,null,null,null,null,null,{"$f":"IF(W946=\"\",\"\",LOOKUP(W946,Hilfstabelle!$A$1:$A$286,Hilfstabelle!$B$1:$B$286))","v":""}]
[null,null,null,null,null,null,null,null,null,null,null,null,null,null,null,null,null,null,null,null,{"$f":"IF(W947=\"\",\"\",LOOKUP(W947,Hilfstabelle!$A$1:$A$286,Hilfstabelle!$B$1:$B$286))","v":""}]
[null,null,null,null,null,null,null,null,null,null,null,null,null,null,null,null,null,null,null,null,{"$f":"IF(W948=\"\",\"\",LOOKUP(W948,Hilfstabelle!$A$1:$A$286,Hilfstabelle!$B$1:$B$286))","v":""}]
[null,null,null,null,null,null,null,null,null,null,null,null,null,null,null,null,null,null,null,null,{"$f":"IF(W949=\"\",\"\",LOOKUP(W949,Hilfstabelle!$A$1:$A$286,Hilfstabelle!$B$1:$B$286))","v":""}]
[null,null,null,null,null,null,null,null,null,null,null,null,null,null,null,null,null,null,null,null,{"$f":"IF(W950=\"\",\"\",LOOKUP(W950,Hilfstabelle!$A$1:$A$286,Hilfstabelle!$B$1:$B$286))","v":""}]
[null,null,null,null,null,null,null,null,null,null,null,null,null,null,null,null,null,null,null,null,{"$f":"IF(W951=\"\",\"\",LOOKUP(W951,Hilfstabelle!$A$1:$A$286,Hilfstabelle!$B$1:$B$286))","v":""}]
[null,null,null,null,null,null,null,null,null,null,null,null,null,null,null,null,null,null,null,null,{"$f":"IF(W952=\"\",\"\",LOOKUP(W952,Hilfstabelle!$A$1:$A$286,Hilfstabelle!$B$1:$B$286))","v":""}]
[null,null,null,null,null,null,null,null,null,null,null,null,null,null,null,null,null,null,null,null,{"$f":"IF(W953=\"\",\"\",LOOKUP(W953,Hilfstabelle!$A$1:$A$286,Hilfstabelle!$B$1:$B$286))","v":""}]
[null,null,null,null,null,null,null,null,null,null,null,null,null,null,null,null,null,null,null,null,{"$f":"IF(W954=\"\",\"\",LOOKUP(W954,Hilfstabelle!$A$1:$A$286,Hilfstabelle!$B$1:$B$286))","v":""}]
[null,null,null,null,null,null,null,null,null,null,null,null,null,null,null,null,null,null,null,null,{"$f":"IF(W955=\"\",\"\",LOOKUP(W955,Hilfstabelle!$A$1:$A$286,Hilfstabelle!$B$1:$B$286))","v":""}]
[null,null,null,null,null,null,null,null,null,null,null,null,null,null,null,null,null,null,null,null,{"$f":"IF(W956=\"\",\"\",LOOKUP(W956,Hilfstabelle!$A$1:$A$286,Hilfstabelle!$B$1:$B$286))","v":""}]
[null,null,null,null,null,null,null,null,null,null,null,null,null,null,null,null,null,null,null,null,{"$f":"IF(W957=\"\",\"\",LOOKUP(W957,Hilfstabelle!$A$1:$A$286,Hilfstabelle!$B$1:$B$286))","v":""}]
[null,null,null,null,null,null,null,null,null,null,null,null,null,null,null,null,null,null,null,null,{"$f":"IF(W958=\"\",\"\",LOOKUP(W958,Hilfstabelle!$A$1:$A$286,Hilfstabelle!$B$1:$B$286))","v":""}]
[null,null,null,null,null,null,null,null,null,null,null,null,null,null,null,null,null,null,null,null,{"$f":"IF(W959=\"\",\"\",LOOKUP(W959,Hilfstabelle!$A$1:$A$286,Hilfstabelle!$B$1:$B$286))","v":""}]
[null,null,null,null,null,null,null,null,null,null,null,null,null,null,null,null,null,null,null,null,{"$f":"IF(W960=\"\",\"\",LOOKUP(W960,Hilfstabelle!$A$1:$A$286,Hilfstabelle!$B$1:$B$286))","v":""}]
[null,null,null,null,null,null,null,null,null,null,null,null,null,null,null,null,null,null,null,null,{"$f":"IF(W961=\"\",\"\",LOOKUP(W961,Hilfstabelle!$A$1:$A$286,Hilfstabelle!$B$1:$B$286))","v":""}]
[null,null,null,null,null,null,null,null,null,null,null,null,null,null,null,null,null,null,null,null,{"$f":"IF(W962=\"\",\"\",LOOKUP(W962,Hilfstabelle!$A$1:$A$286,Hilfstabelle!$B$1:$B$286))","v":""}]
[null,null,null,null,null,null,null,null,null,null,null,null,null,null,null,null,null,null,null,null,{"$f":"IF(W963=\"\",\"\",LOOKUP(W963,Hilfstabelle!$A$1:$A$286,Hilfstabelle!$B$1:$B$286))","v":""}]
[null,null,null,null,null,null,null,null,null,null,null,null,null,null,null,null,null,null,null,null,{"$f":"IF(W964=\"\",\"\",LOOKUP(W964,Hilfstabelle!$A$1:$A$286,Hilfstabelle!$B$1:$B$286))","v":""}]
[null,null,null,null,null,null,null,null,null,null,null,null,null,null,null,null,null,null,null,null,{"$f":"IF(W965=\"\",\"\",LOOKUP(W965,Hilfstabelle!$A$1:$A$286,Hilfstabelle!$B$1:$B$286))","v":""}]
[null,null,null,null,null,null,null,null,null,null,null,null,null,null,null,null,null,null,null,null,{"$f":"IF(W966=\"\",\"\",LOOKUP(W966,Hilfstabelle!$A$1:$A$286,Hilfstabelle!$B$1:$B$286))","v":""}]
[null,null,null,null,null,null,null,null,null,null,null,null,null,null,null,null,null,null,null,null,{"$f":"IF(W967=\"\",\"\",LOOKUP(W967,Hilfstabelle!$A$1:$A$286,Hilfstabelle!$B$1:$B$286))","v":""}]
[null,null,null,null,null,null,null,null,null,null,null,null,null,null,null,null,null,null,null,null,{"$f":"IF(W968=\"\",\"\",LOOKUP(W968,Hilfstabelle!$A$1:$A$286,Hilfstabelle!$B$1:$B$286))","v":""}]
[null,null,null,null,null,null,null,null,null,null,null,null,null,null,null,null,null,null,null,null,{"$f":"IF(W969=\"\",\"\",LOOKUP(W969,Hilfstabelle!$A$1:$A$286,Hilfstabelle!$B$1:$B$286))","v":""}]
[null,null,null,null,null,null,null,null,null,null,null,null,null,null,null,null,null,null,null,null,{"$f":"IF(W970=\"\",\"\",LOOKUP(W970,Hilfstabelle!$A$1:$A$286,Hilfstabelle!$B$1:$B$286))","v":""}]
[null,null,null,null,null,null,null,null,null,null,null,null,null,null,null,null,null,null,null,null,{"$f":"IF(W971=\"\",\"\",LOOKUP(W971,Hilfstabelle!$A$1:$A$286,Hilfstabelle!$B$1:$B$286))","v":""}]
[null,null,null,null,null,null,null,null,null,null,null,null,null,null,null,null,null,null,null,null,{"$f":"IF(W972=\"\",\"\",LOOKUP(W972,Hilfstabelle!$A$1:$A$286,Hilfstabelle!$B$1:$B$286))","v":""}]
[null,null,null,null,null,null,null,null,null,null,null,null,null,null,null,null,null,null,null,null,{"$f":"IF(W973=\"\",\"\",LOOKUP(W973,Hilfstabelle!$A$1:$A$286,Hilfstabelle!$B$1:$B$286))","v":""}]
[null,null,null,null,null,null,null,null,null,null,null,null,null,null,null,null,null,null,null,null,{"$f":"IF(W974=\"\",\"\",LOOKUP(W974,Hilfstabelle!$A$1:$A$286,Hilfstabelle!$B$1:$B$286))","v":""}]
[null,null,null,null,null,null,null,null,null,null,null,null,null,null,null,null,null,null,null,null,{"$f":"IF(W975=\"\",\"\",LOOKUP(W975,Hilfstabelle!$A$1:$A$286,Hilfstabelle!$B$1:$B$286))","v":""}]
[null,null,null,null,null,null,null,null,null,null,null,null,null,null,null,null,null,null,null,null,{"$f":"IF(W976=\"\",\"\",LOOKUP(W976,Hilfstabelle!$A$1:$A$286,Hilfstabelle!$B$1:$B$286))","v":""}]
[null,null,null,null,null,null,null,null,null,null,null,null,null,null,null,null,null,null,null,null,{"$f":"IF(W977=\"\",\"\",LOOKUP(W977,Hilfstabelle!$A$1:$A$286,Hilfstabelle!$B$1:$B$286))","v":""}]
[null,null,null,null,null,null,null,null,null,null,null,null,null,null,null,null,null,null,null,null,{"$f":"IF(W978=\"\",\"\",LOOKUP(W978,Hilfstabelle!$A$1:$A$286,Hilfstabelle!$B$1:$B$286))","v":""}]
[null,null,null,null,null,null,null,null,null,null,null,null,null,null,null,null,null,null,null,null,{"$f":"IF(W979=\"\",\"\",LOOKUP(W979,Hilfstabelle!$A$1:$A$286,Hilfstabelle!$B$1:$B$286))","v":""}]
[null,null,null,null,null,null,null,null,null,null,null,null,null,null,null,null,null,null,null,null,{"$f":"IF(W980=\"\",\"\",LOOKUP(W980,Hilfstabelle!$A$1:$A$286,Hilfstabelle!$B$1:$B$286))","v":""}]
[null,null,null,null,null,null,null,null,null,null,null,null,null,null,null,null,null,null,null,null,{"$f":"IF(W981=\"\",\"\",LOOKUP(W981,Hilfstabelle!$A$1:$A$286,Hilfstabelle!$B$1:$B$286))","v":""}]
[null,null,null,null,null,null,null,null,null,null,null,null,null,null,null,null,null,null,null,null,{"$f":"IF(W982=\"\",\"\",LOOKUP(W982,Hilfstabelle!$A$1:$A$286,Hilfstabelle!$B$1:$B$286))","v":""}]
[null,null,null,null,null,null,null,null,null,null,null,null,null,null,null,null,null,null,null,null,{"$f":"IF(W983=\"\",\"\",LOOKUP(W983,Hilfstabelle!$A$1:$A$286,Hilfstabelle!$B$1:$B$286))","v":""}]
[null,null,null,null,null,null,null,null,null,null,null,null,null,null,null,null,null,null,null,null,{"$f":"IF(W984=\"\",\"\",LOOKUP(W984,Hilfstabelle!$A$1:$A$286,Hilfstabelle!$B$1:$B$286))","v":""}]
[null,null,null,null,null,null,null,null,null,null,null,null,null,null,null,null,null,null,null,null,{"$f":"IF(W985=\"\",\"\",LOOKUP(W985,Hilfstabelle!$A$1:$A$286,Hilfstabelle!$B$1:$B$286))","v":""}]
[null,null,null,null,null,null,null,null,null,null,null,null,null,null,null,null,null,null,null,null,{"$f":"IF(W986=\"\",\"\",LOOKUP(W986,Hilfstabelle!$A$1:$A$286,Hilfstabelle!$B$1:$B$286))","v":""}]
[null,null,null,null,null,null,null,null,null,null,null,null,null,null,null,null,null,null,null,null,{"$f":"IF(W987=\"\",\"\",LOOKUP(W987,Hilfstabelle!$A$1:$A$286,Hilfstabelle!$B$1:$B$286))","v":""}]
[null,null,null,null,null,null,null,null,null,null,null,null,null,null,null,null,null,null,null,null,{"$f":"IF(W988=\"\",\"\",LOOKUP(W988,Hilfstabelle!$A$1:$A$286,Hilfstabelle!$B$1:$B$286))","v":""}]
[null,null,null,null,null,null,null,null,null,null,null,null,null,null,null,null,null,null,null,null,{"$f":"IF(W989=\"\",\"\",LOOKUP(W989,Hilfstabelle!$A$1:$A$286,Hilfstabelle!$B$1:$B$286))","v":""}]
[null,null,null,null,null,null,null,null,null,null,null,null,null,null,null,null,null,null,null,null,{"$f":"IF(W990=\"\",\"\",LOOKUP(W990,Hilfstabelle!$A$1:$A$286,Hilfstabelle!$B$1:$B$286))","v":""}]
[null,null,null,null,null,null,null,null,null,null,null,null,null,null,null,null,null,null,null,null,{"$f":"IF(W991=\"\",\"\",LOOKUP(W991,Hilfstabelle!$A$1:$A$286,Hilfstabelle!$B$1:$B$286))","v":""}]
[null,null,null,null,null,null,null,null,null,null,null,null,null,null,null,null,null,null,null,null,{"$f":"IF(W992=\"\",\"\",LOOKUP(W992,Hilfstabelle!$A$1:$A$286,Hilfstabelle!$B$1:$B$286))","v":""}]
[null,null,null,null,null,null,null,null,null,null,null,null,null,null,null,null,null,null,null,null,{"$f":"IF(W993=\"\",\"\",LOOKUP(W993,Hilfstabelle!$A$1:$A$286,Hilfstabelle!$B$1:$B$286))","v":""}]
[null,null,null,null,null,null,null,null,null,null,null,null,null,null,null,null,null,null,null,null,{"$f":"IF(W994=\"\",\"\",LOOKUP(W994,Hilfstabelle!$A$1:$A$286,Hilfstabelle!$B$1:$B$286))","v":""}]
[null,null,null,null,null,null,null,null,null,null,null,null,null,null,null,null,null,null,null,null,{"$f":"IF(W995=\"\",\"\",LOOKUP(W995,Hilfstabelle!$A$1:$A$286,Hilfstabelle!$B$1:$B$286))","v":""}]
[null,null,null,null,null,null,null,null,null,null,null,null,null,null,null,null,null,null,null,null,{"$f":"IF(W996=\"\",\"\",LOOKUP(W996,Hilfstabelle!$A$1:$A$286,Hilfstabelle!$B$1:$B$286))","v":""}]
[null,null,null,null,null,null,null,null,null,null,null,null,null,null,null,null,null,null,null,null,{"$f":"IF(W997=\"\",\"\",LOOKUP(W997,Hilfstabelle!$A$1:$A$286,Hilfstabelle!$B$1:$B$286))","v":""}]
[null,null,null,null,null,null,null,null,null,null,null,null,null,null,null,null,null,null,null,null,{"$f":"IF(W998=\"\",\"\",LOOKUP(W998,Hilfstabelle!$A$1:$A$286,Hilfstabelle!$B$1:$B$286))","v":""}]
[null,null,null,null,null,null,null,null,null,null,null,null,null,null,null,null,null,null,null,null,{"$f":"IF(W999=\"\",\"\",LOOKUP(W999,Hilfstabelle!$A$1:$A$286,Hilfstabelle!$B$1:$B$286))","v":""}]
[null,null,null,null,null,null,null,null,null,null,null,null,null,null,null,null,null,null,null,null,{"$f":"IF(W1000=\"\",\"\",LOOKUP(W1000,Hilfstabelle!$A$1:$A$286,Hilfstabelle!$B$1:$B$286))","v":""}]
[null,null,null,null,null,null,null,null,null,null,null,null,null,null,null,null,null,null,null,null,{"$f":"IF(W1001=\"\",\"\",LOOKUP(W1001,Hilfstabelle!$A$1:$A$286,Hilfstabelle!$B$1:$B$286))","v":""}]
[null,null,null,null,null,null,null,null,null,null,null,null,null,null,null,null,null,null,null,null,{"$f":"IF(W1002=\"\",\"\",LOOKUP(W1002,Hilfstabelle!$A$1:$A$286,Hilfstabelle!$B$1:$B$286))","v":""}]
[null,null,null,null,null,null,null,null,null,null,null,null,null,null,null,null,null,null,null,null,{"$f":"IF(W1003=\"\",\"\",LOOKUP(W1003,Hilfstabelle!$A$1:$A$286,Hilfstabelle!$B$1:$B$286))","v":""}]
[null,null,null,null,null,null,null,null,null,null,null,null,null,null,null,null,null,null,null,null,{"$f":"IF(W1004=\"\",\"\",LOOKUP(W1004,Hilfstabelle!$A$1:$A$286,Hilfstabelle!$B$1:$B$286))","v":""}]
[null,null,null,null,null,null,null,null,null,null,null,null,null,null,null,null,null,null,null,null,{"$f":"IF(W1005=\"\",\"\",LOOKUP(W1005,Hilfstabelle!$A$1:$A$286,Hilfstabelle!$B$1:$B$286))","v":""}]
[null,null,null,null,null,null,null,null,null,null,null,null,null,null,null,null,null,null,null,null,{"$f":"IF(W1006=\"\",\"\",LOOKUP(W1006,Hilfstabelle!$A$1:$A$286,Hilfstabelle!$B$1:$B$286))","v":""}]
[null,null,null,null,null,null,null,null,null,null,null,null,null,null,null,null,null,null,null,null,{"$f":"IF(W1007=\"\",\"\",LOOKUP(W1007,Hilfstabelle!$A$1:$A$286,Hilfstabelle!$B$1:$B$286))","v":""}]
[null,null,null,null,null,null,null,null,null,null,null,null,null,null,null,null,null,null,null,null,{"$f":"IF(W1008=\"\",\"\",LOOKUP(W1008,Hilfstabelle!$A$1:$A$286,Hilfstabelle!$B$1:$B$286))","v":""}]
[null,null,null,null,null,null,null,null,null,null,null,null,null,null,null,null,null,null,null,null,{"$f":"IF(W1009=\"\",\"\",LOOKUP(W1009,Hilfstabelle!$A$1:$A$286,Hilfstabelle!$B$1:$B$286))","v":""}]
[null,null,null,null,null,null,null,null,null,null,null,null,null,null,null,null,null,null,null,null,{"$f":"IF(W1010=\"\",\"\",LOOKUP(W1010,Hilfstabelle!$A$1:$A$286,Hilfstabelle!$B$1:$B$286))","v":""}]
[null,null,null,null,null,null,null,null,null,null,null,null,null,null,null,null,null,null,null,null,{"$f":"IF(W1011=\"\",\"\",LOOKUP(W1011,Hilfstabelle!$A$1:$A$286,Hilfstabelle!$B$1:$B$286))","v":""}]
[null,null,null,null,null,null,null,null,null,null,null,null,null,null,null,null,null,null,null,null,{"$f":"IF(W1012=\"\",\"\",LOOKUP(W1012,Hilfstabelle!$A$1:$A$286,Hilfstabelle!$B$1:$B$286))","v":""}]
[null,null,null,null,null,null,null,null,null,null,null,null,null,null,null,null,null,null,null,null,{"$f":"IF(W1013=\"\",\"\",LOOKUP(W1013,Hilfstabelle!$A$1:$A$286,Hilfstabelle!$B$1:$B$286))","v":""}]
[null,null,null,null,null,null,null,null,null,null,null,null,null,null,null,null,null,null,null,null,{"$f":"IF(W1014=\"\",\"\",LOOKUP(W1014,Hilfstabelle!$A$1:$A$286,Hilfstabelle!$B$1:$B$286))","v":""}]
[null,null,null,null,null,null,null,null,null,null,null,null,null,null,null,null,null,null,null,null,{"$f":"IF(W1015=\"\",\"\",LOOKUP(W1015,Hilfstabelle!$A$1:$A$286,Hilfstabelle!$B$1:$B$286))","v":""}]
[null,null,null,null,null,null,null,null,null,null,null,null,null,null,null,null,null,null,null,null,{"$f":"IF(W1016=\"\",\"\",LOOKUP(W1016,Hilfstabelle!$A$1:$A$286,Hilfstabelle!$B$1:$B$286))","v":""}]
[null,null,null,null,null,null,null,null,null,null,null,null,null,null,null,null,null,null,null,null,{"$f":"IF(W1017=\"\",\"\",LOOKUP(W1017,Hilfstabelle!$A$1:$A$286,Hilfstabelle!$B$1:$B$286))","v":""}]
[null,null,null,null,null,null,null,null,null,null,null,null,null,null,null,null,null,null,null,null,{"$f":"IF(W1018=\"\",\"\",LOOKUP(W1018,Hilfstabelle!$A$1:$A$286,Hilfstabelle!$B$1:$B$286))","v":""}]
[null,null,null,null,null,null,null,null,null,null,null,null,null,null,null,null,null,null,null,null,{"$f":"IF(W1019=\"\",\"\",LOOKUP(W1019,Hilfstabelle!$A$1:$A$286,Hilfstabelle!$B$1:$B$286))","v":""}]
[null,null,null,null,null,null,null,null,null,null,null,null,null,null,null,null,null,null,null,null,{"$f":"IF(W1020=\"\",\"\",LOOKUP(W1020,Hilfstabelle!$A$1:$A$286,Hilfstabelle!$B$1:$B$286))","v":""}]
[null,null,null,null,null,null,null,null,null,null,null,null,null,null,null,null,null,null,null,null,{"$f":"IF(W1021=\"\",\"\",LOOKUP(W1021,Hilfstabelle!$A$1:$A$286,Hilfstabelle!$B$1:$B$286))","v":""}]
[null,null,null,null,null,null,null,null,null,null,null,null,null,null,null,null,null,null,null,null,{"$f":"IF(W1022=\"\",\"\",LOOKUP(W1022,Hilfstabelle!$A$1:$A$286,Hilfstabelle!$B$1:$B$286))","v":""}]
[null,null,null,null,null,null,null,null,null,null,null,null,null,null,null,null,null,null,null,null,{"$f":"IF(W1023=\"\",\"\",LOOKUP(W1023,Hilfstabelle!$A$1:$A$286,Hilfstabelle!$B$1:$B$286))","v":""}]
[null,null,null,null,null,null,null,null,null,null,null,null,null,null,null,null,null,null,null,null,{"$f":"IF(W1024=\"\",\"\",LOOKUP(W1024,Hilfstabelle!$A$1:$A$286,Hilfstabelle!$B$1:$B$286))","v":""}]
[null,null,null,null,null,null,null,null,null,null,null,null,null,null,null,null,null,null,null,null,{"$f":"IF(W1025=\"\",\"\",LOOKUP(W1025,Hilfstabelle!$A$1:$A$286,Hilfstabelle!$B$1:$B$286))","v":""}]
[null,null,null,null,null,null,null,null,null,null,null,null,null,null,null,null,null,null,null,null,{"$f":"IF(W1026=\"\",\"\",LOOKUP(W1026,Hilfstabelle!$A$1:$A$286,Hilfstabelle!$B$1:$B$286))","v":""}]
[null,null,null,null,null,null,null,null,null,null,null,null,null,null,null,null,null,null,null,null,{"$f":"IF(W1027=\"\",\"\",LOOKUP(W1027,Hilfstabelle!$A$1:$A$286,Hilfstabelle!$B$1:$B$286))","v":""}]
[null,null,null,null,null,null,null,null,null,null,null,null,null,null,null,null,null,null,null,null,{"$f":"IF(W1028=\"\",\"\",LOOKUP(W1028,Hilfstabelle!$A$1:$A$286,Hilfstabelle!$B$1:$B$286))","v":""}]
[null,null,null,null,null,null,null,null,null,null,null,null,null,null,null,null,null,null,null,null,{"$f":"IF(W1029=\"\",\"\",LOOKUP(W1029,Hilfstabelle!$A$1:$A$286,Hilfstabelle!$B$1:$B$286))","v":""}]
[null,null,null,null,null,null,null,null,null,null,null,null,null,null,null,null,null,null,null,null,{"$f":"IF(W1030=\"\",\"\",LOOKUP(W1030,Hilfstabelle!$A$1:$A$286,Hilfstabelle!$B$1:$B$286))","v":""}]
[null,null,null,null,null,null,null,null,null,null,null,null,null,null,null,null,null,null,null,null,{"$f":"IF(W1031=\"\",\"\",LOOKUP(W1031,Hilfstabelle!$A$1:$A$286,Hilfstabelle!$B$1:$B$286))","v":""}]
[null,null,null,null,null,null,null,null,null,null,null,null,null,null,null,null,null,null,null,null,{"$f":"IF(W1032=\"\",\"\",LOOKUP(W1032,Hilfstabelle!$A$1:$A$286,Hilfstabelle!$B$1:$B$286))","v":""}]
[null,null,null,null,null,null,null,null,null,null,null,null,null,null,null,null,null,null,null,null,{"$f":"IF(W1033=\"\",\"\",LOOKUP(W1033,Hilfstabelle!$A$1:$A$286,Hilfstabelle!$B$1:$B$286))","v":""}]
[null,null,null,null,null,null,null,null,null,null,null,null,null,null,null,null,null,null,null,null,{"$f":"IF(W1034=\"\",\"\",LOOKUP(W1034,Hilfstabelle!$A$1:$A$286,Hilfstabelle!$B$1:$B$286))","v":""}]
[null,null,null,null,null,null,null,null,null,null,null,null,null,null,null,null,null,null,null,null,{"$f":"IF(W1035=\"\",\"\",LOOKUP(W1035,Hilfstabelle!$A$1:$A$286,Hilfstabelle!$B$1:$B$286))","v":""}]
[null,null,null,null,null,null,null,null,null,null,null,null,null,null,null,null,null,null,null,null,{"$f":"IF(W1036=\"\",\"\",LOOKUP(W1036,Hilfstabelle!$A$1:$A$286,Hilfstabelle!$B$1:$B$286))","v":""}]
[null,null,null,null,null,null,null,null,null,null,null,null,null,null,null,null,null,null,null,null,{"$f":"IF(W1037=\"\",\"\",LOOKUP(W1037,Hilfstabelle!$A$1:$A$286,Hilfstabelle!$B$1:$B$286))","v":""}]
[null,null,null,null,null,null,null,null,null,null,null,null,null,null,null,null,null,null,null,null,{"$f":"IF(W1038=\"\",\"\",LOOKUP(W1038,Hilfstabelle!$A$1:$A$286,Hilfstabelle!$B$1:$B$286))","v":""}]
[null,null,null,null,null,null,null,null,null,null,null,null,null,null,null,null,null,null,null,null,{"$f":"IF(W1039=\"\",\"\",LOOKUP(W1039,Hilfstabelle!$A$1:$A$286,Hilfstabelle!$B$1:$B$286))","v":""}]
[null,null,null,null,null,null,null,null,null,null,null,null,null,null,null,null,null,null,null,null,{"$f":"IF(W1040=\"\",\"\",LOOKUP(W1040,Hilfstabelle!$A$1:$A$286,Hilfstabelle!$B$1:$B$286))","v":""}]
[null,null,null,null,null,null,null,null,null,null,null,null,null,null,null,null,null,null,null,null,{"$f":"IF(W1041=\"\",\"\",LOOKUP(W1041,Hilfstabelle!$A$1:$A$286,Hilfstabelle!$B$1:$B$286))","v":""}]
[null,null,null,null,null,null,null,null,null,null,null,null,null,null,null,null,null,null,null,null,{"$f":"IF(W1042=\"\",\"\",LOOKUP(W1042,Hilfstabelle!$A$1:$A$286,Hilfstabelle!$B$1:$B$286))","v":""}]
[null,null,null,null,null,null,null,null,null,null,null,null,null,null,null,null,null,null,null,null,{"$f":"IF(W1043=\"\",\"\",LOOKUP(W1043,Hilfstabelle!$A$1:$A$286,Hilfstabelle!$B$1:$B$286))","v":""}]
[null,null,null,null,null,null,null,null,null,null,null,null,null,null,null,null,null,null,null,null,{"$f":"IF(W1044=\"\",\"\",LOOKUP(W1044,Hilfstabelle!$A$1:$A$286,Hilfstabelle!$B$1:$B$286))","v":""}]
[null,null,null,null,null,null,null,null,null,null,null,null,null,null,null,null,null,null,null,null,{"$f":"IF(W1045=\"\",\"\",LOOKUP(W1045,Hilfstabelle!$A$1:$A$286,Hilfstabelle!$B$1:$B$286))","v":""}]
[null,null,null,null,null,null,null,null,null,null,null,null,null,null,null,null,null,null,null,null,{"$f":"IF(W1046=\"\",\"\",LOOKUP(W1046,Hilfstabelle!$A$1:$A$286,Hilfstabelle!$B$1:$B$286))","v":""}]
[null,null,null,null,null,null,null,null,null,null,null,null,null,null,null,null,null,null,null,null,{"$f":"IF(W1047=\"\",\"\",LOOKUP(W1047,Hilfstabelle!$A$1:$A$286,Hilfstabelle!$B$1:$B$286))","v":""}]
[null,null,null,null,null,null,null,null,null,null,null,null,null,null,null,null,null,null,null,null,{"$f":"IF(W1048=\"\",\"\",LOOKUP(W1048,Hilfstabelle!$A$1:$A$286,Hilfstabelle!$B$1:$B$286))","v":""}]
[null,null,null,null,null,null,null,null,null,null,null,null,null,null,null,null,null,null,null,null,{"$f":"IF(W1049=\"\",\"\",LOOKUP(W1049,Hilfstabelle!$A$1:$A$286,Hilfstabelle!$B$1:$B$286))","v":""}]
[null,null,null,null,null,null,null,null,null,null,null,null,null,null,null,null,null,null,null,null,{"$f":"IF(W1050=\"\",\"\",LOOKUP(W1050,Hilfstabelle!$A$1:$A$286,Hilfstabelle!$B$1:$B$286))","v":""}]
[null,null,null,null,null,null,null,null,null,null,null,null,null,null,null,null,null,null,null,null,{"$f":"IF(W1051=\"\",\"\",LOOKUP(W1051,Hilfstabelle!$A$1:$A$286,Hilfstabelle!$B$1:$B$286))","v":""}]
[null,null,null,null,null,null,null,null,null,null,null,null,null,null,null,null,null,null,null,null,{"$f":"IF(W1052=\"\",\"\",LOOKUP(W1052,Hilfstabelle!$A$1:$A$286,Hilfstabelle!$B$1:$B$286))","v":""}]
[null,null,null,null,null,null,null,null,null,null,null,null,null,null,null,null,null,null,null,null,{"$f":"IF(W1053=\"\",\"\",LOOKUP(W1053,Hilfstabelle!$A$1:$A$286,Hilfstabelle!$B$1:$B$286))","v":""}]
[null,null,null,null,null,null,null,null,null,null,null,null,null,null,null,null,null,null,null,null,{"$f":"IF(W1054=\"\",\"\",LOOKUP(W1054,Hilfstabelle!$A$1:$A$286,Hilfstabelle!$B$1:$B$286))","v":""}]
[null,null,null,null,null,null,null,null,null,null,null,null,null,null,null,null,null,null,null,null,{"$f":"IF(W1055=\"\",\"\",LOOKUP(W1055,Hilfstabelle!$A$1:$A$286,Hilfstabelle!$B$1:$B$286))","v":""}]
[null,null,null,null,null,null,null,null,null,null,null,null,null,null,null,null,null,null,null,null,{"$f":"IF(W1056=\"\",\"\",LOOKUP(W1056,Hilfstabelle!$A$1:$A$286,Hilfstabelle!$B$1:$B$286))","v":""}]
[null,null,null,null,null,null,null,null,null,null,null,null,null,null,null,null,null,null,null,null,{"$f":"IF(W1057=\"\",\"\",LOOKUP(W1057,Hilfstabelle!$A$1:$A$286,Hilfstabelle!$B$1:$B$286))","v":""}]
[null,null,null,null,null,null,null,null,null,null,null,null,null,null,null,null,null,null,null,null,{"$f":"IF(W1058=\"\",\"\",LOOKUP(W1058,Hilfstabelle!$A$1:$A$286,Hilfstabelle!$B$1:$B$286))","v":""}]
[null,null,null,null,null,null,null,null,null,null,null,null,null,null,null,null,null,null,null,null,{"$f":"IF(W1059=\"\",\"\",LOOKUP(W1059,Hilfstabelle!$A$1:$A$286,Hilfstabelle!$B$1:$B$286))","v":""}]
[null,null,null,null,null,null,null,null,null,null,null,null,null,null,null,null,null,null,null,null,{"$f":"IF(W1060=\"\",\"\",LOOKUP(W1060,Hilfstabelle!$A$1:$A$286,Hilfstabelle!$B$1:$B$286))","v":""}]
[null,null,null,null,null,null,null,null,null,null,null,null,null,null,null,null,null,null,null,null,{"$f":"IF(W1061=\"\",\"\",LOOKUP(W1061,Hilfstabelle!$A$1:$A$286,Hilfstabelle!$B$1:$B$286))","v":""}]
[null,null,null,null,null,null,null,null,null,null,null,null,null,null,null,null,null,null,null,null,{"$f":"IF(W1062=\"\",\"\",LOOKUP(W1062,Hilfstabelle!$A$1:$A$286,Hilfstabelle!$B$1:$B$286))","v":""}]
[null,null,null,null,null,null,null,null,null,null,null,null,null,null,null,null,null,null,null,null,{"$f":"IF(W1063=\"\",\"\",LOOKUP(W1063,Hilfstabelle!$A$1:$A$286,Hilfstabelle!$B$1:$B$286))","v":""}]
[null,null,null,null,null,null,null,null,null,null,null,null,null,null,null,null,null,null,null,null,{"$f":"IF(W1064=\"\",\"\",LOOKUP(W1064,Hilfstabelle!$A$1:$A$286,Hilfstabelle!$B$1:$B$286))","v":""}]
[null,null,null,null,null,null,null,null,null,null,null,null,null,null,null,null,null,null,null,null,{"$f":"IF(W1065=\"\",\"\",LOOKUP(W1065,Hilfstabelle!$A$1:$A$286,Hilfstabelle!$B$1:$B$286))","v":""}]
[null,null,null,null,null,null,null,null,null,null,null,null,null,null,null,null,null,null,null,null,{"$f":"IF(W1066=\"\",\"\",LOOKUP(W1066,Hilfstabelle!$A$1:$A$286,Hilfstabelle!$B$1:$B$286))","v":""}]
[null,null,null,null,null,null,null,null,null,null,null,null,null,null,null,null,null,null,null,null,{"$f":"IF(W1067=\"\",\"\",LOOKUP(W1067,Hilfstabelle!$A$1:$A$286,Hilfstabelle!$B$1:$B$286))","v":""}]
[null,null,null,null,null,null,null,null,null,null,null,null,null,null,null,null,null,null,null,null,{"$f":"IF(W1068=\"\",\"\",LOOKUP(W1068,Hilfstabelle!$A$1:$A$286,Hilfstabelle!$B$1:$B$286))","v":""}]
[null,null,null,null,null,null,null,null,null,null,null,null,null,null,null,null,null,null,null,null,{"$f":"IF(W1069=\"\",\"\",LOOKUP(W1069,Hilfstabelle!$A$1:$A$286,Hilfstabelle!$B$1:$B$286))","v":""}]
[null,null,null,null,null,null,null,null,null,null,null,null,null,null,null,null,null,null,null,null,{"$f":"IF(W1070=\"\",\"\",LOOKUP(W1070,Hilfstabelle!$A$1:$A$286,Hilfstabelle!$B$1:$B$286))","v":""}]
[null,null,null,null,null,null,null,null,null,null,null,null,null,null,null,null,null,null,null,null,{"$f":"IF(W1071=\"\",\"\",LOOKUP(W1071,Hilfstabelle!$A$1:$A$286,Hilfstabelle!$B$1:$B$286))","v":""}]
[null,null,null,null,null,null,null,null,null,null,null,null,null,null,null,null,null,null,null,null,{"$f":"IF(W1072=\"\",\"\",LOOKUP(W1072,Hilfstabelle!$A$1:$A$286,Hilfstabelle!$B$1:$B$286))","v":""}]
[null,null,null,null,null,null,null,null,null,null,null,null,null,null,null,null,null,null,null,null,{"$f":"IF(W1073=\"\",\"\",LOOKUP(W1073,Hilfstabelle!$A$1:$A$286,Hilfstabelle!$B$1:$B$286))","v":""}]
[null,null,null,null,null,null,null,null,null,null,null,null,null,null,null,null,null,null,null,null,{"$f":"IF(W1074=\"\",\"\",LOOKUP(W1074,Hilfstabelle!$A$1:$A$286,Hilfstabelle!$B$1:$B$286))","v":""}]
[null,null,null,null,null,null,null,null,null,null,null,null,null,null,null,null,null,null,null,null,{"$f":"IF(W1075=\"\",\"\",LOOKUP(W1075,Hilfstabelle!$A$1:$A$286,Hilfstabelle!$B$1:$B$286))","v":""}]
[null,null,null,null,null,null,null,null,null,null,null,null,null,null,null,null,null,null,null,null,{"$f":"IF(W1076=\"\",\"\",LOOKUP(W1076,Hilfstabelle!$A$1:$A$286,Hilfstabelle!$B$1:$B$286))","v":""}]
[null,null,null,null,null,null,null,null,null,null,null,null,null,null,null,null,null,null,null,null,{"$f":"IF(W1077=\"\",\"\",LOOKUP(W1077,Hilfstabelle!$A$1:$A$286,Hilfstabelle!$B$1:$B$286))","v":""}]
[null,null,null,null,null,null,null,null,null,null,null,null,null,null,null,null,null,null,null,null,{"$f":"IF(W1078=\"\",\"\",LOOKUP(W1078,Hilfstabelle!$A$1:$A$286,Hilfstabelle!$B$1:$B$286))","v":""}]
[null,null,null,null,null,null,null,null,null,null,null,null,null,null,null,null,null,null,null,null,{"$f":"IF(W1079=\"\",\"\",LOOKUP(W1079,Hilfstabelle!$A$1:$A$286,Hilfstabelle!$B$1:$B$286))","v":""}]
[null,null,null,null,null,null,null,null,null,null,null,null,null,null,null,null,null,null,null,null,{"$f":"IF(W1080=\"\",\"\",LOOKUP(W1080,Hilfstabelle!$A$1:$A$286,Hilfstabelle!$B$1:$B$286))","v":""}]
[null,null,null,null,null,null,null,null,null,null,null,null,null,null,null,null,null,null,null,null,{"$f":"IF(W1081=\"\",\"\",LOOKUP(W1081,Hilfstabelle!$A$1:$A$286,Hilfstabelle!$B$1:$B$286))","v":""}]
[null,null,null,null,null,null,null,null,null,null,null,null,null,null,null,null,null,null,null,null,{"$f":"IF(W1082=\"\",\"\",LOOKUP(W1082,Hilfstabelle!$A$1:$A$286,Hilfstabelle!$B$1:$B$286))","v":""}]
[null,null,null,null,null,null,null,null,null,null,null,null,null,null,null,null,null,null,null,null,{"$f":"IF(W1083=\"\",\"\",LOOKUP(W1083,Hilfstabelle!$A$1:$A$286,Hilfstabelle!$B$1:$B$286))","v":""}]
[null,null,null,null,null,null,null,null,null,null,null,null,null,null,null,null,null,null,null,null,{"$f":"IF(W1084=\"\",\"\",LOOKUP(W1084,Hilfstabelle!$A$1:$A$286,Hilfstabelle!$B$1:$B$286))","v":""}]
[null,null,null,null,null,null,null,null,null,null,null,null,null,null,null,null,null,null,null,null,{"$f":"IF(W1085=\"\",\"\",LOOKUP(W1085,Hilfstabelle!$A$1:$A$286,Hilfstabelle!$B$1:$B$286))","v":""}]
[null,null,null,null,null,null,null,null,null,null,null,null,null,null,null,null,null,null,null,null,{"$f":"IF(W1086=\"\",\"\",LOOKUP(W1086,Hilfstabelle!$A$1:$A$286,Hilfstabelle!$B$1:$B$286))","v":""}]
[null,null,null,null,null,null,null,null,null,null,null,null,null,null,null,null,null,null,null,null,{"$f":"IF(W1087=\"\",\"\",LOOKUP(W1087,Hilfstabelle!$A$1:$A$286,Hilfstabelle!$B$1:$B$286))","v":""}]
[null,null,null,null,null,null,null,null,null,null,null,null,null,null,null,null,null,null,null,null,{"$f":"IF(W1088=\"\",\"\",LOOKUP(W1088,Hilfstabelle!$A$1:$A$286,Hilfstabelle!$B$1:$B$286))","v":""}]
[null,null,null,null,null,null,null,null,null,null,null,null,null,null,null,null,null,null,null,null,{"$f":"IF(W1089=\"\",\"\",LOOKUP(W1089,Hilfstabelle!$A$1:$A$286,Hilfstabelle!$B$1:$B$286))","v":""}]
[null,null,null,null,null,null,null,null,null,null,null,null,null,null,null,null,null,null,null,null,{"$f":"IF(W1090=\"\",\"\",LOOKUP(W1090,Hilfstabelle!$A$1:$A$286,Hilfstabelle!$B$1:$B$286))","v":""}]
[null,null,null,null,null,null,null,null,null,null,null,null,null,null,null,null,null,null,null,null,{"$f":"IF(W1091=\"\",\"\",LOOKUP(W1091,Hilfstabelle!$A$1:$A$286,Hilfstabelle!$B$1:$B$286))","v":""}]
[null,null,null,null,null,null,null,null,null,null,null,null,null,null,null,null,null,null,null,null,{"$f":"IF(W1092=\"\",\"\",LOOKUP(W1092,Hilfstabelle!$A$1:$A$286,Hilfstabelle!$B$1:$B$286))","v":""}]
[null,null,null,null,null,null,null,null,null,null,null,null,null,null,null,null,null,null,null,null,{"$f":"IF(W1093=\"\",\"\",LOOKUP(W1093,Hilfstabelle!$A$1:$A$286,Hilfstabelle!$B$1:$B$286))","v":""}]
[null,null,null,null,null,null,null,null,null,null,null,null,null,null,null,null,null,null,null,null,{"$f":"IF(W1094=\"\",\"\",LOOKUP(W1094,Hilfstabelle!$A$1:$A$286,Hilfstabelle!$B$1:$B$286))","v":""}]
[null,null,null,null,null,null,null,null,null,null,null,null,null,null,null,null,null,null,null,null,{"$f":"IF(W1095=\"\",\"\",LOOKUP(W1095,Hilfstabelle!$A$1:$A$286,Hilfstabelle!$B$1:$B$286))","v":""}]
[null,null,null,null,null,null,null,null,null,null,null,null,null,null,null,null,null,null,null,null,{"$f":"IF(W1096=\"\",\"\",LOOKUP(W1096,Hilfstabelle!$A$1:$A$286,Hilfstabelle!$B$1:$B$286))","v":""}]
[null,null,null,null,null,null,null,null,null,null,null,null,null,null,null,null,null,null,null,null,{"$f":"IF(W1097=\"\",\"\",LOOKUP(W1097,Hilfstabelle!$A$1:$A$286,Hilfstabelle!$B$1:$B$286))","v":""}]
[null,null,null,null,null,null,null,null,null,null,null,null,null,null,null,null,null,null,null,null,{"$f":"IF(W1098=\"\",\"\",LOOKUP(W1098,Hilfstabelle!$A$1:$A$286,Hilfstabelle!$B$1:$B$286))","v":""}]
[null,null,null,null,null,null,null,null,null,null,null,null,null,null,null,null,null,null,null,null,{"$f":"IF(W1099=\"\",\"\",LOOKUP(W1099,Hilfstabelle!$A$1:$A$286,Hilfstabelle!$B$1:$B$286))","v":""}]
[null,null,null,null,null,null,null,null,null,null,null,null,null,null,null,null,null,null,null,null,{"$f":"IF(W1100=\"\",\"\",LOOKUP(W1100,Hilfstabelle!$A$1:$A$286,Hilfstabelle!$B$1:$B$286))","v":""}]
[null,null,null,null,null,null,null,null,null,null,null,null,null,null,null,null,null,null,null,null,{"$f":"IF(W1101=\"\",\"\",LOOKUP(W1101,Hilfstabelle!$A$1:$A$286,Hilfstabelle!$B$1:$B$286))","v":""}]
[null,null,null,null,null,null,null,null,null,null,null,null,null,null,null,null,null,null,null,null,{"$f":"IF(W1102=\"\",\"\",LOOKUP(W1102,Hilfstabelle!$A$1:$A$286,Hilfstabelle!$B$1:$B$286))","v":""}]
[null,null,null,null,null,null,null,null,null,null,null,null,null,null,null,null,null,null,null,null,{"$f":"IF(W1103=\"\",\"\",LOOKUP(W1103,Hilfstabelle!$A$1:$A$286,Hilfstabelle!$B$1:$B$286))","v":""}]
[null,null,null,null,null,null,null,null,null,null,null,null,null,null,null,null,null,null,null,null,{"$f":"IF(W1104=\"\",\"\",LOOKUP(W1104,Hilfstabelle!$A$1:$A$286,Hilfstabelle!$B$1:$B$286))","v":""}]
[null,null,null,null,null,null,null,null,null,null,null,null,null,null,null,null,null,null,null,null,{"$f":"IF(W1105=\"\",\"\",LOOKUP(W1105,Hilfstabelle!$A$1:$A$286,Hilfstabelle!$B$1:$B$286))","v":""}]
[null,null,null,null,null,null,null,null,null,null,null,null,null,null,null,null,null,null,null,null,{"$f":"IF(W1106=\"\",\"\",LOOKUP(W1106,Hilfstabelle!$A$1:$A$286,Hilfstabelle!$B$1:$B$286))","v":""}]
[null,null,null,null,null,null,null,null,null,null,null,null,null,null,null,null,null,null,null,null,{"$f":"IF(W1107=\"\",\"\",LOOKUP(W1107,Hilfstabelle!$A$1:$A$286,Hilfstabelle!$B$1:$B$286))","v":""}]
[null,null,null,null,null,null,null,null,null,null,null,null,null,null,null,null,null,null,null,null,{"$f":"IF(W1108=\"\",\"\",LOOKUP(W1108,Hilfstabelle!$A$1:$A$286,Hilfstabelle!$B$1:$B$286))","v":""}]
[null,null,null,null,null,null,null,null,null,null,null,null,null,null,null,null,null,null,null,null,{"$f":"IF(W1109=\"\",\"\",LOOKUP(W1109,Hilfstabelle!$A$1:$A$286,Hilfstabelle!$B$1:$B$286))","v":""}]
[null,null,null,null,null,null,null,null,null,null,null,null,null,null,null,null,null,null,null,null,{"$f":"IF(W1110=\"\",\"\",LOOKUP(W1110,Hilfstabelle!$A$1:$A$286,Hilfstabelle!$B$1:$B$286))","v":""}]
[null,null,null,null,null,null,null,null,null,null,null,null,null,null,null,null,null,null,null,null,{"$f":"IF(W1111=\"\",\"\",LOOKUP(W1111,Hilfstabelle!$A$1:$A$286,Hilfstabelle!$B$1:$B$286))","v":""}]
[null,null,null,null,null,null,null,null,null,null,null,null,null,null,null,null,null,null,null,null,{"$f":"IF(W1112=\"\",\"\",LOOKUP(W1112,Hilfstabelle!$A$1:$A$286,Hilfstabelle!$B$1:$B$286))","v":""}]
[null,null,null,null,null,null,null,null,null,null,null,null,null,null,null,null,null,null,null,null,{"$f":"IF(W1113=\"\",\"\",LOOKUP(W1113,Hilfstabelle!$A$1:$A$286,Hilfstabelle!$B$1:$B$286))","v":""}]
[null,null,null,null,null,null,null,null,null,null,null,null,null,null,null,null,null,null,null,null,{"$f":"IF(W1114=\"\",\"\",LOOKUP(W1114,Hilfstabelle!$A$1:$A$286,Hilfstabelle!$B$1:$B$286))","v":""}]
[null,null,null,null,null,null,null,null,null,null,null,null,null,null,null,null,null,null,null,null,{"$f":"IF(W1115=\"\",\"\",LOOKUP(W1115,Hilfstabelle!$A$1:$A$286,Hilfstabelle!$B$1:$B$286))","v":""}]
[null,null,null,null,null,null,null,null,null,null,null,null,null,null,null,null,null,null,null,null,{"$f":"IF(W1116=\"\",\"\",LOOKUP(W1116,Hilfstabelle!$A$1:$A$286,Hilfstabelle!$B$1:$B$286))","v":""}]
[null,null,null,null,null,null,null,null,null,null,null,null,null,null,null,null,null,null,null,null,{"$f":"IF(W1117=\"\",\"\",LOOKUP(W1117,Hilfstabelle!$A$1:$A$286,Hilfstabelle!$B$1:$B$286))","v":""}]
[null,null,null,null,null,null,null,null,null,null,null,null,null,null,null,null,null,null,null,null,{"$f":"IF(W1118=\"\",\"\",LOOKUP(W1118,Hilfstabelle!$A$1:$A$286,Hilfstabelle!$B$1:$B$286))","v":""}]
[null,null,null,null,null,null,null,null,null,null,null,null,null,null,null,null,null,null,null,null,{"$f":"IF(W1119=\"\",\"\",LOOKUP(W1119,Hilfstabelle!$A$1:$A$286,Hilfstabelle!$B$1:$B$286))","v":""}]
[null,null,null,null,null,null,null,null,null,null,null,null,null,null,null,null,null,null,null,null,{"$f":"IF(W1120=\"\",\"\",LOOKUP(W1120,Hilfstabelle!$A$1:$A$286,Hilfstabelle!$B$1:$B$286))","v":""}]
[null,null,null,null,null,null,null,null,null,null,null,null,null,null,null,null,null,null,null,null,{"$f":"IF(W1121=\"\",\"\",LOOKUP(W1121,Hilfstabelle!$A$1:$A$286,Hilfstabelle!$B$1:$B$286))","v":""}]
[null,null,null,null,null,null,null,null,null,null,null,null,null,null,null,null,null,null,null,null,{"$f":"IF(W1122=\"\",\"\",LOOKUP(W1122,Hilfstabelle!$A$1:$A$286,Hilfstabelle!$B$1:$B$286))","v":""}]
[null,null,null,null,null,null,null,null,null,null,null,null,null,null,null,null,null,null,null,null,{"$f":"IF(W1123=\"\",\"\",LOOKUP(W1123,Hilfstabelle!$A$1:$A$286,Hilfstabelle!$B$1:$B$286))","v":""}]
[null,null,null,null,null,null,null,null,null,null,null,null,null,null,null,null,null,null,null,null,{"$f":"IF(W1124=\"\",\"\",LOOKUP(W1124,Hilfstabelle!$A$1:$A$286,Hilfstabelle!$B$1:$B$286))","v":""}]
[null,null,null,null,null,null,null,null,null,null,null,null,null,null,null,null,null,null,null,null,{"$f":"IF(W1125=\"\",\"\",LOOKUP(W1125,Hilfstabelle!$A$1:$A$286,Hilfstabelle!$B$1:$B$286))","v":""}]
[null,null,null,null,null,null,null,null,null,null,null,null,null,null,null,null,null,null,null,null,{"$f":"IF(W1126=\"\",\"\",LOOKUP(W1126,Hilfstabelle!$A$1:$A$286,Hilfstabelle!$B$1:$B$286))","v":""}]
[null,null,null,null,null,null,null,null,null,null,null,null,null,null,null,null,null,null,null,null,{"$f":"IF(W1127=\"\",\"\",LOOKUP(W1127,Hilfstabelle!$A$1:$A$286,Hilfstabelle!$B$1:$B$286))","v":""}]
[null,null,null,null,null,null,null,null,null,null,null,null,null,null,null,null,null,null,null,null,{"$f":"IF(W1128=\"\",\"\",LOOKUP(W1128,Hilfstabelle!$A$1:$A$286,Hilfstabelle!$B$1:$B$286))","v":""}]
[null,null,null,null,null,null,null,null,null,null,null,null,null,null,null,null,null,null,null,null,{"$f":"IF(W1129=\"\",\"\",LOOKUP(W1129,Hilfstabelle!$A$1:$A$286,Hilfstabelle!$B$1:$B$286))","v":""}]
[null,null,null,null,null,null,null,null,null,null,null,null,null,null,null,null,null,null,null,null,{"$f":"IF(W1130=\"\",\"\",LOOKUP(W1130,Hilfstabelle!$A$1:$A$286,Hilfstabelle!$B$1:$B$286))","v":""}]
[null,null,null,null,null,null,null,null,null,null,null,null,null,null,null,null,null,null,null,null,{"$f":"IF(W1131=\"\",\"\",LOOKUP(W1131,Hilfstabelle!$A$1:$A$286,Hilfstabelle!$B$1:$B$286))","v":""}]
[null,null,null,null,null,null,null,null,null,null,null,null,null,null,null,null,null,null,null,null,{"$f":"IF(W1132=\"\",\"\",LOOKUP(W1132,Hilfstabelle!$A$1:$A$286,Hilfstabelle!$B$1:$B$286))","v":""}]
[null,null,null,null,null,null,null,null,null,null,null,null,null,null,null,null,null,null,null,null,{"$f":"IF(W1133=\"\",\"\",LOOKUP(W1133,Hilfstabelle!$A$1:$A$286,Hilfstabelle!$B$1:$B$286))","v":""}]
[null,null,null,null,null,null,null,null,null,null,null,null,null,null,null,null,null,null,null,null,{"$f":"IF(W1134=\"\",\"\",LOOKUP(W1134,Hilfstabelle!$A$1:$A$286,Hilfstabelle!$B$1:$B$286))","v":""}]
[null,null,null,null,null,null,null,null,null,null,null,null,null,null,null,null,null,null,null,null,{"$f":"IF(W1135=\"\",\"\",LOOKUP(W1135,Hilfstabelle!$A$1:$A$286,Hilfstabelle!$B$1:$B$286))","v":""}]
[null,null,null,null,null,null,null,null,null,null,null,null,null,null,null,null,null,null,null,null,{"$f":"IF(W1136=\"\",\"\",LOOKUP(W1136,Hilfstabelle!$A$1:$A$286,Hilfstabelle!$B$1:$B$286))","v":""}]
[null,null,null,null,null,null,null,null,null,null,null,null,null,null,null,null,null,null,null,null,{"$f":"IF(W1137=\"\",\"\",LOOKUP(W1137,Hilfstabelle!$A$1:$A$286,Hilfstabelle!$B$1:$B$286))","v":""}]
[null,null,null,null,null,null,null,null,null,null,null,null,null,null,null,null,null,null,null,null,{"$f":"IF(W1138=\"\",\"\",LOOKUP(W1138,Hilfstabelle!$A$1:$A$286,Hilfstabelle!$B$1:$B$286))","v":""}]
[null,null,null,null,null,null,null,null,null,null,null,null,null,null,null,null,null,null,null,null,{"$f":"IF(W1139=\"\",\"\",LOOKUP(W1139,Hilfstabelle!$A$1:$A$286,Hilfstabelle!$B$1:$B$286))","v":""}]
[null,null,null,null,null,null,null,null,null,null,null,null,null,null,null,null,null,null,null,null,{"$f":"IF(W1140=\"\",\"\",LOOKUP(W1140,Hilfstabelle!$A$1:$A$286,Hilfstabelle!$B$1:$B$286))","v":""}]
[null,null,null,null,null,null,null,null,null,null,null,null,null,null,null,null,null,null,null,null,{"$f":"IF(W1141=\"\",\"\",LOOKUP(W1141,Hilfstabelle!$A$1:$A$286,Hilfstabelle!$B$1:$B$286))","v":""}]
[null,null,null,null,null,null,null,null,null,null,null,null,null,null,null,null,null,null,null,null,{"$f":"IF(W1142=\"\",\"\",LOOKUP(W1142,Hilfstabelle!$A$1:$A$286,Hilfstabelle!$B$1:$B$286))","v":""}]
[null,null,null,null,null,null,null,null,null,null,null,null,null,null,null,null,null,null,null,null,{"$f":"IF(W1143=\"\",\"\",LOOKUP(W1143,Hilfstabelle!$A$1:$A$286,Hilfstabelle!$B$1:$B$286))","v":""}]
[null,null,null,null,null,null,null,null,null,null,null,null,null,null,null,null,null,null,null,null,{"$f":"IF(W1144=\"\",\"\",LOOKUP(W1144,Hilfstabelle!$A$1:$A$286,Hilfstabelle!$B$1:$B$286))","v":""}]
[null,null,null,null,null,null,null,null,null,null,null,null,null,null,null,null,null,null,null,null,{"$f":"IF(W1145=\"\",\"\",LOOKUP(W1145,Hilfstabelle!$A$1:$A$286,Hilfstabelle!$B$1:$B$286))","v":""}]
[null,null,null,null,null,null,null,null,null,null,null,null,null,null,null,null,null,null,null,null,{"$f":"IF(W1146=\"\",\"\",LOOKUP(W1146,Hilfstabelle!$A$1:$A$286,Hilfstabelle!$B$1:$B$286))","v":""}]
[null,null,null,null,null,null,null,null,null,null,null,null,null,null,null,null,null,null,null,null,{"$f":"IF(W1147=\"\",\"\",LOOKUP(W1147,Hilfstabelle!$A$1:$A$286,Hilfstabelle!$B$1:$B$286))","v":""}]
[null,null,null,null,null,null,null,null,null,null,null,null,null,null,null,null,null,null,null,null,{"$f":"IF(W1148=\"\",\"\",LOOKUP(W1148,Hilfstabelle!$A$1:$A$286,Hilfstabelle!$B$1:$B$286))","v":""}]
[null,null,null,null,null,null,null,null,null,null,null,null,null,null,null,null,null,null,null,null,{"$f":"IF(W1149=\"\",\"\",LOOKUP(W1149,Hilfstabelle!$A$1:$A$286,Hilfstabelle!$B$1:$B$286))","v":""}]
[null,null,null,null,null,null,null,null,null,null,null,null,null,null,null,null,null,null,null,null,{"$f":"IF(W1150=\"\",\"\",LOOKUP(W1150,Hilfstabelle!$A$1:$A$286,Hilfstabelle!$B$1:$B$286))","v":""}]
[null,null,null,null,null,null,null,null,null,null,null,null,null,null,null,null,null,null,null,null,{"$f":"IF(W1151=\"\",\"\",LOOKUP(W1151,Hilfstabelle!$A$1:$A$286,Hilfstabelle!$B$1:$B$286))","v":""}]
[null,null,null,null,null,null,null,null,null,null,null,null,null,null,null,null,null,null,null,null,{"$f":"IF(W1152=\"\",\"\",LOOKUP(W1152,Hilfstabelle!$A$1:$A$286,Hilfstabelle!$B$1:$B$286))","v":""}]
[null,null,null,null,null,null,null,null,null,null,null,null,null,null,null,null,null,null,null,null,{"$f":"IF(W1153=\"\",\"\",LOOKUP(W1153,Hilfstabelle!$A$1:$A$286,Hilfstabelle!$B$1:$B$286))","v":""}]
[null,null,null,null,null,null,null,null,null,null,null,null,null,null,null,null,null,null,null,null,{"$f":"IF(W1154=\"\",\"\",LOOKUP(W1154,Hilfstabelle!$A$1:$A$286,Hilfstabelle!$B$1:$B$286))","v":""}]
[null,null,null,null,null,null,null,null,null,null,null,null,null,null,null,null,null,null,null,null,{"$f":"IF(W1155=\"\",\"\",LOOKUP(W1155,Hilfstabelle!$A$1:$A$286,Hilfstabelle!$B$1:$B$286))","v":""}]
[null,null,null,null,null,null,null,null,null,null,null,null,null,null,null,null,null,null,null,null,{"$f":"IF(W1156=\"\",\"\",LOOKUP(W1156,Hilfstabelle!$A$1:$A$286,Hilfstabelle!$B$1:$B$286))","v":""}]
[null,null,null,null,null,null,null,null,null,null,null,null,null,null,null,null,null,null,null,null,{"$f":"IF(W1157=\"\",\"\",LOOKUP(W1157,Hilfstabelle!$A$1:$A$286,Hilfstabelle!$B$1:$B$286))","v":""}]
[null,null,null,null,null,null,null,null,null,null,null,null,null,null,null,null,null,null,null,null,{"$f":"IF(W1158=\"\",\"\",LOOKUP(W1158,Hilfstabelle!$A$1:$A$286,Hilfstabelle!$B$1:$B$286))","v":""}]
[null,null,null,null,null,null,null,null,null,null,null,null,null,null,null,null,null,null,null,null,{"$f":"IF(W1159=\"\",\"\",LOOKUP(W1159,Hilfstabelle!$A$1:$A$286,Hilfstabelle!$B$1:$B$286))","v":""}]
[null,null,null,null,null,null,null,null,null,null,null,null,null,null,null,null,null,null,null,null,{"$f":"IF(W1160=\"\",\"\",LOOKUP(W1160,Hilfstabelle!$A$1:$A$286,Hilfstabelle!$B$1:$B$286))","v":""}]
[null,null,null,null,null,null,null,null,null,null,null,null,null,null,null,null,null,null,null,null,{"$f":"IF(W1161=\"\",\"\",LOOKUP(W1161,Hilfstabelle!$A$1:$A$286,Hilfstabelle!$B$1:$B$286))","v":""}]
[null,null,null,null,null,null,null,null,null,null,null,null,null,null,null,null,null,null,null,null,{"$f":"IF(W1162=\"\",\"\",LOOKUP(W1162,Hilfstabelle!$A$1:$A$286,Hilfstabelle!$B$1:$B$286))","v":""}]
[null,null,null,null,null,null,null,null,null,null,null,null,null,null,null,null,null,null,null,null,{"$f":"IF(W1163=\"\",\"\",LOOKUP(W1163,Hilfstabelle!$A$1:$A$286,Hilfstabelle!$B$1:$B$286))","v":""}]
[null,null,null,null,null,null,null,null,null,null,null,null,null,null,null,null,null,null,null,null,{"$f":"IF(W1164=\"\",\"\",LOOKUP(W1164,Hilfstabelle!$A$1:$A$286,Hilfstabelle!$B$1:$B$286))","v":""}]
[null,null,null,null,null,null,null,null,null,null,null,null,null,null,null,null,null,null,null,null,{"$f":"IF(W1165=\"\",\"\",LOOKUP(W1165,Hilfstabelle!$A$1:$A$286,Hilfstabelle!$B$1:$B$286))","v":""}]
[null,null,null,null,null,null,null,null,null,null,null,null,null,null,null,null,null,null,null,null,{"$f":"IF(W1166=\"\",\"\",LOOKUP(W1166,Hilfstabelle!$A$1:$A$286,Hilfstabelle!$B$1:$B$286))","v":""}]
[null,null,null,null,null,null,null,null,null,null,null,null,null,null,null,null,null,null,null,null,{"$f":"IF(W1167=\"\",\"\",LOOKUP(W1167,Hilfstabelle!$A$1:$A$286,Hilfstabelle!$B$1:$B$286))","v":""}]
[null,null,null,null,null,null,null,null,null,null,null,null,null,null,null,null,null,null,null,null,{"$f":"IF(W1168=\"\",\"\",LOOKUP(W1168,Hilfstabelle!$A$1:$A$286,Hilfstabelle!$B$1:$B$286))","v":""}]
[null,null,null,null,null,null,null,null,null,null,null,null,null,null,null,null,null,null,null,null,{"$f":"IF(W1169=\"\",\"\",LOOKUP(W1169,Hilfstabelle!$A$1:$A$286,Hilfstabelle!$B$1:$B$286))","v":""}]
[null,null,null,null,null,null,null,null,null,null,null,null,null,null,null,null,null,null,null,null,{"$f":"IF(W1170=\"\",\"\",LOOKUP(W1170,Hilfstabelle!$A$1:$A$286,Hilfstabelle!$B$1:$B$286))","v":""}]
[null,null,null,null,null,null,null,null,null,null,null,null,null,null,null,null,null,null,null,null,{"$f":"IF(W1171=\"\",\"\",LOOKUP(W1171,Hilfstabelle!$A$1:$A$286,Hilfstabelle!$B$1:$B$286))","v":""}]
[null,null,null,null,null,null,null,null,null,null,null,null,null,null,null,null,null,null,null,null,{"$f":"IF(W1172=\"\",\"\",LOOKUP(W1172,Hilfstabelle!$A$1:$A$286,Hilfstabelle!$B$1:$B$286))","v":""}]
[null,null,null,null,null,null,null,null,null,null,null,null,null,null,null,null,null,null,null,null,{"$f":"IF(W1173=\"\",\"\",LOOKUP(W1173,Hilfstabelle!$A$1:$A$286,Hilfstabelle!$B$1:$B$286))","v":""}]
[null,null,null,null,null,null,null,null,null,null,null,null,null,null,null,null,null,null,null,null,{"$f":"IF(W1174=\"\",\"\",LOOKUP(W1174,Hilfstabelle!$A$1:$A$286,Hilfstabelle!$B$1:$B$286))","v":""}]
[null,null,null,null,null,null,null,null,null,null,null,null,null,null,null,null,null,null,null,null,{"$f":"IF(W1175=\"\",\"\",LOOKUP(W1175,Hilfstabelle!$A$1:$A$286,Hilfstabelle!$B$1:$B$286))","v":""}]
[null,null,null,null,null,null,null,null,null,null,null,null,null,null,null,null,null,null,null,null,{"$f":"IF(W1176=\"\",\"\",LOOKUP(W1176,Hilfstabelle!$A$1:$A$286,Hilfstabelle!$B$1:$B$286))","v":""}]
[null,null,null,null,null,null,null,null,null,null,null,null,null,null,null,null,null,null,null,null,{"$f":"IF(W1177=\"\",\"\",LOOKUP(W1177,Hilfstabelle!$A$1:$A$286,Hilfstabelle!$B$1:$B$286))","v":""}]
[null,null,null,null,null,null,null,null,null,null,null,null,null,null,null,null,null,null,null,null,{"$f":"IF(W1178=\"\",\"\",LOOKUP(W1178,Hilfstabelle!$A$1:$A$286,Hilfstabelle!$B$1:$B$286))","v":""}]
[null,null,null,null,null,null,null,null,null,null,null,null,null,null,null,null,null,null,null,null,{"$f":"IF(W1179=\"\",\"\",LOOKUP(W1179,Hilfstabelle!$A$1:$A$286,Hilfstabelle!$B$1:$B$286))","v":""}]
[null,null,null,null,null,null,null,null,null,null,null,null,null,null,null,null,null,null,null,null,{"$f":"IF(W1180=\"\",\"\",LOOKUP(W1180,Hilfstabelle!$A$1:$A$286,Hilfstabelle!$B$1:$B$286))","v":""}]
[null,null,null,null,null,null,null,null,null,null,null,null,null,null,null,null,null,null,null,null,{"$f":"IF(W1181=\"\",\"\",LOOKUP(W1181,Hilfstabelle!$A$1:$A$286,Hilfstabelle!$B$1:$B$286))","v":""}]
[null,null,null,null,null,null,null,null,null,null,null,null,null,null,null,null,null,null,null,null,{"$f":"IF(W1182=\"\",\"\",LOOKUP(W1182,Hilfstabelle!$A$1:$A$286,Hilfstabelle!$B$1:$B$286))","v":""}]
[null,null,null,null,null,null,null,null,null,null,null,null,null,null,null,null,null,null,null,null,{"$f":"IF(W1183=\"\",\"\",LOOKUP(W1183,Hilfstabelle!$A$1:$A$286,Hilfstabelle!$B$1:$B$286))","v":""}]
[null,null,null,null,null,null,null,null,null,null,null,null,null,null,null,null,null,null,null,null,{"$f":"IF(W1184=\"\",\"\",LOOKUP(W1184,Hilfstabelle!$A$1:$A$286,Hilfstabelle!$B$1:$B$286))","v":""}]
[null,null,null,null,null,null,null,null,null,null,null,null,null,null,null,null,null,null,null,null,{"$f":"IF(W1185=\"\",\"\",LOOKUP(W1185,Hilfstabelle!$A$1:$A$286,Hilfstabelle!$B$1:$B$286))","v":""}]
[null,null,null,null,null,null,null,null,null,null,null,null,null,null,null,null,null,null,null,null,{"$f":"IF(W1186=\"\",\"\",LOOKUP(W1186,Hilfstabelle!$A$1:$A$286,Hilfstabelle!$B$1:$B$286))","v":""}]
[null,null,null,null,null,null,null,null,null,null,null,null,null,null,null,null,null,null,null,null,{"$f":"IF(W1187=\"\",\"\",LOOKUP(W1187,Hilfstabelle!$A$1:$A$286,Hilfstabelle!$B$1:$B$286))","v":""}]
[null,null,null,null,null,null,null,null,null,null,null,null,null,null,null,null,null,null,null,null,{"$f":"IF(W1188=\"\",\"\",LOOKUP(W1188,Hilfstabelle!$A$1:$A$286,Hilfstabelle!$B$1:$B$286))","v":""}]
[null,null,null,null,null,null,null,null,null,null,null,null,null,null,null,null,null,null,null,null,{"$f":"IF(W1189=\"\",\"\",LOOKUP(W1189,Hilfstabelle!$A$1:$A$286,Hilfstabelle!$B$1:$B$286))","v":""}]
[null,null,null,null,null,null,null,null,null,null,null,null,null,null,null,null,null,null,null,null,{"$f":"IF(W1190=\"\",\"\",LOOKUP(W1190,Hilfstabelle!$A$1:$A$286,Hilfstabelle!$B$1:$B$286))","v":""}]
[null,null,null,null,null,null,null,null,null,null,null,null,null,null,null,null,null,null,null,null,{"$f":"IF(W1191=\"\",\"\",LOOKUP(W1191,Hilfstabelle!$A$1:$A$286,Hilfstabelle!$B$1:$B$286))","v":""}]
[null,null,null,null,null,null,null,null,null,null,null,null,null,null,null,null,null,null,null,null,{"$f":"IF(W1192=\"\",\"\",LOOKUP(W1192,Hilfstabelle!$A$1:$A$286,Hilfstabelle!$B$1:$B$286))","v":""}]
[null,null,null,null,null,null,null,null,null,null,null,null,null,null,null,null,null,null,null,null,{"$f":"IF(W1193=\"\",\"\",LOOKUP(W1193,Hilfstabelle!$A$1:$A$286,Hilfstabelle!$B$1:$B$286))","v":""}]
[null,null,null,null,null,null,null,null,null,null,null,null,null,null,null,null,null,null,null,null,{"$f":"IF(W1194=\"\",\"\",LOOKUP(W1194,Hilfstabelle!$A$1:$A$286,Hilfstabelle!$B$1:$B$286))","v":""}]
[null,null,null,null,null,null,null,null,null,null,null,null,null,null,null,null,null,null,null,null,{"$f":"IF(W1195=\"\",\"\",LOOKUP(W1195,Hilfstabelle!$A$1:$A$286,Hilfstabelle!$B$1:$B$286))","v":""}]
[null,null,null,null,null,null,null,null,null,null,null,null,null,null,null,null,null,null,null,null,{"$f":"IF(W1196=\"\",\"\",LOOKUP(W1196,Hilfstabelle!$A$1:$A$286,Hilfstabelle!$B$1:$B$286))","v":""}]
[null,null,null,null,null,null,null,null,null,null,null,null,null,null,null,null,null,null,null,null,{"$f":"IF(W1197=\"\",\"\",LOOKUP(W1197,Hilfstabelle!$A$1:$A$286,Hilfstabelle!$B$1:$B$286))","v":""}]
[null,null,null,null,null,null,null,null,null,null,null,null,null,null,null,null,null,null,null,null,{"$f":"IF(W1198=\"\",\"\",LOOKUP(W1198,Hilfstabelle!$A$1:$A$286,Hilfstabelle!$B$1:$B$286))","v":""}]
[null,null,null,null,null,null,null,null,null,null,null,null,null,null,null,null,null,null,null,null,{"$f":"IF(W1199=\"\",\"\",LOOKUP(W1199,Hilfstabelle!$A$1:$A$286,Hilfstabelle!$B$1:$B$286))","v":""}]
[null,null,null,null,null,null,null,null,null,null,null,null,null,null,null,null,null,null,null,null,{"$f":"IF(W1200=\"\",\"\",LOOKUP(W1200,Hilfstabelle!$A$1:$A$286,Hilfstabelle!$B$1:$B$286))","v":""}]
[null,null,null,null,null,null,null,null,null,null,null,null,null,null,null,null,null,null,null,null,{"$f":"IF(W1201=\"\",\"\",LOOKUP(W1201,Hilfstabelle!$A$1:$A$286,Hilfstabelle!$B$1:$B$286))","v":""}]
[null,null,null,null,null,null,null,null,null,null,null,null,null,null,null,null,null,null,null,null,{"$f":"IF(W1202=\"\",\"\",LOOKUP(W1202,Hilfstabelle!$A$1:$A$286,Hilfstabelle!$B$1:$B$286))","v":""}]
[null,null,null,null,null,null,null,null,null,null,null,null,null,null,null,null,null,null,null,null,{"$f":"IF(W1203=\"\",\"\",LOOKUP(W1203,Hilfstabelle!$A$1:$A$286,Hilfstabelle!$B$1:$B$286))","v":""}]
[null,null,null,null,null,null,null,null,null,null,null,null,null,null,null,null,null,null,null,null,{"$f":"IF(W1204=\"\",\"\",LOOKUP(W1204,Hilfstabelle!$A$1:$A$286,Hilfstabelle!$B$1:$B$286))","v":""}]
[null,null,null,null,null,null,null,null,null,null,null,null,null,null,null,null,null,null,null,null,{"$f":"IF(W1205=\"\",\"\",LOOKUP(W1205,Hilfstabelle!$A$1:$A$286,Hilfstabelle!$B$1:$B$286))","v":""}]
[null,null,null,null,null,null,null,null,null,null,null,null,null,null,null,null,null,null,null,null,{"$f":"IF(W1206=\"\",\"\",LOOKUP(W1206,Hilfstabelle!$A$1:$A$286,Hilfstabelle!$B$1:$B$286))","v":""}]
[null,null,null,null,null,null,null,null,null,null,null,null,null,null,null,null,null,null,null,null,{"$f":"IF(W1207=\"\",\"\",LOOKUP(W1207,Hilfstabelle!$A$1:$A$286,Hilfstabelle!$B$1:$B$286))","v":""}]
[null,null,null,null,null,null,null,null,null,null,null,null,null,null,null,null,null,null,null,null,{"$f":"IF(W1208=\"\",\"\",LOOKUP(W1208,Hilfstabelle!$A$1:$A$286,Hilfstabelle!$B$1:$B$286))","v":""}]
[null,null,null,null,null,null,null,null,null,null,null,null,null,null,null,null,null,null,null,null,{"$f":"IF(W1209=\"\",\"\",LOOKUP(W1209,Hilfstabelle!$A$1:$A$286,Hilfstabelle!$B$1:$B$286))","v":""}]
[null,null,null,null,null,null,null,null,null,null,null,null,null,null,null,null,null,null,null,null,{"$f":"IF(W1210=\"\",\"\",LOOKUP(W1210,Hilfstabelle!$A$1:$A$286,Hilfstabelle!$B$1:$B$286))","v":""}]
[null,null,null,null,null,null,null,null,null,null,null,null,null,null,null,null,null,null,null,null,{"$f":"IF(W1211=\"\",\"\",LOOKUP(W1211,Hilfstabelle!$A$1:$A$286,Hilfstabelle!$B$1:$B$286))","v":""}]
[null,null,null,null,null,null,null,null,null,null,null,null,null,null,null,null,null,null,null,null,{"$f":"IF(W1212=\"\",\"\",LOOKUP(W1212,Hilfstabelle!$A$1:$A$286,Hilfstabelle!$B$1:$B$286))","v":""}]
[null,null,null,null,null,null,null,null,null,null,null,null,null,null,null,null,null,null,null,null,{"$f":"IF(W1213=\"\",\"\",LOOKUP(W1213,Hilfstabelle!$A$1:$A$286,Hilfstabelle!$B$1:$B$286))","v":""}]
[null,null,null,null,null,null,null,null,null,null,null,null,null,null,null,null,null,null,null,null,{"$f":"IF(W1214=\"\",\"\",LOOKUP(W1214,Hilfstabelle!$A$1:$A$286,Hilfstabelle!$B$1:$B$286))","v":""}]
[null,null,null,null,null,null,null,null,null,null,null,null,null,null,null,null,null,null,null,null,{"$f":"IF(W1215=\"\",\"\",LOOKUP(W1215,Hilfstabelle!$A$1:$A$286,Hilfstabelle!$B$1:$B$286))","v":""}]
[null,null,null,null,null,null,null,null,null,null,null,null,null,null,null,null,null,null,null,null,{"$f":"IF(W1216=\"\",\"\",LOOKUP(W1216,Hilfstabelle!$A$1:$A$286,Hilfstabelle!$B$1:$B$286))","v":""}]
[null,null,null,null,null,null,null,null,null,null,null,null,null,null,null,null,null,null,null,null,{"$f":"IF(W1217=\"\",\"\",LOOKUP(W1217,Hilfstabelle!$A$1:$A$286,Hilfstabelle!$B$1:$B$286))","v":""}]
[null,null,null,null,null,null,null,null,null,null,null,null,null,null,null,null,null,null,null,null,{"$f":"IF(W1218=\"\",\"\",LOOKUP(W1218,Hilfstabelle!$A$1:$A$286,Hilfstabelle!$B$1:$B$286))","v":""}]
[null,null,null,null,null,null,null,null,null,null,null,null,null,null,null,null,null,null,null,null,{"$f":"IF(W1219=\"\",\"\",LOOKUP(W1219,Hilfstabelle!$A$1:$A$286,Hilfstabelle!$B$1:$B$286))","v":""}]
[null,null,null,null,null,null,null,null,null,null,null,null,null,null,null,null,null,null,null,null,{"$f":"IF(W1220=\"\",\"\",LOOKUP(W1220,Hilfstabelle!$A$1:$A$286,Hilfstabelle!$B$1:$B$286))","v":""}]
[null,null,null,null,null,null,null,null,null,null,null,null,null,null,null,null,null,null,null,null,{"$f":"IF(W1221=\"\",\"\",LOOKUP(W1221,Hilfstabelle!$A$1:$A$286,Hilfstabelle!$B$1:$B$286))","v":""}]
[null,null,null,null,null,null,null,null,null,null,null,null,null,null,null,null,null,null,null,null,{"$f":"IF(W1222=\"\",\"\",LOOKUP(W1222,Hilfstabelle!$A$1:$A$286,Hilfstabelle!$B$1:$B$286))","v":""}]
[null,null,null,null,null,null,null,null,null,null,null,null,null,null,null,null,null,null,null,null,{"$f":"IF(W1223=\"\",\"\",LOOKUP(W1223,Hilfstabelle!$A$1:$A$286,Hilfstabelle!$B$1:$B$286))","v":""}]
[null,null,null,null,null,null,null,null,null,null,null,null,null,null,null,null,null,null,null,null,{"$f":"IF(W1224=\"\",\"\",LOOKUP(W1224,Hilfstabelle!$A$1:$A$286,Hilfstabelle!$B$1:$B$286))","v":""}]
[null,null,null,null,null,null,null,null,null,null,null,null,null,null,null,null,null,null,null,null,{"$f":"IF(W1225=\"\",\"\",LOOKUP(W1225,Hilfstabelle!$A$1:$A$286,Hilfstabelle!$B$1:$B$286))","v":""}]
[null,null,null,null,null,null,null,null,null,null,null,null,null,null,null,null,null,null,null,null,{"$f":"IF(W1226=\"\",\"\",LOOKUP(W1226,Hilfstabelle!$A$1:$A$286,Hilfstabelle!$B$1:$B$286))","v":""}]
[null,null,null,null,null,null,null,null,null,null,null,null,null,null,null,null,null,null,null,null,{"$f":"IF(W1227=\"\",\"\",LOOKUP(W1227,Hilfstabelle!$A$1:$A$286,Hilfstabelle!$B$1:$B$286))","v":""}]
[null,null,null,null,null,null,null,null,null,null,null,null,null,null,null,null,null,null,null,null,{"$f":"IF(W1228=\"\",\"\",LOOKUP(W1228,Hilfstabelle!$A$1:$A$286,Hilfstabelle!$B$1:$B$286))","v":""}]
[null,null,null,null,null,null,null,null,null,null,null,null,null,null,null,null,null,null,null,null,{"$f":"IF(W1229=\"\",\"\",LOOKUP(W1229,Hilfstabelle!$A$1:$A$286,Hilfstabelle!$B$1:$B$286))","v":""}]
[null,null,null,null,null,null,null,null,null,null,null,null,null,null,null,null,null,null,null,null,{"$f":"IF(W1230=\"\",\"\",LOOKUP(W1230,Hilfstabelle!$A$1:$A$286,Hilfstabelle!$B$1:$B$286))","v":""}]
[null,null,null,null,null,null,null,null,null,null,null,null,null,null,null,null,null,null,null,null,{"$f":"IF(W1231=\"\",\"\",LOOKUP(W1231,Hilfstabelle!$A$1:$A$286,Hilfstabelle!$B$1:$B$286))","v":""}]
[null,null,null,null,null,null,null,null,null,null,null,null,null,null,null,null,null,null,null,null,{"$f":"IF(W1232=\"\",\"\",LOOKUP(W1232,Hilfstabelle!$A$1:$A$286,Hilfstabelle!$B$1:$B$286))","v":""}]
[null,null,null,null,null,null,null,null,null,null,null,null,null,null,null,null,null,null,null,null,{"$f":"IF(W1233=\"\",\"\",LOOKUP(W1233,Hilfstabelle!$A$1:$A$286,Hilfstabelle!$B$1:$B$286))","v":""}]
[null,null,null,null,null,null,null,null,null,null,null,null,null,null,null,null,null,null,null,null,{"$f":"IF(W1234=\"\",\"\",LOOKUP(W1234,Hilfstabelle!$A$1:$A$286,Hilfstabelle!$B$1:$B$286))","v":""}]
[null,null,null,null,null,null,null,null,null,null,null,null,null,null,null,null,null,null,null,null,{"$f":"IF(W1235=\"\",\"\",LOOKUP(W1235,Hilfstabelle!$A$1:$A$286,Hilfstabelle!$B$1:$B$286))","v":""}]
[null,null,null,null,null,null,null,null,null,null,null,null,null,null,null,null,null,null,null,null,{"$f":"IF(W1236=\"\",\"\",LOOKUP(W1236,Hilfstabelle!$A$1:$A$286,Hilfstabelle!$B$1:$B$286))","v":""}]
[null,null,null,null,null,null,null,null,null,null,null,null,null,null,null,null,null,null,null,null,{"$f":"IF(W1237=\"\",\"\",LOOKUP(W1237,Hilfstabelle!$A$1:$A$286,Hilfstabelle!$B$1:$B$286))","v":""}]
[null,null,null,null,null,null,null,null,null,null,null,null,null,null,null,null,null,null,null,null,{"$f":"IF(W1238=\"\",\"\",LOOKUP(W1238,Hilfstabelle!$A$1:$A$286,Hilfstabelle!$B$1:$B$286))","v":""}]
[null,null,null,null,null,null,null,null,null,null,null,null,null,null,null,null,null,null,null,null,{"$f":"IF(W1239=\"\",\"\",LOOKUP(W1239,Hilfstabelle!$A$1:$A$286,Hilfstabelle!$B$1:$B$286))","v":""}]
[null,null,null,null,null,null,null,null,null,null,null,null,null,null,null,null,null,null,null,null,{"$f":"IF(W1240=\"\",\"\",LOOKUP(W1240,Hilfstabelle!$A$1:$A$286,Hilfstabelle!$B$1:$B$286))","v":""}]
[null,null,null,null,null,null,null,null,null,null,null,null,null,null,null,null,null,null,null,null,{"$f":"IF(W1241=\"\",\"\",LOOKUP(W1241,Hilfstabelle!$A$1:$A$286,Hilfstabelle!$B$1:$B$286))","v":""}]
[null,null,null,null,null,null,null,null,null,null,null,null,null,null,null,null,null,null,null,null,{"$f":"IF(W1242=\"\",\"\",LOOKUP(W1242,Hilfstabelle!$A$1:$A$286,Hilfstabelle!$B$1:$B$286))","v":""}]
[null,null,null,null,null,null,null,null,null,null,null,null,null,null,null,null,null,null,null,null,{"$f":"IF(W1243=\"\",\"\",LOOKUP(W1243,Hilfstabelle!$A$1:$A$286,Hilfstabelle!$B$1:$B$286))","v":""}]
[null,null,null,null,null,null,null,null,null,null,null,null,null,null,null,null,null,null,null,null,{"$f":"IF(W1244=\"\",\"\",LOOKUP(W1244,Hilfstabelle!$A$1:$A$286,Hilfstabelle!$B$1:$B$286))","v":""}]
[null,null,null,null,null,null,null,null,null,null,null,null,null,null,null,null,null,null,null,null,{"$f":"IF(W1245=\"\",\"\",LOOKUP(W1245,Hilfstabelle!$A$1:$A$286,Hilfstabelle!$B$1:$B$286))","v":""}]
[null,null,null,null,null,null,null,null,null,null,null,null,null,null,null,null,null,null,null,null,{"$f":"IF(W1246=\"\",\"\",LOOKUP(W1246,Hilfstabelle!$A$1:$A$286,Hilfstabelle!$B$1:$B$286))","v":""}]
[null,null,null,null,null,null,null,null,null,null,null,null,null,null,null,null,null,null,null,null,{"$f":"IF(W1247=\"\",\"\",LOOKUP(W1247,Hilfstabelle!$A$1:$A$286,Hilfstabelle!$B$1:$B$286))","v":""}]
[null,null,null,null,null,null,null,null,null,null,null,null,null,null,null,null,null,null,null,null,{"$f":"IF(W1248=\"\",\"\",LOOKUP(W1248,Hilfstabelle!$A$1:$A$286,Hilfstabelle!$B$1:$B$286))","v":""}]
[null,null,null,null,null,null,null,null,null,null,null,null,null,null,null,null,null,null,null,null,{"$f":"IF(W1249=\"\",\"\",LOOKUP(W1249,Hilfstabelle!$A$1:$A$286,Hilfstabelle!$B$1:$B$286))","v":""}]
[null,null,null,null,null,null,null,null,null,null,null,null,null,null,null,null,null,null,null,null,{"$f":"IF(W1250=\"\",\"\",LOOKUP(W1250,Hilfstabelle!$A$1:$A$286,Hilfstabelle!$B$1:$B$286))","v":""}]
[null,null,null,null,null,null,null,null,null,null,null,null,null,null,null,null,null,null,null,null,{"$f":"IF(W1251=\"\",\"\",LOOKUP(W1251,Hilfstabelle!$A$1:$A$286,Hilfstabelle!$B$1:$B$286))","v":""}]
[null,null,null,null,null,null,null,null,null,null,null,null,null,null,null,null,null,null,null,null,{"$f":"IF(W1252=\"\",\"\",LOOKUP(W1252,Hilfstabelle!$A$1:$A$286,Hilfstabelle!$B$1:$B$286))","v":""}]
[null,null,null,null,null,null,null,null,null,null,null,null,null,null,null,null,null,null,null,null,{"$f":"IF(W1253=\"\",\"\",LOOKUP(W1253,Hilfstabelle!$A$1:$A$286,Hilfstabelle!$B$1:$B$286))","v":""}]
[null,null,null,null,null,null,null,null,null,null,null,null,null,null,null,null,null,null,null,null,{"$f":"IF(W1254=\"\",\"\",LOOKUP(W1254,Hilfstabelle!$A$1:$A$286,Hilfstabelle!$B$1:$B$286))","v":""}]
[null,null,null,null,null,null,null,null,null,null,null,null,null,null,null,null,null,null,null,null,{"$f":"IF(W1255=\"\",\"\",LOOKUP(W1255,Hilfstabelle!$A$1:$A$286,Hilfstabelle!$B$1:$B$286))","v":""}]
[null,null,null,null,null,null,null,null,null,null,null,null,null,null,null,null,null,null,null,null,{"$f":"IF(W1256=\"\",\"\",LOOKUP(W1256,Hilfstabelle!$A$1:$A$286,Hilfstabelle!$B$1:$B$286))","v":""}]
[null,null,null,null,null,null,null,null,null,null,null,null,null,null,null,null,null,null,null,null,{"$f":"IF(W1257=\"\",\"\",LOOKUP(W1257,Hilfstabelle!$A$1:$A$286,Hilfstabelle!$B$1:$B$286))","v":""}]
[null,null,null,null,null,null,null,null,null,null,null,null,null,null,null,null,null,null,null,null,{"$f":"IF(W1258=\"\",\"\",LOOKUP(W1258,Hilfstabelle!$A$1:$A$286,Hilfstabelle!$B$1:$B$286))","v":""}]
[null,null,null,null,null,null,null,null,null,null,null,null,null,null,null,null,null,null,null,null,{"$f":"IF(W1259=\"\",\"\",LOOKUP(W1259,Hilfstabelle!$A$1:$A$286,Hilfstabelle!$B$1:$B$286))","v":""}]
[null,null,null,null,null,null,null,null,null,null,null,null,null,null,null,null,null,null,null,null,{"$f":"IF(W1260=\"\",\"\",LOOKUP(W1260,Hilfstabelle!$A$1:$A$286,Hilfstabelle!$B$1:$B$286))","v":""}]
[null,null,null,null,null,null,null,null,null,null,null,null,null,null,null,null,null,null,null,null,{"$f":"IF(W1261=\"\",\"\",LOOKUP(W1261,Hilfstabelle!$A$1:$A$286,Hilfstabelle!$B$1:$B$286))","v":""}]
[null,null,null,null,null,null,null,null,null,null,null,null,null,null,null,null,null,null,null,null,{"$f":"IF(W1262=\"\",\"\",LOOKUP(W1262,Hilfstabelle!$A$1:$A$286,Hilfstabelle!$B$1:$B$286))","v":""}]
[null,null,null,null,null,null,null,null,null,null,null,null,null,null,null,null,null,null,null,null,{"$f":"IF(W1263=\"\",\"\",LOOKUP(W1263,Hilfstabelle!$A$1:$A$286,Hilfstabelle!$B$1:$B$286))","v":""}]
[null,null,null,null,null,null,null,null,null,null,null,null,null,null,null,null,null,null,null,null,{"$f":"IF(W1264=\"\",\"\",LOOKUP(W1264,Hilfstabelle!$A$1:$A$286,Hilfstabelle!$B$1:$B$286))","v":""}]
[null,null,null,null,null,null,null,null,null,null,null,null,null,null,null,null,null,null,null,null,{"$f":"IF(W1265=\"\",\"\",LOOKUP(W1265,Hilfstabelle!$A$1:$A$286,Hilfstabelle!$B$1:$B$286))","v":""}]
[null,null,null,null,null,null,null,null,null,null,null,null,null,null,null,null,null,null,null,null,{"$f":"IF(W1266=\"\",\"\",LOOKUP(W1266,Hilfstabelle!$A$1:$A$286,Hilfstabelle!$B$1:$B$286))","v":""}]
[null,null,null,null,null,null,null,null,null,null,null,null,null,null,null,null,null,null,null,null,{"$f":"IF(W1267=\"\",\"\",LOOKUP(W1267,Hilfstabelle!$A$1:$A$286,Hilfstabelle!$B$1:$B$286))","v":""}]
[null,null,null,null,null,null,null,null,null,null,null,null,null,null,null,null,null,null,null,null,{"$f":"IF(W1268=\"\",\"\",LOOKUP(W1268,Hilfstabelle!$A$1:$A$286,Hilfstabelle!$B$1:$B$286))","v":""}]
[null,null,null,null,null,null,null,null,null,null,null,null,null,null,null,null,null,null,null,null,{"$f":"IF(W1269=\"\",\"\",LOOKUP(W1269,Hilfstabelle!$A$1:$A$286,Hilfstabelle!$B$1:$B$286))","v":""}]
[null,null,null,null,null,null,null,null,null,null,null,null,null,null,null,null,null,null,null,null,{"$f":"IF(W1270=\"\",\"\",LOOKUP(W1270,Hilfstabelle!$A$1:$A$286,Hilfstabelle!$B$1:$B$286))","v":""}]
[null,null,null,null,null,null,null,null,null,null,null,null,null,null,null,null,null,null,null,null,{"$f":"IF(W1271=\"\",\"\",LOOKUP(W1271,Hilfstabelle!$A$1:$A$286,Hilfstabelle!$B$1:$B$286))","v":""}]
[null,null,null,null,null,null,null,null,null,null,null,null,null,null,null,null,null,null,null,null,{"$f":"IF(W1272=\"\",\"\",LOOKUP(W1272,Hilfstabelle!$A$1:$A$286,Hilfstabelle!$B$1:$B$286))","v":""}]
[null,null,null,null,null,null,null,null,null,null,null,null,null,null,null,null,null,null,null,null,{"$f":"IF(W1273=\"\",\"\",LOOKUP(W1273,Hilfstabelle!$A$1:$A$286,Hilfstabelle!$B$1:$B$286))","v":""}]
[null,null,null,null,null,null,null,null,null,null,null,null,null,null,null,null,null,null,null,null,{"$f":"IF(W1274=\"\",\"\",LOOKUP(W1274,Hilfstabelle!$A$1:$A$286,Hilfstabelle!$B$1:$B$286))","v":""}]
[null,null,null,null,null,null,null,null,null,null,null,null,null,null,null,null,null,null,null,null,{"$f":"IF(W1275=\"\",\"\",LOOKUP(W1275,Hilfstabelle!$A$1:$A$286,Hilfstabelle!$B$1:$B$286))","v":""}]
[null,null,null,null,null,null,null,null,null,null,null,null,null,null,null,null,null,null,null,null,{"$f":"IF(W1276=\"\",\"\",LOOKUP(W1276,Hilfstabelle!$A$1:$A$286,Hilfstabelle!$B$1:$B$286))","v":""}]
[null,null,null,null,null,null,null,null,null,null,null,null,null,null,null,null,null,null,null,null,{"$f":"IF(W1277=\"\",\"\",LOOKUP(W1277,Hilfstabelle!$A$1:$A$286,Hilfstabelle!$B$1:$B$286))","v":""}]
[null,null,null,null,null,null,null,null,null,null,null,null,null,null,null,null,null,null,null,null,{"$f":"IF(W1278=\"\",\"\",LOOKUP(W1278,Hilfstabelle!$A$1:$A$286,Hilfstabelle!$B$1:$B$286))","v":""}]
[null,null,null,null,null,null,null,null,null,null,null,null,null,null,null,null,null,null,null,null,{"$f":"IF(W1279=\"\",\"\",LOOKUP(W1279,Hilfstabelle!$A$1:$A$286,Hilfstabelle!$B$1:$B$286))","v":""}]
[null,null,null,null,null,null,null,null,null,null,null,null,null,null,null,null,null,null,null,null,{"$f":"IF(W1280=\"\",\"\",LOOKUP(W1280,Hilfstabelle!$A$1:$A$286,Hilfstabelle!$B$1:$B$286))","v":""}]
[null,null,null,null,null,null,null,null,null,null,null,null,null,null,null,null,null,null,null,null,{"$f":"IF(W1281=\"\",\"\",LOOKUP(W1281,Hilfstabelle!$A$1:$A$286,Hilfstabelle!$B$1:$B$286))","v":""}]
[null,null,null,null,null,null,null,null,null,null,null,null,null,null,null,null,null,null,null,null,{"$f":"IF(W1282=\"\",\"\",LOOKUP(W1282,Hilfstabelle!$A$1:$A$286,Hilfstabelle!$B$1:$B$286))","v":""}]
[null,null,null,null,null,null,null,null,null,null,null,null,null,null,null,null,null,null,null,null,{"$f":"IF(W1283=\"\",\"\",LOOKUP(W1283,Hilfstabelle!$A$1:$A$286,Hilfstabelle!$B$1:$B$286))","v":""}]
[null,null,null,null,null,null,null,null,null,null,null,null,null,null,null,null,null,null,null,null,{"$f":"IF(W1284=\"\",\"\",LOOKUP(W1284,Hilfstabelle!$A$1:$A$286,Hilfstabelle!$B$1:$B$286))","v":""}]
[null,null,null,null,null,null,null,null,null,null,null,null,null,null,null,null,null,null,null,null,{"$f":"IF(W1285=\"\",\"\",LOOKUP(W1285,Hilfstabelle!$A$1:$A$286,Hilfstabelle!$B$1:$B$286))","v":""}]
[null,null,null,null,null,null,null,null,null,null,null,null,null,null,null,null,null,null,null,null,{"$f":"IF(W1286=\"\",\"\",LOOKUP(W1286,Hilfstabelle!$A$1:$A$286,Hilfstabelle!$B$1:$B$286))","v":""}]
[null,null,null,null,null,null,null,null,null,null,null,null,null,null,null,null,null,null,null,null,{"$f":"IF(W1287=\"\",\"\",LOOKUP(W1287,Hilfstabelle!$A$1:$A$286,Hilfstabelle!$B$1:$B$286))","v":""}]
[null,null,null,null,null,null,null,null,null,null,null,null,null,null,null,null,null,null,null,null,{"$f":"IF(W1288=\"\",\"\",LOOKUP(W1288,Hilfstabelle!$A$1:$A$286,Hilfstabelle!$B$1:$B$286))","v":""}]
[null,null,null,null,null,null,null,null,null,null,null,null,null,null,null,null,null,null,null,null,{"$f":"IF(W1289=\"\",\"\",LOOKUP(W1289,Hilfstabelle!$A$1:$A$286,Hilfstabelle!$B$1:$B$286))","v":""}]
[null,null,null,null,null,null,null,null,null,null,null,null,null,null,null,null,null,null,null,null,{"$f":"IF(W1290=\"\",\"\",LOOKUP(W1290,Hilfstabelle!$A$1:$A$286,Hilfstabelle!$B$1:$B$286))","v":""}]
[null,null,null,null,null,null,null,null,null,null,null,null,null,null,null,null,null,null,null,null,{"$f":"IF(W1291=\"\",\"\",LOOKUP(W1291,Hilfstabelle!$A$1:$A$286,Hilfstabelle!$B$1:$B$286))","v":""}]
[null,null,null,null,null,null,null,null,null,null,null,null,null,null,null,null,null,null,null,null,{"$f":"IF(W1292=\"\",\"\",LOOKUP(W1292,Hilfstabelle!$A$1:$A$286,Hilfstabelle!$B$1:$B$286))","v":""}]
[null,null,null,null,null,null,null,null,null,null,null,null,null,null,null,null,null,null,null,null,{"$f":"IF(W1293=\"\",\"\",LOOKUP(W1293,Hilfstabelle!$A$1:$A$286,Hilfstabelle!$B$1:$B$286))","v":""}]
[null,null,null,null,null,null,null,null,null,null,null,null,null,null,null,null,null,null,null,null,{"$f":"IF(W1294=\"\",\"\",LOOKUP(W1294,Hilfstabelle!$A$1:$A$286,Hilfstabelle!$B$1:$B$286))","v":""}]
[null,null,null,null,null,null,null,null,null,null,null,null,null,null,null,null,null,null,null,null,{"$f":"IF(W1295=\"\",\"\",LOOKUP(W1295,Hilfstabelle!$A$1:$A$286,Hilfstabelle!$B$1:$B$286))","v":""}]
[null,null,null,null,null,null,null,null,null,null,null,null,null,null,null,null,null,null,null,null,{"$f":"IF(W1296=\"\",\"\",LOOKUP(W1296,Hilfstabelle!$A$1:$A$286,Hilfstabelle!$B$1:$B$286))","v":""}]
[null,null,null,null,null,null,null,null,null,null,null,null,null,null,null,null,null,null,null,null,{"$f":"IF(W1297=\"\",\"\",LOOKUP(W1297,Hilfstabelle!$A$1:$A$286,Hilfstabelle!$B$1:$B$286))","v":""}]
[null,null,null,null,null,null,null,null,null,null,null,null,null,null,null,null,null,null,null,null,{"$f":"IF(W1298=\"\",\"\",LOOKUP(W1298,Hilfstabelle!$A$1:$A$286,Hilfstabelle!$B$1:$B$286))","v":""}]
[null,null,null,null,null,null,null,null,null,null,null,null,null,null,null,null,null,null,null,null,{"$f":"IF(W1299=\"\",\"\",LOOKUP(W1299,Hilfstabelle!$A$1:$A$286,Hilfstabelle!$B$1:$B$286))","v":""}]
[null,null,null,null,null,null,null,null,null,null,null,null,null,null,null,null,null,null,null,null,{"$f":"IF(W1300=\"\",\"\",LOOKUP(W1300,Hilfstabelle!$A$1:$A$286,Hilfstabelle!$B$1:$B$286))","v":""}]
[null,null,null,null,null,null,null,null,null,null,null,null,null,null,null,null,null,null,null,null,{"$f":"IF(W1301=\"\",\"\",LOOKUP(W1301,Hilfstabelle!$A$1:$A$286,Hilfstabelle!$B$1:$B$286))","v":""}]
[null,null,null,null,null,null,null,null,null,null,null,null,null,null,null,null,null,null,null,null,{"$f":"IF(W1302=\"\",\"\",LOOKUP(W1302,Hilfstabelle!$A$1:$A$286,Hilfstabelle!$B$1:$B$286))","v":""}]
[null,null,null,null,null,null,null,null,null,null,null,null,null,null,null,null,null,null,null,null,{"$f":"IF(W1303=\"\",\"\",LOOKUP(W1303,Hilfstabelle!$A$1:$A$286,Hilfstabelle!$B$1:$B$286))","v":""}]
[null,null,null,null,null,null,null,null,null,null,null,null,null,null,null,null,null,null,null,null,{"$f":"IF(W1304=\"\",\"\",LOOKUP(W1304,Hilfstabelle!$A$1:$A$286,Hilfstabelle!$B$1:$B$286))","v":""}]
[null,null,null,null,null,null,null,null,null,null,null,null,null,null,null,null,null,null,null,null,{"$f":"IF(W1305=\"\",\"\",LOOKUP(W1305,Hilfstabelle!$A$1:$A$286,Hilfstabelle!$B$1:$B$286))","v":""}]
[null,null,null,null,null,null,null,null,null,null,null,null,null,null,null,null,null,null,null,null,{"$f":"IF(W1306=\"\",\"\",LOOKUP(W1306,Hilfstabelle!$A$1:$A$286,Hilfstabelle!$B$1:$B$286))","v":""}]
[null,null,null,null,null,null,null,null,null,null,null,null,null,null,null,null,null,null,null,null,{"$f":"IF(W1307=\"\",\"\",LOOKUP(W1307,Hilfstabelle!$A$1:$A$286,Hilfstabelle!$B$1:$B$286))","v":""}]
[null,null,null,null,null,null,null,null,null,null,null,null,null,null,null,null,null,null,null,null,{"$f":"IF(W1308=\"\",\"\",LOOKUP(W1308,Hilfstabelle!$A$1:$A$286,Hilfstabelle!$B$1:$B$286))","v":""}]
[null,null,null,null,null,null,null,null,null,null,null,null,null,null,null,null,null,null,null,null,{"$f":"IF(W1309=\"\",\"\",LOOKUP(W1309,Hilfstabelle!$A$1:$A$286,Hilfstabelle!$B$1:$B$286))","v":""}]
[null,null,null,null,null,null,null,null,null,null,null,null,null,null,null,null,null,null,null,null,{"$f":"IF(W1310=\"\",\"\",LOOKUP(W1310,Hilfstabelle!$A$1:$A$286,Hilfstabelle!$B$1:$B$286))","v":""}]
[null,null,null,null,null,null,null,null,null,null,null,null,null,null,null,null,null,null,null,null,{"$f":"IF(W1311=\"\",\"\",LOOKUP(W1311,Hilfstabelle!$A$1:$A$286,Hilfstabelle!$B$1:$B$286))","v":""}]
[null,null,null,null,null,null,null,null,null,null,null,null,null,null,null,null,null,null,null,null,{"$f":"IF(W1312=\"\",\"\",LOOKUP(W1312,Hilfstabelle!$A$1:$A$286,Hilfstabelle!$B$1:$B$286))","v":""}]
[null,null,null,null,null,null,null,null,null,null,null,null,null,null,null,null,null,null,null,null,{"$f":"IF(W1313=\"\",\"\",LOOKUP(W1313,Hilfstabelle!$A$1:$A$286,Hilfstabelle!$B$1:$B$286))","v":""}]
[null,null,null,null,null,null,null,null,null,null,null,null,null,null,null,null,null,null,null,null,{"$f":"IF(W1314=\"\",\"\",LOOKUP(W1314,Hilfstabelle!$A$1:$A$286,Hilfstabelle!$B$1:$B$286))","v":""}]
[null,null,null,null,null,null,null,null,null,null,null,null,null,null,null,null,null,null,null,null,{"$f":"IF(W1315=\"\",\"\",LOOKUP(W1315,Hilfstabelle!$A$1:$A$286,Hilfstabelle!$B$1:$B$286))","v":""}]
[null,null,null,null,null,null,null,null,null,null,null,null,null,null,null,null,null,null,null,null,{"$f":"IF(W1316=\"\",\"\",LOOKUP(W1316,Hilfstabelle!$A$1:$A$286,Hilfstabelle!$B$1:$B$286))","v":""}]
[null,null,null,null,null,null,null,null,null,null,null,null,null,null,null,null,null,null,null,null,{"$f":"IF(W1317=\"\",\"\",LOOKUP(W1317,Hilfstabelle!$A$1:$A$286,Hilfstabelle!$B$1:$B$286))","v":""}]
[null,null,null,null,null,null,null,null,null,null,null,null,null,null,null,null,null,null,null,null,{"$f":"IF(W1318=\"\",\"\",LOOKUP(W1318,Hilfstabelle!$A$1:$A$286,Hilfstabelle!$B$1:$B$286))","v":""}]
[null,null,null,null,null,null,null,null,null,null,null,null,null,null,null,null,null,null,null,null,{"$f":"IF(W1319=\"\",\"\",LOOKUP(W1319,Hilfstabelle!$A$1:$A$286,Hilfstabelle!$B$1:$B$286))","v":""}]
[null,null,null,null,null,null,null,null,null,null,null,null,null,null,null,null,null,null,null,null,{"$f":"IF(W1320=\"\",\"\",LOOKUP(W1320,Hilfstabelle!$A$1:$A$286,Hilfstabelle!$B$1:$B$286))","v":""}]
[null,null,null,null,null,null,null,null,null,null,null,null,null,null,null,null,null,null,null,null,{"$f":"IF(W1321=\"\",\"\",LOOKUP(W1321,Hilfstabelle!$A$1:$A$286,Hilfstabelle!$B$1:$B$286))","v":""}]
[null,null,null,null,null,null,null,null,null,null,null,null,null,null,null,null,null,null,null,null,{"$f":"IF(W1322=\"\",\"\",LOOKUP(W1322,Hilfstabelle!$A$1:$A$286,Hilfstabelle!$B$1:$B$286))","v":""}]
[null,null,null,null,null,null,null,null,null,null,null,null,null,null,null,null,null,null,null,null,{"$f":"IF(W1323=\"\",\"\",LOOKUP(W1323,Hilfstabelle!$A$1:$A$286,Hilfstabelle!$B$1:$B$286))","v":""}]
[null,null,null,null,null,null,null,null,null,null,null,null,null,null,null,null,null,null,null,null,{"$f":"IF(W1324=\"\",\"\",LOOKUP(W1324,Hilfstabelle!$A$1:$A$286,Hilfstabelle!$B$1:$B$286))","v":""}]
[null,null,null,null,null,null,null,null,null,null,null,null,null,null,null,null,null,null,null,null,{"$f":"IF(W1325=\"\",\"\",LOOKUP(W1325,Hilfstabelle!$A$1:$A$286,Hilfstabelle!$B$1:$B$286))","v":""}]
[null,null,null,null,null,null,null,null,null,null,null,null,null,null,null,null,null,null,null,null,{"$f":"IF(W1326=\"\",\"\",LOOKUP(W1326,Hilfstabelle!$A$1:$A$286,Hilfstabelle!$B$1:$B$286))","v":""}]
[null,null,null,null,null,null,null,null,null,null,null,null,null,null,null,null,null,null,null,null,{"$f":"IF(W1327=\"\",\"\",LOOKUP(W1327,Hilfstabelle!$A$1:$A$286,Hilfstabelle!$B$1:$B$286))","v":""}]
[null,null,null,null,null,null,null,null,null,null,null,null,null,null,null,null,null,null,null,null,{"$f":"IF(W1328=\"\",\"\",LOOKUP(W1328,Hilfstabelle!$A$1:$A$286,Hilfstabelle!$B$1:$B$286))","v":""}]
[null,null,null,null,null,null,null,null,null,null,null,null,null,null,null,null,null,null,null,null,{"$f":"IF(W1329=\"\",\"\",LOOKUP(W1329,Hilfstabelle!$A$1:$A$286,Hilfstabelle!$B$1:$B$286))","v":""}]
[null,null,null,null,null,null,null,null,null,null,null,null,null,null,null,null,null,null,null,null,{"$f":"IF(W1330=\"\",\"\",LOOKUP(W1330,Hilfstabelle!$A$1:$A$286,Hilfstabelle!$B$1:$B$286))","v":""}]
[null,null,null,null,null,null,null,null,null,null,null,null,null,null,null,null,null,null,null,null,{"$f":"IF(W1331=\"\",\"\",LOOKUP(W1331,Hilfstabelle!$A$1:$A$286,Hilfstabelle!$B$1:$B$286))","v":""}]
[null,null,null,null,null,null,null,null,null,null,null,null,null,null,null,null,null,null,null,null,{"$f":"IF(W1332=\"\",\"\",LOOKUP(W1332,Hilfstabelle!$A$1:$A$286,Hilfstabelle!$B$1:$B$286))","v":""}]
[null,null,null,null,null,null,null,null,null,null,null,null,null,null,null,null,null,null,null,null,{"$f":"IF(W1333=\"\",\"\",LOOKUP(W1333,Hilfstabelle!$A$1:$A$286,Hilfstabelle!$B$1:$B$286))","v":""}]
[null,null,null,null,null,null,null,null,null,null,null,null,null,null,null,null,null,null,null,null,{"$f":"IF(W1334=\"\",\"\",LOOKUP(W1334,Hilfstabelle!$A$1:$A$286,Hilfstabelle!$B$1:$B$286))","v":""}]
[null,null,null,null,null,null,null,null,null,null,null,null,null,null,null,null,null,null,null,null,{"$f":"IF(W1335=\"\",\"\",LOOKUP(W1335,Hilfstabelle!$A$1:$A$286,Hilfstabelle!$B$1:$B$286))","v":""}]
[null,null,null,null,null,null,null,null,null,null,null,null,null,null,null,null,null,null,null,null,{"$f":"IF(W1336=\"\",\"\",LOOKUP(W1336,Hilfstabelle!$A$1:$A$286,Hilfstabelle!$B$1:$B$286))","v":""}]
[null,null,null,null,null,null,null,null,null,null,null,null,null,null,null,null,null,null,null,null,{"$f":"IF(W1337=\"\",\"\",LOOKUP(W1337,Hilfstabelle!$A$1:$A$286,Hilfstabelle!$B$1:$B$286))","v":""}]
[null,null,null,null,null,null,null,null,null,null,null,null,null,null,null,null,null,null,null,null,{"$f":"IF(W1338=\"\",\"\",LOOKUP(W1338,Hilfstabelle!$A$1:$A$286,Hilfstabelle!$B$1:$B$286))","v":""}]
[null,null,null,null,null,null,null,null,null,null,null,null,null,null,null,null,null,null,null,null,{"$f":"IF(W1339=\"\",\"\",LOOKUP(W1339,Hilfstabelle!$A$1:$A$286,Hilfstabelle!$B$1:$B$286))","v":""}]
[null,null,null,null,null,null,null,null,null,null,null,null,null,null,null,null,null,null,null,null,{"$f":"IF(W1340=\"\",\"\",LOOKUP(W1340,Hilfstabelle!$A$1:$A$286,Hilfstabelle!$B$1:$B$286))","v":""}]
[null,null,null,null,null,null,null,null,null,null,null,null,null,null,null,null,null,null,null,null,{"$f":"IF(W1341=\"\",\"\",LOOKUP(W1341,Hilfstabelle!$A$1:$A$286,Hilfstabelle!$B$1:$B$286))","v":""}]
[null,null,null,null,null,null,null,null,null,null,null,null,null,null,null,null,null,null,null,null,{"$f":"IF(W1342=\"\",\"\",LOOKUP(W1342,Hilfstabelle!$A$1:$A$286,Hilfstabelle!$B$1:$B$286))","v":""}]
[null,null,null,null,null,null,null,null,null,null,null,null,null,null,null,null,null,null,null,null,{"$f":"IF(W1343=\"\",\"\",LOOKUP(W1343,Hilfstabelle!$A$1:$A$286,Hilfstabelle!$B$1:$B$286))","v":""}]
[null,null,null,null,null,null,null,null,null,null,null,null,null,null,null,null,null,null,null,null,{"$f":"IF(W1344=\"\",\"\",LOOKUP(W1344,Hilfstabelle!$A$1:$A$286,Hilfstabelle!$B$1:$B$286))","v":""}]
[null,null,null,null,null,null,null,null,null,null,null,null,null,null,null,null,null,null,null,null,{"$f":"IF(W1345=\"\",\"\",LOOKUP(W1345,Hilfstabelle!$A$1:$A$286,Hilfstabelle!$B$1:$B$286))","v":""}]
[null,null,null,null,null,null,null,null,null,null,null,null,null,null,null,null,null,null,null,null,{"$f":"IF(W1346=\"\",\"\",LOOKUP(W1346,Hilfstabelle!$A$1:$A$286,Hilfstabelle!$B$1:$B$286))","v":""}]
[null,null,null,null,null,null,null,null,null,null,null,null,null,null,null,null,null,null,null,null,{"$f":"IF(W1347=\"\",\"\",LOOKUP(W1347,Hilfstabelle!$A$1:$A$286,Hilfstabelle!$B$1:$B$286))","v":""}]
[null,null,null,null,null,null,null,null,null,null,null,null,null,null,null,null,null,null,null,null,{"$f":"IF(W1348=\"\",\"\",LOOKUP(W1348,Hilfstabelle!$A$1:$A$286,Hilfstabelle!$B$1:$B$286))","v":""}]
[null,null,null,null,null,null,null,null,null,null,null,null,null,null,null,null,null,null,null,null,{"$f":"IF(W1349=\"\",\"\",LOOKUP(W1349,Hilfstabelle!$A$1:$A$286,Hilfstabelle!$B$1:$B$286))","v":""}]
[null,null,null,null,null,null,null,null,null,null,null,null,null,null,null,null,null,null,null,null,{"$f":"IF(W1350=\"\",\"\",LOOKUP(W1350,Hilfstabelle!$A$1:$A$286,Hilfstabelle!$B$1:$B$286))","v":""}]
[null,null,null,null,null,null,null,null,null,null,null,null,null,null,null,null,null,null,null,null,{"$f":"IF(W1351=\"\",\"\",LOOKUP(W1351,Hilfstabelle!$A$1:$A$286,Hilfstabelle!$B$1:$B$286))","v":""}]
[null,null,null,null,null,null,null,null,null,null,null,null,null,null,null,null,null,null,null,null,{"$f":"IF(W1352=\"\",\"\",LOOKUP(W1352,Hilfstabelle!$A$1:$A$286,Hilfstabelle!$B$1:$B$286))","v":""}]
[null,null,null,null,null,null,null,null,null,null,null,null,null,null,null,null,null,null,null,null,{"$f":"IF(W1353=\"\",\"\",LOOKUP(W1353,Hilfstabelle!$A$1:$A$286,Hilfstabelle!$B$1:$B$286))","v":""}]
[null,null,null,null,null,null,null,null,null,null,null,null,null,null,null,null,null,null,null,null,{"$f":"IF(W1354=\"\",\"\",LOOKUP(W1354,Hilfstabelle!$A$1:$A$286,Hilfstabelle!$B$1:$B$286))","v":""}]
[null,null,null,null,null,null,null,null,null,null,null,null,null,null,null,null,null,null,null,null,{"$f":"IF(W1355=\"\",\"\",LOOKUP(W1355,Hilfstabelle!$A$1:$A$286,Hilfstabelle!$B$1:$B$286))","v":""}]
[null,null,null,null,null,null,null,null,null,null,null,null,null,null,null,null,null,null,null,null,{"$f":"IF(W1356=\"\",\"\",LOOKUP(W1356,Hilfstabelle!$A$1:$A$286,Hilfstabelle!$B$1:$B$286))","v":""}]
[null,null,null,null,null,null,null,null,null,null,null,null,null,null,null,null,null,null,null,null,{"$f":"IF(W1357=\"\",\"\",LOOKUP(W1357,Hilfstabelle!$A$1:$A$286,Hilfstabelle!$B$1:$B$286))","v":""}]
[null,null,null,null,null,null,null,null,null,null,null,null,null,null,null,null,null,null,null,null,{"$f":"IF(W1358=\"\",\"\",LOOKUP(W1358,Hilfstabelle!$A$1:$A$286,Hilfstabelle!$B$1:$B$286))","v":""}]
[null,null,null,null,null,null,null,null,null,null,null,null,null,null,null,null,null,null,null,null,{"$f":"IF(W1359=\"\",\"\",LOOKUP(W1359,Hilfstabelle!$A$1:$A$286,Hilfstabelle!$B$1:$B$286))","v":""}]
[null,null,null,null,null,null,null,null,null,null,null,null,null,null,null,null,null,null,null,null,{"$f":"IF(W1360=\"\",\"\",LOOKUP(W1360,Hilfstabelle!$A$1:$A$286,Hilfstabelle!$B$1:$B$286))","v":""}]
[null,null,null,null,null,null,null,null,null,null,null,null,null,null,null,null,null,null,null,null,{"$f":"IF(W1361=\"\",\"\",LOOKUP(W1361,Hilfstabelle!$A$1:$A$286,Hilfstabelle!$B$1:$B$286))","v":""}]
[null,null,null,null,null,null,null,null,null,null,null,null,null,null,null,null,null,null,null,null,{"$f":"IF(W1362=\"\",\"\",LOOKUP(W1362,Hilfstabelle!$A$1:$A$286,Hilfstabelle!$B$1:$B$286))","v":""}]
[null,null,null,null,null,null,null,null,null,null,null,null,null,null,null,null,null,null,null,null,{"$f":"IF(W1363=\"\",\"\",LOOKUP(W1363,Hilfstabelle!$A$1:$A$286,Hilfstabelle!$B$1:$B$286))","v":""}]
[null,null,null,null,null,null,null,null,null,null,null,null,null,null,null,null,null,null,null,null,{"$f":"IF(W1364=\"\",\"\",LOOKUP(W1364,Hilfstabelle!$A$1:$A$286,Hilfstabelle!$B$1:$B$286))","v":""}]
[null,null,null,null,null,null,null,null,null,null,null,null,null,null,null,null,null,null,null,null,{"$f":"IF(W1365=\"\",\"\",LOOKUP(W1365,Hilfstabelle!$A$1:$A$286,Hilfstabelle!$B$1:$B$286))","v":""}]
[null,null,null,null,null,null,null,null,null,null,null,null,null,null,null,null,null,null,null,null,{"$f":"IF(W1366=\"\",\"\",LOOKUP(W1366,Hilfstabelle!$A$1:$A$286,Hilfstabelle!$B$1:$B$286))","v":""}]
[null,null,null,null,null,null,null,null,null,null,null,null,null,null,null,null,null,null,null,null,{"$f":"IF(W1367=\"\",\"\",LOOKUP(W1367,Hilfstabelle!$A$1:$A$286,Hilfstabelle!$B$1:$B$286))","v":""}]
[null,null,null,null,null,null,null,null,null,null,null,null,null,null,null,null,null,null,null,null,{"$f":"IF(W1368=\"\",\"\",LOOKUP(W1368,Hilfstabelle!$A$1:$A$286,Hilfstabelle!$B$1:$B$286))","v":""}]
[null,null,null,null,null,null,null,null,null,null,null,null,null,null,null,null,null,null,null,null,{"$f":"IF(W1369=\"\",\"\",LOOKUP(W1369,Hilfstabelle!$A$1:$A$286,Hilfstabelle!$B$1:$B$286))","v":""}]
[null,null,null,null,null,null,null,null,null,null,null,null,null,null,null,null,null,null,null,null,{"$f":"IF(W1370=\"\",\"\",LOOKUP(W1370,Hilfstabelle!$A$1:$A$286,Hilfstabelle!$B$1:$B$286))","v":""}]
[null,null,null,null,null,null,null,null,null,null,null,null,null,null,null,null,null,null,null,null,{"$f":"IF(W1371=\"\",\"\",LOOKUP(W1371,Hilfstabelle!$A$1:$A$286,Hilfstabelle!$B$1:$B$286))","v":""}]
[null,null,null,null,null,null,null,null,null,null,null,null,null,null,null,null,null,null,null,null,{"$f":"IF(W1372=\"\",\"\",LOOKUP(W1372,Hilfstabelle!$A$1:$A$286,Hilfstabelle!$B$1:$B$286))","v":""}]
[null,null,null,null,null,null,null,null,null,null,null,null,null,null,null,null,null,null,null,null,{"$f":"IF(W1373=\"\",\"\",LOOKUP(W1373,Hilfstabelle!$A$1:$A$286,Hilfstabelle!$B$1:$B$286))","v":""}]
[null,null,null,null,null,null,null,null,null,null,null,null,null,null,null,null,null,null,null,null,{"$f":"IF(W1374=\"\",\"\",LOOKUP(W1374,Hilfstabelle!$A$1:$A$286,Hilfstabelle!$B$1:$B$286))","v":""}]
[null,null,null,null,null,null,null,null,null,null,null,null,null,null,null,null,null,null,null,null,{"$f":"IF(W1375=\"\",\"\",LOOKUP(W1375,Hilfstabelle!$A$1:$A$286,Hilfstabelle!$B$1:$B$286))","v":""}]
[null,null,null,null,null,null,null,null,null,null,null,null,null,null,null,null,null,null,null,null,{"$f":"IF(W1376=\"\",\"\",LOOKUP(W1376,Hilfstabelle!$A$1:$A$286,Hilfstabelle!$B$1:$B$286))","v":""}]
[null,null,null,null,null,null,null,null,null,null,null,null,null,null,null,null,null,null,null,null,{"$f":"IF(W1377=\"\",\"\",LOOKUP(W1377,Hilfstabelle!$A$1:$A$286,Hilfstabelle!$B$1:$B$286))","v":""}]
[null,null,null,null,null,null,null,null,null,null,null,null,null,null,null,null,null,null,null,null,{"$f":"IF(W1378=\"\",\"\",LOOKUP(W1378,Hilfstabelle!$A$1:$A$286,Hilfstabelle!$B$1:$B$286))","v":""}]
[null,null,null,null,null,null,null,null,null,null,null,null,null,null,null,null,null,null,null,null,{"$f":"IF(W1379=\"\",\"\",LOOKUP(W1379,Hilfstabelle!$A$1:$A$286,Hilfstabelle!$B$1:$B$286))","v":""}]
[null,null,null,null,null,null,null,null,null,null,null,null,null,null,null,null,null,null,null,null,{"$f":"IF(W1380=\"\",\"\",LOOKUP(W1380,Hilfstabelle!$A$1:$A$286,Hilfstabelle!$B$1:$B$286))","v":""}]
[null,null,null,null,null,null,null,null,null,null,null,null,null,null,null,null,null,null,null,null,{"$f":"IF(W1381=\"\",\"\",LOOKUP(W1381,Hilfstabelle!$A$1:$A$286,Hilfstabelle!$B$1:$B$286))","v":""}]
[null,null,null,null,null,null,null,null,null,null,null,null,null,null,null,null,null,null,null,null,{"$f":"IF(W1382=\"\",\"\",LOOKUP(W1382,Hilfstabelle!$A$1:$A$286,Hilfstabelle!$B$1:$B$286))","v":""}]
[null,null,null,null,null,null,null,null,null,null,null,null,null,null,null,null,null,null,null,null,{"$f":"IF(W1383=\"\",\"\",LOOKUP(W1383,Hilfstabelle!$A$1:$A$286,Hilfstabelle!$B$1:$B$286))","v":""}]
[null,null,null,null,null,null,null,null,null,null,null,null,null,null,null,null,null,null,null,null,{"$f":"IF(W1384=\"\",\"\",LOOKUP(W1384,Hilfstabelle!$A$1:$A$286,Hilfstabelle!$B$1:$B$286))","v":""}]
[null,null,null,null,null,null,null,null,null,null,null,null,null,null,null,null,null,null,null,null,{"$f":"IF(W1385=\"\",\"\",LOOKUP(W1385,Hilfstabelle!$A$1:$A$286,Hilfstabelle!$B$1:$B$286))","v":""}]
[null,null,null,null,null,null,null,null,null,null,null,null,null,null,null,null,null,null,null,null,{"$f":"IF(W1386=\"\",\"\",LOOKUP(W1386,Hilfstabelle!$A$1:$A$286,Hilfstabelle!$B$1:$B$286))","v":""}]
[null,null,null,null,null,null,null,null,null,null,null,null,null,null,null,null,null,null,null,null,{"$f":"IF(W1387=\"\",\"\",LOOKUP(W1387,Hilfstabelle!$A$1:$A$286,Hilfstabelle!$B$1:$B$286))","v":""}]
[null,null,null,null,null,null,null,null,null,null,null,null,null,null,null,null,null,null,null,null,{"$f":"IF(W1388=\"\",\"\",LOOKUP(W1388,Hilfstabelle!$A$1:$A$286,Hilfstabelle!$B$1:$B$286))","v":""}]
[null,null,null,null,null,null,null,null,null,null,null,null,null,null,null,null,null,null,null,null,{"$f":"IF(W1389=\"\",\"\",LOOKUP(W1389,Hilfstabelle!$A$1:$A$286,Hilfstabelle!$B$1:$B$286))","v":""}]
[null,null,null,null,null,null,null,null,null,null,null,null,null,null,null,null,null,null,null,null,{"$f":"IF(W1390=\"\",\"\",LOOKUP(W1390,Hilfstabelle!$A$1:$A$286,Hilfstabelle!$B$1:$B$286))","v":""}]
[null,null,null,null,null,null,null,null,null,null,null,null,null,null,null,null,null,null,null,null,{"$f":"IF(W1391=\"\",\"\",LOOKUP(W1391,Hilfstabelle!$A$1:$A$286,Hilfstabelle!$B$1:$B$286))","v":""}]
[null,null,null,null,null,null,null,null,null,null,null,null,null,null,null,null,null,null,null,null,{"$f":"IF(W1392=\"\",\"\",LOOKUP(W1392,Hilfstabelle!$A$1:$A$286,Hilfstabelle!$B$1:$B$286))","v":""}]
[null,null,null,null,null,null,null,null,null,null,null,null,null,null,null,null,null,null,null,null,{"$f":"IF(W1393=\"\",\"\",LOOKUP(W1393,Hilfstabelle!$A$1:$A$286,Hilfstabelle!$B$1:$B$286))","v":""}]
[null,null,null,null,null,null,null,null,null,null,null,null,null,null,null,null,null,null,null,null,{"$f":"IF(W1394=\"\",\"\",LOOKUP(W1394,Hilfstabelle!$A$1:$A$286,Hilfstabelle!$B$1:$B$286))","v":""}]
[null,null,null,null,null,null,null,null,null,null,null,null,null,null,null,null,null,null,null,null,{"$f":"IF(W1395=\"\",\"\",LOOKUP(W1395,Hilfstabelle!$A$1:$A$286,Hilfstabelle!$B$1:$B$286))","v":""}]
[null,null,null,null,null,null,null,null,null,null,null,null,null,null,null,null,null,null,null,null,{"$f":"IF(W1396=\"\",\"\",LOOKUP(W1396,Hilfstabelle!$A$1:$A$286,Hilfstabelle!$B$1:$B$286))","v":""}]
[null,null,null,null,null,null,null,null,null,null,null,null,null,null,null,null,null,null,null,null,{"$f":"IF(W1397=\"\",\"\",LOOKUP(W1397,Hilfstabelle!$A$1:$A$286,Hilfstabelle!$B$1:$B$286))","v":""}]
[null,null,null,null,null,null,null,null,null,null,null,null,null,null,null,null,null,null,null,null,{"$f":"IF(W1398=\"\",\"\",LOOKUP(W1398,Hilfstabelle!$A$1:$A$286,Hilfstabelle!$B$1:$B$286))","v":""}]
[null,null,null,null,null,null,null,null,null,null,null,null,null,null,null,null,null,null,null,null,{"$f":"IF(W1399=\"\",\"\",LOOKUP(W1399,Hilfstabelle!$A$1:$A$286,Hilfstabelle!$B$1:$B$286))","v":""}]
[null,null,null,null,null,null,null,null,null,null,null,null,null,null,null,null,null,null,null,null,{"$f":"IF(W1400=\"\",\"\",LOOKUP(W1400,Hilfstabelle!$A$1:$A$286,Hilfstabelle!$B$1:$B$286))","v":""}]
[null,null,null,null,null,null,null,null,null,null,null,null,null,null,null,null,null,null,null,null,{"$f":"IF(W1401=\"\",\"\",LOOKUP(W1401,Hilfstabelle!$A$1:$A$286,Hilfstabelle!$B$1:$B$286))","v":""}]
[null,null,null,null,null,null,null,null,null,null,null,null,null,null,null,null,null,null,null,null,{"$f":"IF(W1402=\"\",\"\",LOOKUP(W1402,Hilfstabelle!$A$1:$A$286,Hilfstabelle!$B$1:$B$286))","v":""}]
[null,null,null,null,null,null,null,null,null,null,null,null,null,null,null,null,null,null,null,null,{"$f":"IF(W1403=\"\",\"\",LOOKUP(W1403,Hilfstabelle!$A$1:$A$286,Hilfstabelle!$B$1:$B$286))","v":""}]
[null,null,null,null,null,null,null,null,null,null,null,null,null,null,null,null,null,null,null,null,{"$f":"IF(W1404=\"\",\"\",LOOKUP(W1404,Hilfstabelle!$A$1:$A$286,Hilfstabelle!$B$1:$B$286))","v":""}]
[null,null,null,null,null,null,null,null,null,null,null,null,null,null,null,null,null,null,null,null,{"$f":"IF(W1405=\"\",\"\",LOOKUP(W1405,Hilfstabelle!$A$1:$A$286,Hilfstabelle!$B$1:$B$286))","v":""}]
[null,null,null,null,null,null,null,null,null,null,null,null,null,null,null,null,null,null,null,null,{"$f":"IF(W1406=\"\",\"\",LOOKUP(W1406,Hilfstabelle!$A$1:$A$286,Hilfstabelle!$B$1:$B$286))","v":""}]
[null,null,null,null,null,null,null,null,null,null,null,null,null,null,null,null,null,null,null,null,{"$f":"IF(W1407=\"\",\"\",LOOKUP(W1407,Hilfstabelle!$A$1:$A$286,Hilfstabelle!$B$1:$B$286))","v":""}]
[null,null,null,null,null,null,null,null,null,null,null,null,null,null,null,null,null,null,null,null,{"$f":"IF(W1408=\"\",\"\",LOOKUP(W1408,Hilfstabelle!$A$1:$A$286,Hilfstabelle!$B$1:$B$286))","v":""}]
[null,null,null,null,null,null,null,null,null,null,null,null,null,null,null,null,null,null,null,null,{"$f":"IF(W1409=\"\",\"\",LOOKUP(W1409,Hilfstabelle!$A$1:$A$286,Hilfstabelle!$B$1:$B$286))","v":""}]
[null,null,null,null,null,null,null,null,null,null,null,null,null,null,null,null,null,null,null,null,{"$f":"IF(W1410=\"\",\"\",LOOKUP(W1410,Hilfstabelle!$A$1:$A$286,Hilfstabelle!$B$1:$B$286))","v":""}]
[null,null,null,null,null,null,null,null,null,null,null,null,null,null,null,null,null,null,null,null,{"$f":"IF(W1411=\"\",\"\",LOOKUP(W1411,Hilfstabelle!$A$1:$A$286,Hilfstabelle!$B$1:$B$286))","v":""}]
[null,null,null,null,null,null,null,null,null,null,null,null,null,null,null,null,null,null,null,null,{"$f":"IF(W1412=\"\",\"\",LOOKUP(W1412,Hilfstabelle!$A$1:$A$286,Hilfstabelle!$B$1:$B$286))","v":""}]
[null,null,null,null,null,null,null,null,null,null,null,null,null,null,null,null,null,null,null,null,{"$f":"IF(W1413=\"\",\"\",LOOKUP(W1413,Hilfstabelle!$A$1:$A$286,Hilfstabelle!$B$1:$B$286))","v":""}]
[null,null,null,null,null,null,null,null,null,null,null,null,null,null,null,null,null,null,null,null,{"$f":"IF(W1414=\"\",\"\",LOOKUP(W1414,Hilfstabelle!$A$1:$A$286,Hilfstabelle!$B$1:$B$286))","v":""}]
[null,null,null,null,null,null,null,null,null,null,null,null,null,null,null,null,null,null,null,null,{"$f":"IF(W1415=\"\",\"\",LOOKUP(W1415,Hilfstabelle!$A$1:$A$286,Hilfstabelle!$B$1:$B$286))","v":""}]
[null,null,null,null,null,null,null,null,null,null,null,null,null,null,null,null,null,null,null,null,{"$f":"IF(W1416=\"\",\"\",LOOKUP(W1416,Hilfstabelle!$A$1:$A$286,Hilfstabelle!$B$1:$B$286))","v":""}]
[null,null,null,null,null,null,null,null,null,null,null,null,null,null,null,null,null,null,null,null,{"$f":"IF(W1417=\"\",\"\",LOOKUP(W1417,Hilfstabelle!$A$1:$A$286,Hilfstabelle!$B$1:$B$286))","v":""}]
[null,null,null,null,null,null,null,null,null,null,null,null,null,null,null,null,null,null,null,null,{"$f":"IF(W1418=\"\",\"\",LOOKUP(W1418,Hilfstabelle!$A$1:$A$286,Hilfstabelle!$B$1:$B$286))","v":""}]
[null,null,null,null,null,null,null,null,null,null,null,null,null,null,null,null,null,null,null,null,{"$f":"IF(W1419=\"\",\"\",LOOKUP(W1419,Hilfstabelle!$A$1:$A$286,Hilfstabelle!$B$1:$B$286))","v":""}]
[null,null,null,null,null,null,null,null,null,null,null,null,null,null,null,null,null,null,null,null,{"$f":"IF(W1420=\"\",\"\",LOOKUP(W1420,Hilfstabelle!$A$1:$A$286,Hilfstabelle!$B$1:$B$286))","v":""}]
[null,null,null,null,null,null,null,null,null,null,null,null,null,null,null,null,null,null,null,null,{"$f":"IF(W1421=\"\",\"\",LOOKUP(W1421,Hilfstabelle!$A$1:$A$286,Hilfstabelle!$B$1:$B$286))","v":""}]
[null,null,null,null,null,null,null,null,null,null,null,null,null,null,null,null,null,null,null,null,{"$f":"IF(W1422=\"\",\"\",LOOKUP(W1422,Hilfstabelle!$A$1:$A$286,Hilfstabelle!$B$1:$B$286))","v":""}]
[null,null,null,null,null,null,null,null,null,null,null,null,null,null,null,null,null,null,null,null,{"$f":"IF(W1423=\"\",\"\",LOOKUP(W1423,Hilfstabelle!$A$1:$A$286,Hilfstabelle!$B$1:$B$286))","v":""}]
[null,null,null,null,null,null,null,null,null,null,null,null,null,null,null,null,null,null,null,null,{"$f":"IF(W1424=\"\",\"\",LOOKUP(W1424,Hilfstabelle!$A$1:$A$286,Hilfstabelle!$B$1:$B$286))","v":""}]
[null,null,null,null,null,null,null,null,null,null,null,null,null,null,null,null,null,null,null,null,{"$f":"IF(W1425=\"\",\"\",LOOKUP(W1425,Hilfstabelle!$A$1:$A$286,Hilfstabelle!$B$1:$B$286))","v":""}]
[null,null,null,null,null,null,null,null,null,null,null,null,null,null,null,null,null,null,null,null,{"$f":"IF(W1426=\"\",\"\",LOOKUP(W1426,Hilfstabelle!$A$1:$A$286,Hilfstabelle!$B$1:$B$286))","v":""}]
[null,null,null,null,null,null,null,null,null,null,null,null,null,null,null,null,null,null,null,null,{"$f":"IF(W1427=\"\",\"\",LOOKUP(W1427,Hilfstabelle!$A$1:$A$286,Hilfstabelle!$B$1:$B$286))","v":""}]
[null,null,null,null,null,null,null,null,null,null,null,null,null,null,null,null,null,null,null,null,{"$f":"IF(W1428=\"\",\"\",LOOKUP(W1428,Hilfstabelle!$A$1:$A$286,Hilfstabelle!$B$1:$B$286))","v":""}]
[null,null,null,null,null,null,null,null,null,null,null,null,null,null,null,null,null,null,null,null,{"$f":"IF(W1429=\"\",\"\",LOOKUP(W1429,Hilfstabelle!$A$1:$A$286,Hilfstabelle!$B$1:$B$286))","v":""}]
[null,null,null,null,null,null,null,null,null,null,null,null,null,null,null,null,null,null,null,null,{"$f":"IF(W1430=\"\",\"\",LOOKUP(W1430,Hilfstabelle!$A$1:$A$286,Hilfstabelle!$B$1:$B$286))","v":""}]
[null,null,null,null,null,null,null,null,null,null,null,null,null,null,null,null,null,null,null,null,{"$f":"IF(W1431=\"\",\"\",LOOKUP(W1431,Hilfstabelle!$A$1:$A$286,Hilfstabelle!$B$1:$B$286))","v":""}]
[null,null,null,null,null,null,null,null,null,null,null,null,null,null,null,null,null,null,null,null,{"$f":"IF(W1432=\"\",\"\",LOOKUP(W1432,Hilfstabelle!$A$1:$A$286,Hilfstabelle!$B$1:$B$286))","v":""}]
[null,null,null,null,null,null,null,null,null,null,null,null,null,null,null,null,null,null,null,null,{"$f":"IF(W1433=\"\",\"\",LOOKUP(W1433,Hilfstabelle!$A$1:$A$286,Hilfstabelle!$B$1:$B$286))","v":""}]
[null,null,null,null,null,null,null,null,null,null,null,null,null,null,null,null,null,null,null,null,{"$f":"IF(W1434=\"\",\"\",LOOKUP(W1434,Hilfstabelle!$A$1:$A$286,Hilfstabelle!$B$1:$B$286))","v":""}]
[null,null,null,null,null,null,null,null,null,null,null,null,null,null,null,null,null,null,null,null,{"$f":"IF(W1435=\"\",\"\",LOOKUP(W1435,Hilfstabelle!$A$1:$A$286,Hilfstabelle!$B$1:$B$286))","v":""}]
[null,null,null,null,null,null,null,null,null,null,null,null,null,null,null,null,null,null,null,null,{"$f":"IF(W1436=\"\",\"\",LOOKUP(W1436,Hilfstabelle!$A$1:$A$286,Hilfstabelle!$B$1:$B$286))","v":""}]
[null,null,null,null,null,null,null,null,null,null,null,null,null,null,null,null,null,null,null,null,{"$f":"IF(W1437=\"\",\"\",LOOKUP(W1437,Hilfstabelle!$A$1:$A$286,Hilfstabelle!$B$1:$B$286))","v":""}]
[null,null,null,null,null,null,null,null,null,null,null,null,null,null,null,null,null,null,null,null,{"$f":"IF(W1438=\"\",\"\",LOOKUP(W1438,Hilfstabelle!$A$1:$A$286,Hilfstabelle!$B$1:$B$286))","v":""}]
[null,null,null,null,null,null,null,null,null,null,null,null,null,null,null,null,null,null,null,null,{"$f":"IF(W1439=\"\",\"\",LOOKUP(W1439,Hilfstabelle!$A$1:$A$286,Hilfstabelle!$B$1:$B$286))","v":""}]
[null,null,null,null,null,null,null,null,null,null,null,null,null,null,null,null,null,null,null,null,{"$f":"IF(W1440=\"\",\"\",LOOKUP(W1440,Hilfstabelle!$A$1:$A$286,Hilfstabelle!$B$1:$B$286))","v":""}]
[null,null,null,null,null,null,null,null,null,null,null,null,null,null,null,null,null,null,null,null,{"$f":"IF(W1441=\"\",\"\",LOOKUP(W1441,Hilfstabelle!$A$1:$A$286,Hilfstabelle!$B$1:$B$286))","v":""}]
[null,null,null,null,null,null,null,null,null,null,null,null,null,null,null,null,null,null,null,null,{"$f":"IF(W1442=\"\",\"\",LOOKUP(W1442,Hilfstabelle!$A$1:$A$286,Hilfstabelle!$B$1:$B$286))","v":""}]
[null,null,null,null,null,null,null,null,null,null,null,null,null,null,null,null,null,null,null,null,{"$f":"IF(W1443=\"\",\"\",LOOKUP(W1443,Hilfstabelle!$A$1:$A$286,Hilfstabelle!$B$1:$B$286))","v":""}]
[null,null,null,null,null,null,null,null,null,null,null,null,null,null,null,null,null,null,null,null,{"$f":"IF(W1444=\"\",\"\",LOOKUP(W1444,Hilfstabelle!$A$1:$A$286,Hilfstabelle!$B$1:$B$286))","v":""}]
[null,null,null,null,null,null,null,null,null,null,null,null,null,null,null,null,null,null,null,null,{"$f":"IF(W1445=\"\",\"\",LOOKUP(W1445,Hilfstabelle!$A$1:$A$286,Hilfstabelle!$B$1:$B$286))","v":""}]
[null,null,null,null,null,null,null,null,null,null,null,null,null,null,null,null,null,null,null,null,{"$f":"IF(W1446=\"\",\"\",LOOKUP(W1446,Hilfstabelle!$A$1:$A$286,Hilfstabelle!$B$1:$B$286))","v":""}]
[null,null,null,null,null,null,null,null,null,null,null,null,null,null,null,null,null,null,null,null,{"$f":"IF(W1447=\"\",\"\",LOOKUP(W1447,Hilfstabelle!$A$1:$A$286,Hilfstabelle!$B$1:$B$286))","v":""}]
[null,null,null,null,null,null,null,null,null,null,null,null,null,null,null,null,null,null,null,null,{"$f":"IF(W1448=\"\",\"\",LOOKUP(W1448,Hilfstabelle!$A$1:$A$286,Hilfstabelle!$B$1:$B$286))","v":""}]
[null,null,null,null,null,null,null,null,null,null,null,null,null,null,null,null,null,null,null,null,{"$f":"IF(W1449=\"\",\"\",LOOKUP(W1449,Hilfstabelle!$A$1:$A$286,Hilfstabelle!$B$1:$B$286))","v":""}]
[null,null,null,null,null,null,null,null,null,null,null,null,null,null,null,null,null,null,null,null,{"$f":"IF(W1450=\"\",\"\",LOOKUP(W1450,Hilfstabelle!$A$1:$A$286,Hilfstabelle!$B$1:$B$286))","v":""}]
[null,null,null,null,null,null,null,null,null,null,null,null,null,null,null,null,null,null,null,null,{"$f":"IF(W1451=\"\",\"\",LOOKUP(W1451,Hilfstabelle!$A$1:$A$286,Hilfstabelle!$B$1:$B$286))","v":""}]
[null,null,null,null,null,null,null,null,null,null,null,null,null,null,null,null,null,null,null,null,{"$f":"IF(W1452=\"\",\"\",LOOKUP(W1452,Hilfstabelle!$A$1:$A$286,Hilfstabelle!$B$1:$B$286))","v":""}]
[null,null,null,null,null,null,null,null,null,null,null,null,null,null,null,null,null,null,null,null,{"$f":"IF(W1453=\"\",\"\",LOOKUP(W1453,Hilfstabelle!$A$1:$A$286,Hilfstabelle!$B$1:$B$286))","v":""}]
[null,null,null,null,null,null,null,null,null,null,null,null,null,null,null,null,null,null,null,null,{"$f":"IF(W1454=\"\",\"\",LOOKUP(W1454,Hilfstabelle!$A$1:$A$286,Hilfstabelle!$B$1:$B$286))","v":""}]
[null,null,null,null,null,null,null,null,null,null,null,null,null,null,null,null,null,null,null,null,{"$f":"IF(W1455=\"\",\"\",LOOKUP(W1455,Hilfstabelle!$A$1:$A$286,Hilfstabelle!$B$1:$B$286))","v":""}]
[null,null,null,null,null,null,null,null,null,null,null,null,null,null,null,null,null,null,null,null,{"$f":"IF(W1456=\"\",\"\",LOOKUP(W1456,Hilfstabelle!$A$1:$A$286,Hilfstabelle!$B$1:$B$286))","v":""}]
[null,null,null,null,null,null,null,null,null,null,null,null,null,null,null,null,null,null,null,null,{"$f":"IF(W1457=\"\",\"\",LOOKUP(W1457,Hilfstabelle!$A$1:$A$286,Hilfstabelle!$B$1:$B$286))","v":""}]
[null,null,null,null,null,null,null,null,null,null,null,null,null,null,null,null,null,null,null,null,{"$f":"IF(W1458=\"\",\"\",LOOKUP(W1458,Hilfstabelle!$A$1:$A$286,Hilfstabelle!$B$1:$B$286))","v":""}]
[null,null,null,null,null,null,null,null,null,null,null,null,null,null,null,null,null,null,null,null,{"$f":"IF(W1459=\"\",\"\",LOOKUP(W1459,Hilfstabelle!$A$1:$A$286,Hilfstabelle!$B$1:$B$286))","v":""}]
[null,null,null,null,null,null,null,null,null,null,null,null,null,null,null,null,null,null,null,null,{"$f":"IF(W1460=\"\",\"\",LOOKUP(W1460,Hilfstabelle!$A$1:$A$286,Hilfstabelle!$B$1:$B$286))","v":""}]
[null,null,null,null,null,null,null,null,null,null,null,null,null,null,null,null,null,null,null,null,{"$f":"IF(W1461=\"\",\"\",LOOKUP(W1461,Hilfstabelle!$A$1:$A$286,Hilfstabelle!$B$1:$B$286))","v":""}]
[null,null,null,null,null,null,null,null,null,null,null,null,null,null,null,null,null,null,null,null,{"$f":"IF(W1462=\"\",\"\",LOOKUP(W1462,Hilfstabelle!$A$1:$A$286,Hilfstabelle!$B$1:$B$286))","v":""}]
[null,null,null,null,null,null,null,null,null,null,null,null,null,null,null,null,null,null,null,null,{"$f":"IF(W1463=\"\",\"\",LOOKUP(W1463,Hilfstabelle!$A$1:$A$286,Hilfstabelle!$B$1:$B$286))","v":""}]
[null,null,null,null,null,null,null,null,null,null,null,null,null,null,null,null,null,null,null,null,{"$f":"IF(W1464=\"\",\"\",LOOKUP(W1464,Hilfstabelle!$A$1:$A$286,Hilfstabelle!$B$1:$B$286))","v":""}]
[null,null,null,null,null,null,null,null,null,null,null,null,null,null,null,null,null,null,null,null,{"$f":"IF(W1465=\"\",\"\",LOOKUP(W1465,Hilfstabelle!$A$1:$A$286,Hilfstabelle!$B$1:$B$286))","v":""}]
[null,null,null,null,null,null,null,null,null,null,null,null,null,null,null,null,null,null,null,null,{"$f":"IF(W1466=\"\",\"\",LOOKUP(W1466,Hilfstabelle!$A$1:$A$286,Hilfstabelle!$B$1:$B$286))","v":""}]
[null,null,null,null,null,null,null,null,null,null,null,null,null,null,null,null,null,null,null,null,{"$f":"IF(W1467=\"\",\"\",LOOKUP(W1467,Hilfstabelle!$A$1:$A$286,Hilfstabelle!$B$1:$B$286))","v":""}]
[null,null,null,null,null,null,null,null,null,null,null,null,null,null,null,null,null,null,null,null,{"$f":"IF(W1468=\"\",\"\",LOOKUP(W1468,Hilfstabelle!$A$1:$A$286,Hilfstabelle!$B$1:$B$286))","v":""}]
[null,null,null,null,null,null,null,null,null,null,null,null,null,null,null,null,null,null,null,null,{"$f":"IF(W1469=\"\",\"\",LOOKUP(W1469,Hilfstabelle!$A$1:$A$286,Hilfstabelle!$B$1:$B$286))","v":""}]
[null,null,null,null,null,null,null,null,null,null,null,null,null,null,null,null,null,null,null,null,{"$f":"IF(W1470=\"\",\"\",LOOKUP(W1470,Hilfstabelle!$A$1:$A$286,Hilfstabelle!$B$1:$B$286))","v":""}]
[null,null,null,null,null,null,null,null,null,null,null,null,null,null,null,null,null,null,null,null,{"$f":"IF(W1471=\"\",\"\",LOOKUP(W1471,Hilfstabelle!$A$1:$A$286,Hilfstabelle!$B$1:$B$286))","v":""}]
[null,null,null,null,null,null,null,null,null,null,null,null,null,null,null,null,null,null,null,null,{"$f":"IF(W1472=\"\",\"\",LOOKUP(W1472,Hilfstabelle!$A$1:$A$286,Hilfstabelle!$B$1:$B$286))","v":""}]
[null,null,null,null,null,null,null,null,null,null,null,null,null,null,null,null,null,null,null,null,{"$f":"IF(W1473=\"\",\"\",LOOKUP(W1473,Hilfstabelle!$A$1:$A$286,Hilfstabelle!$B$1:$B$286))","v":""}]
[null,null,null,null,null,null,null,null,null,null,null,null,null,null,null,null,null,null,null,null,{"$f":"IF(W1474=\"\",\"\",LOOKUP(W1474,Hilfstabelle!$A$1:$A$286,Hilfstabelle!$B$1:$B$286))","v":""}]
[null,null,null,null,null,null,null,null,null,null,null,null,null,null,null,null,null,null,null,null,{"$f":"IF(W1475=\"\",\"\",LOOKUP(W1475,Hilfstabelle!$A$1:$A$286,Hilfstabelle!$B$1:$B$286))","v":""}]
[null,null,null,null,null,null,null,null,null,null,null,null,null,null,null,null,null,null,null,null,{"$f":"IF(W1476=\"\",\"\",LOOKUP(W1476,Hilfstabelle!$A$1:$A$286,Hilfstabelle!$B$1:$B$286))","v":""}]
[null,null,null,null,null,null,null,null,null,null,null,null,null,null,null,null,null,null,null,null,{"$f":"IF(W1477=\"\",\"\",LOOKUP(W1477,Hilfstabelle!$A$1:$A$286,Hilfstabelle!$B$1:$B$286))","v":""}]
[null,null,null,null,null,null,null,null,null,null,null,null,null,null,null,null,null,null,null,null,{"$f":"IF(W1478=\"\",\"\",LOOKUP(W1478,Hilfstabelle!$A$1:$A$286,Hilfstabelle!$B$1:$B$286))","v":""}]
[null,null,null,null,null,null,null,null,null,null,null,null,null,null,null,null,null,null,null,null,{"$f":"IF(W1479=\"\",\"\",LOOKUP(W1479,Hilfstabelle!$A$1:$A$286,Hilfstabelle!$B$1:$B$286))","v":""}]
[null,null,null,null,null,null,null,null,null,null,null,null,null,null,null,null,null,null,null,null,{"$f":"IF(W1480=\"\",\"\",LOOKUP(W1480,Hilfstabelle!$A$1:$A$286,Hilfstabelle!$B$1:$B$286))","v":""}]
[null,null,null,null,null,null,null,null,null,null,null,null,null,null,null,null,null,null,null,null,{"$f":"IF(W1481=\"\",\"\",LOOKUP(W1481,Hilfstabelle!$A$1:$A$286,Hilfstabelle!$B$1:$B$286))","v":""}]
[null,null,null,null,null,null,null,null,null,null,null,null,null,null,null,null,null,null,null,null,{"$f":"IF(W1482=\"\",\"\",LOOKUP(W1482,Hilfstabelle!$A$1:$A$286,Hilfstabelle!$B$1:$B$286))","v":""}]
[null,null,null,null,null,null,null,null,null,null,null,null,null,null,null,null,null,null,null,null,{"$f":"IF(W1483=\"\",\"\",LOOKUP(W1483,Hilfstabelle!$A$1:$A$286,Hilfstabelle!$B$1:$B$286))","v":""}]
[null,null,null,null,null,null,null,null,null,null,null,null,null,null,null,null,null,null,null,null,{"$f":"IF(W1484=\"\",\"\",LOOKUP(W1484,Hilfstabelle!$A$1:$A$286,Hilfstabelle!$B$1:$B$286))","v":""}]
[null,null,null,null,null,null,null,null,null,null,null,null,null,null,null,null,null,null,null,null,{"$f":"IF(W1485=\"\",\"\",LOOKUP(W1485,Hilfstabelle!$A$1:$A$286,Hilfstabelle!$B$1:$B$286))","v":""}]
[null,null,null,null,null,null,null,null,null,null,null,null,null,null,null,null,null,null,null,null,{"$f":"IF(W1486=\"\",\"\",LOOKUP(W1486,Hilfstabelle!$A$1:$A$286,Hilfstabelle!$B$1:$B$286))","v":""}]
[null,null,null,null,null,null,null,null,null,null,null,null,null,null,null,null,null,null,null,null,{"$f":"IF(W1487=\"\",\"\",LOOKUP(W1487,Hilfstabelle!$A$1:$A$286,Hilfstabelle!$B$1:$B$286))","v":""}]
[null,null,null,null,null,null,null,null,null,null,null,null,null,null,null,null,null,null,null,null,{"$f":"IF(W1488=\"\",\"\",LOOKUP(W1488,Hilfstabelle!$A$1:$A$286,Hilfstabelle!$B$1:$B$286))","v":""}]
[null,null,null,null,null,null,null,null,null,null,null,null,null,null,null,null,null,null,null,null,{"$f":"IF(W1489=\"\",\"\",LOOKUP(W1489,Hilfstabelle!$A$1:$A$286,Hilfstabelle!$B$1:$B$286))","v":""}]
[null,null,null,null,null,null,null,null,null,null,null,null,null,null,null,null,null,null,null,null,{"$f":"IF(W1490=\"\",\"\",LOOKUP(W1490,Hilfstabelle!$A$1:$A$286,Hilfstabelle!$B$1:$B$286))","v":""}]
[null,null,null,null,null,null,null,null,null,null,null,null,null,null,null,null,null,null,null,null,{"$f":"IF(W1491=\"\",\"\",LOOKUP(W1491,Hilfstabelle!$A$1:$A$286,Hilfstabelle!$B$1:$B$286))","v":""}]
[null,null,null,null,null,null,null,null,null,null,null,null,null,null,null,null,null,null,null,null,{"$f":"IF(W1492=\"\",\"\",LOOKUP(W1492,Hilfstabelle!$A$1:$A$286,Hilfstabelle!$B$1:$B$286))","v":""}]
[null,null,null,null,null,null,null,null,null,null,null,null,null,null,null,null,null,null,null,null,{"$f":"IF(W1493=\"\",\"\",LOOKUP(W1493,Hilfstabelle!$A$1:$A$286,Hilfstabelle!$B$1:$B$286))","v":""}]
[null,null,null,null,null,null,null,null,null,null,null,null,null,null,null,null,null,null,null,null,{"$f":"IF(W1494=\"\",\"\",LOOKUP(W1494,Hilfstabelle!$A$1:$A$286,Hilfstabelle!$B$1:$B$286))","v":""}]
[null,null,null,null,null,null,null,null,null,null,null,null,null,null,null,null,null,null,null,null,{"$f":"IF(W1495=\"\",\"\",LOOKUP(W1495,Hilfstabelle!$A$1:$A$286,Hilfstabelle!$B$1:$B$286))","v":""}]
[null,null,null,null,null,null,null,null,null,null,null,null,null,null,null,null,null,null,null,null,{"$f":"IF(W1496=\"\",\"\",LOOKUP(W1496,Hilfstabelle!$A$1:$A$286,Hilfstabelle!$B$1:$B$286))","v":""}]
[null,null,null,null,null,null,null,null,null,null,null,null,null,null,null,null,null,null,null,null,{"$f":"IF(W1497=\"\",\"\",LOOKUP(W1497,Hilfstabelle!$A$1:$A$286,Hilfstabelle!$B$1:$B$286))","v":""}]
[null,null,null,null,null,null,null,null,null,null,null,null,null,null,null,null,null,null,null,null,{"$f":"IF(W1498=\"\",\"\",LOOKUP(W1498,Hilfstabelle!$A$1:$A$286,Hilfstabelle!$B$1:$B$286))","v":""}]
[null,null,null,null,null,null,null,null,null,null,null,null,null,null,null,null,null,null,null,null,{"$f":"IF(W1499=\"\",\"\",LOOKUP(W1499,Hilfstabelle!$A$1:$A$286,Hilfstabelle!$B$1:$B$286))","v":""}]
[null,null,null,null,null,null,null,null,null,null,null,null,null,null,null,null,null,null,null,null,{"$f":"IF(W1500=\"\",\"\",LOOKUP(W1500,Hilfstabelle!$A$1:$A$286,Hilfstabelle!$B$1:$B$286))","v":""}]
[null,null,null,null,null,null,null,null,null,null,null,null,null,null,null,null,null,null,null,null,{"$f":"IF(W1501=\"\",\"\",LOOKUP(W1501,Hilfstabelle!$A$1:$A$286,Hilfstabelle!$B$1:$B$286))","v":""}]
[null,null,null,null,null,null,null,null,null,null,null,null,null,null,null,null,null,null,null,null,{"$f":"IF(W1502=\"\",\"\",LOOKUP(W1502,Hilfstabelle!$A$1:$A$286,Hilfstabelle!$B$1:$B$286))","v":""}]
[null,null,null,null,null,null,null,null,null,null,null,null,null,null,null,null,null,null,null,null,{"$f":"IF(W1503=\"\",\"\",LOOKUP(W1503,Hilfstabelle!$A$1:$A$286,Hilfstabelle!$B$1:$B$286))","v":""}]
[null,null,null,null,null,null,null,null,null,null,null,null,null,null,null,null,null,null,null,null,{"$f":"IF(W1504=\"\",\"\",LOOKUP(W1504,Hilfstabelle!$A$1:$A$286,Hilfstabelle!$B$1:$B$286))","v":""}]
[null,null,null,null,null,null,null,null,null,null,null,null,null,null,null,null,null,null,null,null,{"$f":"IF(W1505=\"\",\"\",LOOKUP(W1505,Hilfstabelle!$A$1:$A$286,Hilfstabelle!$B$1:$B$286))","v":""}]
[null,null,null,null,null,null,null,null,null,null,null,null,null,null,null,null,null,null,null,null,{"$f":"IF(W1506=\"\",\"\",LOOKUP(W1506,Hilfstabelle!$A$1:$A$286,Hilfstabelle!$B$1:$B$286))","v":""}]
[null,null,null,null,null,null,null,null,null,null,null,null,null,null,null,null,null,null,null,null,{"$f":"IF(W1507=\"\",\"\",LOOKUP(W1507,Hilfstabelle!$A$1:$A$286,Hilfstabelle!$B$1:$B$286))","v":""}]
[null,null,null,null,null,null,null,null,null,null,null,null,null,null,null,null,null,null,null,null,{"$f":"IF(W1508=\"\",\"\",LOOKUP(W1508,Hilfstabelle!$A$1:$A$286,Hilfstabelle!$B$1:$B$286))","v":""}]
[null,null,null,null,null,null,null,null,null,null,null,null,null,null,null,null,null,null,null,null,{"$f":"IF(W1509=\"\",\"\",LOOKUP(W1509,Hilfstabelle!$A$1:$A$286,Hilfstabelle!$B$1:$B$286))","v":""}]
[null,null,null,null,null,null,null,null,null,null,null,null,null,null,null,null,null,null,null,null,{"$f":"IF(W1510=\"\",\"\",LOOKUP(W1510,Hilfstabelle!$A$1:$A$286,Hilfstabelle!$B$1:$B$286))","v":""}]
[null,null,null,null,null,null,null,null,null,null,null,null,null,null,null,null,null,null,null,null,{"$f":"IF(W1511=\"\",\"\",LOOKUP(W1511,Hilfstabelle!$A$1:$A$286,Hilfstabelle!$B$1:$B$286))","v":""}]
[null,null,null,null,null,null,null,null,null,null,null,null,null,null,null,null,null,null,null,null,{"$f":"IF(W1512=\"\",\"\",LOOKUP(W1512,Hilfstabelle!$A$1:$A$286,Hilfstabelle!$B$1:$B$286))","v":""}]
[null,null,null,null,null,null,null,null,null,null,null,null,null,null,null,null,null,null,null,null,{"$f":"IF(W1513=\"\",\"\",LOOKUP(W1513,Hilfstabelle!$A$1:$A$286,Hilfstabelle!$B$1:$B$286))","v":""}]
[null,null,null,null,null,null,null,null,null,null,null,null,null,null,null,null,null,null,null,null,{"$f":"IF(W1514=\"\",\"\",LOOKUP(W1514,Hilfstabelle!$A$1:$A$286,Hilfstabelle!$B$1:$B$286))","v":""}]
[null,null,null,null,null,null,null,null,null,null,null,null,null,null,null,null,null,null,null,null,{"$f":"IF(W1515=\"\",\"\",LOOKUP(W1515,Hilfstabelle!$A$1:$A$286,Hilfstabelle!$B$1:$B$286))","v":""}]
[null,null,null,null,null,null,null,null,null,null,null,null,null,null,null,null,null,null,null,null,{"$f":"IF(W1516=\"\",\"\",LOOKUP(W1516,Hilfstabelle!$A$1:$A$286,Hilfstabelle!$B$1:$B$286))","v":""}]
[null,null,null,null,null,null,null,null,null,null,null,null,null,null,null,null,null,null,null,null,{"$f":"IF(W1517=\"\",\"\",LOOKUP(W1517,Hilfstabelle!$A$1:$A$286,Hilfstabelle!$B$1:$B$286))","v":""}]
[null,null,null,null,null,null,null,null,null,null,null,null,null,null,null,null,null,null,null,null,{"$f":"IF(W1518=\"\",\"\",LOOKUP(W1518,Hilfstabelle!$A$1:$A$286,Hilfstabelle!$B$1:$B$286))","v":""}]
[null,null,null,null,null,null,null,null,null,null,null,null,null,null,null,null,null,null,null,null,{"$f":"IF(W1519=\"\",\"\",LOOKUP(W1519,Hilfstabelle!$A$1:$A$286,Hilfstabelle!$B$1:$B$286))","v":""}]
[null,null,null,null,null,null,null,null,null,null,null,null,null,null,null,null,null,null,null,null,{"$f":"IF(W1520=\"\",\"\",LOOKUP(W1520,Hilfstabelle!$A$1:$A$286,Hilfstabelle!$B$1:$B$286))","v":""}]
[null,null,null,null,null,null,null,null,null,null,null,null,null,null,null,null,null,null,null,null,{"$f":"IF(W1521=\"\",\"\",LOOKUP(W1521,Hilfstabelle!$A$1:$A$286,Hilfstabelle!$B$1:$B$286))","v":""}]
[null,null,null,null,null,null,null,null,null,null,null,null,null,null,null,null,null,null,null,null,{"$f":"IF(W1522=\"\",\"\",LOOKUP(W1522,Hilfstabelle!$A$1:$A$286,Hilfstabelle!$B$1:$B$286))","v":""}]
[null,null,null,null,null,null,null,null,null,null,null,null,null,null,null,null,null,null,null,null,{"$f":"IF(W1523=\"\",\"\",LOOKUP(W1523,Hilfstabelle!$A$1:$A$286,Hilfstabelle!$B$1:$B$286))","v":""}]
[null,null,null,null,null,null,null,null,null,null,null,null,null,null,null,null,null,null,null,null,{"$f":"IF(W1524=\"\",\"\",LOOKUP(W1524,Hilfstabelle!$A$1:$A$286,Hilfstabelle!$B$1:$B$286))","v":""}]
[null,null,null,null,null,null,null,null,null,null,null,null,null,null,null,null,null,null,null,null,{"$f":"IF(W1525=\"\",\"\",LOOKUP(W1525,Hilfstabelle!$A$1:$A$286,Hilfstabelle!$B$1:$B$286))","v":""}]
[null,null,null,null,null,null,null,null,null,null,null,null,null,null,null,null,null,null,null,null,{"$f":"IF(W1526=\"\",\"\",LOOKUP(W1526,Hilfstabelle!$A$1:$A$286,Hilfstabelle!$B$1:$B$286))","v":""}]
[null,null,null,null,null,null,null,null,null,null,null,null,null,null,null,null,null,null,null,null,{"$f":"IF(W1527=\"\",\"\",LOOKUP(W1527,Hilfstabelle!$A$1:$A$286,Hilfstabelle!$B$1:$B$286))","v":""}]
[null,null,null,null,null,null,null,null,null,null,null,null,null,null,null,null,null,null,null,null,{"$f":"IF(W1528=\"\",\"\",LOOKUP(W1528,Hilfstabelle!$A$1:$A$286,Hilfstabelle!$B$1:$B$286))","v":""}]
[null,null,null,null,null,null,null,null,null,null,null,null,null,null,null,null,null,null,null,null,{"$f":"IF(W1529=\"\",\"\",LOOKUP(W1529,Hilfstabelle!$A$1:$A$286,Hilfstabelle!$B$1:$B$286))","v":""}]
[null,null,null,null,null,null,null,null,null,null,null,null,null,null,null,null,null,null,null,null,{"$f":"IF(W1530=\"\",\"\",LOOKUP(W1530,Hilfstabelle!$A$1:$A$286,Hilfstabelle!$B$1:$B$286))","v":""}]
[null,null,null,null,null,null,null,null,null,null,null,null,null,null,null,null,null,null,null,null,{"$f":"IF(W1531=\"\",\"\",LOOKUP(W1531,Hilfstabelle!$A$1:$A$286,Hilfstabelle!$B$1:$B$286))","v":""}]
[null,null,null,null,null,null,null,null,null,null,null,null,null,null,null,null,null,null,null,null,{"$f":"IF(W1532=\"\",\"\",LOOKUP(W1532,Hilfstabelle!$A$1:$A$286,Hilfstabelle!$B$1:$B$286))","v":""}]
[null,null,null,null,null,null,null,null,null,null,null,null,null,null,null,null,null,null,null,null,{"$f":"IF(W1533=\"\",\"\",LOOKUP(W1533,Hilfstabelle!$A$1:$A$286,Hilfstabelle!$B$1:$B$286))","v":""}]
[null,null,null,null,null,null,null,null,null,null,null,null,null,null,null,null,null,null,null,null,{"$f":"IF(W1534=\"\",\"\",LOOKUP(W1534,Hilfstabelle!$A$1:$A$286,Hilfstabelle!$B$1:$B$286))","v":""}]
[null,null,null,null,null,null,null,null,null,null,null,null,null,null,null,null,null,null,null,null,{"$f":"IF(W1535=\"\",\"\",LOOKUP(W1535,Hilfstabelle!$A$1:$A$286,Hilfstabelle!$B$1:$B$286))","v":""}]
[null,null,null,null,null,null,null,null,null,null,null,null,null,null,null,null,null,null,null,null,{"$f":"IF(W1536=\"\",\"\",LOOKUP(W1536,Hilfstabelle!$A$1:$A$286,Hilfstabelle!$B$1:$B$286))","v":""}]
[null,null,null,null,null,null,null,null,null,null,null,null,null,null,null,null,null,null,null,null,{"$f":"IF(W1537=\"\",\"\",LOOKUP(W1537,Hilfstabelle!$A$1:$A$286,Hilfstabelle!$B$1:$B$286))","v":""}]
[null,null,null,null,null,null,null,null,null,null,null,null,null,null,null,null,null,null,null,null,{"$f":"IF(W1538=\"\",\"\",LOOKUP(W1538,Hilfstabelle!$A$1:$A$286,Hilfstabelle!$B$1:$B$286))","v":""}]
[null,null,null,null,null,null,null,null,null,null,null,null,null,null,null,null,null,null,null,null,{"$f":"IF(W1539=\"\",\"\",LOOKUP(W1539,Hilfstabelle!$A$1:$A$286,Hilfstabelle!$B$1:$B$286))","v":""}]
[null,null,null,null,null,null,null,null,null,null,null,null,null,null,null,null,null,null,null,null,{"$f":"IF(W1540=\"\",\"\",LOOKUP(W1540,Hilfstabelle!$A$1:$A$286,Hilfstabelle!$B$1:$B$286))","v":""}]
[null,null,null,null,null,null,null,null,null,null,null,null,null,null,null,null,null,null,null,null,{"$f":"IF(W1541=\"\",\"\",LOOKUP(W1541,Hilfstabelle!$A$1:$A$286,Hilfstabelle!$B$1:$B$286))","v":""}]
[null,null,null,null,null,null,null,null,null,null,null,null,null,null,null,null,null,null,null,null,{"$f":"IF(W1542=\"\",\"\",LOOKUP(W1542,Hilfstabelle!$A$1:$A$286,Hilfstabelle!$B$1:$B$286))","v":""}]
[null,null,null,null,null,null,null,null,null,null,null,null,null,null,null,null,null,null,null,null,{"$f":"IF(W1543=\"\",\"\",LOOKUP(W1543,Hilfstabelle!$A$1:$A$286,Hilfstabelle!$B$1:$B$286))","v":""}]
[null,null,null,null,null,null,null,null,null,null,null,null,null,null,null,null,null,null,null,null,{"$f":"IF(W1544=\"\",\"\",LOOKUP(W1544,Hilfstabelle!$A$1:$A$286,Hilfstabelle!$B$1:$B$286))","v":""}]
[null,null,null,null,null,null,null,null,null,null,null,null,null,null,null,null,null,null,null,null,{"$f":"IF(W1545=\"\",\"\",LOOKUP(W1545,Hilfstabelle!$A$1:$A$286,Hilfstabelle!$B$1:$B$286))","v":""}]
[null,null,null,null,null,null,null,null,null,null,null,null,null,null,null,null,null,null,null,null,{"$f":"IF(W1546=\"\",\"\",LOOKUP(W1546,Hilfstabelle!$A$1:$A$286,Hilfstabelle!$B$1:$B$286))","v":""}]
[null,null,null,null,null,null,null,null,null,null,null,null,null,null,null,null,null,null,null,null,{"$f":"IF(W1547=\"\",\"\",LOOKUP(W1547,Hilfstabelle!$A$1:$A$286,Hilfstabelle!$B$1:$B$286))","v":""}]
[null,null,null,null,null,null,null,null,null,null,null,null,null,null,null,null,null,null,null,null,{"$f":"IF(W1548=\"\",\"\",LOOKUP(W1548,Hilfstabelle!$A$1:$A$286,Hilfstabelle!$B$1:$B$286))","v":""}]
[null,null,null,null,null,null,null,null,null,null,null,null,null,null,null,null,null,null,null,null,{"$f":"IF(W1549=\"\",\"\",LOOKUP(W1549,Hilfstabelle!$A$1:$A$286,Hilfstabelle!$B$1:$B$286))","v":""}]
[null,null,null,null,null,null,null,null,null,null,null,null,null,null,null,null,null,null,null,null,{"$f":"IF(W1550=\"\",\"\",LOOKUP(W1550,Hilfstabelle!$A$1:$A$286,Hilfstabelle!$B$1:$B$286))","v":""}]
[null,null,null,null,null,null,null,null,null,null,null,null,null,null,null,null,null,null,null,null,{"$f":"IF(W1551=\"\",\"\",LOOKUP(W1551,Hilfstabelle!$A$1:$A$286,Hilfstabelle!$B$1:$B$286))","v":""}]
[null,null,null,null,null,null,null,null,null,null,null,null,null,null,null,null,null,null,null,null,{"$f":"IF(W1552=\"\",\"\",LOOKUP(W1552,Hilfstabelle!$A$1:$A$286,Hilfstabelle!$B$1:$B$286))","v":""}]
[null,null,null,null,null,null,null,null,null,null,null,null,null,null,null,null,null,null,null,null,{"$f":"IF(W1553=\"\",\"\",LOOKUP(W1553,Hilfstabelle!$A$1:$A$286,Hilfstabelle!$B$1:$B$286))","v":""}]
[null,null,null,null,null,null,null,null,null,null,null,null,null,null,null,null,null,null,null,null,{"$f":"IF(W1554=\"\",\"\",LOOKUP(W1554,Hilfstabelle!$A$1:$A$286,Hilfstabelle!$B$1:$B$286))","v":""}]
[null,null,null,null,null,null,null,null,null,null,null,null,null,null,null,null,null,null,null,null,{"$f":"IF(W1555=\"\",\"\",LOOKUP(W1555,Hilfstabelle!$A$1:$A$286,Hilfstabelle!$B$1:$B$286))","v":""}]
[null,null,null,null,null,null,null,null,null,null,null,null,null,null,null,null,null,null,null,null,{"$f":"IF(W1556=\"\",\"\",LOOKUP(W1556,Hilfstabelle!$A$1:$A$286,Hilfstabelle!$B$1:$B$286))","v":""}]
[null,null,null,null,null,null,null,null,null,null,null,null,null,null,null,null,null,null,null,null,{"$f":"IF(W1557=\"\",\"\",LOOKUP(W1557,Hilfstabelle!$A$1:$A$286,Hilfstabelle!$B$1:$B$286))","v":""}]
[null,null,null,null,null,null,null,null,null,null,null,null,null,null,null,null,null,null,null,null,{"$f":"IF(W1558=\"\",\"\",LOOKUP(W1558,Hilfstabelle!$A$1:$A$286,Hilfstabelle!$B$1:$B$286))","v":""}]
[null,null,null,null,null,null,null,null,null,null,null,null,null,null,null,null,null,null,null,null,{"$f":"IF(W1559=\"\",\"\",LOOKUP(W1559,Hilfstabelle!$A$1:$A$286,Hilfstabelle!$B$1:$B$286))","v":""}]
[null,null,null,null,null,null,null,null,null,null,null,null,null,null,null,null,null,null,null,null,{"$f":"IF(W1560=\"\",\"\",LOOKUP(W1560,Hilfstabelle!$A$1:$A$286,Hilfstabelle!$B$1:$B$286))","v":""}]
[null,null,null,null,null,null,null,null,null,null,null,null,null,null,null,null,null,null,null,null,{"$f":"IF(W1561=\"\",\"\",LOOKUP(W1561,Hilfstabelle!$A$1:$A$286,Hilfstabelle!$B$1:$B$286))","v":""}]
[null,null,null,null,null,null,null,null,null,null,null,null,null,null,null,null,null,null,null,null,{"$f":"IF(W1562=\"\",\"\",LOOKUP(W1562,Hilfstabelle!$A$1:$A$286,Hilfstabelle!$B$1:$B$286))","v":""}]
[null,null,null,null,null,null,null,null,null,null,null,null,null,null,null,null,null,null,null,null,{"$f":"IF(W1563=\"\",\"\",LOOKUP(W1563,Hilfstabelle!$A$1:$A$286,Hilfstabelle!$B$1:$B$286))","v":""}]
[null,null,null,null,null,null,null,null,null,null,null,null,null,null,null,null,null,null,null,null,{"$f":"IF(W1564=\"\",\"\",LOOKUP(W1564,Hilfstabelle!$A$1:$A$286,Hilfstabelle!$B$1:$B$286))","v":""}]
[null,null,null,null,null,null,null,null,null,null,null,null,null,null,null,null,null,null,null,null,{"$f":"IF(W1565=\"\",\"\",LOOKUP(W1565,Hilfstabelle!$A$1:$A$286,Hilfstabelle!$B$1:$B$286))","v":""}]
[null,null,null,null,null,null,null,null,null,null,null,null,null,null,null,null,null,null,null,null,{"$f":"IF(W1566=\"\",\"\",LOOKUP(W1566,Hilfstabelle!$A$1:$A$286,Hilfstabelle!$B$1:$B$286))","v":""}]
[null,null,null,null,null,null,null,null,null,null,null,null,null,null,null,null,null,null,null,null,{"$f":"IF(W1567=\"\",\"\",LOOKUP(W1567,Hilfstabelle!$A$1:$A$286,Hilfstabelle!$B$1:$B$286))","v":""}]
[null,null,null,null,null,null,null,null,null,null,null,null,null,null,null,null,null,null,null,null,{"$f":"IF(W1568=\"\",\"\",LOOKUP(W1568,Hilfstabelle!$A$1:$A$286,Hilfstabelle!$B$1:$B$286))","v":""}]
[null,null,null,null,null,null,null,null,null,null,null,null,null,null,null,null,null,null,null,null,{"$f":"IF(W1569=\"\",\"\",LOOKUP(W1569,Hilfstabelle!$A$1:$A$286,Hilfstabelle!$B$1:$B$286))","v":""}]
[null,null,null,null,null,null,null,null,null,null,null,null,null,null,null,null,null,null,null,null,{"$f":"IF(W1570=\"\",\"\",LOOKUP(W1570,Hilfstabelle!$A$1:$A$286,Hilfstabelle!$B$1:$B$286))","v":""}]
[null,null,null,null,null,null,null,null,null,null,null,null,null,null,null,null,null,null,null,null,{"$f":"IF(W1571=\"\",\"\",LOOKUP(W1571,Hilfstabelle!$A$1:$A$286,Hilfstabelle!$B$1:$B$286))","v":""}]
[null,null,null,null,null,null,null,null,null,null,null,null,null,null,null,null,null,null,null,null,{"$f":"IF(W1572=\"\",\"\",LOOKUP(W1572,Hilfstabelle!$A$1:$A$286,Hilfstabelle!$B$1:$B$286))","v":""}]
[null,null,null,null,null,null,null,null,null,null,null,null,null,null,null,null,null,null,null,null,{"$f":"IF(W1573=\"\",\"\",LOOKUP(W1573,Hilfstabelle!$A$1:$A$286,Hilfstabelle!$B$1:$B$286))","v":""}]
[null,null,null,null,null,null,null,null,null,null,null,null,null,null,null,null,null,null,null,null,{"$f":"IF(W1574=\"\",\"\",LOOKUP(W1574,Hilfstabelle!$A$1:$A$286,Hilfstabelle!$B$1:$B$286))","v":""}]
[null,null,null,null,null,null,null,null,null,null,null,null,null,null,null,null,null,null,null,null,{"$f":"IF(W1575=\"\",\"\",LOOKUP(W1575,Hilfstabelle!$A$1:$A$286,Hilfstabelle!$B$1:$B$286))","v":""}]
[null,null,null,null,null,null,null,null,null,null,null,null,null,null,null,null,null,null,null,null,{"$f":"IF(W1576=\"\",\"\",LOOKUP(W1576,Hilfstabelle!$A$1:$A$286,Hilfstabelle!$B$1:$B$286))","v":""}]
[null,null,null,null,null,null,null,null,null,null,null,null,null,null,null,null,null,null,null,null,{"$f":"IF(W1577=\"\",\"\",LOOKUP(W1577,Hilfstabelle!$A$1:$A$286,Hilfstabelle!$B$1:$B$286))","v":""}]
[null,null,null,null,null,null,null,null,null,null,null,null,null,null,null,null,null,null,null,null,{"$f":"IF(W1578=\"\",\"\",LOOKUP(W1578,Hilfstabelle!$A$1:$A$286,Hilfstabelle!$B$1:$B$286))","v":""}]
[null,null,null,null,null,null,null,null,null,null,null,null,null,null,null,null,null,null,null,null,{"$f":"IF(W1579=\"\",\"\",LOOKUP(W1579,Hilfstabelle!$A$1:$A$286,Hilfstabelle!$B$1:$B$286))","v":""}]
[null,null,null,null,null,null,null,null,null,null,null,null,null,null,null,null,null,null,null,null,{"$f":"IF(W1580=\"\",\"\",LOOKUP(W1580,Hilfstabelle!$A$1:$A$286,Hilfstabelle!$B$1:$B$286))","v":""}]
[null,null,null,null,null,null,null,null,null,null,null,null,null,null,null,null,null,null,null,null,{"$f":"IF(W1581=\"\",\"\",LOOKUP(W1581,Hilfstabelle!$A$1:$A$286,Hilfstabelle!$B$1:$B$286))","v":""}]
[null,null,null,null,null,null,null,null,null,null,null,null,null,null,null,null,null,null,null,null,{"$f":"IF(W1582=\"\",\"\",LOOKUP(W1582,Hilfstabelle!$A$1:$A$286,Hilfstabelle!$B$1:$B$286))","v":""}]
[null,null,null,null,null,null,null,null,null,null,null,null,null,null,null,null,null,null,null,null,{"$f":"IF(W1583=\"\",\"\",LOOKUP(W1583,Hilfstabelle!$A$1:$A$286,Hilfstabelle!$B$1:$B$286))","v":""}]
[null,null,null,null,null,null,null,null,null,null,null,null,null,null,null,null,null,null,null,null,{"$f":"IF(W1584=\"\",\"\",LOOKUP(W1584,Hilfstabelle!$A$1:$A$286,Hilfstabelle!$B$1:$B$286))","v":""}]
[null,null,null,null,null,null,null,null,null,null,null,null,null,null,null,null,null,null,null,null,{"$f":"IF(W1585=\"\",\"\",LOOKUP(W1585,Hilfstabelle!$A$1:$A$286,Hilfstabelle!$B$1:$B$286))","v":""}]
[null,null,null,null,null,null,null,null,null,null,null,null,null,null,null,null,null,null,null,null,{"$f":"IF(W1586=\"\",\"\",LOOKUP(W1586,Hilfstabelle!$A$1:$A$286,Hilfstabelle!$B$1:$B$286))","v":""}]
[null,null,null,null,null,null,null,null,null,null,null,null,null,null,null,null,null,null,null,null,{"$f":"IF(W1587=\"\",\"\",LOOKUP(W1587,Hilfstabelle!$A$1:$A$286,Hilfstabelle!$B$1:$B$286))","v":""}]
[null,null,null,null,null,null,null,null,null,null,null,null,null,null,null,null,null,null,null,null,{"$f":"IF(W1588=\"\",\"\",LOOKUP(W1588,Hilfstabelle!$A$1:$A$286,Hilfstabelle!$B$1:$B$286))","v":""}]
[null,null,null,null,null,null,null,null,null,null,null,null,null,null,null,null,null,null,null,null,{"$f":"IF(W1589=\"\",\"\",LOOKUP(W1589,Hilfstabelle!$A$1:$A$286,Hilfstabelle!$B$1:$B$286))","v":""}]
[null,null,null,null,null,null,null,null,null,null,null,null,null,null,null,null,null,null,null,null,{"$f":"IF(W1590=\"\",\"\",LOOKUP(W1590,Hilfstabelle!$A$1:$A$286,Hilfstabelle!$B$1:$B$286))","v":""}]
[null,null,null,null,null,null,null,null,null,null,null,null,null,null,null,null,null,null,null,null,{"$f":"IF(W1591=\"\",\"\",LOOKUP(W1591,Hilfstabelle!$A$1:$A$286,Hilfstabelle!$B$1:$B$286))","v":""}]
[null,null,null,null,null,null,null,null,null,null,null,null,null,null,null,null,null,null,null,null,{"$f":"IF(W1592=\"\",\"\",LOOKUP(W1592,Hilfstabelle!$A$1:$A$286,Hilfstabelle!$B$1:$B$286))","v":""}]
[null,null,null,null,null,null,null,null,null,null,null,null,null,null,null,null,null,null,null,null,{"$f":"IF(W1593=\"\",\"\",LOOKUP(W1593,Hilfstabelle!$A$1:$A$286,Hilfstabelle!$B$1:$B$286))","v":""}]
[null,null,null,null,null,null,null,null,null,null,null,null,null,null,null,null,null,null,null,null,{"$f":"IF(W1594=\"\",\"\",LOOKUP(W1594,Hilfstabelle!$A$1:$A$286,Hilfstabelle!$B$1:$B$286))","v":""}]
[null,null,null,null,null,null,null,null,null,null,null,null,null,null,null,null,null,null,null,null,{"$f":"IF(W1595=\"\",\"\",LOOKUP(W1595,Hilfstabelle!$A$1:$A$286,Hilfstabelle!$B$1:$B$286))","v":""}]
[null,null,null,null,null,null,null,null,null,null,null,null,null,null,null,null,null,null,null,null,{"$f":"IF(W1596=\"\",\"\",LOOKUP(W1596,Hilfstabelle!$A$1:$A$286,Hilfstabelle!$B$1:$B$286))","v":""}]
[null,null,null,null,null,null,null,null,null,null,null,null,null,null,null,null,null,null,null,null,{"$f":"IF(W1597=\"\",\"\",LOOKUP(W1597,Hilfstabelle!$A$1:$A$286,Hilfstabelle!$B$1:$B$286))","v":""}]
[null,null,null,null,null,null,null,null,null,null,null,null,null,null,null,null,null,null,null,null,{"$f":"IF(W1598=\"\",\"\",LOOKUP(W1598,Hilfstabelle!$A$1:$A$286,Hilfstabelle!$B$1:$B$286))","v":""}]
[null,null,null,null,null,null,null,null,null,null,null,null,null,null,null,null,null,null,null,null,{"$f":"IF(W1599=\"\",\"\",LOOKUP(W1599,Hilfstabelle!$A$1:$A$286,Hilfstabelle!$B$1:$B$286))","v":""}]
[null,null,null,null,null,null,null,null,null,null,null,null,null,null,null,null,null,null,null,null,{"$f":"IF(W1600=\"\",\"\",LOOKUP(W1600,Hilfstabelle!$A$1:$A$286,Hilfstabelle!$B$1:$B$286))","v":""}]
[null,null,null,null,null,null,null,null,null,null,null,null,null,null,null,null,null,null,null,null,{"$f":"IF(W1601=\"\",\"\",LOOKUP(W1601,Hilfstabelle!$A$1:$A$286,Hilfstabelle!$B$1:$B$286))","v":""}]
[null,null,null,null,null,null,null,null,null,null,null,null,null,null,null,null,null,null,null,null,{"$f":"IF(W1602=\"\",\"\",LOOKUP(W1602,Hilfstabelle!$A$1:$A$286,Hilfstabelle!$B$1:$B$286))","v":""}]
[null,null,null,null,null,null,null,null,null,null,null,null,null,null,null,null,null,null,null,null,{"$f":"IF(W1603=\"\",\"\",LOOKUP(W1603,Hilfstabelle!$A$1:$A$286,Hilfstabelle!$B$1:$B$286))","v":""}]
[null,null,null,null,null,null,null,null,null,null,null,null,null,null,null,null,null,null,null,null,{"$f":"IF(W1604=\"\",\"\",LOOKUP(W1604,Hilfstabelle!$A$1:$A$286,Hilfstabelle!$B$1:$B$286))","v":""}]
[null,null,null,null,null,null,null,null,null,null,null,null,null,null,null,null,null,null,null,null,{"$f":"IF(W1605=\"\",\"\",LOOKUP(W1605,Hilfstabelle!$A$1:$A$286,Hilfstabelle!$B$1:$B$286))","v":""}]
[null,null,null,null,null,null,null,null,null,null,null,null,null,null,null,null,null,null,null,null,{"$f":"IF(W1606=\"\",\"\",LOOKUP(W1606,Hilfstabelle!$A$1:$A$286,Hilfstabelle!$B$1:$B$286))","v":""}]
[null,null,null,null,null,null,null,null,null,null,null,null,null,null,null,null,null,null,null,null,{"$f":"IF(W1607=\"\",\"\",LOOKUP(W1607,Hilfstabelle!$A$1:$A$286,Hilfstabelle!$B$1:$B$286))","v":""}]
[null,null,null,null,null,null,null,null,null,null,null,null,null,null,null,null,null,null,null,null,{"$f":"IF(W1608=\"\",\"\",LOOKUP(W1608,Hilfstabelle!$A$1:$A$286,Hilfstabelle!$B$1:$B$286))","v":""}]
[null,null,null,null,null,null,null,null,null,null,null,null,null,null,null,null,null,null,null,null,{"$f":"IF(W1609=\"\",\"\",LOOKUP(W1609,Hilfstabelle!$A$1:$A$286,Hilfstabelle!$B$1:$B$286))","v":""}]
[null,null,null,null,null,null,null,null,null,null,null,null,null,null,null,null,null,null,null,null,{"$f":"IF(W1610=\"\",\"\",LOOKUP(W1610,Hilfstabelle!$A$1:$A$286,Hilfstabelle!$B$1:$B$286))","v":""}]
[null,null,null,null,null,null,null,null,null,null,null,null,null,null,null,null,null,null,null,null,{"$f":"IF(W1611=\"\",\"\",LOOKUP(W1611,Hilfstabelle!$A$1:$A$286,Hilfstabelle!$B$1:$B$286))","v":""}]
[null,null,null,null,null,null,null,null,null,null,null,null,null,null,null,null,null,null,null,null,{"$f":"IF(W1612=\"\",\"\",LOOKUP(W1612,Hilfstabelle!$A$1:$A$286,Hilfstabelle!$B$1:$B$286))","v":""}]
[null,null,null,null,null,null,null,null,null,null,null,null,null,null,null,null,null,null,null,null,{"$f":"IF(W1613=\"\",\"\",LOOKUP(W1613,Hilfstabelle!$A$1:$A$286,Hilfstabelle!$B$1:$B$286))","v":""}]
[null,null,null,null,null,null,null,null,null,null,null,null,null,null,null,null,null,null,null,null,{"$f":"IF(W1614=\"\",\"\",LOOKUP(W1614,Hilfstabelle!$A$1:$A$286,Hilfstabelle!$B$1:$B$286))","v":""}]
[null,null,null,null,null,null,null,null,null,null,null,null,null,null,null,null,null,null,null,null,{"$f":"IF(W1615=\"\",\"\",LOOKUP(W1615,Hilfstabelle!$A$1:$A$286,Hilfstabelle!$B$1:$B$286))","v":""}]
[null,null,null,null,null,null,null,null,null,null,null,null,null,null,null,null,null,null,null,null,{"$f":"IF(W1616=\"\",\"\",LOOKUP(W1616,Hilfstabelle!$A$1:$A$286,Hilfstabelle!$B$1:$B$286))","v":""}]
[null,null,null,null,null,null,null,null,null,null,null,null,null,null,null,null,null,null,null,null,{"$f":"IF(W1617=\"\",\"\",LOOKUP(W1617,Hilfstabelle!$A$1:$A$286,Hilfstabelle!$B$1:$B$286))","v":""}]
[null,null,null,null,null,null,null,null,null,null,null,null,null,null,null,null,null,null,null,null,{"$f":"IF(W1618=\"\",\"\",LOOKUP(W1618,Hilfstabelle!$A$1:$A$286,Hilfstabelle!$B$1:$B$286))","v":""}]
[null,null,null,null,null,null,null,null,null,null,null,null,null,null,null,null,null,null,null,null,{"$f":"IF(W1619=\"\",\"\",LOOKUP(W1619,Hilfstabelle!$A$1:$A$286,Hilfstabelle!$B$1:$B$286))","v":""}]
[null,null,null,null,null,null,null,null,null,null,null,null,null,null,null,null,null,null,null,null,{"$f":"IF(W1620=\"\",\"\",LOOKUP(W1620,Hilfstabelle!$A$1:$A$286,Hilfstabelle!$B$1:$B$286))","v":""}]
[null,null,null,null,null,null,null,null,null,null,null,null,null,null,null,null,null,null,null,null,{"$f":"IF(W1621=\"\",\"\",LOOKUP(W1621,Hilfstabelle!$A$1:$A$286,Hilfstabelle!$B$1:$B$286))","v":""}]
[null,null,null,null,null,null,null,null,null,null,null,null,null,null,null,null,null,null,null,null,{"$f":"IF(W1622=\"\",\"\",LOOKUP(W1622,Hilfstabelle!$A$1:$A$286,Hilfstabelle!$B$1:$B$286))","v":""}]
[null,null,null,null,null,null,null,null,null,null,null,null,null,null,null,null,null,null,null,null,{"$f":"IF(W1623=\"\",\"\",LOOKUP(W1623,Hilfstabelle!$A$1:$A$286,Hilfstabelle!$B$1:$B$286))","v":""}]
[null,null,null,null,null,null,null,null,null,null,null,null,null,null,null,null,null,null,null,null,{"$f":"IF(W1624=\"\",\"\",LOOKUP(W1624,Hilfstabelle!$A$1:$A$286,Hilfstabelle!$B$1:$B$286))","v":""}]
[null,null,null,null,null,null,null,null,null,null,null,null,null,null,null,null,null,null,null,null,{"$f":"IF(W1625=\"\",\"\",LOOKUP(W1625,Hilfstabelle!$A$1:$A$286,Hilfstabelle!$B$1:$B$286))","v":""}]
[null,null,null,null,null,null,null,null,null,null,null,null,null,null,null,null,null,null,null,null,{"$f":"IF(W1626=\"\",\"\",LOOKUP(W1626,Hilfstabelle!$A$1:$A$286,Hilfstabelle!$B$1:$B$286))","v":""}]
[null,null,null,null,null,null,null,null,null,null,null,null,null,null,null,null,null,null,null,null,{"$f":"IF(W1627=\"\",\"\",LOOKUP(W1627,Hilfstabelle!$A$1:$A$286,Hilfstabelle!$B$1:$B$286))","v":""}]
[null,null,null,null,null,null,null,null,null,null,null,null,null,null,null,null,null,null,null,null,{"$f":"IF(W1628=\"\",\"\",LOOKUP(W1628,Hilfstabelle!$A$1:$A$286,Hilfstabelle!$B$1:$B$286))","v":""}]
[null,null,null,null,null,null,null,null,null,null,null,null,null,null,null,null,null,null,null,null,{"$f":"IF(W1629=\"\",\"\",LOOKUP(W1629,Hilfstabelle!$A$1:$A$286,Hilfstabelle!$B$1:$B$286))","v":""}]
[null,null,null,null,null,null,null,null,null,null,null,null,null,null,null,null,null,null,null,null,{"$f":"IF(W1630=\"\",\"\",LOOKUP(W1630,Hilfstabelle!$A$1:$A$286,Hilfstabelle!$B$1:$B$286))","v":""}]
[null,null,null,null,null,null,null,null,null,null,null,null,null,null,null,null,null,null,null,null,{"$f":"IF(W1631=\"\",\"\",LOOKUP(W1631,Hilfstabelle!$A$1:$A$286,Hilfstabelle!$B$1:$B$286))","v":""}]
[null,null,null,null,null,null,null,null,null,null,null,null,null,null,null,null,null,null,null,null,{"$f":"IF(W1632=\"\",\"\",LOOKUP(W1632,Hilfstabelle!$A$1:$A$286,Hilfstabelle!$B$1:$B$286))","v":""}]
[null,null,null,null,null,null,null,null,null,null,null,null,null,null,null,null,null,null,null,null,{"$f":"IF(W1633=\"\",\"\",LOOKUP(W1633,Hilfstabelle!$A$1:$A$286,Hilfstabelle!$B$1:$B$286))","v":""}]
[null,null,null,null,null,null,null,null,null,null,null,null,null,null,null,null,null,null,null,null,{"$f":"IF(W1634=\"\",\"\",LOOKUP(W1634,Hilfstabelle!$A$1:$A$286,Hilfstabelle!$B$1:$B$286))","v":""}]
[null,null,null,null,null,null,null,null,null,null,null,null,null,null,null,null,null,null,null,null,{"$f":"IF(W1635=\"\",\"\",LOOKUP(W1635,Hilfstabelle!$A$1:$A$286,Hilfstabelle!$B$1:$B$286))","v":""}]
[null,null,null,null,null,null,null,null,null,null,null,null,null,null,null,null,null,null,null,null,{"$f":"IF(W1636=\"\",\"\",LOOKUP(W1636,Hilfstabelle!$A$1:$A$286,Hilfstabelle!$B$1:$B$286))","v":""}]
[null,null,null,null,null,null,null,null,null,null,null,null,null,null,null,null,null,null,null,null,{"$f":"IF(W1637=\"\",\"\",LOOKUP(W1637,Hilfstabelle!$A$1:$A$286,Hilfstabelle!$B$1:$B$286))","v":""}]
[null,null,null,null,null,null,null,null,null,null,null,null,null,null,null,null,null,null,null,null,{"$f":"IF(W1638=\"\",\"\",LOOKUP(W1638,Hilfstabelle!$A$1:$A$286,Hilfstabelle!$B$1:$B$286))","v":""}]
[null,null,null,null,null,null,null,null,null,null,null,null,null,null,null,null,null,null,null,null,{"$f":"IF(W1639=\"\",\"\",LOOKUP(W1639,Hilfstabelle!$A$1:$A$286,Hilfstabelle!$B$1:$B$286))","v":""}]
[null,null,null,null,null,null,null,null,null,null,null,null,null,null,null,null,null,null,null,null,{"$f":"IF(W1640=\"\",\"\",LOOKUP(W1640,Hilfstabelle!$A$1:$A$286,Hilfstabelle!$B$1:$B$286))","v":""}]
[null,null,null,null,null,null,null,null,null,null,null,null,null,null,null,null,null,null,null,null,{"$f":"IF(W1641=\"\",\"\",LOOKUP(W1641,Hilfstabelle!$A$1:$A$286,Hilfstabelle!$B$1:$B$286))","v":""}]
[null,null,null,null,null,null,null,null,null,null,null,null,null,null,null,null,null,null,null,null,{"$f":"IF(W1642=\"\",\"\",LOOKUP(W1642,Hilfstabelle!$A$1:$A$286,Hilfstabelle!$B$1:$B$286))","v":""}]
[null,null,null,null,null,null,null,null,null,null,null,null,null,null,null,null,null,null,null,null,{"$f":"IF(W1643=\"\",\"\",LOOKUP(W1643,Hilfstabelle!$A$1:$A$286,Hilfstabelle!$B$1:$B$286))","v":""}]
[null,null,null,null,null,null,null,null,null,null,null,null,null,null,null,null,null,null,null,null,{"$f":"IF(W1644=\"\",\"\",LOOKUP(W1644,Hilfstabelle!$A$1:$A$286,Hilfstabelle!$B$1:$B$286))","v":""}]
[null,null,null,null,null,null,null,null,null,null,null,null,null,null,null,null,null,null,null,null,{"$f":"IF(W1645=\"\",\"\",LOOKUP(W1645,Hilfstabelle!$A$1:$A$286,Hilfstabelle!$B$1:$B$286))","v":""}]
[null,null,null,null,null,null,null,null,null,null,null,null,null,null,null,null,null,null,null,null,{"$f":"IF(W1646=\"\",\"\",LOOKUP(W1646,Hilfstabelle!$A$1:$A$286,Hilfstabelle!$B$1:$B$286))","v":""}]
[null,null,null,null,null,null,null,null,null,null,null,null,null,null,null,null,null,null,null,null,{"$f":"IF(W1647=\"\",\"\",LOOKUP(W1647,Hilfstabelle!$A$1:$A$286,Hilfstabelle!$B$1:$B$286))","v":""}]
[null,null,null,null,null,null,null,null,null,null,null,null,null,null,null,null,null,null,null,null,{"$f":"IF(W1648=\"\",\"\",LOOKUP(W1648,Hilfstabelle!$A$1:$A$286,Hilfstabelle!$B$1:$B$286))","v":""}]
[null,null,null,null,null,null,null,null,null,null,null,null,null,null,null,null,null,null,null,null,{"$f":"IF(W1649=\"\",\"\",LOOKUP(W1649,Hilfstabelle!$A$1:$A$286,Hilfstabelle!$B$1:$B$286))","v":""}]
[null,null,null,null,null,null,null,null,null,null,null,null,null,null,null,null,null,null,null,null,{"$f":"IF(W1650=\"\",\"\",LOOKUP(W1650,Hilfstabelle!$A$1:$A$286,Hilfstabelle!$B$1:$B$286))","v":""}]
[null,null,null,null,null,null,null,null,null,null,null,null,null,null,null,null,null,null,null,null,{"$f":"IF(W1651=\"\",\"\",LOOKUP(W1651,Hilfstabelle!$A$1:$A$286,Hilfstabelle!$B$1:$B$286))","v":""}]
[null,null,null,null,null,null,null,null,null,null,null,null,null,null,null,null,null,null,null,null,{"$f":"IF(W1652=\"\",\"\",LOOKUP(W1652,Hilfstabelle!$A$1:$A$286,Hilfstabelle!$B$1:$B$286))","v":""}]
[null,null,null,null,null,null,null,null,null,null,null,null,null,null,null,null,null,null,null,null,{"$f":"IF(W1653=\"\",\"\",LOOKUP(W1653,Hilfstabelle!$A$1:$A$286,Hilfstabelle!$B$1:$B$286))","v":""}]
[null,null,null,null,null,null,null,null,null,null,null,null,null,null,null,null,null,null,null,null,{"$f":"IF(W1654=\"\",\"\",LOOKUP(W1654,Hilfstabelle!$A$1:$A$286,Hilfstabelle!$B$1:$B$286))","v":""}]
[null,null,null,null,null,null,null,null,null,null,null,null,null,null,null,null,null,null,null,null,{"$f":"IF(W1655=\"\",\"\",LOOKUP(W1655,Hilfstabelle!$A$1:$A$286,Hilfstabelle!$B$1:$B$286))","v":""}]
[null,null,null,null,null,null,null,null,null,null,null,null,null,null,null,null,null,null,null,null,{"$f":"IF(W1656=\"\",\"\",LOOKUP(W1656,Hilfstabelle!$A$1:$A$286,Hilfstabelle!$B$1:$B$286))","v":""}]
[null,null,null,null,null,null,null,null,null,null,null,null,null,null,null,null,null,null,null,null,{"$f":"IF(W1657=\"\",\"\",LOOKUP(W1657,Hilfstabelle!$A$1:$A$286,Hilfstabelle!$B$1:$B$286))","v":""}]
[null,null,null,null,null,null,null,null,null,null,null,null,null,null,null,null,null,null,null,null,{"$f":"IF(W1658=\"\",\"\",LOOKUP(W1658,Hilfstabelle!$A$1:$A$286,Hilfstabelle!$B$1:$B$286))","v":""}]
[null,null,null,null,null,null,null,null,null,null,null,null,null,null,null,null,null,null,null,null,{"$f":"IF(W1659=\"\",\"\",LOOKUP(W1659,Hilfstabelle!$A$1:$A$286,Hilfstabelle!$B$1:$B$286))","v":""}]
[null,null,null,null,null,null,null,null,null,null,null,null,null,null,null,null,null,null,null,null,{"$f":"IF(W1660=\"\",\"\",LOOKUP(W1660,Hilfstabelle!$A$1:$A$286,Hilfstabelle!$B$1:$B$286))","v":""}]
[null,null,null,null,null,null,null,null,null,null,null,null,null,null,null,null,null,null,null,null,{"$f":"IF(W1661=\"\",\"\",LOOKUP(W1661,Hilfstabelle!$A$1:$A$286,Hilfstabelle!$B$1:$B$286))","v":""}]
[null,null,null,null,null,null,null,null,null,null,null,null,null,null,null,null,null,null,null,null,{"$f":"IF(W1662=\"\",\"\",LOOKUP(W1662,Hilfstabelle!$A$1:$A$286,Hilfstabelle!$B$1:$B$286))","v":""}]
[null,null,null,null,null,null,null,null,null,null,null,null,null,null,null,null,null,null,null,null,{"$f":"IF(W1663=\"\",\"\",LOOKUP(W1663,Hilfstabelle!$A$1:$A$286,Hilfstabelle!$B$1:$B$286))","v":""}]
[null,null,null,null,null,null,null,null,null,null,null,null,null,null,null,null,null,null,null,null,{"$f":"IF(W1664=\"\",\"\",LOOKUP(W1664,Hilfstabelle!$A$1:$A$286,Hilfstabelle!$B$1:$B$286))","v":""}]
[null,null,null,null,null,null,null,null,null,null,null,null,null,null,null,null,null,null,null,null,{"$f":"IF(W1665=\"\",\"\",LOOKUP(W1665,Hilfstabelle!$A$1:$A$286,Hilfstabelle!$B$1:$B$286))","v":""}]
[null,null,null,null,null,null,null,null,null,null,null,null,null,null,null,null,null,null,null,null,{"$f":"IF(W1666=\"\",\"\",LOOKUP(W1666,Hilfstabelle!$A$1:$A$286,Hilfstabelle!$B$1:$B$286))","v":""}]
[null,null,null,null,null,null,null,null,null,null,null,null,null,null,null,null,null,null,null,null,{"$f":"IF(W1667=\"\",\"\",LOOKUP(W1667,Hilfstabelle!$A$1:$A$286,Hilfstabelle!$B$1:$B$286))","v":""}]
[null,null,null,null,null,null,null,null,null,null,null,null,null,null,null,null,null,null,null,null,{"$f":"IF(W1668=\"\",\"\",LOOKUP(W1668,Hilfstabelle!$A$1:$A$286,Hilfstabelle!$B$1:$B$286))","v":""}]
[null,null,null,null,null,null,null,null,null,null,null,null,null,null,null,null,null,null,null,null,{"$f":"IF(W1669=\"\",\"\",LOOKUP(W1669,Hilfstabelle!$A$1:$A$286,Hilfstabelle!$B$1:$B$286))","v":""}]
[null,null,null,null,null,null,null,null,null,null,null,null,null,null,null,null,null,null,null,null,{"$f":"IF(W1670=\"\",\"\",LOOKUP(W1670,Hilfstabelle!$A$1:$A$286,Hilfstabelle!$B$1:$B$286))","v":""}]
[null,null,null,null,null,null,null,null,null,null,null,null,null,null,null,null,null,null,null,null,{"$f":"IF(W1671=\"\",\"\",LOOKUP(W1671,Hilfstabelle!$A$1:$A$286,Hilfstabelle!$B$1:$B$286))","v":""}]
[null,null,null,null,null,null,null,null,null,null,null,null,null,null,null,null,null,null,null,null,{"$f":"IF(W1672=\"\",\"\",LOOKUP(W1672,Hilfstabelle!$A$1:$A$286,Hilfstabelle!$B$1:$B$286))","v":""}]
[null,null,null,null,null,null,null,null,null,null,null,null,null,null,null,null,null,null,null,null,{"$f":"IF(W1673=\"\",\"\",LOOKUP(W1673,Hilfstabelle!$A$1:$A$286,Hilfstabelle!$B$1:$B$286))","v":""}]
[null,null,null,null,null,null,null,null,null,null,null,null,null,null,null,null,null,null,null,null,{"$f":"IF(W1674=\"\",\"\",LOOKUP(W1674,Hilfstabelle!$A$1:$A$286,Hilfstabelle!$B$1:$B$286))","v":""}]
[null,null,null,null,null,null,null,null,null,null,null,null,null,null,null,null,null,null,null,null,{"$f":"IF(W1675=\"\",\"\",LOOKUP(W1675,Hilfstabelle!$A$1:$A$286,Hilfstabelle!$B$1:$B$286))","v":""}]
[null,null,null,null,null,null,null,null,null,null,null,null,null,null,null,null,null,null,null,null,{"$f":"IF(W1676=\"\",\"\",LOOKUP(W1676,Hilfstabelle!$A$1:$A$286,Hilfstabelle!$B$1:$B$286))","v":""}]
[null,null,null,null,null,null,null,null,null,null,null,null,null,null,null,null,null,null,null,null,{"$f":"IF(W1677=\"\",\"\",LOOKUP(W1677,Hilfstabelle!$A$1:$A$286,Hilfstabelle!$B$1:$B$286))","v":""}]
[null,null,null,null,null,null,null,null,null,null,null,null,null,null,null,null,null,null,null,null,{"$f":"IF(W1678=\"\",\"\",LOOKUP(W1678,Hilfstabelle!$A$1:$A$286,Hilfstabelle!$B$1:$B$286))","v":""}]
[null,null,null,null,null,null,null,null,null,null,null,null,null,null,null,null,null,null,null,null,{"$f":"IF(W1679=\"\",\"\",LOOKUP(W1679,Hilfstabelle!$A$1:$A$286,Hilfstabelle!$B$1:$B$286))","v":""}]
[null,null,null,null,null,null,null,null,null,null,null,null,null,null,null,null,null,null,null,null,{"$f":"IF(W1680=\"\",\"\",LOOKUP(W1680,Hilfstabelle!$A$1:$A$286,Hilfstabelle!$B$1:$B$286))","v":""}]
[null,null,null,null,null,null,null,null,null,null,null,null,null,null,null,null,null,null,null,null,{"$f":"IF(W1681=\"\",\"\",LOOKUP(W1681,Hilfstabelle!$A$1:$A$286,Hilfstabelle!$B$1:$B$286))","v":""}]
[null,null,null,null,null,null,null,null,null,null,null,null,null,null,null,null,null,null,null,null,{"$f":"IF(W1682=\"\",\"\",LOOKUP(W1682,Hilfstabelle!$A$1:$A$286,Hilfstabelle!$B$1:$B$286))","v":""}]
[null,null,null,null,null,null,null,null,null,null,null,null,null,null,null,null,null,null,null,null,{"$f":"IF(W1683=\"\",\"\",LOOKUP(W1683,Hilfstabelle!$A$1:$A$286,Hilfstabelle!$B$1:$B$286))","v":""}]
[null,null,null,null,null,null,null,null,null,null,null,null,null,null,null,null,null,null,null,null,{"$f":"IF(W1684=\"\",\"\",LOOKUP(W1684,Hilfstabelle!$A$1:$A$286,Hilfstabelle!$B$1:$B$286))","v":""}]
[null,null,null,null,null,null,null,null,null,null,null,null,null,null,null,null,null,null,null,null,{"$f":"IF(W1685=\"\",\"\",LOOKUP(W1685,Hilfstabelle!$A$1:$A$286,Hilfstabelle!$B$1:$B$286))","v":""}]
[null,null,null,null,null,null,null,null,null,null,null,null,null,null,null,null,null,null,null,null,{"$f":"IF(W1686=\"\",\"\",LOOKUP(W1686,Hilfstabelle!$A$1:$A$286,Hilfstabelle!$B$1:$B$286))","v":""}]
[null,null,null,null,null,null,null,null,null,null,null,null,null,null,null,null,null,null,null,null,{"$f":"IF(W1687=\"\",\"\",LOOKUP(W1687,Hilfstabelle!$A$1:$A$286,Hilfstabelle!$B$1:$B$286))","v":""}]
[null,null,null,null,null,null,null,null,null,null,null,null,null,null,null,null,null,null,null,null,{"$f":"IF(W1688=\"\",\"\",LOOKUP(W1688,Hilfstabelle!$A$1:$A$286,Hilfstabelle!$B$1:$B$286))","v":""}]
[null,null,null,null,null,null,null,null,null,null,null,null,null,null,null,null,null,null,null,null,{"$f":"IF(W1689=\"\",\"\",LOOKUP(W1689,Hilfstabelle!$A$1:$A$286,Hilfstabelle!$B$1:$B$286))","v":""}]
[null,null,null,null,null,null,null,null,null,null,null,null,null,null,null,null,null,null,null,null,{"$f":"IF(W1690=\"\",\"\",LOOKUP(W1690,Hilfstabelle!$A$1:$A$286,Hilfstabelle!$B$1:$B$286))","v":""}]
[null,null,null,null,null,null,null,null,null,null,null,null,null,null,null,null,null,null,null,null,{"$f":"IF(W1691=\"\",\"\",LOOKUP(W1691,Hilfstabelle!$A$1:$A$286,Hilfstabelle!$B$1:$B$286))","v":""}]
[null,null,null,null,null,null,null,null,null,null,null,null,null,null,null,null,null,null,null,null,{"$f":"IF(W1692=\"\",\"\",LOOKUP(W1692,Hilfstabelle!$A$1:$A$286,Hilfstabelle!$B$1:$B$286))","v":""}]
[null,null,null,null,null,null,null,null,null,null,null,null,null,null,null,null,null,null,null,null,{"$f":"IF(W1693=\"\",\"\",LOOKUP(W1693,Hilfstabelle!$A$1:$A$286,Hilfstabelle!$B$1:$B$286))","v":""}]
[null,null,null,null,null,null,null,null,null,null,null,null,null,null,null,null,null,null,null,null,{"$f":"IF(W1694=\"\",\"\",LOOKUP(W1694,Hilfstabelle!$A$1:$A$286,Hilfstabelle!$B$1:$B$286))","v":""}]
[null,null,null,null,null,null,null,null,null,null,null,null,null,null,null,null,null,null,null,null,{"$f":"IF(W1695=\"\",\"\",LOOKUP(W1695,Hilfstabelle!$A$1:$A$286,Hilfstabelle!$B$1:$B$286))","v":""}]
[null,null,null,null,null,null,null,null,null,null,null,null,null,null,null,null,null,null,null,null,{"$f":"IF(W1696=\"\",\"\",LOOKUP(W1696,Hilfstabelle!$A$1:$A$286,Hilfstabelle!$B$1:$B$286))","v":""}]
[null,null,null,null,null,null,null,null,null,null,null,null,null,null,null,null,null,null,null,null,{"$f":"IF(W1697=\"\",\"\",LOOKUP(W1697,Hilfstabelle!$A$1:$A$286,Hilfstabelle!$B$1:$B$286))","v":""}]
[null,null,null,null,null,null,null,null,null,null,null,null,null,null,null,null,null,null,null,null,{"$f":"IF(W1698=\"\",\"\",LOOKUP(W1698,Hilfstabelle!$A$1:$A$286,Hilfstabelle!$B$1:$B$286))","v":""}]
[null,null,null,null,null,null,null,null,null,null,null,null,null,null,null,null,null,null,null,null,{"$f":"IF(W1699=\"\",\"\",LOOKUP(W1699,Hilfstabelle!$A$1:$A$286,Hilfstabelle!$B$1:$B$286))","v":""}]
[null,null,null,null,null,null,null,null,null,null,null,null,null,null,null,null,null,null,null,null,{"$f":"IF(W1700=\"\",\"\",LOOKUP(W1700,Hilfstabelle!$A$1:$A$286,Hilfstabelle!$B$1:$B$286))","v":""}]
[null,null,null,null,null,null,null,null,null,null,null,null,null,null,null,null,null,null,null,null,{"$f":"IF(W1701=\"\",\"\",LOOKUP(W1701,Hilfstabelle!$A$1:$A$286,Hilfstabelle!$B$1:$B$286))","v":""}]
[null,null,null,null,null,null,null,null,null,null,null,null,null,null,null,null,null,null,null,null,{"$f":"IF(W1702=\"\",\"\",LOOKUP(W1702,Hilfstabelle!$A$1:$A$286,Hilfstabelle!$B$1:$B$286))","v":""}]
[null,null,null,null,null,null,null,null,null,null,null,null,null,null,null,null,null,null,null,null,{"$f":"IF(W1703=\"\",\"\",LOOKUP(W1703,Hilfstabelle!$A$1:$A$286,Hilfstabelle!$B$1:$B$286))","v":""}]
[null,null,null,null,null,null,null,null,null,null,null,null,null,null,null,null,null,null,null,null,{"$f":"IF(W1704=\"\",\"\",LOOKUP(W1704,Hilfstabelle!$A$1:$A$286,Hilfstabelle!$B$1:$B$286))","v":""}]
[null,null,null,null,null,null,null,null,null,null,null,null,null,null,null,null,null,null,null,null,{"$f":"IF(W1705=\"\",\"\",LOOKUP(W1705,Hilfstabelle!$A$1:$A$286,Hilfstabelle!$B$1:$B$286))","v":""}]
[null,null,null,null,null,null,null,null,null,null,null,null,null,null,null,null,null,null,null,null,{"$f":"IF(W1706=\"\",\"\",LOOKUP(W1706,Hilfstabelle!$A$1:$A$286,Hilfstabelle!$B$1:$B$286))","v":""}]
[null,null,null,null,null,null,null,null,null,null,null,null,null,null,null,null,null,null,null,null,{"$f":"IF(W1707=\"\",\"\",LOOKUP(W1707,Hilfstabelle!$A$1:$A$286,Hilfstabelle!$B$1:$B$286))","v":""}]
[null,null,null,null,null,null,null,null,null,null,null,null,null,null,null,null,null,null,null,null,{"$f":"IF(W1708=\"\",\"\",LOOKUP(W1708,Hilfstabelle!$A$1:$A$286,Hilfstabelle!$B$1:$B$286))","v":""}]
[null,null,null,null,null,null,null,null,null,null,null,null,null,null,null,null,null,null,null,null,{"$f":"IF(W1709=\"\",\"\",LOOKUP(W1709,Hilfstabelle!$A$1:$A$286,Hilfstabelle!$B$1:$B$286))","v":""}]
[null,null,null,null,null,null,null,null,null,null,null,null,null,null,null,null,null,null,null,null,{"$f":"IF(W1710=\"\",\"\",LOOKUP(W1710,Hilfstabelle!$A$1:$A$286,Hilfstabelle!$B$1:$B$286))","v":""}]
[null,null,null,null,null,null,null,null,null,null,null,null,null,null,null,null,null,null,null,null,{"$f":"IF(W1711=\"\",\"\",LOOKUP(W1711,Hilfstabelle!$A$1:$A$286,Hilfstabelle!$B$1:$B$286))","v":""}]
[null,null,null,null,null,null,null,null,null,null,null,null,null,null,null,null,null,null,null,null,{"$f":"IF(W1712=\"\",\"\",LOOKUP(W1712,Hilfstabelle!$A$1:$A$286,Hilfstabelle!$B$1:$B$286))","v":""}]
[null,null,null,null,null,null,null,null,null,null,null,null,null,null,null,null,null,null,null,null,{"$f":"IF(W1713=\"\",\"\",LOOKUP(W1713,Hilfstabelle!$A$1:$A$286,Hilfstabelle!$B$1:$B$286))","v":""}]
[null,null,null,null,null,null,null,null,null,null,null,null,null,null,null,null,null,null,null,null,{"$f":"IF(W1714=\"\",\"\",LOOKUP(W1714,Hilfstabelle!$A$1:$A$286,Hilfstabelle!$B$1:$B$286))","v":""}]
[null,null,null,null,null,null,null,null,null,null,null,null,null,null,null,null,null,null,null,null,{"$f":"IF(W1715=\"\",\"\",LOOKUP(W1715,Hilfstabelle!$A$1:$A$286,Hilfstabelle!$B$1:$B$286))","v":""}]
[null,null,null,null,null,null,null,null,null,null,null,null,null,null,null,null,null,null,null,null,{"$f":"IF(W1716=\"\",\"\",LOOKUP(W1716,Hilfstabelle!$A$1:$A$286,Hilfstabelle!$B$1:$B$286))","v":""}]
[null,null,null,null,null,null,null,null,null,null,null,null,null,null,null,null,null,null,null,null,{"$f":"IF(W1717=\"\",\"\",LOOKUP(W1717,Hilfstabelle!$A$1:$A$286,Hilfstabelle!$B$1:$B$286))","v":""}]
[null,null,null,null,null,null,null,null,null,null,null,null,null,null,null,null,null,null,null,null,{"$f":"IF(W1718=\"\",\"\",LOOKUP(W1718,Hilfstabelle!$A$1:$A$286,Hilfstabelle!$B$1:$B$286))","v":""}]
[null,null,null,null,null,null,null,null,null,null,null,null,null,null,null,null,null,null,null,null,{"$f":"IF(W1719=\"\",\"\",LOOKUP(W1719,Hilfstabelle!$A$1:$A$286,Hilfstabelle!$B$1:$B$286))","v":""}]
[null,null,null,null,null,null,null,null,null,null,null,null,null,null,null,null,null,null,null,null,{"$f":"IF(W1720=\"\",\"\",LOOKUP(W1720,Hilfstabelle!$A$1:$A$286,Hilfstabelle!$B$1:$B$286))","v":""}]
[null,null,null,null,null,null,null,null,null,null,null,null,null,null,null,null,null,null,null,null,{"$f":"IF(W1721=\"\",\"\",LOOKUP(W1721,Hilfstabelle!$A$1:$A$286,Hilfstabelle!$B$1:$B$286))","v":""}]
[null,null,null,null,null,null,null,null,null,null,null,null,null,null,null,null,null,null,null,null,{"$f":"IF(W1722=\"\",\"\",LOOKUP(W1722,Hilfstabelle!$A$1:$A$286,Hilfstabelle!$B$1:$B$286))","v":""}]
[null,null,null,null,null,null,null,null,null,null,null,null,null,null,null,null,null,null,null,null,{"$f":"IF(W1723=\"\",\"\",LOOKUP(W1723,Hilfstabelle!$A$1:$A$286,Hilfstabelle!$B$1:$B$286))","v":""}]
[null,null,null,null,null,null,null,null,null,null,null,null,null,null,null,null,null,null,null,null,{"$f":"IF(W1724=\"\",\"\",LOOKUP(W1724,Hilfstabelle!$A$1:$A$286,Hilfstabelle!$B$1:$B$286))","v":""}]
[null,null,null,null,null,null,null,null,null,null,null,null,null,null,null,null,null,null,null,null,{"$f":"IF(W1725=\"\",\"\",LOOKUP(W1725,Hilfstabelle!$A$1:$A$286,Hilfstabelle!$B$1:$B$286))","v":""}]
[null,null,null,null,null,null,null,null,null,null,null,null,null,null,null,null,null,null,null,null,{"$f":"IF(W1726=\"\",\"\",LOOKUP(W1726,Hilfstabelle!$A$1:$A$286,Hilfstabelle!$B$1:$B$286))","v":""}]
[null,null,null,null,null,null,null,null,null,null,null,null,null,null,null,null,null,null,null,null,{"$f":"IF(W1727=\"\",\"\",LOOKUP(W1727,Hilfstabelle!$A$1:$A$286,Hilfstabelle!$B$1:$B$286))","v":""}]
[null,null,null,null,null,null,null,null,null,null,null,null,null,null,null,null,null,null,null,null,{"$f":"IF(W1728=\"\",\"\",LOOKUP(W1728,Hilfstabelle!$A$1:$A$286,Hilfstabelle!$B$1:$B$286))","v":""}]
[null,null,null,null,null,null,null,null,null,null,null,null,null,null,null,null,null,null,null,null,{"$f":"IF(W1729=\"\",\"\",LOOKUP(W1729,Hilfstabelle!$A$1:$A$286,Hilfstabelle!$B$1:$B$286))","v":""}]
[null,null,null,null,null,null,null,null,null,null,null,null,null,null,null,null,null,null,null,null,{"$f":"IF(W1730=\"\",\"\",LOOKUP(W1730,Hilfstabelle!$A$1:$A$286,Hilfstabelle!$B$1:$B$286))","v":""}]
[null,null,null,null,null,null,null,null,null,null,null,null,null,null,null,null,null,null,null,null,{"$f":"IF(W1731=\"\",\"\",LOOKUP(W1731,Hilfstabelle!$A$1:$A$286,Hilfstabelle!$B$1:$B$286))","v":""}]
[null,null,null,null,null,null,null,null,null,null,null,null,null,null,null,null,null,null,null,null,{"$f":"IF(W1732=\"\",\"\",LOOKUP(W1732,Hilfstabelle!$A$1:$A$286,Hilfstabelle!$B$1:$B$286))","v":""}]
[null,null,null,null,null,null,null,null,null,null,null,null,null,null,null,null,null,null,null,null,{"$f":"IF(W1733=\"\",\"\",LOOKUP(W1733,Hilfstabelle!$A$1:$A$286,Hilfstabelle!$B$1:$B$286))","v":""}]
[null,null,null,null,null,null,null,null,null,null,null,null,null,null,null,null,null,null,null,null,{"$f":"IF(W1734=\"\",\"\",LOOKUP(W1734,Hilfstabelle!$A$1:$A$286,Hilfstabelle!$B$1:$B$286))","v":""}]
[null,null,null,null,null,null,null,null,null,null,null,null,null,null,null,null,null,null,null,null,{"$f":"IF(W1735=\"\",\"\",LOOKUP(W1735,Hilfstabelle!$A$1:$A$286,Hilfstabelle!$B$1:$B$286))","v":""}]
[null,null,null,null,null,null,null,null,null,null,null,null,null,null,null,null,null,null,null,null,{"$f":"IF(W1736=\"\",\"\",LOOKUP(W1736,Hilfstabelle!$A$1:$A$286,Hilfstabelle!$B$1:$B$286))","v":""}]
[null,null,null,null,null,null,null,null,null,null,null,null,null,null,null,null,null,null,null,null,{"$f":"IF(W1737=\"\",\"\",LOOKUP(W1737,Hilfstabelle!$A$1:$A$286,Hilfstabelle!$B$1:$B$286))","v":""}]
[null,null,null,null,null,null,null,null,null,null,null,null,null,null,null,null,null,null,null,null,{"$f":"IF(W1738=\"\",\"\",LOOKUP(W1738,Hilfstabelle!$A$1:$A$286,Hilfstabelle!$B$1:$B$286))","v":""}]
[null,null,null,null,null,null,null,null,null,null,null,null,null,null,null,null,null,null,null,null,{"$f":"IF(W1739=\"\",\"\",LOOKUP(W1739,Hilfstabelle!$A$1:$A$286,Hilfstabelle!$B$1:$B$286))","v":""}]
[null,null,null,null,null,null,null,null,null,null,null,null,null,null,null,null,null,null,null,null,{"$f":"IF(W1740=\"\",\"\",LOOKUP(W1740,Hilfstabelle!$A$1:$A$286,Hilfstabelle!$B$1:$B$286))","v":""}]
[null,null,null,null,null,null,null,null,null,null,null,null,null,null,null,null,null,null,null,null,{"$f":"IF(W1741=\"\",\"\",LOOKUP(W1741,Hilfstabelle!$A$1:$A$286,Hilfstabelle!$B$1:$B$286))","v":""}]
[null,null,null,null,null,null,null,null,null,null,null,null,null,null,null,null,null,null,null,null,{"$f":"IF(W1742=\"\",\"\",LOOKUP(W1742,Hilfstabelle!$A$1:$A$286,Hilfstabelle!$B$1:$B$286))","v":""}]
[null,null,null,null,null,null,null,null,null,null,null,null,null,null,null,null,null,null,null,null,{"$f":"IF(W1743=\"\",\"\",LOOKUP(W1743,Hilfstabelle!$A$1:$A$286,Hilfstabelle!$B$1:$B$286))","v":""}]
[null,null,null,null,null,null,null,null,null,null,null,null,null,null,null,null,null,null,null,null,{"$f":"IF(W1744=\"\",\"\",LOOKUP(W1744,Hilfstabelle!$A$1:$A$286,Hilfstabelle!$B$1:$B$286))","v":""}]
[null,null,null,null,null,null,null,null,null,null,null,null,null,null,null,null,null,null,null,null,{"$f":"IF(W1745=\"\",\"\",LOOKUP(W1745,Hilfstabelle!$A$1:$A$286,Hilfstabelle!$B$1:$B$286))","v":""}]
[null,null,null,null,null,null,null,null,null,null,null,null,null,null,null,null,null,null,null,null,{"$f":"IF(W1746=\"\",\"\",LOOKUP(W1746,Hilfstabelle!$A$1:$A$286,Hilfstabelle!$B$1:$B$286))","v":""}]
[null,null,null,null,null,null,null,null,null,null,null,null,null,null,null,null,null,null,null,null,{"$f":"IF(W1747=\"\",\"\",LOOKUP(W1747,Hilfstabelle!$A$1:$A$286,Hilfstabelle!$B$1:$B$286))","v":""}]
[null,null,null,null,null,null,null,null,null,null,null,null,null,null,null,null,null,null,null,null,{"$f":"IF(W1748=\"\",\"\",LOOKUP(W1748,Hilfstabelle!$A$1:$A$286,Hilfstabelle!$B$1:$B$286))","v":""}]
[null,null,null,null,null,null,null,null,null,null,null,null,null,null,null,null,null,null,null,null,{"$f":"IF(W1749=\"\",\"\",LOOKUP(W1749,Hilfstabelle!$A$1:$A$286,Hilfstabelle!$B$1:$B$286))","v":""}]
[null,null,null,null,null,null,null,null,null,null,null,null,null,null,null,null,null,null,null,null,{"$f":"IF(W1750=\"\",\"\",LOOKUP(W1750,Hilfstabelle!$A$1:$A$286,Hilfstabelle!$B$1:$B$286))","v":""}]
[null,null,null,null,null,null,null,null,null,null,null,null,null,null,null,null,null,null,null,null,{"$f":"IF(W1751=\"\",\"\",LOOKUP(W1751,Hilfstabelle!$A$1:$A$286,Hilfstabelle!$B$1:$B$286))","v":""}]
[null,null,null,null,null,null,null,null,null,null,null,null,null,null,null,null,null,null,null,null,{"$f":"IF(W1752=\"\",\"\",LOOKUP(W1752,Hilfstabelle!$A$1:$A$286,Hilfstabelle!$B$1:$B$286))","v":""}]
[null,null,null,null,null,null,null,null,null,null,null,null,null,null,null,null,null,null,null,null,{"$f":"IF(W1753=\"\",\"\",LOOKUP(W1753,Hilfstabelle!$A$1:$A$286,Hilfstabelle!$B$1:$B$286))","v":""}]
[null,null,null,null,null,null,null,null,null,null,null,null,null,null,null,null,null,null,null,null,{"$f":"IF(W1754=\"\",\"\",LOOKUP(W1754,Hilfstabelle!$A$1:$A$286,Hilfstabelle!$B$1:$B$286))","v":""}]
[null,null,null,null,null,null,null,null,null,null,null,null,null,null,null,null,null,null,null,null,{"$f":"IF(W1755=\"\",\"\",LOOKUP(W1755,Hilfstabelle!$A$1:$A$286,Hilfstabelle!$B$1:$B$286))","v":""}]
[null,null,null,null,null,null,null,null,null,null,null,null,null,null,null,null,null,null,null,null,{"$f":"IF(W1756=\"\",\"\",LOOKUP(W1756,Hilfstabelle!$A$1:$A$286,Hilfstabelle!$B$1:$B$286))","v":""}]
[null,null,null,null,null,null,null,null,null,null,null,null,null,null,null,null,null,null,null,null,{"$f":"IF(W1757=\"\",\"\",LOOKUP(W1757,Hilfstabelle!$A$1:$A$286,Hilfstabelle!$B$1:$B$286))","v":""}]
[null,null,null,null,null,null,null,null,null,null,null,null,null,null,null,null,null,null,null,null,{"$f":"IF(W1758=\"\",\"\",LOOKUP(W1758,Hilfstabelle!$A$1:$A$286,Hilfstabelle!$B$1:$B$286))","v":""}]
[null,null,null,null,null,null,null,null,null,null,null,null,null,null,null,null,null,null,null,null,{"$f":"IF(W1759=\"\",\"\",LOOKUP(W1759,Hilfstabelle!$A$1:$A$286,Hilfstabelle!$B$1:$B$286))","v":""}]
[null,null,null,null,null,null,null,null,null,null,null,null,null,null,null,null,null,null,null,null,{"$f":"IF(W1760=\"\",\"\",LOOKUP(W1760,Hilfstabelle!$A$1:$A$286,Hilfstabelle!$B$1:$B$286))","v":""}]
[null,null,null,null,null,null,null,null,null,null,null,null,null,null,null,null,null,null,null,null,{"$f":"IF(W1761=\"\",\"\",LOOKUP(W1761,Hilfstabelle!$A$1:$A$286,Hilfstabelle!$B$1:$B$286))","v":""}]
[null,null,null,null,null,null,null,null,null,null,null,null,null,null,null,null,null,null,null,null,{"$f":"IF(W1762=\"\",\"\",LOOKUP(W1762,Hilfstabelle!$A$1:$A$286,Hilfstabelle!$B$1:$B$286))","v":""}]
[null,null,null,null,null,null,null,null,null,null,null,null,null,null,null,null,null,null,null,null,{"$f":"IF(W1763=\"\",\"\",LOOKUP(W1763,Hilfstabelle!$A$1:$A$286,Hilfstabelle!$B$1:$B$286))","v":""}]
[null,null,null,null,null,null,null,null,null,null,null,null,null,null,null,null,null,null,null,null,{"$f":"IF(W1764=\"\",\"\",LOOKUP(W1764,Hilfstabelle!$A$1:$A$286,Hilfstabelle!$B$1:$B$286))","v":""}]
[null,null,null,null,null,null,null,null,null,null,null,null,null,null,null,null,null,null,null,null,{"$f":"IF(W1765=\"\",\"\",LOOKUP(W1765,Hilfstabelle!$A$1:$A$286,Hilfstabelle!$B$1:$B$286))","v":""}]
[null,null,null,null,null,null,null,null,null,null,null,null,null,null,null,null,null,null,null,null,{"$f":"IF(W1766=\"\",\"\",LOOKUP(W1766,Hilfstabelle!$A$1:$A$286,Hilfstabelle!$B$1:$B$286))","v":""}]
[null,null,null,null,null,null,null,null,null,null,null,null,null,null,null,null,null,null,null,null,{"$f":"IF(W1767=\"\",\"\",LOOKUP(W1767,Hilfstabelle!$A$1:$A$286,Hilfstabelle!$B$1:$B$286))","v":""}]
[null,null,null,null,null,null,null,null,null,null,null,null,null,null,null,null,null,null,null,null,{"$f":"IF(W1768=\"\",\"\",LOOKUP(W1768,Hilfstabelle!$A$1:$A$286,Hilfstabelle!$B$1:$B$286))","v":""}]
[null,null,null,null,null,null,null,null,null,null,null,null,null,null,null,null,null,null,null,null,{"$f":"IF(W1769=\"\",\"\",LOOKUP(W1769,Hilfstabelle!$A$1:$A$286,Hilfstabelle!$B$1:$B$286))","v":""}]
[null,null,null,null,null,null,null,null,null,null,null,null,null,null,null,null,null,null,null,null,{"$f":"IF(W1770=\"\",\"\",LOOKUP(W1770,Hilfstabelle!$A$1:$A$286,Hilfstabelle!$B$1:$B$286))","v":""}]
[null,null,null,null,null,null,null,null,null,null,null,null,null,null,null,null,null,null,null,null,{"$f":"IF(W1771=\"\",\"\",LOOKUP(W1771,Hilfstabelle!$A$1:$A$286,Hilfstabelle!$B$1:$B$286))","v":""}]
[null,null,null,null,null,null,null,null,null,null,null,null,null,null,null,null,null,null,null,null,{"$f":"IF(W1772=\"\",\"\",LOOKUP(W1772,Hilfstabelle!$A$1:$A$286,Hilfstabelle!$B$1:$B$286))","v":""}]
[null,null,null,null,null,null,null,null,null,null,null,null,null,null,null,null,null,null,null,null,{"$f":"IF(W1773=\"\",\"\",LOOKUP(W1773,Hilfstabelle!$A$1:$A$286,Hilfstabelle!$B$1:$B$286))","v":""}]
[null,null,null,null,null,null,null,null,null,null,null,null,null,null,null,null,null,null,null,null,{"$f":"IF(W1774=\"\",\"\",LOOKUP(W1774,Hilfstabelle!$A$1:$A$286,Hilfstabelle!$B$1:$B$286))","v":""}]
[null,null,null,null,null,null,null,null,null,null,null,null,null,null,null,null,null,null,null,null,{"$f":"IF(W1775=\"\",\"\",LOOKUP(W1775,Hilfstabelle!$A$1:$A$286,Hilfstabelle!$B$1:$B$286))","v":""}]
[null,null,null,null,null,null,null,null,null,null,null,null,null,null,null,null,null,null,null,null,{"$f":"IF(W1776=\"\",\"\",LOOKUP(W1776,Hilfstabelle!$A$1:$A$286,Hilfstabelle!$B$1:$B$286))","v":""}]
[null,null,null,null,null,null,null,null,null,null,null,null,null,null,null,null,null,null,null,null,{"$f":"IF(W1777=\"\",\"\",LOOKUP(W1777,Hilfstabelle!$A$1:$A$286,Hilfstabelle!$B$1:$B$286))","v":""}]
[null,null,null,null,null,null,null,null,null,null,null,null,null,null,null,null,null,null,null,null,{"$f":"IF(W1778=\"\",\"\",LOOKUP(W1778,Hilfstabelle!$A$1:$A$286,Hilfstabelle!$B$1:$B$286))","v":""}]
[null,null,null,null,null,null,null,null,null,null,null,null,null,null,null,null,null,null,null,null,{"$f":"IF(W1779=\"\",\"\",LOOKUP(W1779,Hilfstabelle!$A$1:$A$286,Hilfstabelle!$B$1:$B$286))","v":""}]
[null,null,null,null,null,null,null,null,null,null,null,null,null,null,null,null,null,null,null,null,{"$f":"IF(W1780=\"\",\"\",LOOKUP(W1780,Hilfstabelle!$A$1:$A$286,Hilfstabelle!$B$1:$B$286))","v":""}]
[null,null,null,null,null,null,null,null,null,null,null,null,null,null,null,null,null,null,null,null,{"$f":"IF(W1781=\"\",\"\",LOOKUP(W1781,Hilfstabelle!$A$1:$A$286,Hilfstabelle!$B$1:$B$286))","v":""}]
[null,null,null,null,null,null,null,null,null,null,null,null,null,null,null,null,null,null,null,null,{"$f":"IF(W1782=\"\",\"\",LOOKUP(W1782,Hilfstabelle!$A$1:$A$286,Hilfstabelle!$B$1:$B$286))","v":""}]
[null,null,null,null,null,null,null,null,null,null,null,null,null,null,null,null,null,null,null,null,{"$f":"IF(W1783=\"\",\"\",LOOKUP(W1783,Hilfstabelle!$A$1:$A$286,Hilfstabelle!$B$1:$B$286))","v":""}]
[null,null,null,null,null,null,null,null,null,null,null,null,null,null,null,null,null,null,null,null,{"$f":"IF(W1784=\"\",\"\",LOOKUP(W1784,Hilfstabelle!$A$1:$A$286,Hilfstabelle!$B$1:$B$286))","v":""}]
[null,null,null,null,null,null,null,null,null,null,null,null,null,null,null,null,null,null,null,null,{"$f":"IF(W1785=\"\",\"\",LOOKUP(W1785,Hilfstabelle!$A$1:$A$286,Hilfstabelle!$B$1:$B$286))","v":""}]
[null,null,null,null,null,null,null,null,null,null,null,null,null,null,null,null,null,null,null,null,{"$f":"IF(W1786=\"\",\"\",LOOKUP(W1786,Hilfstabelle!$A$1:$A$286,Hilfstabelle!$B$1:$B$286))","v":""}]
[null,null,null,null,null,null,null,null,null,null,null,null,null,null,null,null,null,null,null,null,{"$f":"IF(W1787=\"\",\"\",LOOKUP(W1787,Hilfstabelle!$A$1:$A$286,Hilfstabelle!$B$1:$B$286))","v":""}]
[null,null,null,null,null,null,null,null,null,null,null,null,null,null,null,null,null,null,null,null,{"$f":"IF(W1788=\"\",\"\",LOOKUP(W1788,Hilfstabelle!$A$1:$A$286,Hilfstabelle!$B$1:$B$286))","v":""}]
[null,null,null,null,null,null,null,null,null,null,null,null,null,null,null,null,null,null,null,null,{"$f":"IF(W1789=\"\",\"\",LOOKUP(W1789,Hilfstabelle!$A$1:$A$286,Hilfstabelle!$B$1:$B$286))","v":""}]
[null,null,null,null,null,null,null,null,null,null,null,null,null,null,null,null,null,null,null,null,{"$f":"IF(W1790=\"\",\"\",LOOKUP(W1790,Hilfstabelle!$A$1:$A$286,Hilfstabelle!$B$1:$B$286))","v":""}]
[null,null,null,null,null,null,null,null,null,null,null,null,null,null,null,null,null,null,null,null,{"$f":"IF(W1791=\"\",\"\",LOOKUP(W1791,Hilfstabelle!$A$1:$A$286,Hilfstabelle!$B$1:$B$286))","v":""}]
[null,null,null,null,null,null,null,null,null,null,null,null,null,null,null,null,null,null,null,null,{"$f":"IF(W1792=\"\",\"\",LOOKUP(W1792,Hilfstabelle!$A$1:$A$286,Hilfstabelle!$B$1:$B$286))","v":""}]
[null,null,null,null,null,null,null,null,null,null,null,null,null,null,null,null,null,null,null,null,{"$f":"IF(W1793=\"\",\"\",LOOKUP(W1793,Hilfstabelle!$A$1:$A$286,Hilfstabelle!$B$1:$B$286))","v":""}]
[null,null,null,null,null,null,null,null,null,null,null,null,null,null,null,null,null,null,null,null,{"$f":"IF(W1794=\"\",\"\",LOOKUP(W1794,Hilfstabelle!$A$1:$A$286,Hilfstabelle!$B$1:$B$286))","v":""}]
[null,null,null,null,null,null,null,null,null,null,null,null,null,null,null,null,null,null,null,null,{"$f":"IF(W1795=\"\",\"\",LOOKUP(W1795,Hilfstabelle!$A$1:$A$286,Hilfstabelle!$B$1:$B$286))","v":""}]
[null,null,null,null,null,null,null,null,null,null,null,null,null,null,null,null,null,null,null,null,{"$f":"IF(W1796=\"\",\"\",LOOKUP(W1796,Hilfstabelle!$A$1:$A$286,Hilfstabelle!$B$1:$B$286))","v":""}]
[null,null,null,null,null,null,null,null,null,null,null,null,null,null,null,null,null,null,null,null,{"$f":"IF(W1797=\"\",\"\",LOOKUP(W1797,Hilfstabelle!$A$1:$A$286,Hilfstabelle!$B$1:$B$286))","v":""}]
[null,null,null,null,null,null,null,null,null,null,null,null,null,null,null,null,null,null,null,null,{"$f":"IF(W1798=\"\",\"\",LOOKUP(W1798,Hilfstabelle!$A$1:$A$286,Hilfstabelle!$B$1:$B$286))","v":""}]
[null,null,null,null,null,null,null,null,null,null,null,null,null,null,null,null,null,null,null,null,{"$f":"IF(W1799=\"\",\"\",LOOKUP(W1799,Hilfstabelle!$A$1:$A$286,Hilfstabelle!$B$1:$B$286))","v":""}]
[null,null,null,null,null,null,null,null,null,null,null,null,null,null,null,null,null,null,null,null,{"$f":"IF(W1800=\"\",\"\",LOOKUP(W1800,Hilfstabelle!$A$1:$A$286,Hilfstabelle!$B$1:$B$286))","v":""}]
[null,null,null,null,null,null,null,null,null,null,null,null,null,null,null,null,null,null,null,null,{"$f":"IF(W1801=\"\",\"\",LOOKUP(W1801,Hilfstabelle!$A$1:$A$286,Hilfstabelle!$B$1:$B$286))","v":""}]
[null,null,null,null,null,null,null,null,null,null,null,null,null,null,null,null,null,null,null,null,{"$f":"IF(W1802=\"\",\"\",LOOKUP(W1802,Hilfstabelle!$A$1:$A$286,Hilfstabelle!$B$1:$B$286))","v":""}]
[null,null,null,null,null,null,null,null,null,null,null,null,null,null,null,null,null,null,null,null,{"$f":"IF(W1803=\"\",\"\",LOOKUP(W1803,Hilfstabelle!$A$1:$A$286,Hilfstabelle!$B$1:$B$286))","v":""}]
[null,null,null,null,null,null,null,null,null,null,null,null,null,null,null,null,null,null,null,null,{"$f":"IF(W1804=\"\",\"\",LOOKUP(W1804,Hilfstabelle!$A$1:$A$286,Hilfstabelle!$B$1:$B$286))","v":""}]
[null,null,null,null,null,null,null,null,null,null,null,null,null,null,null,null,null,null,null,null,{"$f":"IF(W1805=\"\",\"\",LOOKUP(W1805,Hilfstabelle!$A$1:$A$286,Hilfstabelle!$B$1:$B$286))","v":""}]
[null,null,null,null,null,null,null,null,null,null,null,null,null,null,null,null,null,null,null,null,{"$f":"IF(W1806=\"\",\"\",LOOKUP(W1806,Hilfstabelle!$A$1:$A$286,Hilfstabelle!$B$1:$B$286))","v":""}]
[null,null,null,null,null,null,null,null,null,null,null,null,null,null,null,null,null,null,null,null,{"$f":"IF(W1807=\"\",\"\",LOOKUP(W1807,Hilfstabelle!$A$1:$A$286,Hilfstabelle!$B$1:$B$286))","v":""}]
[null,null,null,null,null,null,null,null,null,null,null,null,null,null,null,null,null,null,null,null,{"$f":"IF(W1808=\"\",\"\",LOOKUP(W1808,Hilfstabelle!$A$1:$A$286,Hilfstabelle!$B$1:$B$286))","v":""}]
[null,null,null,null,null,null,null,null,null,null,null,null,null,null,null,null,null,null,null,null,{"$f":"IF(W1809=\"\",\"\",LOOKUP(W1809,Hilfstabelle!$A$1:$A$286,Hilfstabelle!$B$1:$B$286))","v":""}]
[null,null,null,null,null,null,null,null,null,null,null,null,null,null,null,null,null,null,null,null,{"$f":"IF(W1810=\"\",\"\",LOOKUP(W1810,Hilfstabelle!$A$1:$A$286,Hilfstabelle!$B$1:$B$286))","v":""}]
[null,null,null,null,null,null,null,null,null,null,null,null,null,null,null,null,null,null,null,null,{"$f":"IF(W1811=\"\",\"\",LOOKUP(W1811,Hilfstabelle!$A$1:$A$286,Hilfstabelle!$B$1:$B$286))","v":""}]
[null,null,null,null,null,null,null,null,null,null,null,null,null,null,null,null,null,null,null,null,{"$f":"IF(W1812=\"\",\"\",LOOKUP(W1812,Hilfstabelle!$A$1:$A$286,Hilfstabelle!$B$1:$B$286))","v":""}]
[null,null,null,null,null,null,null,null,null,null,null,null,null,null,null,null,null,null,null,null,{"$f":"IF(W1813=\"\",\"\",LOOKUP(W1813,Hilfstabelle!$A$1:$A$286,Hilfstabelle!$B$1:$B$286))","v":""}]
[null,null,null,null,null,null,null,null,null,null,null,null,null,null,null,null,null,null,null,null,{"$f":"IF(W1814=\"\",\"\",LOOKUP(W1814,Hilfstabelle!$A$1:$A$286,Hilfstabelle!$B$1:$B$286))","v":""}]
[null,null,null,null,null,null,null,null,null,null,null,null,null,null,null,null,null,null,null,null,{"$f":"IF(W1815=\"\",\"\",LOOKUP(W1815,Hilfstabelle!$A$1:$A$286,Hilfstabelle!$B$1:$B$286))","v":""}]
[null,null,null,null,null,null,null,null,null,null,null,null,null,null,null,null,null,null,null,null,{"$f":"IF(W1816=\"\",\"\",LOOKUP(W1816,Hilfstabelle!$A$1:$A$286,Hilfstabelle!$B$1:$B$286))","v":""}]
[null,null,null,null,null,null,null,null,null,null,null,null,null,null,null,null,null,null,null,null,{"$f":"IF(W1817=\"\",\"\",LOOKUP(W1817,Hilfstabelle!$A$1:$A$286,Hilfstabelle!$B$1:$B$286))","v":""}]
[null,null,null,null,null,null,null,null,null,null,null,null,null,null,null,null,null,null,null,null,{"$f":"IF(W1818=\"\",\"\",LOOKUP(W1818,Hilfstabelle!$A$1:$A$286,Hilfstabelle!$B$1:$B$286))","v":""}]
[null,null,null,null,null,null,null,null,null,null,null,null,null,null,null,null,null,null,null,null,{"$f":"IF(W1819=\"\",\"\",LOOKUP(W1819,Hilfstabelle!$A$1:$A$286,Hilfstabelle!$B$1:$B$286))","v":""}]
[null,null,null,null,null,null,null,null,null,null,null,null,null,null,null,null,null,null,null,null,{"$f":"IF(W1820=\"\",\"\",LOOKUP(W1820,Hilfstabelle!$A$1:$A$286,Hilfstabelle!$B$1:$B$286))","v":""}]
[null,null,null,null,null,null,null,null,null,null,null,null,null,null,null,null,null,null,null,null,{"$f":"IF(W1821=\"\",\"\",LOOKUP(W1821,Hilfstabelle!$A$1:$A$286,Hilfstabelle!$B$1:$B$286))","v":""}]
[null,null,null,null,null,null,null,null,null,null,null,null,null,null,null,null,null,null,null,null,{"$f":"IF(W1822=\"\",\"\",LOOKUP(W1822,Hilfstabelle!$A$1:$A$286,Hilfstabelle!$B$1:$B$286))","v":""}]
[null,null,null,null,null,null,null,null,null,null,null,null,null,null,null,null,null,null,null,null,{"$f":"IF(W1823=\"\",\"\",LOOKUP(W1823,Hilfstabelle!$A$1:$A$286,Hilfstabelle!$B$1:$B$286))","v":""}]
[null,null,null,null,null,null,null,null,null,null,null,null,null,null,null,null,null,null,null,null,{"$f":"IF(W1824=\"\",\"\",LOOKUP(W1824,Hilfstabelle!$A$1:$A$286,Hilfstabelle!$B$1:$B$286))","v":""}]
[null,null,null,null,null,null,null,null,null,null,null,null,null,null,null,null,null,null,null,null,{"$f":"IF(W1825=\"\",\"\",LOOKUP(W1825,Hilfstabelle!$A$1:$A$286,Hilfstabelle!$B$1:$B$286))","v":""}]
[null,null,null,null,null,null,null,null,null,null,null,null,null,null,null,null,null,null,null,null,{"$f":"IF(W1826=\"\",\"\",LOOKUP(W1826,Hilfstabelle!$A$1:$A$286,Hilfstabelle!$B$1:$B$286))","v":""}]
[null,null,null,null,null,null,null,null,null,null,null,null,null,null,null,null,null,null,null,null,{"$f":"IF(W1827=\"\",\"\",LOOKUP(W1827,Hilfstabelle!$A$1:$A$286,Hilfstabelle!$B$1:$B$286))","v":""}]
[null,null,null,null,null,null,null,null,null,null,null,null,null,null,null,null,null,null,null,null,{"$f":"IF(W1828=\"\",\"\",LOOKUP(W1828,Hilfstabelle!$A$1:$A$286,Hilfstabelle!$B$1:$B$286))","v":""}]
[null,null,null,null,null,null,null,null,null,null,null,null,null,null,null,null,null,null,null,null,{"$f":"IF(W1829=\"\",\"\",LOOKUP(W1829,Hilfstabelle!$A$1:$A$286,Hilfstabelle!$B$1:$B$286))","v":""}]
[null,null,null,null,null,null,null,null,null,null,null,null,null,null,null,null,null,null,null,null,{"$f":"IF(W1830=\"\",\"\",LOOKUP(W1830,Hilfstabelle!$A$1:$A$286,Hilfstabelle!$B$1:$B$286))","v":""}]
[null,null,null,null,null,null,null,null,null,null,null,null,null,null,null,null,null,null,null,null,{"$f":"IF(W1831=\"\",\"\",LOOKUP(W1831,Hilfstabelle!$A$1:$A$286,Hilfstabelle!$B$1:$B$286))","v":""}]
[null,null,null,null,null,null,null,null,null,null,null,null,null,null,null,null,null,null,null,null,{"$f":"IF(W1832=\"\",\"\",LOOKUP(W1832,Hilfstabelle!$A$1:$A$286,Hilfstabelle!$B$1:$B$286))","v":""}]
[null,null,null,null,null,null,null,null,null,null,null,null,null,null,null,null,null,null,null,null,{"$f":"IF(W1833=\"\",\"\",LOOKUP(W1833,Hilfstabelle!$A$1:$A$286,Hilfstabelle!$B$1:$B$286))","v":""}]
[null,null,null,null,null,null,null,null,null,null,null,null,null,null,null,null,null,null,null,null,{"$f":"IF(W1834=\"\",\"\",LOOKUP(W1834,Hilfstabelle!$A$1:$A$286,Hilfstabelle!$B$1:$B$286))","v":""}]
[null,null,null,null,null,null,null,null,null,null,null,null,null,null,null,null,null,null,null,null,{"$f":"IF(W1835=\"\",\"\",LOOKUP(W1835,Hilfstabelle!$A$1:$A$286,Hilfstabelle!$B$1:$B$286))","v":""}]
[null,null,null,null,null,null,null,null,null,null,null,null,null,null,null,null,null,null,null,null,{"$f":"IF(W1836=\"\",\"\",LOOKUP(W1836,Hilfstabelle!$A$1:$A$286,Hilfstabelle!$B$1:$B$286))","v":""}]
[null,null,null,null,null,null,null,null,null,null,null,null,null,null,null,null,null,null,null,null,{"$f":"IF(W1837=\"\",\"\",LOOKUP(W1837,Hilfstabelle!$A$1:$A$286,Hilfstabelle!$B$1:$B$286))","v":""}]
[null,null,null,null,null,null,null,null,null,null,null,null,null,null,null,null,null,null,null,null,{"$f":"IF(W1838=\"\",\"\",LOOKUP(W1838,Hilfstabelle!$A$1:$A$286,Hilfstabelle!$B$1:$B$286))","v":""}]
[null,null,null,null,null,null,null,null,null,null,null,null,null,null,null,null,null,null,null,null,{"$f":"IF(W1839=\"\",\"\",LOOKUP(W1839,Hilfstabelle!$A$1:$A$286,Hilfstabelle!$B$1:$B$286))","v":""}]
[null,null,null,null,null,null,null,null,null,null,null,null,null,null,null,null,null,null,null,null,{"$f":"IF(W1840=\"\",\"\",LOOKUP(W1840,Hilfstabelle!$A$1:$A$286,Hilfstabelle!$B$1:$B$286))","v":""}]
[null,null,null,null,null,null,null,null,null,null,null,null,null,null,null,null,null,null,null,null,{"$f":"IF(W1841=\"\",\"\",LOOKUP(W1841,Hilfstabelle!$A$1:$A$286,Hilfstabelle!$B$1:$B$286))","v":""}]
[null,null,null,null,null,null,null,null,null,null,null,null,null,null,null,null,null,null,null,null,{"$f":"IF(W1842=\"\",\"\",LOOKUP(W1842,Hilfstabelle!$A$1:$A$286,Hilfstabelle!$B$1:$B$286))","v":""}]
[null,null,null,null,null,null,null,null,null,null,null,null,null,null,null,null,null,null,null,null,{"$f":"IF(W1843=\"\",\"\",LOOKUP(W1843,Hilfstabelle!$A$1:$A$286,Hilfstabelle!$B$1:$B$286))","v":""}]
[null,null,null,null,null,null,null,null,null,null,null,null,null,null,null,null,null,null,null,null,{"$f":"IF(W1844=\"\",\"\",LOOKUP(W1844,Hilfstabelle!$A$1:$A$286,Hilfstabelle!$B$1:$B$286))","v":""}]
[null,null,null,null,null,null,null,null,null,null,null,null,null,null,null,null,null,null,null,null,{"$f":"IF(W1845=\"\",\"\",LOOKUP(W1845,Hilfstabelle!$A$1:$A$286,Hilfstabelle!$B$1:$B$286))","v":""}]
[null,null,null,null,null,null,null,null,null,null,null,null,null,null,null,null,null,null,null,null,{"$f":"IF(W1846=\"\",\"\",LOOKUP(W1846,Hilfstabelle!$A$1:$A$286,Hilfstabelle!$B$1:$B$286))","v":""}]
[null,null,null,null,null,null,null,null,null,null,null,null,null,null,null,null,null,null,null,null,{"$f":"IF(W1847=\"\",\"\",LOOKUP(W1847,Hilfstabelle!$A$1:$A$286,Hilfstabelle!$B$1:$B$286))","v":""}]
[null,null,null,null,null,null,null,null,null,null,null,null,null,null,null,null,null,null,null,null,{"$f":"IF(W1848=\"\",\"\",LOOKUP(W1848,Hilfstabelle!$A$1:$A$286,Hilfstabelle!$B$1:$B$286))","v":""}]
[null,null,null,null,null,null,null,null,null,null,null,null,null,null,null,null,null,null,null,null,{"$f":"IF(W1849=\"\",\"\",LOOKUP(W1849,Hilfstabelle!$A$1:$A$286,Hilfstabelle!$B$1:$B$286))","v":""}]
[null,null,null,null,null,null,null,null,null,null,null,null,null,null,null,null,null,null,null,null,{"$f":"IF(W1850=\"\",\"\",LOOKUP(W1850,Hilfstabelle!$A$1:$A$286,Hilfstabelle!$B$1:$B$286))","v":""}]
[null,null,null,null,null,null,null,null,null,null,null,null,null,null,null,null,null,null,null,null,{"$f":"IF(W1851=\"\",\"\",LOOKUP(W1851,Hilfstabelle!$A$1:$A$286,Hilfstabelle!$B$1:$B$286))","v":""}]
[null,null,null,null,null,null,null,null,null,null,null,null,null,null,null,null,null,null,null,null,{"$f":"IF(W1852=\"\",\"\",LOOKUP(W1852,Hilfstabelle!$A$1:$A$286,Hilfstabelle!$B$1:$B$286))","v":""}]
[null,null,null,null,null,null,null,null,null,null,null,null,null,null,null,null,null,null,null,null,{"$f":"IF(W1853=\"\",\"\",LOOKUP(W1853,Hilfstabelle!$A$1:$A$286,Hilfstabelle!$B$1:$B$286))","v":""}]
[null,null,null,null,null,null,null,null,null,null,null,null,null,null,null,null,null,null,null,null,{"$f":"IF(W1854=\"\",\"\",LOOKUP(W1854,Hilfstabelle!$A$1:$A$286,Hilfstabelle!$B$1:$B$286))","v":""}]
[null,null,null,null,null,null,null,null,null,null,null,null,null,null,null,null,null,null,null,null,{"$f":"IF(W1855=\"\",\"\",LOOKUP(W1855,Hilfstabelle!$A$1:$A$286,Hilfstabelle!$B$1:$B$286))","v":""}]
[null,null,null,null,null,null,null,null,null,null,null,null,null,null,null,null,null,null,null,null,{"$f":"IF(W1856=\"\",\"\",LOOKUP(W1856,Hilfstabelle!$A$1:$A$286,Hilfstabelle!$B$1:$B$286))","v":""}]
[null,null,null,null,null,null,null,null,null,null,null,null,null,null,null,null,null,null,null,null,{"$f":"IF(W1857=\"\",\"\",LOOKUP(W1857,Hilfstabelle!$A$1:$A$286,Hilfstabelle!$B$1:$B$286))","v":""}]
[null,null,null,null,null,null,null,null,null,null,null,null,null,null,null,null,null,null,null,null,{"$f":"IF(W1858=\"\",\"\",LOOKUP(W1858,Hilfstabelle!$A$1:$A$286,Hilfstabelle!$B$1:$B$286))","v":""}]
[null,null,null,null,null,null,null,null,null,null,null,null,null,null,null,null,null,null,null,null,{"$f":"IF(W1859=\"\",\"\",LOOKUP(W1859,Hilfstabelle!$A$1:$A$286,Hilfstabelle!$B$1:$B$286))","v":""}]
[null,null,null,null,null,null,null,null,null,null,null,null,null,null,null,null,null,null,null,null,{"$f":"IF(W1860=\"\",\"\",LOOKUP(W1860,Hilfstabelle!$A$1:$A$286,Hilfstabelle!$B$1:$B$286))","v":""}]
[null,null,null,null,null,null,null,null,null,null,null,null,null,null,null,null,null,null,null,null,{"$f":"IF(W1861=\"\",\"\",LOOKUP(W1861,Hilfstabelle!$A$1:$A$286,Hilfstabelle!$B$1:$B$286))","v":""}]
[null,null,null,null,null,null,null,null,null,null,null,null,null,null,null,null,null,null,null,null,{"$f":"IF(W1862=\"\",\"\",LOOKUP(W1862,Hilfstabelle!$A$1:$A$286,Hilfstabelle!$B$1:$B$286))","v":""}]
[null,null,null,null,null,null,null,null,null,null,null,null,null,null,null,null,null,null,null,null,{"$f":"IF(W1863=\"\",\"\",LOOKUP(W1863,Hilfstabelle!$A$1:$A$286,Hilfstabelle!$B$1:$B$286))","v":""}]
[null,null,null,null,null,null,null,null,null,null,null,null,null,null,null,null,null,null,null,null,{"$f":"IF(W1864=\"\",\"\",LOOKUP(W1864,Hilfstabelle!$A$1:$A$286,Hilfstabelle!$B$1:$B$286))","v":""}]
[null,null,null,null,null,null,null,null,null,null,null,null,null,null,null,null,null,null,null,null,{"$f":"IF(W1865=\"\",\"\",LOOKUP(W1865,Hilfstabelle!$A$1:$A$286,Hilfstabelle!$B$1:$B$286))","v":""}]
[null,null,null,null,null,null,null,null,null,null,null,null,null,null,null,null,null,null,null,null,{"$f":"IF(W1866=\"\",\"\",LOOKUP(W1866,Hilfstabelle!$A$1:$A$286,Hilfstabelle!$B$1:$B$286))","v":""}]
[null,null,null,null,null,null,null,null,null,null,null,null,null,null,null,null,null,null,null,null,{"$f":"IF(W1867=\"\",\"\",LOOKUP(W1867,Hilfstabelle!$A$1:$A$286,Hilfstabelle!$B$1:$B$286))","v":""}]
[null,null,null,null,null,null,null,null,null,null,null,null,null,null,null,null,null,null,null,null,{"$f":"IF(W1868=\"\",\"\",LOOKUP(W1868,Hilfstabelle!$A$1:$A$286,Hilfstabelle!$B$1:$B$286))","v":""}]
[null,null,null,null,null,null,null,null,null,null,null,null,null,null,null,null,null,null,null,null,{"$f":"IF(W1869=\"\",\"\",LOOKUP(W1869,Hilfstabelle!$A$1:$A$286,Hilfstabelle!$B$1:$B$286))","v":""}]
[null,null,null,null,null,null,null,null,null,null,null,null,null,null,null,null,null,null,null,null,{"$f":"IF(W1870=\"\",\"\",LOOKUP(W1870,Hilfstabelle!$A$1:$A$286,Hilfstabelle!$B$1:$B$286))","v":""}]
[null,null,null,null,null,null,null,null,null,null,null,null,null,null,null,null,null,null,null,null,{"$f":"IF(W1871=\"\",\"\",LOOKUP(W1871,Hilfstabelle!$A$1:$A$286,Hilfstabelle!$B$1:$B$286))","v":""}]
[null,null,null,null,null,null,null,null,null,null,null,null,null,null,null,null,null,null,null,null,{"$f":"IF(W1872=\"\",\"\",LOOKUP(W1872,Hilfstabelle!$A$1:$A$286,Hilfstabelle!$B$1:$B$286))","v":""}]
[null,null,null,null,null,null,null,null,null,null,null,null,null,null,null,null,null,null,null,null,{"$f":"IF(W1873=\"\",\"\",LOOKUP(W1873,Hilfstabelle!$A$1:$A$286,Hilfstabelle!$B$1:$B$286))","v":""}]
[null,null,null,null,null,null,null,null,null,null,null,null,null,null,null,null,null,null,null,null,{"$f":"IF(W1874=\"\",\"\",LOOKUP(W1874,Hilfstabelle!$A$1:$A$286,Hilfstabelle!$B$1:$B$286))","v":""}]
[null,null,null,null,null,null,null,null,null,null,null,null,null,null,null,null,null,null,null,null,{"$f":"IF(W1875=\"\",\"\",LOOKUP(W1875,Hilfstabelle!$A$1:$A$286,Hilfstabelle!$B$1:$B$286))","v":""}]
[null,null,null,null,null,null,null,null,null,null,null,null,null,null,null,null,null,null,null,null,{"$f":"IF(W1876=\"\",\"\",LOOKUP(W1876,Hilfstabelle!$A$1:$A$286,Hilfstabelle!$B$1:$B$286))","v":""}]
[null,null,null,null,null,null,null,null,null,null,null,null,null,null,null,null,null,null,null,null,{"$f":"IF(W1877=\"\",\"\",LOOKUP(W1877,Hilfstabelle!$A$1:$A$286,Hilfstabelle!$B$1:$B$286))","v":""}]
[null,null,null,null,null,null,null,null,null,null,null,null,null,null,null,null,null,null,null,null,{"$f":"IF(W1878=\"\",\"\",LOOKUP(W1878,Hilfstabelle!$A$1:$A$286,Hilfstabelle!$B$1:$B$286))","v":""}]
[null,null,null,null,null,null,null,null,null,null,null,null,null,null,null,null,null,null,null,null,{"$f":"IF(W1879=\"\",\"\",LOOKUP(W1879,Hilfstabelle!$A$1:$A$286,Hilfstabelle!$B$1:$B$286))","v":""}]
[null,null,null,null,null,null,null,null,null,null,null,null,null,null,null,null,null,null,null,null,{"$f":"IF(W1880=\"\",\"\",LOOKUP(W1880,Hilfstabelle!$A$1:$A$286,Hilfstabelle!$B$1:$B$286))","v":""}]
[null,null,null,null,null,null,null,null,null,null,null,null,null,null,null,null,null,null,null,null,{"$f":"IF(W1881=\"\",\"\",LOOKUP(W1881,Hilfstabelle!$A$1:$A$286,Hilfstabelle!$B$1:$B$286))","v":""}]
[null,null,null,null,null,null,null,null,null,null,null,null,null,null,null,null,null,null,null,null,{"$f":"IF(W1882=\"\",\"\",LOOKUP(W1882,Hilfstabelle!$A$1:$A$286,Hilfstabelle!$B$1:$B$286))","v":""}]
[null,null,null,null,null,null,null,null,null,null,null,null,null,null,null,null,null,null,null,null,{"$f":"IF(W1883=\"\",\"\",LOOKUP(W1883,Hilfstabelle!$A$1:$A$286,Hilfstabelle!$B$1:$B$286))","v":""}]
[null,null,null,null,null,null,null,null,null,null,null,null,null,null,null,null,null,null,null,null,{"$f":"IF(W1884=\"\",\"\",LOOKUP(W1884,Hilfstabelle!$A$1:$A$286,Hilfstabelle!$B$1:$B$286))","v":""}]
[null,null,null,null,null,null,null,null,null,null,null,null,null,null,null,null,null,null,null,null,{"$f":"IF(W1885=\"\",\"\",LOOKUP(W1885,Hilfstabelle!$A$1:$A$286,Hilfstabelle!$B$1:$B$286))","v":""}]
[null,null,null,null,null,null,null,null,null,null,null,null,null,null,null,null,null,null,null,null,{"$f":"IF(W1886=\"\",\"\",LOOKUP(W1886,Hilfstabelle!$A$1:$A$286,Hilfstabelle!$B$1:$B$286))","v":""}]
[null,null,null,null,null,null,null,null,null,null,null,null,null,null,null,null,null,null,null,null,{"$f":"IF(W1887=\"\",\"\",LOOKUP(W1887,Hilfstabelle!$A$1:$A$286,Hilfstabelle!$B$1:$B$286))","v":""}]
[null,null,null,null,null,null,null,null,null,null,null,null,null,null,null,null,null,null,null,null,{"$f":"IF(W1888=\"\",\"\",LOOKUP(W1888,Hilfstabelle!$A$1:$A$286,Hilfstabelle!$B$1:$B$286))","v":""}]
[null,null,null,null,null,null,null,null,null,null,null,null,null,null,null,null,null,null,null,null,{"$f":"IF(W1889=\"\",\"\",LOOKUP(W1889,Hilfstabelle!$A$1:$A$286,Hilfstabelle!$B$1:$B$286))","v":""}]
[null,null,null,null,null,null,null,null,null,null,null,null,null,null,null,null,null,null,null,null,{"$f":"IF(W1890=\"\",\"\",LOOKUP(W1890,Hilfstabelle!$A$1:$A$286,Hilfstabelle!$B$1:$B$286))","v":""}]
[null,null,null,null,null,null,null,null,null,null,null,null,null,null,null,null,null,null,null,null,{"$f":"IF(W1891=\"\",\"\",LOOKUP(W1891,Hilfstabelle!$A$1:$A$286,Hilfstabelle!$B$1:$B$286))","v":""}]
[null,null,null,null,null,null,null,null,null,null,null,null,null,null,null,null,null,null,null,null,{"$f":"IF(W1892=\"\",\"\",LOOKUP(W1892,Hilfstabelle!$A$1:$A$286,Hilfstabelle!$B$1:$B$286))","v":""}]
[null,null,null,null,null,null,null,null,null,null,null,null,null,null,null,null,null,null,null,null,{"$f":"IF(W1893=\"\",\"\",LOOKUP(W1893,Hilfstabelle!$A$1:$A$286,Hilfstabelle!$B$1:$B$286))","v":""}]
[null,null,null,null,null,null,null,null,null,null,null,null,null,null,null,null,null,null,null,null,{"$f":"IF(W1894=\"\",\"\",LOOKUP(W1894,Hilfstabelle!$A$1:$A$286,Hilfstabelle!$B$1:$B$286))","v":""}]
[null,null,null,null,null,null,null,null,null,null,null,null,null,null,null,null,null,null,null,null,{"$f":"IF(W1895=\"\",\"\",LOOKUP(W1895,Hilfstabelle!$A$1:$A$286,Hilfstabelle!$B$1:$B$286))","v":""}]
[null,null,null,null,null,null,null,null,null,null,null,null,null,null,null,null,null,null,null,null,{"$f":"IF(W1896=\"\",\"\",LOOKUP(W1896,Hilfstabelle!$A$1:$A$286,Hilfstabelle!$B$1:$B$286))","v":""}]
[null,null,null,null,null,null,null,null,null,null,null,null,null,null,null,null,null,null,null,null,{"$f":"IF(W1897=\"\",\"\",LOOKUP(W1897,Hilfstabelle!$A$1:$A$286,Hilfstabelle!$B$1:$B$286))","v":""}]
[null,null,null,null,null,null,null,null,null,null,null,null,null,null,null,null,null,null,null,null,{"$f":"IF(W1898=\"\",\"\",LOOKUP(W1898,Hilfstabelle!$A$1:$A$286,Hilfstabelle!$B$1:$B$286))","v":""}]
[null,null,null,null,null,null,null,null,null,null,null,null,null,null,null,null,null,null,null,null,{"$f":"IF(W1899=\"\",\"\",LOOKUP(W1899,Hilfstabelle!$A$1:$A$286,Hilfstabelle!$B$1:$B$286))","v":""}]
[null,null,null,null,null,null,null,null,null,null,null,null,null,null,null,null,null,null,null,null,{"$f":"IF(W1900=\"\",\"\",LOOKUP(W1900,Hilfstabelle!$A$1:$A$286,Hilfstabelle!$B$1:$B$286))","v":""}]
[null,null,null,null,null,null,null,null,null,null,null,null,null,null,null,null,null,null,null,null,{"$f":"IF(W1901=\"\",\"\",LOOKUP(W1901,Hilfstabelle!$A$1:$A$286,Hilfstabelle!$B$1:$B$286))","v":""}]
[null,null,null,null,null,null,null,null,null,null,null,null,null,null,null,null,null,null,null,null,{"$f":"IF(W1902=\"\",\"\",LOOKUP(W1902,Hilfstabelle!$A$1:$A$286,Hilfstabelle!$B$1:$B$286))","v":""}]
[null,null,null,null,null,null,null,null,null,null,null,null,null,null,null,null,null,null,null,null,{"$f":"IF(W1903=\"\",\"\",LOOKUP(W1903,Hilfstabelle!$A$1:$A$286,Hilfstabelle!$B$1:$B$286))","v":""}]
[null,null,null,null,null,null,null,null,null,null,null,null,null,null,null,null,null,null,null,null,{"$f":"IF(W1904=\"\",\"\",LOOKUP(W1904,Hilfstabelle!$A$1:$A$286,Hilfstabelle!$B$1:$B$286))","v":""}]
[null,null,null,null,null,null,null,null,null,null,null,null,null,null,null,null,null,null,null,null,{"$f":"IF(W1905=\"\",\"\",LOOKUP(W1905,Hilfstabelle!$A$1:$A$286,Hilfstabelle!$B$1:$B$286))","v":""}]
[null,null,null,null,null,null,null,null,null,null,null,null,null,null,null,null,null,null,null,null,{"$f":"IF(W1906=\"\",\"\",LOOKUP(W1906,Hilfstabelle!$A$1:$A$286,Hilfstabelle!$B$1:$B$286))","v":""}]
[null,null,null,null,null,null,null,null,null,null,null,null,null,null,null,null,null,null,null,null,{"$f":"IF(W1907=\"\",\"\",LOOKUP(W1907,Hilfstabelle!$A$1:$A$286,Hilfstabelle!$B$1:$B$286))","v":""}]
[null,null,null,null,null,null,null,null,null,null,null,null,null,null,null,null,null,null,null,null,{"$f":"IF(W1908=\"\",\"\",LOOKUP(W1908,Hilfstabelle!$A$1:$A$286,Hilfstabelle!$B$1:$B$286))","v":""}]
[null,null,null,null,null,null,null,null,null,null,null,null,null,null,null,null,null,null,null,null,{"$f":"IF(W1909=\"\",\"\",LOOKUP(W1909,Hilfstabelle!$A$1:$A$286,Hilfstabelle!$B$1:$B$286))","v":""}]
[null,null,null,null,null,null,null,null,null,null,null,null,null,null,null,null,null,null,null,null,{"$f":"IF(W1910=\"\",\"\",LOOKUP(W1910,Hilfstabelle!$A$1:$A$286,Hilfstabelle!$B$1:$B$286))","v":""}]
[null,null,null,null,null,null,null,null,null,null,null,null,null,null,null,null,null,null,null,null,{"$f":"IF(W1911=\"\",\"\",LOOKUP(W1911,Hilfstabelle!$A$1:$A$286,Hilfstabelle!$B$1:$B$286))","v":""}]
[null,null,null,null,null,null,null,null,null,null,null,null,null,null,null,null,null,null,null,null,{"$f":"IF(W1912=\"\",\"\",LOOKUP(W1912,Hilfstabelle!$A$1:$A$286,Hilfstabelle!$B$1:$B$286))","v":""}]
[null,null,null,null,null,null,null,null,null,null,null,null,null,null,null,null,null,null,null,null,{"$f":"IF(W1913=\"\",\"\",LOOKUP(W1913,Hilfstabelle!$A$1:$A$286,Hilfstabelle!$B$1:$B$286))","v":""}]
[null,null,null,null,null,null,null,null,null,null,null,null,null,null,null,null,null,null,null,null,{"$f":"IF(W1914=\"\",\"\",LOOKUP(W1914,Hilfstabelle!$A$1:$A$286,Hilfstabelle!$B$1:$B$286))","v":""}]
[null,null,null,null,null,null,null,null,null,null,null,null,null,null,null,null,null,null,null,null,{"$f":"IF(W1915=\"\",\"\",LOOKUP(W1915,Hilfstabelle!$A$1:$A$286,Hilfstabelle!$B$1:$B$286))","v":""}]
[null,null,null,null,null,null,null,null,null,null,null,null,null,null,null,null,null,null,null,null,{"$f":"IF(W1916=\"\",\"\",LOOKUP(W1916,Hilfstabelle!$A$1:$A$286,Hilfstabelle!$B$1:$B$286))","v":""}]
[null,null,null,null,null,null,null,null,null,null,null,null,null,null,null,null,null,null,null,null,{"$f":"IF(W1917=\"\",\"\",LOOKUP(W1917,Hilfstabelle!$A$1:$A$286,Hilfstabelle!$B$1:$B$286))","v":""}]
[null,null,null,null,null,null,null,null,null,null,null,null,null,null,null,null,null,null,null,null,{"$f":"IF(W1918=\"\",\"\",LOOKUP(W1918,Hilfstabelle!$A$1:$A$286,Hilfstabelle!$B$1:$B$286))","v":""}]
[null,null,null,null,null,null,null,null,null,null,null,null,null,null,null,null,null,null,null,null,{"$f":"IF(W1919=\"\",\"\",LOOKUP(W1919,Hilfstabelle!$A$1:$A$286,Hilfstabelle!$B$1:$B$286))","v":""}]
[null,null,null,null,null,null,null,null,null,null,null,null,null,null,null,null,null,null,null,null,{"$f":"IF(W1920=\"\",\"\",LOOKUP(W1920,Hilfstabelle!$A$1:$A$286,Hilfstabelle!$B$1:$B$286))","v":""}]
[null,null,null,null,null,null,null,null,null,null,null,null,null,null,null,null,null,null,null,null,{"$f":"IF(W1921=\"\",\"\",LOOKUP(W1921,Hilfstabelle!$A$1:$A$286,Hilfstabelle!$B$1:$B$286))","v":""}]
[null,null,null,null,null,null,null,null,null,null,null,null,null,null,null,null,null,null,null,null,{"$f":"IF(W1922=\"\",\"\",LOOKUP(W1922,Hilfstabelle!$A$1:$A$286,Hilfstabelle!$B$1:$B$286))","v":""}]
[null,null,null,null,null,null,null,null,null,null,null,null,null,null,null,null,null,null,null,null,{"$f":"IF(W1923=\"\",\"\",LOOKUP(W1923,Hilfstabelle!$A$1:$A$286,Hilfstabelle!$B$1:$B$286))","v":""}]
[null,null,null,null,null,null,null,null,null,null,null,null,null,null,null,null,null,null,null,null,{"$f":"IF(W1924=\"\",\"\",LOOKUP(W1924,Hilfstabelle!$A$1:$A$286,Hilfstabelle!$B$1:$B$286))","v":""}]
[null,null,null,null,null,null,null,null,null,null,null,null,null,null,null,null,null,null,null,null,{"$f":"IF(W1925=\"\",\"\",LOOKUP(W1925,Hilfstabelle!$A$1:$A$286,Hilfstabelle!$B$1:$B$286))","v":""}]
[null,null,null,null,null,null,null,null,null,null,null,null,null,null,null,null,null,null,null,null,{"$f":"IF(W1926=\"\",\"\",LOOKUP(W1926,Hilfstabelle!$A$1:$A$286,Hilfstabelle!$B$1:$B$286))","v":""}]
[null,null,null,null,null,null,null,null,null,null,null,null,null,null,null,null,null,null,null,null,{"$f":"IF(W1927=\"\",\"\",LOOKUP(W1927,Hilfstabelle!$A$1:$A$286,Hilfstabelle!$B$1:$B$286))","v":""}]
[null,null,null,null,null,null,null,null,null,null,null,null,null,null,null,null,null,null,null,null,{"$f":"IF(W1928=\"\",\"\",LOOKUP(W1928,Hilfstabelle!$A$1:$A$286,Hilfstabelle!$B$1:$B$286))","v":""}]
[null,null,null,null,null,null,null,null,null,null,null,null,null,null,null,null,null,null,null,null,{"$f":"IF(W1929=\"\",\"\",LOOKUP(W1929,Hilfstabelle!$A$1:$A$286,Hilfstabelle!$B$1:$B$286))","v":""}]
[null,null,null,null,null,null,null,null,null,null,null,null,null,null,null,null,null,null,null,null,{"$f":"IF(W1930=\"\",\"\",LOOKUP(W1930,Hilfstabelle!$A$1:$A$286,Hilfstabelle!$B$1:$B$286))","v":""}]
[null,null,null,null,null,null,null,null,null,null,null,null,null,null,null,null,null,null,null,null,{"$f":"IF(W1931=\"\",\"\",LOOKUP(W1931,Hilfstabelle!$A$1:$A$286,Hilfstabelle!$B$1:$B$286))","v":""}]
[null,null,null,null,null,null,null,null,null,null,null,null,null,null,null,null,null,null,null,null,{"$f":"IF(W1932=\"\",\"\",LOOKUP(W1932,Hilfstabelle!$A$1:$A$286,Hilfstabelle!$B$1:$B$286))","v":""}]
[null,null,null,null,null,null,null,null,null,null,null,null,null,null,null,null,null,null,null,null,{"$f":"IF(W1933=\"\",\"\",LOOKUP(W1933,Hilfstabelle!$A$1:$A$286,Hilfstabelle!$B$1:$B$286))","v":""}]
[null,null,null,null,null,null,null,null,null,null,null,null,null,null,null,null,null,null,null,null,{"$f":"IF(W1934=\"\",\"\",LOOKUP(W1934,Hilfstabelle!$A$1:$A$286,Hilfstabelle!$B$1:$B$286))","v":""}]
[null,null,null,null,null,null,null,null,null,null,null,null,null,null,null,null,null,null,null,null,{"$f":"IF(W1935=\"\",\"\",LOOKUP(W1935,Hilfstabelle!$A$1:$A$286,Hilfstabelle!$B$1:$B$286))","v":""}]
[null,null,null,null,null,null,null,null,null,null,null,null,null,null,null,null,null,null,null,null,{"$f":"IF(W1936=\"\",\"\",LOOKUP(W1936,Hilfstabelle!$A$1:$A$286,Hilfstabelle!$B$1:$B$286))","v":""}]
[null,null,null,null,null,null,null,null,null,null,null,null,null,null,null,null,null,null,null,null,{"$f":"IF(W1937=\"\",\"\",LOOKUP(W1937,Hilfstabelle!$A$1:$A$286,Hilfstabelle!$B$1:$B$286))","v":""}]
[null,null,null,null,null,null,null,null,null,null,null,null,null,null,null,null,null,null,null,null,{"$f":"IF(W1938=\"\",\"\",LOOKUP(W1938,Hilfstabelle!$A$1:$A$286,Hilfstabelle!$B$1:$B$286))","v":""}]
[null,null,null,null,null,null,null,null,null,null,null,null,null,null,null,null,null,null,null,null,{"$f":"IF(W1939=\"\",\"\",LOOKUP(W1939,Hilfstabelle!$A$1:$A$286,Hilfstabelle!$B$1:$B$286))","v":""}]
[null,null,null,null,null,null,null,null,null,null,null,null,null,null,null,null,null,null,null,null,{"$f":"IF(W1940=\"\",\"\",LOOKUP(W1940,Hilfstabelle!$A$1:$A$286,Hilfstabelle!$B$1:$B$286))","v":""}]
[null,null,null,null,null,null,null,null,null,null,null,null,null,null,null,null,null,null,null,null,{"$f":"IF(W1941=\"\",\"\",LOOKUP(W1941,Hilfstabelle!$A$1:$A$286,Hilfstabelle!$B$1:$B$286))","v":""}]
[null,null,null,null,null,null,null,null,null,null,null,null,null,null,null,null,null,null,null,null,{"$f":"IF(W1942=\"\",\"\",LOOKUP(W1942,Hilfstabelle!$A$1:$A$286,Hilfstabelle!$B$1:$B$286))","v":""}]
[null,null,null,null,null,null,null,null,null,null,null,null,null,null,null,null,null,null,null,null,{"$f":"IF(W1943=\"\",\"\",LOOKUP(W1943,Hilfstabelle!$A$1:$A$286,Hilfstabelle!$B$1:$B$286))","v":""}]
[null,null,null,null,null,null,null,null,null,null,null,null,null,null,null,null,null,null,null,null,{"$f":"IF(W1944=\"\",\"\",LOOKUP(W1944,Hilfstabelle!$A$1:$A$286,Hilfstabelle!$B$1:$B$286))","v":""}]
[null,null,null,null,null,null,null,null,null,null,null,null,null,null,null,null,null,null,null,null,{"$f":"IF(W1945=\"\",\"\",LOOKUP(W1945,Hilfstabelle!$A$1:$A$286,Hilfstabelle!$B$1:$B$286))","v":""}]
[null,null,null,null,null,null,null,null,null,null,null,null,null,null,null,null,null,null,null,null,{"$f":"IF(W1946=\"\",\"\",LOOKUP(W1946,Hilfstabelle!$A$1:$A$286,Hilfstabelle!$B$1:$B$286))","v":""}]
[null,null,null,null,null,null,null,null,null,null,null,null,null,null,null,null,null,null,null,null,{"$f":"IF(W1947=\"\",\"\",LOOKUP(W1947,Hilfstabelle!$A$1:$A$286,Hilfstabelle!$B$1:$B$286))","v":""}]
[null,null,null,null,null,null,null,null,null,null,null,null,null,null,null,null,null,null,null,null,{"$f":"IF(W1948=\"\",\"\",LOOKUP(W1948,Hilfstabelle!$A$1:$A$286,Hilfstabelle!$B$1:$B$286))","v":""}]
[null,null,null,null,null,null,null,null,null,null,null,null,null,null,null,null,null,null,null,null,{"$f":"IF(W1949=\"\",\"\",LOOKUP(W1949,Hilfstabelle!$A$1:$A$286,Hilfstabelle!$B$1:$B$286))","v":""}]
[null,null,null,null,null,null,null,null,null,null,null,null,null,null,null,null,null,null,null,null,{"$f":"IF(W1950=\"\",\"\",LOOKUP(W1950,Hilfstabelle!$A$1:$A$286,Hilfstabelle!$B$1:$B$286))","v":""}]
[null,null,null,null,null,null,null,null,null,null,null,null,null,null,null,null,null,null,null,null,{"$f":"IF(W1951=\"\",\"\",LOOKUP(W1951,Hilfstabelle!$A$1:$A$286,Hilfstabelle!$B$1:$B$286))","v":""}]
[null,null,null,null,null,null,null,null,null,null,null,null,null,null,null,null,null,null,null,null,{"$f":"IF(W1952=\"\",\"\",LOOKUP(W1952,Hilfstabelle!$A$1:$A$286,Hilfstabelle!$B$1:$B$286))","v":""}]
[null,null,null,null,null,null,null,null,null,null,null,null,null,null,null,null,null,null,null,null,{"$f":"IF(W1953=\"\",\"\",LOOKUP(W1953,Hilfstabelle!$A$1:$A$286,Hilfstabelle!$B$1:$B$286))","v":""}]
[null,null,null,null,null,null,null,null,null,null,null,null,null,null,null,null,null,null,null,null,{"$f":"IF(W1954=\"\",\"\",LOOKUP(W1954,Hilfstabelle!$A$1:$A$286,Hilfstabelle!$B$1:$B$286))","v":""}]
[null,null,null,null,null,null,null,null,null,null,null,null,null,null,null,null,null,null,null,null,{"$f":"IF(W1955=\"\",\"\",LOOKUP(W1955,Hilfstabelle!$A$1:$A$286,Hilfstabelle!$B$1:$B$286))","v":""}]
[null,null,null,null,null,null,null,null,null,null,null,null,null,null,null,null,null,null,null,null,{"$f":"IF(W1956=\"\",\"\",LOOKUP(W1956,Hilfstabelle!$A$1:$A$286,Hilfstabelle!$B$1:$B$286))","v":""}]
[null,null,null,null,null,null,null,null,null,null,null,null,null,null,null,null,null,null,null,null,{"$f":"IF(W1957=\"\",\"\",LOOKUP(W1957,Hilfstabelle!$A$1:$A$286,Hilfstabelle!$B$1:$B$286))","v":""}]
[null,null,null,null,null,null,null,null,null,null,null,null,null,null,null,null,null,null,null,null,{"$f":"IF(W1958=\"\",\"\",LOOKUP(W1958,Hilfstabelle!$A$1:$A$286,Hilfstabelle!$B$1:$B$286))","v":""}]
[null,null,null,null,null,null,null,null,null,null,null,null,null,null,null,null,null,null,null,null,{"$f":"IF(W1959=\"\",\"\",LOOKUP(W1959,Hilfstabelle!$A$1:$A$286,Hilfstabelle!$B$1:$B$286))","v":""}]
[null,null,null,null,null,null,null,null,null,null,null,null,null,null,null,null,null,null,null,null,{"$f":"IF(W1960=\"\",\"\",LOOKUP(W1960,Hilfstabelle!$A$1:$A$286,Hilfstabelle!$B$1:$B$286))","v":""}]
[null,null,null,null,null,null,null,null,null,null,null,null,null,null,null,null,null,null,null,null,{"$f":"IF(W1961=\"\",\"\",LOOKUP(W1961,Hilfstabelle!$A$1:$A$286,Hilfstabelle!$B$1:$B$286))","v":""}]
[null,null,null,null,null,null,null,null,null,null,null,null,null,null,null,null,null,null,null,null,{"$f":"IF(W1962=\"\",\"\",LOOKUP(W1962,Hilfstabelle!$A$1:$A$286,Hilfstabelle!$B$1:$B$286))","v":""}]
[null,null,null,null,null,null,null,null,null,null,null,null,null,null,null,null,null,null,null,null,{"$f":"IF(W1963=\"\",\"\",LOOKUP(W1963,Hilfstabelle!$A$1:$A$286,Hilfstabelle!$B$1:$B$286))","v":""}]
[null,null,null,null,null,null,null,null,null,null,null,null,null,null,null,null,null,null,null,null,{"$f":"IF(W1964=\"\",\"\",LOOKUP(W1964,Hilfstabelle!$A$1:$A$286,Hilfstabelle!$B$1:$B$286))","v":""}]
[null,null,null,null,null,null,null,null,null,null,null,null,null,null,null,null,null,null,null,null,{"$f":"IF(W1965=\"\",\"\",LOOKUP(W1965,Hilfstabelle!$A$1:$A$286,Hilfstabelle!$B$1:$B$286))","v":""}]
[null,null,null,null,null,null,null,null,null,null,null,null,null,null,null,null,null,null,null,null,{"$f":"IF(W1966=\"\",\"\",LOOKUP(W1966,Hilfstabelle!$A$1:$A$286,Hilfstabelle!$B$1:$B$286))","v":""}]
[null,null,null,null,null,null,null,null,null,null,null,null,null,null,null,null,null,null,null,null,{"$f":"IF(W1967=\"\",\"\",LOOKUP(W1967,Hilfstabelle!$A$1:$A$286,Hilfstabelle!$B$1:$B$286))","v":""}]
[null,null,null,null,null,null,null,null,null,null,null,null,null,null,null,null,null,null,null,null,{"$f":"IF(W1968=\"\",\"\",LOOKUP(W1968,Hilfstabelle!$A$1:$A$286,Hilfstabelle!$B$1:$B$286))","v":""}]
[null,null,null,null,null,null,null,null,null,null,null,null,null,null,null,null,null,null,null,null,{"$f":"IF(W1969=\"\",\"\",LOOKUP(W1969,Hilfstabelle!$A$1:$A$286,Hilfstabelle!$B$1:$B$286))","v":""}]
[null,null,null,null,null,null,null,null,null,null,null,null,null,null,null,null,null,null,null,null,{"$f":"IF(W1970=\"\",\"\",LOOKUP(W1970,Hilfstabelle!$A$1:$A$286,Hilfstabelle!$B$1:$B$286))","v":""}]
[null,null,null,null,null,null,null,null,null,null,null,null,null,null,null,null,null,null,null,null,{"$f":"IF(W1971=\"\",\"\",LOOKUP(W1971,Hilfstabelle!$A$1:$A$286,Hilfstabelle!$B$1:$B$286))","v":""}]
[null,null,null,null,null,null,null,null,null,null,null,null,null,null,null,null,null,null,null,null,{"$f":"IF(W1972=\"\",\"\",LOOKUP(W1972,Hilfstabelle!$A$1:$A$286,Hilfstabelle!$B$1:$B$286))","v":""}]
[null,null,null,null,null,null,null,null,null,null,null,null,null,null,null,null,null,null,null,null,{"$f":"IF(W1973=\"\",\"\",LOOKUP(W1973,Hilfstabelle!$A$1:$A$286,Hilfstabelle!$B$1:$B$286))","v":""}]
[null,null,null,null,null,null,null,null,null,null,null,null,null,null,null,null,null,null,null,null,{"$f":"IF(W1974=\"\",\"\",LOOKUP(W1974,Hilfstabelle!$A$1:$A$286,Hilfstabelle!$B$1:$B$286))","v":""}]
[null,null,null,null,null,null,null,null,null,null,null,null,null,null,null,null,null,null,null,null,{"$f":"IF(W1975=\"\",\"\",LOOKUP(W1975,Hilfstabelle!$A$1:$A$286,Hilfstabelle!$B$1:$B$286))","v":""}]
[null,null,null,null,null,null,null,null,null,null,null,null,null,null,null,null,null,null,null,null,{"$f":"IF(W1976=\"\",\"\",LOOKUP(W1976,Hilfstabelle!$A$1:$A$286,Hilfstabelle!$B$1:$B$286))","v":""}]
[null,null,null,null,null,null,null,null,null,null,null,null,null,null,null,null,null,null,null,null,{"$f":"IF(W1977=\"\",\"\",LOOKUP(W1977,Hilfstabelle!$A$1:$A$286,Hilfstabelle!$B$1:$B$286))","v":""}]
[null,null,null,null,null,null,null,null,null,null,null,null,null,null,null,null,null,null,null,null,{"$f":"IF(W1978=\"\",\"\",LOOKUP(W1978,Hilfstabelle!$A$1:$A$286,Hilfstabelle!$B$1:$B$286))","v":""}]
[null,null,null,null,null,null,null,null,null,null,null,null,null,null,null,null,null,null,null,null,{"$f":"IF(W1979=\"\",\"\",LOOKUP(W1979,Hilfstabelle!$A$1:$A$286,Hilfstabelle!$B$1:$B$286))","v":""}]
[null,null,null,null,null,null,null,null,null,null,null,null,null,null,null,null,null,null,null,null,{"$f":"IF(W1980=\"\",\"\",LOOKUP(W1980,Hilfstabelle!$A$1:$A$286,Hilfstabelle!$B$1:$B$286))","v":""}]
[null,null,null,null,null,null,null,null,null,null,null,null,null,null,null,null,null,null,null,null,{"$f":"IF(W1981=\"\",\"\",LOOKUP(W1981,Hilfstabelle!$A$1:$A$286,Hilfstabelle!$B$1:$B$286))","v":""}]
[null,null,null,null,null,null,null,null,null,null,null,null,null,null,null,null,null,null,null,null,{"$f":"IF(W1982=\"\",\"\",LOOKUP(W1982,Hilfstabelle!$A$1:$A$286,Hilfstabelle!$B$1:$B$286))","v":""}]
[null,null,null,null,null,null,null,null,null,null,null,null,null,null,null,null,null,null,null,null,{"$f":"IF(W1983=\"\",\"\",LOOKUP(W1983,Hilfstabelle!$A$1:$A$286,Hilfstabelle!$B$1:$B$286))","v":""}]
[null,null,null,null,null,null,null,null,null,null,null,null,null,null,null,null,null,null,null,null,{"$f":"IF(W1984=\"\",\"\",LOOKUP(W1984,Hilfstabelle!$A$1:$A$286,Hilfstabelle!$B$1:$B$286))","v":""}]
[null,null,null,null,null,null,null,null,null,null,null,null,null,null,null,null,null,null,null,null,{"$f":"IF(W1985=\"\",\"\",LOOKUP(W1985,Hilfstabelle!$A$1:$A$286,Hilfstabelle!$B$1:$B$286))","v":""}]
[null,null,null,null,null,null,null,null,null,null,null,null,null,null,null,null,null,null,null,null,{"$f":"IF(W1986=\"\",\"\",LOOKUP(W1986,Hilfstabelle!$A$1:$A$286,Hilfstabelle!$B$1:$B$286))","v":""}]
[null,null,null,null,null,null,null,null,null,null,null,null,null,null,null,null,null,null,null,null,{"$f":"IF(W1987=\"\",\"\",LOOKUP(W1987,Hilfstabelle!$A$1:$A$286,Hilfstabelle!$B$1:$B$286))","v":""}]
[null,null,null,null,null,null,null,null,null,null,null,null,null,null,null,null,null,null,null,null,{"$f":"IF(W1988=\"\",\"\",LOOKUP(W1988,Hilfstabelle!$A$1:$A$286,Hilfstabelle!$B$1:$B$286))","v":""}]
[null,null,null,null,null,null,null,null,null,null,null,null,null,null,null,null,null,null,null,null,{"$f":"IF(W1989=\"\",\"\",LOOKUP(W1989,Hilfstabelle!$A$1:$A$286,Hilfstabelle!$B$1:$B$286))","v":""}]
[null,null,null,null,null,null,null,null,null,null,null,null,null,null,null,null,null,null,null,null,{"$f":"IF(W1990=\"\",\"\",LOOKUP(W1990,Hilfstabelle!$A$1:$A$286,Hilfstabelle!$B$1:$B$286))","v":""}]
[null,null,null,null,null,null,null,null,null,null,null,null,null,null,null,null,null,null,null,null,{"$f":"IF(W1991=\"\",\"\",LOOKUP(W1991,Hilfstabelle!$A$1:$A$286,Hilfstabelle!$B$1:$B$286))","v":""}]
[null,null,null,null,null,null,null,null,null,null,null,null,null,null,null,null,null,null,null,null,{"$f":"IF(W1992=\"\",\"\",LOOKUP(W1992,Hilfstabelle!$A$1:$A$286,Hilfstabelle!$B$1:$B$286))","v":""}]
[null,null,null,null,null,null,null,null,null,null,null,null,null,null,null,null,null,null,null,null,{"$f":"IF(W1993=\"\",\"\",LOOKUP(W1993,Hilfstabelle!$A$1:$A$286,Hilfstabelle!$B$1:$B$286))","v":""}]
[null,null,null,null,null,null,null,null,null,null,null,null,null,null,null,null,null,null,null,null,{"$f":"IF(W1994=\"\",\"\",LOOKUP(W1994,Hilfstabelle!$A$1:$A$286,Hilfstabelle!$B$1:$B$286))","v":""}]
[null,null,null,null,null,null,null,null,null,null,null,null,null,null,null,null,null,null,null,null,{"$f":"IF(W1995=\"\",\"\",LOOKUP(W1995,Hilfstabelle!$A$1:$A$286,Hilfstabelle!$B$1:$B$286))","v":""}]
[null,null,null,null,null,null,null,null,null,null,null,null,null,null,null,null,null,null,null,null,{"$f":"IF(W1996=\"\",\"\",LOOKUP(W1996,Hilfstabelle!$A$1:$A$286,Hilfstabelle!$B$1:$B$286))","v":""}]
[null,null,null,null,null,null,null,null,null,null,null,null,null,null,null,null,null,null,null,null,{"$f":"IF(W1997=\"\",\"\",LOOKUP(W1997,Hilfstabelle!$A$1:$A$286,Hilfstabelle!$B$1:$B$286))","v":""}]
[null,null,null,null,null,null,null,null,null,null,null,null,null,null,null,null,null,null,null,null,{"$f":"IF(W1998=\"\",\"\",LOOKUP(W1998,Hilfstabelle!$A$1:$A$286,Hilfstabelle!$B$1:$B$286))","v":""}]
[null,null,null,null,null,null,null,null,null,null,null,null,null,null,null,null,null,null,null,null,{"$f":"IF(W1999=\"\",\"\",LOOKUP(W1999,Hilfstabelle!$A$1:$A$286,Hilfstabelle!$B$1:$B$286))","v":""}]
[null,null,null,null,null,null,null,null,null,null,null,null,null,null,null,null,null,null,null,null,{"$f":"IF(W2000=\"\",\"\",LOOKUP(W2000,Hilfstabelle!$A$1:$A$286,Hilfstabelle!$B$1:$B$286))","v":""}]
[null,null,null,null,null,null,null,null,null,null,null,null,null,null,null,null,null,null,null,null,{"$f":"IF(W2002=\"\",\"\",LOOKUP(W2002,Hilfstabelle!$A$1:$A$286,Hilfstabelle!$B$1:$B$286))","v":""}]
[null,null,null,null,null,null,null,null,null,null,null,null,null,null,null,null,null,null,null,null,{"$f":"IF(W2003=\"\",\"\",LOOKUP(W2003,Hilfstabelle!$A$1:$A$286,Hilfstabelle!$B$1:$B$286))","v":""}]
[null,null,null,null,null,null,null,null,null,null,null,null,null,null,null,null,null,null,null,null,{"$f":"IF(W2006=\"\",\"\",LOOKUP(W2006,Hilfstabelle!$A$1:$A$286,Hilfstabelle!$B$1:$B$286))","v":""}]
[null,null,null,null,null,null,null,null,null,null,null,null,null,null,null,null,null,null,null,null,{"$f":"IF(W2009=\"\",\"\",LOOKUP(W2009,Hilfstabelle!$A$1:$A$286,Hilfstabelle!$B$1:$B$286))","v":""}]
[null,null,null,null,null,null,null,null,null,null,null,null,null,null,null,null,null,null,null,null,{"$f":"IF(W2011=\"\",\"\",LOOKUP(W2011,Hilfstabelle!$A$1:$A$286,Hilfstabelle!$B$1:$B$286))","v":""}]
[null,null,null,null,null,null,null,null,null,null,null,null,null,null,null,null,null,null,null,null,{"$f":"IF(W2012=\"\",\"\",LOOKUP(W2012,Hilfstabelle!$A$1:$A$286,Hilfstabelle!$B$1:$B$286))","v":""}]
[null,null,null,null,null,null,null,null,null,null,null,null,null,null,null,null,null,null,null,null,{"$f":"IF(W2015=\"\",\"\",LOOKUP(W2015,Hilfstabelle!$A$1:$A$286,Hilfstabelle!$B$1:$B$286))","v":""}]
[null,null,null,null,null,null,null,null,null,null,null,null,null,null,null,null,null,null,null,null,{"$f":"IF(W2016=\"\",\"\",LOOKUP(W2016,Hilfstabelle!$A$1:$A$286,Hilfstabelle!$B$1:$B$286))","v":""}]
[null,null,null,null,null,null,null,null,null,null,null,null,null,null,null,null,null,null,null,null,{"$f":"IF(W2020=\"\",\"\",LOOKUP(W2020,Hilfstabelle!$A$1:$A$286,Hilfstabelle!$B$1:$B$286))","v":""}]
[null,null,null,null,null,null,null,null,null,null,null,null,null,null,null,null,null,null,null,null,{"$f":"IF(W2021=\"\",\"\",LOOKUP(W2021,Hilfstabelle!$A$1:$A$286,Hilfstabelle!$B$1:$B$286))","v":""}]
[null,null,null,null,null,null,null,null,null,null,null,null,null,null,null,null,null,null,null,null,{"$f":"IF(W2024=\"\",\"\",LOOKUP(W2024,Hilfstabelle!$A$1:$A$286,Hilfstabelle!$B$1:$B$286))","v":""}]
[null,null,null,null,null,null,null,null,null,null,null,null,null,null,null,null,null,null,null,null,{"$f":"IF(W2027=\"\",\"\",LOOKUP(W2027,Hilfstabelle!$A$1:$A$286,Hilfstabelle!$B$1:$B$286))","v":""}]
[null,null,null,null,null,null,null,null,null,null,null,null,null,null,null,null,null,null,null,null,{"$f":"IF(W2029=\"\",\"\",LOOKUP(W2029,Hilfstabelle!$A$1:$A$286,Hilfstabelle!$B$1:$B$286))","v":""}]
[null,null,null,null,null,null,null,null,null,null,null,null,null,null,null,null,null,null,null,null,{"$f":"IF(W2030=\"\",\"\",LOOKUP(W2030,Hilfstabelle!$A$1:$A$286,Hilfstabelle!$B$1:$B$286))","v":""}]
[null,null,null,null,null,null,null,null,null,null,null,null,null,null,null,null,null,null,null,null,{"$f":"IF(W2033=\"\",\"\",LOOKUP(W2033,Hilfstabelle!$A$1:$A$286,Hilfstabelle!$B$1:$B$286))","v":""}]
[null,null,null,null,null,null,null,null,null,null,null,null,null,null,null,null,null,null,null,null,{"$f":"IF(W2034=\"\",\"\",LOOKUP(W2034,Hilfstabelle!$A$1:$A$286,Hilfstabelle!$B$1:$B$286))","v":""}]
[null,null,null,null,null,null,null,null,null,null,null,null,null,null,null,null,null,null,null,null,{"$f":"IF(W2038=\"\",\"\",LOOKUP(W2038,Hilfstabelle!$A$1:$A$286,Hilfstabelle!$B$1:$B$286))","v":""}]
[null,null,null,null,null,null,null,null,null,null,null,null,null,null,null,null,null,null,null,null,{"$f":"IF(W2039=\"\",\"\",LOOKUP(W2039,Hilfstabelle!$A$1:$A$286,Hilfstabelle!$B$1:$B$286))","v":""}]
[null,null,null,null,null,null,null,null,null,null,null,null,null,null,null,null,null,null,null,null,{"$f":"IF(W2042=\"\",\"\",LOOKUP(W2042,Hilfstabelle!$A$1:$A$286,Hilfstabelle!$B$1:$B$286))","v":""}]
[null,null,null,null,null,null,null,null,null,null,null,null,null,null,null,null,null,null,null,null,{"$f":"IF(W2045=\"\",\"\",LOOKUP(W2045,Hilfstabelle!$A$1:$A$286,Hilfstabelle!$B$1:$B$286))","v":""}]
[null,null,null,null,null,null,null,null,null,null,null,null,null,null,null,null,null,null,null,null,{"$f":"IF(W2047=\"\",\"\",LOOKUP(W2047,Hilfstabelle!$A$1:$A$286,Hilfstabelle!$B$1:$B$286))","v":""}]
[null,null,null,null,null,null,null,null,null,null,null,null,null,null,null,null,null,null,null,null,{"$f":"IF(W2048=\"\",\"\",LOOKUP(W2048,Hilfstabelle!$A$1:$A$286,Hilfstabelle!$B$1:$B$286))","v":""}]
[null,null,null,null,null,null,null,null,null,null,null,null,null,null,null,null,null,null,null,null,{"$f":"IF(W2051=\"\",\"\",LOOKUP(W2051,Hilfstabelle!$A$1:$A$286,Hilfstabelle!$B$1:$B$286))","v":""}]
[null,null,null,null,null,null,null,null,null,null,null,null,null,null,null,null,null,null,null,null,{"$f":"IF(W2052=\"\",\"\",LOOKUP(W2052,Hilfstabelle!$A$1:$A$286,Hilfstabelle!$B$1:$B$286))","v":""}]
[null,null,null,null,null,null,null,null,null,null,null,null,null,null,null,null,null,null,null,null,{"$f":"IF(W2056=\"\",\"\",LOOKUP(W2056,Hilfstabelle!$A$1:$A$286,Hilfstabelle!$B$1:$B$286))","v":""}]
[null,null,null,null,null,null,null,null,null,null,null,null,null,null,null,null,null,null,null,null,{"$f":"IF(W2057=\"\",\"\",LOOKUP(W2057,Hilfstabelle!$A$1:$A$286,Hilfstabelle!$B$1:$B$286))","v":""}]
[null,null,null,null,null,null,null,null,null,null,null,null,null,null,null,null,null,null,null,null,{"$f":"IF(W2060=\"\",\"\",LOOKUP(W2060,Hilfstabelle!$A$1:$A$286,Hilfstabelle!$B$1:$B$286))","v":""}]
[null,null,null,null,null,null,null,null,null,null,null,null,null,null,null,null,null,null,null,null,{"$f":"IF(W2063=\"\",\"\",LOOKUP(W2063,Hilfstabelle!$A$1:$A$286,Hilfstabelle!$B$1:$B$286))","v":""}]
[null,null,null,null,null,null,null,null,null,null,null,null,null,null,null,null,null,null,null,null,{"$f":"IF(W2065=\"\",\"\",LOOKUP(W2065,Hilfstabelle!$A$1:$A$286,Hilfstabelle!$B$1:$B$286))","v":""}]
[null,null,null,null,null,null,null,null,null,null,null,null,null,null,null,null,null,null,null,null,{"$f":"IF(W2066=\"\",\"\",LOOKUP(W2066,Hilfstabelle!$A$1:$A$286,Hilfstabelle!$B$1:$B$286))","v":""}]
[null,null,null,null,null,null,null,null,null,null,null,null,null,null,null,null,null,null,null,null,{"$f":"IF(W2069=\"\",\"\",LOOKUP(W2069,Hilfstabelle!$A$1:$A$286,Hilfstabelle!$B$1:$B$286))","v":""}]
[null,null,null,null,null,null,null,null,null,null,null,null,null,null,null,null,null,null,null,null,{"$f":"IF(W2070=\"\",\"\",LOOKUP(W2070,Hilfstabelle!$A$1:$A$286,Hilfstabelle!$B$1:$B$286))","v":""}]
[null,null,null,null,null,null,null,null,null,null,null,null,null,null,null,null,null,null,null,null,{"$f":"IF(W2074=\"\",\"\",LOOKUP(W2074,Hilfstabelle!$A$1:$A$286,Hilfstabelle!$B$1:$B$286))","v":""}]
[null,null,null,null,null,null,null,null,null,null,null,null,null,null,null,null,null,null,null,null,{"$f":"IF(W2075=\"\",\"\",LOOKUP(W2075,Hilfstabelle!$A$1:$A$286,Hilfstabelle!$B$1:$B$286))","v":""}]
[null,null,null,null,null,null,null,null,null,null,null,null,null,null,null,null,null,null,null,null,{"$f":"IF(W2078=\"\",\"\",LOOKUP(W2078,Hilfstabelle!$A$1:$A$286,Hilfstabelle!$B$1:$B$286))","v":""}]
[null,null,null,null,null,null,null,null,null,null,null,null,null,null,null,null,null,null,null,null,{"$f":"IF(W2081=\"\",\"\",LOOKUP(W2081,Hilfstabelle!$A$1:$A$286,Hilfstabelle!$B$1:$B$286))","v":""}]
[null,null,null,null,null,null,null,null,null,null,null,null,null,null,null,null,null,null,null,null,{"$f":"IF(W2083=\"\",\"\",LOOKUP(W2083,Hilfstabelle!$A$1:$A$286,Hilfstabelle!$B$1:$B$286))","v":""}]
[null,null,null,null,null,null,null,null,null,null,null,null,null,null,null,null,null,null,null,null,{"$f":"IF(W2084=\"\",\"\",LOOKUP(W2084,Hilfstabelle!$A$1:$A$286,Hilfstabelle!$B$1:$B$286))","v":""}]
[null,null,null,null,null,null,null,null,null,null,null,null,null,null,null,null,null,null,null,null,{"$f":"IF(W2087=\"\",\"\",LOOKUP(W2087,Hilfstabelle!$A$1:$A$286,Hilfstabelle!$B$1:$B$286))","v":""}]
[null,null,null,null,null,null,null,null,null,null,null,null,null,null,null,null,null,null,null,null,{"$f":"IF(W2088=\"\",\"\",LOOKUP(W2088,Hilfstabelle!$A$1:$A$286,Hilfstabelle!$B$1:$B$286))","v":""}]
[null,null,null,null,null,null,null,null,null,null,null,null,null,null,null,null,null,null,null,null,{"$f":"IF(W2092=\"\",\"\",LOOKUP(W2092,Hilfstabelle!$A$1:$A$286,Hilfstabelle!$B$1:$B$286))","v":""}]
[null,null,null,null,null,null,null,null,null,null,null,null,null,null,null,null,null,null,null,null,{"$f":"IF(W2093=\"\",\"\",LOOKUP(W2093,Hilfstabelle!$A$1:$A$286,Hilfstabelle!$B$1:$B$286))","v":""}]
[null,null,null,null,null,null,null,null,null,null,null,null,null,null,null,null,null,null,null,null,{"$f":"IF(W2096=\"\",\"\",LOOKUP(W2096,Hilfstabelle!$A$1:$A$286,Hilfstabelle!$B$1:$B$286))","v":""}]
[null,null,null,null,null,null,null,null,null,null,null,null,null,null,null,null,null,null,null,null,{"$f":"IF(W2099=\"\",\"\",LOOKUP(W2099,Hilfstabelle!$A$1:$A$286,Hilfstabelle!$B$1:$B$286))","v":""}]
[null,null,null,null,null,null,null,null,null,null,null,null,null,null,null,null,null,null,null,null,{"$f":"IF(W2101=\"\",\"\",LOOKUP(W2101,Hilfstabelle!$A$1:$A$286,Hilfstabelle!$B$1:$B$286))","v":""}]
[null,null,null,null,null,null,null,null,null,null,null,null,null,null,null,null,null,null,null,null,{"$f":"IF(W2102=\"\",\"\",LOOKUP(W2102,Hilfstabelle!$A$1:$A$286,Hilfstabelle!$B$1:$B$286))","v":""}]
[null,null,null,null,null,null,null,null,null,null,null,null,null,null,null,null,null,null,null,null,{"$f":"IF(W2105=\"\",\"\",LOOKUP(W2105,Hilfstabelle!$A$1:$A$286,Hilfstabelle!$B$1:$B$286))","v":""}]
[null,null,null,null,null,null,null,null,null,null,null,null,null,null,null,null,null,null,null,null,{"$f":"IF(W2106=\"\",\"\",LOOKUP(W2106,Hilfstabelle!$A$1:$A$286,Hilfstabelle!$B$1:$B$286))","v":""}]
[null,null,null,null,null,null,null,null,null,null,null,null,null,null,null,null,null,null,null,null,{"$f":"IF(W2110=\"\",\"\",LOOKUP(W2110,Hilfstabelle!$A$1:$A$286,Hilfstabelle!$B$1:$B$286))","v":""}]
[null,null,null,null,null,null,null,null,null,null,null,null,null,null,null,null,null,null,null,null,{"$f":"IF(W2111=\"\",\"\",LOOKUP(W2111,Hilfstabelle!$A$1:$A$286,Hilfstabelle!$B$1:$B$286))","v":""}]
[null,null,null,null,null,null,null,null,null,null,null,null,null,null,null,null,null,null,null,null,{"$f":"IF(W2114=\"\",\"\",LOOKUP(W2114,Hilfstabelle!$A$1:$A$286,Hilfstabelle!$B$1:$B$286))","v":""}]
[null,null,null,null,null,null,null,null,null,null,null,null,null,null,null,null,null,null,null,null,{"$f":"IF(W2117=\"\",\"\",LOOKUP(W2117,Hilfstabelle!$A$1:$A$286,Hilfstabelle!$B$1:$B$286))","v":""}]
[null,null,null,null,null,null,null,null,null,null,null,null,null,null,null,null,null,null,null,null,{"$f":"IF(W2119=\"\",\"\",LOOKUP(W2119,Hilfstabelle!$A$1:$A$286,Hilfstabelle!$B$1:$B$286))","v":""}]
[null,null,null,null,null,null,null,null,null,null,null,null,null,null,null,null,null,null,null,null,{"$f":"IF(W2120=\"\",\"\",LOOKUP(W2120,Hilfstabelle!$A$1:$A$286,Hilfstabelle!$B$1:$B$286))","v":""}]
[null,null,null,null,null,null,null,null,null,null,null,null,null,null,null,null,null,null,null,null,{"$f":"IF(W2123=\"\",\"\",LOOKUP(W2123,Hilfstabelle!$A$1:$A$286,Hilfstabelle!$B$1:$B$286))","v":""}]
[null,null,null,null,null,null,null,null,null,null,null,null,null,null,null,null,null,null,null,null,{"$f":"IF(W2125=\"\",\"\",LOOKUP(W2125,Hilfstabelle!$A$1:$A$286,Hilfstabelle!$B$1:$B$286))","v":""}]
[null,null,null,null,null,null,null,null,null,null,null,null,null,null,null,null,null,null,null,null,{"$f":"IF(W2128=\"\",\"\",LOOKUP(W2128,Hilfstabelle!$A$1:$A$286,Hilfstabelle!$B$1:$B$286))","v":""}]
[null,null,null,null,null,null,null,null,null,null,null,null,null,null,null,null,null,null,null,null,{"$f":"IF(W2129=\"\",\"\",LOOKUP(W2129,Hilfstabelle!$A$1:$A$286,Hilfstabelle!$B$1:$B$286))","v":""}]
[null,null,null,null,null,null,null,null,null,null,null,null,null,null,null,null,null,null,null,null,{"$f":"IF(W2132=\"\",\"\",LOOKUP(W2132,Hilfstabelle!$A$1:$A$286,Hilfstabelle!$B$1:$B$286))","v":""}]
[null,null,null,null,null,null,null,null,null,null,null,null,null,null,null,null,null,null,null,null,{"$f":"IF(W2135=\"\",\"\",LOOKUP(W2135,Hilfstabelle!$A$1:$A$286,Hilfstabelle!$B$1:$B$286))","v":""}]
[null,null,null,null,null,null,null,null,null,null,null,null,null,null,null,null,null,null,null,null,{"$f":"IF(W2137=\"\",\"\",LOOKUP(W2137,Hilfstabelle!$A$1:$A$286,Hilfstabelle!$B$1:$B$286))","v":""}]
[null,null,null,null,null,null,null,null,null,null,null,null,null,null,null,null,null,null,null,null,{"$f":"IF(W2138=\"\",\"\",LOOKUP(W2138,Hilfstabelle!$A$1:$A$286,Hilfstabelle!$B$1:$B$286))","v":""}]
[null,null,null,null,null,null,null,null,null,null,null,null,null,null,null,null,null,null,null,null,{"$f":"IF(W2141=\"\",\"\",LOOKUP(W2141,Hilfstabelle!$A$1:$A$286,Hilfstabelle!$B$1:$B$286))","v":""}]
[null,null,null,null,null,null,null,null,null,null,null,null,null,null,null,null,null,null,null,null,{"$f":"IF(W2143=\"\",\"\",LOOKUP(W2143,Hilfstabelle!$A$1:$A$286,Hilfstabelle!$B$1:$B$286))","v":""}]
[null,null,null,null,null,null,null,null,null,null,null,null,null,null,null,null,null,null,null,null,{"$f":"IF(W2146=\"\",\"\",LOOKUP(W2146,Hilfstabelle!$A$1:$A$286,Hilfstabelle!$B$1:$B$286))","v":""}]
[null,null,null,null,null,null,null,null,null,null,null,null,null,null,null,null,null,null,null,null,{"$f":"IF(W2147=\"\",\"\",LOOKUP(W2147,Hilfstabelle!$A$1:$A$286,Hilfstabelle!$B$1:$B$286))","v":""}]
[null,null,null,null,null,null,null,null,null,null,null,null,null,null,null,null,null,null,null,null,{"$f":"IF(W2150=\"\",\"\",LOOKUP(W2150,Hilfstabelle!$A$1:$A$286,Hilfstabelle!$B$1:$B$286))","v":""}]
[null,null,null,null,null,null,null,null,null,null,null,null,null,null,null,null,null,null,null,null,{"$f":"IF(W2153=\"\",\"\",LOOKUP(W2153,Hilfstabelle!$A$1:$A$286,Hilfstabelle!$B$1:$B$286))","v":""}]
[null,null,null,null,null,null,null,null,null,null,null,null,null,null,null,null,null,null,null,null,{"$f":"IF(W2155=\"\",\"\",LOOKUP(W2155,Hilfstabelle!$A$1:$A$286,Hilfstabelle!$B$1:$B$286))","v":""}]
[null,null,null,null,null,null,null,null,null,null,null,null,null,null,null,null,null,null,null,null,{"$f":"IF(W2156=\"\",\"\",LOOKUP(W2156,Hilfstabelle!$A$1:$A$286,Hilfstabelle!$B$1:$B$286))","v":""}]
[null,null,null,null,null,null,null,null,null,null,null,null,null,null,null,null,null,null,null,null,{"$f":"IF(W2159=\"\",\"\",LOOKUP(W2159,Hilfstabelle!$A$1:$A$286,Hilfstabelle!$B$1:$B$286))","v":""}]
[null,null,null,null,null,null,null,null,null,null,null,null,null,null,null,null,null,null,null,null,{"$f":"IF(W2161=\"\",\"\",LOOKUP(W2161,Hilfstabelle!$A$1:$A$286,Hilfstabelle!$B$1:$B$286))","v":""}]
[null,null,null,null,null,null,null,null,null,null,null,null,null,null,null,null,null,null,null,null,{"$f":"IF(W2164=\"\",\"\",LOOKUP(W2164,Hilfstabelle!$A$1:$A$286,Hilfstabelle!$B$1:$B$286))","v":""}]
[null,null,null,null,null,null,null,null,null,null,null,null,null,null,null,null,null,null,null,null,{"$f":"IF(W2165=\"\",\"\",LOOKUP(W2165,Hilfstabelle!$A$1:$A$286,Hilfstabelle!$B$1:$B$286))","v":""}]
[null,null,null,null,null,null,null,null,null,null,null,null,null,null,null,null,null,null,null,null,{"$f":"IF(W2168=\"\",\"\",LOOKUP(W2168,Hilfstabelle!$A$1:$A$286,Hilfstabelle!$B$1:$B$286))","v":""}]
[null,null,null,null,null,null,null,null,null,null,null,null,null,null,null,null,null,null,null,null,{"$f":"IF(W2171=\"\",\"\",LOOKUP(W2171,Hilfstabelle!$A$1:$A$286,Hilfstabelle!$B$1:$B$286))","v":""}]
[null,null,null,null,null,null,null,null,null,null,null,null,null,null,null,null,null,null,null,null,{"$f":"IF(W2173=\"\",\"\",LOOKUP(W2173,Hilfstabelle!$A$1:$A$286,Hilfstabelle!$B$1:$B$286))","v":""}]
[null,null,null,null,null,null,null,null,null,null,null,null,null,null,null,null,null,null,null,null,{"$f":"IF(W2174=\"\",\"\",LOOKUP(W2174,Hilfstabelle!$A$1:$A$286,Hilfstabelle!$B$1:$B$286))","v":""}]
[null,null,null,null,null,null,null,null,null,null,null,null,null,null,null,null,null,null,null,null,{"$f":"IF(W2177=\"\",\"\",LOOKUP(W2177,Hilfstabelle!$A$1:$A$286,Hilfstabelle!$B$1:$B$286))","v":""}]
[null,null,null,null,null,null,null,null,null,null,null,null,null,null,null,null,null,null,null,null,{"$f":"IF(W2179=\"\",\"\",LOOKUP(W2179,Hilfstabelle!$A$1:$A$286,Hilfstabelle!$B$1:$B$286))","v":""}]
[null,null,null,null,null,null,null,null,null,null,null,null,null,null,null,null,null,null,null,null,{"$f":"IF(W2182=\"\",\"\",LOOKUP(W2182,Hilfstabelle!$A$1:$A$286,Hilfstabelle!$B$1:$B$286))","v":""}]
[null,null,null,null,null,null,null,null,null,null,null,null,null,null,null,null,null,null,null,null,{"$f":"IF(W2183=\"\",\"\",LOOKUP(W2183,Hilfstabelle!$A$1:$A$286,Hilfstabelle!$B$1:$B$286))","v":""}]
[null,null,null,null,null,null,null,null,null,null,null,null,null,null,null,null,null,null,null,null,{"$f":"IF(W2186=\"\",\"\",LOOKUP(W2186,Hilfstabelle!$A$1:$A$286,Hilfstabelle!$B$1:$B$286))","v":""}]
[null,null,null,null,null,null,null,null,null,null,null,null,null,null,null,null,null,null,null,null,{"$f":"IF(W2189=\"\",\"\",LOOKUP(W2189,Hilfstabelle!$A$1:$A$286,Hilfstabelle!$B$1:$B$286))","v":""}]
[null,null,null,null,null,null,null,null,null,null,null,null,null,null,null,null,null,null,null,null,{"$f":"IF(W2191=\"\",\"\",LOOKUP(W2191,Hilfstabelle!$A$1:$A$286,Hilfstabelle!$B$1:$B$286))","v":""}]
[null,null,null,null,null,null,null,null,null,null,null,null,null,null,null,null,null,null,null,null,{"$f":"IF(W2192=\"\",\"\",LOOKUP(W2192,Hilfstabelle!$A$1:$A$286,Hilfstabelle!$B$1:$B$286))","v":""}]
[null,null,null,null,null,null,null,null,null,null,null,null,null,null,null,null,null,null,null,null,{"$f":"IF(W2195=\"\",\"\",LOOKUP(W2195,Hilfstabelle!$A$1:$A$286,Hilfstabelle!$B$1:$B$286))","v":""}]
[null,null,null,null,null,null,null,null,null,null,null,null,null,null,null,null,null,null,null,null,{"$f":"IF(W2197=\"\",\"\",LOOKUP(W2197,Hilfstabelle!$A$1:$A$286,Hilfstabelle!$B$1:$B$286))","v":""}]
[null,null,null,null,null,null,null,null,null,null,null,null,null,null,null,null,null,null,null,null,{"$f":"IF(W2200=\"\",\"\",LOOKUP(W2200,Hilfstabelle!$A$1:$A$286,Hilfstabelle!$B$1:$B$286))","v":""}]
[null,null,null,null,null,null,null,null,null,null,null,null,null,null,null,null,null,null,null,null,{"$f":"IF(W2201=\"\",\"\",LOOKUP(W2201,Hilfstabelle!$A$1:$A$286,Hilfstabelle!$B$1:$B$286))","v":""}]
[null,null,null,null,null,null,null,null,null,null,null,null,null,null,null,null,null,null,null,null,{"$f":"IF(W2204=\"\",\"\",LOOKUP(W2204,Hilfstabelle!$A$1:$A$286,Hilfstabelle!$B$1:$B$286))","v":""}]
[null,null,null,null,null,null,null,null,null,null,null,null,null,null,null,null,null,null,null,null,{"$f":"IF(W2207=\"\",\"\",LOOKUP(W2207,Hilfstabelle!$A$1:$A$286,Hilfstabelle!$B$1:$B$286))","v":""}]
[null,null,null,null,null,null,null,null,null,null,null,null,null,null,null,null,null,null,null,null,{"$f":"IF(W2209=\"\",\"\",LOOKUP(W2209,Hilfstabelle!$A$1:$A$286,Hilfstabelle!$B$1:$B$286))","v":""}]
[null,null,null,null,null,null,null,null,null,null,null,null,null,null,null,null,null,null,null,null,{"$f":"IF(W2210=\"\",\"\",LOOKUP(W2210,Hilfstabelle!$A$1:$A$286,Hilfstabelle!$B$1:$B$286))","v":""}]
[null,null,null,null,null,null,null,null,null,null,null,null,null,null,null,null,null,null,null,null,{"$f":"IF(W2213=\"\",\"\",LOOKUP(W2213,Hilfstabelle!$A$1:$A$286,Hilfstabelle!$B$1:$B$286))","v":""}]
[null,null,null,null,null,null,null,null,null,null,null,null,null,null,null,null,null,null,null,null,{"$f":"IF(W2215=\"\",\"\",LOOKUP(W2215,Hilfstabelle!$A$1:$A$286,Hilfstabelle!$B$1:$B$286))","v":""}]
[null,null,null,null,null,null,null,null,null,null,null,null,null,null,null,null,null,null,null,null,{"$f":"IF(W2218=\"\",\"\",LOOKUP(W2218,Hilfstabelle!$A$1:$A$286,Hilfstabelle!$B$1:$B$286))","v":""}]
[null,null,null,null,null,null,null,null,null,null,null,null,null,null,null,null,null,null,null,null,{"$f":"IF(W2219=\"\",\"\",LOOKUP(W2219,Hilfstabelle!$A$1:$A$286,Hilfstabelle!$B$1:$B$286))","v":""}]
[null,null,null,null,null,null,null,null,null,null,null,null,null,null,null,null,null,null,null,null,{"$f":"IF(W2222=\"\",\"\",LOOKUP(W2222,Hilfstabelle!$A$1:$A$286,Hilfstabelle!$B$1:$B$286))","v":""}]
[null,null,null,null,null,null,null,null,null,null,null,null,null,null,null,null,null,null,null,null,{"$f":"IF(W2225=\"\",\"\",LOOKUP(W2225,Hilfstabelle!$A$1:$A$286,Hilfstabelle!$B$1:$B$286))","v":""}]
[null,null,null,null,null,null,null,null,null,null,null,null,null,null,null,null,null,null,null,null,{"$f":"IF(W2227=\"\",\"\",LOOKUP(W2227,Hilfstabelle!$A$1:$A$286,Hilfstabelle!$B$1:$B$286))","v":""}]
[null,null,null,null,null,null,null,null,null,null,null,null,null,null,null,null,null,null,null,null,{"$f":"IF(W2228=\"\",\"\",LOOKUP(W2228,Hilfstabelle!$A$1:$A$286,Hilfstabelle!$B$1:$B$286))","v":""}]
[null,null,null,null,null,null,null,null,null,null,null,null,null,null,null,null,null,null,null,null,{"$f":"IF(W2231=\"\",\"\",LOOKUP(W2231,Hilfstabelle!$A$1:$A$286,Hilfstabelle!$B$1:$B$286))","v":""}]
[null,null,null,null,null,null,null,null,null,null,null,null,null,null,null,null,null,null,null,null,{"$f":"IF(W2233=\"\",\"\",LOOKUP(W2233,Hilfstabelle!$A$1:$A$286,Hilfstabelle!$B$1:$B$286))","v":""}]
[null,null,null,null,null,null,null,null,null,null,null,null,null,null,null,null,null,null,null,null,{"$f":"IF(W2236=\"\",\"\",LOOKUP(W2236,Hilfstabelle!$A$1:$A$286,Hilfstabelle!$B$1:$B$286))","v":""}]
[null,null,null,null,null,null,null,null,null,null,null,null,null,null,null,null,null,null,null,null,{"$f":"IF(W2237=\"\",\"\",LOOKUP(W2237,Hilfstabelle!$A$1:$A$286,Hilfstabelle!$B$1:$B$286))","v":""}]
[null,null,null,null,null,null,null,null,null,null,null,null,null,null,null,null,null,null,null,null,{"$f":"IF(W2240=\"\",\"\",LOOKUP(W2240,Hilfstabelle!$A$1:$A$286,Hilfstabelle!$B$1:$B$286))","v":""}]
[null,null,null,null,null,null,null,null,null,null,null,null,null,null,null,null,null,null,null,null,{"$f":"IF(W2243=\"\",\"\",LOOKUP(W2243,Hilfstabelle!$A$1:$A$286,Hilfstabelle!$B$1:$B$286))","v":""}]
[null,null,null,null,null,null,null,null,null,null,null,null,null,null,null,null,null,null,null,null,{"$f":"IF(W2245=\"\",\"\",LOOKUP(W2245,Hilfstabelle!$A$1:$A$286,Hilfstabelle!$B$1:$B$286))","v":""}]
[null,null,null,null,null,null,null,null,null,null,null,null,null,null,null,null,null,null,null,null,{"$f":"IF(W2246=\"\",\"\",LOOKUP(W2246,Hilfstabelle!$A$1:$A$286,Hilfstabelle!$B$1:$B$286))","v":""}]
[null,null,null,null,null,null,null,null,null,null,null,null,null,null,null,null,null,null,null,null,{"$f":"IF(W2249=\"\",\"\",LOOKUP(W2249,Hilfstabelle!$A$1:$A$286,Hilfstabelle!$B$1:$B$286))","v":""}]
[null,null,null,null,null,null,null,null,null,null,null,null,null,null,null,null,null,null,null,null,{"$f":"IF(W2251=\"\",\"\",LOOKUP(W2251,Hilfstabelle!$A$1:$A$286,Hilfstabelle!$B$1:$B$286))","v":""}]
[null,null,null,null,null,null,null,null,null,null,null,null,null,null,null,null,null,null,null,null,{"$f":"IF(W2254=\"\",\"\",LOOKUP(W2254,Hilfstabelle!$A$1:$A$286,Hilfstabelle!$B$1:$B$286))","v":""}]
[null,null,null,null,null,null,null,null,null,null,null,null,null,null,null,null,null,null,null,null,{"$f":"IF(W2255=\"\",\"\",LOOKUP(W2255,Hilfstabelle!$A$1:$A$286,Hilfstabelle!$B$1:$B$286))","v":""}]
[null,null,null,null,null,null,null,null,null,null,null,null,null,null,null,null,null,null,null,null,{"$f":"IF(W2258=\"\",\"\",LOOKUP(W2258,Hilfstabelle!$A$1:$A$286,Hilfstabelle!$B$1:$B$286))","v":""}]
[null,null,null,null,null,null,null,null,null,null,null,null,null,null,null,null,null,null,null,null,{"$f":"IF(W2261=\"\",\"\",LOOKUP(W2261,Hilfstabelle!$A$1:$A$286,Hilfstabelle!$B$1:$B$286))","v":""}]
[null,null,null,null,null,null,null,null,null,null,null,null,null,null,null,null,null,null,null,null,{"$f":"IF(W2263=\"\",\"\",LOOKUP(W2263,Hilfstabelle!$A$1:$A$286,Hilfstabelle!$B$1:$B$286))","v":""}]
[null,null,null,null,null,null,null,null,null,null,null,null,null,null,null,null,null,null,null,null,{"$f":"IF(W2264=\"\",\"\",LOOKUP(W2264,Hilfstabelle!$A$1:$A$286,Hilfstabelle!$B$1:$B$286))","v":""}]
[null,null,null,null,null,null,null,null,null,null,null,null,null,null,null,null,null,null,null,null,{"$f":"IF(W2267=\"\",\"\",LOOKUP(W2267,Hilfstabelle!$A$1:$A$286,Hilfstabelle!$B$1:$B$286))","v":""}]
[null,null,null,null,null,null,null,null,null,null,null,null,null,null,null,null,null,null,null,null,{"$f":"IF(W2269=\"\",\"\",LOOKUP(W2269,Hilfstabelle!$A$1:$A$286,Hilfstabelle!$B$1:$B$286))","v":""}]
[null,null,null,null,null,null,null,null,null,null,null,null,null,null,null,null,null,null,null,null,{"$f":"IF(W2272=\"\",\"\",LOOKUP(W2272,Hilfstabelle!$A$1:$A$286,Hilfstabelle!$B$1:$B$286))","v":""}]
[null,null,null,null,null,null,null,null,null,null,null,null,null,null,null,null,null,null,null,null,{"$f":"IF(W2273=\"\",\"\",LOOKUP(W2273,Hilfstabelle!$A$1:$A$286,Hilfstabelle!$B$1:$B$286))","v":""}]
[null,null,null,null,null,null,null,null,null,null,null,null,null,null,null,null,null,null,null,null,{"$f":"IF(W2276=\"\",\"\",LOOKUP(W2276,Hilfstabelle!$A$1:$A$286,Hilfstabelle!$B$1:$B$286))","v":""}]
[null,null,null,null,null,null,null,null,null,null,null,null,null,null,null,null,null,null,null,null,{"$f":"IF(W2279=\"\",\"\",LOOKUP(W2279,Hilfstabelle!$A$1:$A$286,Hilfstabelle!$B$1:$B$286))","v":""}]
[null,null,null,null,null,null,null,null,null,null,null,null,null,null,null,null,null,null,null,null,{"$f":"IF(W2281=\"\",\"\",LOOKUP(W2281,Hilfstabelle!$A$1:$A$286,Hilfstabelle!$B$1:$B$286))","v":""}]
[null,null,null,null,null,null,null,null,null,null,null,null,null,null,null,null,null,null,null,null,{"$f":"IF(W2282=\"\",\"\",LOOKUP(W2282,Hilfstabelle!$A$1:$A$286,Hilfstabelle!$B$1:$B$286))","v":""}]
[null,null,null,null,null,null,null,null,null,null,null,null,null,null,null,null,null,null,null,null,{"$f":"IF(W2285=\"\",\"\",LOOKUP(W2285,Hilfstabelle!$A$1:$A$286,Hilfstabelle!$B$1:$B$286))","v":""}]
[null,null,null,null,null,null,null,null,null,null,null,null,null,null,null,null,null,null,null,null,{"$f":"IF(W2287=\"\",\"\",LOOKUP(W2287,Hilfstabelle!$A$1:$A$286,Hilfstabelle!$B$1:$B$286))","v":""}]
[null,null,null,null,null,null,null,null,null,null,null,null,null,null,null,null,null,null,null,null,{"$f":"IF(W2290=\"\",\"\",LOOKUP(W2290,Hilfstabelle!$A$1:$A$286,Hilfstabelle!$B$1:$B$286))","v":""}]
[null,null,null,null,null,null,null,null,null,null,null,null,null,null,null,null,null,null,null,null,{"$f":"IF(W2291=\"\",\"\",LOOKUP(W2291,Hilfstabelle!$A$1:$A$286,Hilfstabelle!$B$1:$B$286))","v":""}]
[null,null,null,null,null,null,null,null,null,null,null,null,null,null,null,null,null,null,null,null,{"$f":"IF(W2294=\"\",\"\",LOOKUP(W2294,Hilfstabelle!$A$1:$A$286,Hilfstabelle!$B$1:$B$286))","v":""}]
[null,null,null,null,null,null,null,null,null,null,null,null,null,null,null,null,null,null,null,null,{"$f":"IF(W2295=\"\",\"\",LOOKUP(W2295,Hilfstabelle!$A$1:$A$286,Hilfstabelle!$B$1:$B$286))","v":""}]
[null,null,null,null,null,null,null,null,null,null,null,null,null,null,null,null,null,null,null,null,{"$f":"IF(W2299=\"\",\"\",LOOKUP(W2299,Hilfstabelle!$A$1:$A$286,Hilfstabelle!$B$1:$B$286))","v":""}]
[null,null,null,null,null,null,null,null,null,null,null,null,null,null,null,null,null,null,null,null,{"$f":"IF(W2300=\"\",\"\",LOOKUP(W2300,Hilfstabelle!$A$1:$A$286,Hilfstabelle!$B$1:$B$286))","v":""}]
[null,null,null,null,null,null,null,null,null,null,null,null,null,null,null,null,null,null,null,null,{"$f":"IF(W2303=\"\",\"\",LOOKUP(W2303,Hilfstabelle!$A$1:$A$286,Hilfstabelle!$B$1:$B$286))","v":""}]
[null,null,null,null,null,null,null,null,null,null,null,null,null,null,null,null,null,null,null,null,{"$f":"IF(W2305=\"\",\"\",LOOKUP(W2305,Hilfstabelle!$A$1:$A$286,Hilfstabelle!$B$1:$B$286))","v":""}]
[null,null,null,null,null,null,null,null,null,null,null,null,null,null,null,null,null,null,null,null,{"$f":"IF(W2308=\"\",\"\",LOOKUP(W2308,Hilfstabelle!$A$1:$A$286,Hilfstabelle!$B$1:$B$286))","v":""}]
[null,null,null,null,null,null,null,null,null,null,null,null,null,null,null,null,null,null,null,null,{"$f":"IF(W2309=\"\",\"\",LOOKUP(W2309,Hilfstabelle!$A$1:$A$286,Hilfstabelle!$B$1:$B$286))","v":""}]
[null,null,null,null,null,null,null,null,null,null,null,null,null,null,null,null,null,null,null,null,{"$f":"IF(W2312=\"\",\"\",LOOKUP(W2312,Hilfstabelle!$A$1:$A$286,Hilfstabelle!$B$1:$B$286))","v":""}]
[null,null,null,null,null,null,null,null,null,null,null,null,null,null,null,null,null,null,null,null,{"$f":"IF(W2313=\"\",\"\",LOOKUP(W2313,Hilfstabelle!$A$1:$A$286,Hilfstabelle!$B$1:$B$286))","v":""}]
[null,null,null,null,null,null,null,null,null,null,null,null,null,null,null,null,null,null,null,null,{"$f":"IF(W2317=\"\",\"\",LOOKUP(W2317,Hilfstabelle!$A$1:$A$286,Hilfstabelle!$B$1:$B$286))","v":""}]
[null,null,null,null,null,null,null,null,null,null,null,null,null,null,null,null,null,null,null,null,{"$f":"IF(W2318=\"\",\"\",LOOKUP(W2318,Hilfstabelle!$A$1:$A$286,Hilfstabelle!$B$1:$B$286))","v":""}]
[null,null,null,null,null,null,null,null,null,null,null,null,null,null,null,null,null,null,null,null,{"$f":"IF(W2321=\"\",\"\",LOOKUP(W2321,Hilfstabelle!$A$1:$A$286,Hilfstabelle!$B$1:$B$286))","v":""}]
[null,null,null,null,null,null,null,null,null,null,null,null,null,null,null,null,null,null,null,null,{"$f":"IF(W2323=\"\",\"\",LOOKUP(W2323,Hilfstabelle!$A$1:$A$286,Hilfstabelle!$B$1:$B$286))","v":""}]
[null,null,null,null,null,null,null,null,null,null,null,null,null,null,null,null,null,null,null,null,{"$f":"IF(W2326=\"\",\"\",LOOKUP(W2326,Hilfstabelle!$A$1:$A$286,Hilfstabelle!$B$1:$B$286))","v":""}]
[null,null,null,null,null,null,null,null,null,null,null,null,null,null,null,null,null,null,null,null,{"$f":"IF(W2327=\"\",\"\",LOOKUP(W2327,Hilfstabelle!$A$1:$A$286,Hilfstabelle!$B$1:$B$286))","v":""}]
[null,null,null,null,null,null,null,null,null,null,null,null,null,null,null,null,null,null,null,null,{"$f":"IF(W2330=\"\",\"\",LOOKUP(W2330,Hilfstabelle!$A$1:$A$286,Hilfstabelle!$B$1:$B$286))","v":""}]
[null,null,null,null,null,null,null,null,null,null,null,null,null,null,null,null,null,null,null,null,{"$f":"IF(W2331=\"\",\"\",LOOKUP(W2331,Hilfstabelle!$A$1:$A$286,Hilfstabelle!$B$1:$B$286))","v":""}]
[null,null,null,null,null,null,null,null,null,null,null,null,null,null,null,null,null,null,null,null,{"$f":"IF(W2335=\"\",\"\",LOOKUP(W2335,Hilfstabelle!$A$1:$A$286,Hilfstabelle!$B$1:$B$286))","v":""}]
[null,null,null,null,null,null,null,null,null,null,null,null,null,null,null,null,null,null,null,null,{"$f":"IF(W2336=\"\",\"\",LOOKUP(W2336,Hilfstabelle!$A$1:$A$286,Hilfstabelle!$B$1:$B$286))","v":""}]
[null,null,null,null,null,null,null,null,null,null,null,null,null,null,null,null,null,null,null,null,{"$f":"IF(W2339=\"\",\"\",LOOKUP(W2339,Hilfstabelle!$A$1:$A$286,Hilfstabelle!$B$1:$B$286))","v":""}]
[null,null,null,null,null,null,null,null,null,null,null,null,null,null,null,null,null,null,null,null,{"$f":"IF(W2341=\"\",\"\",LOOKUP(W2341,Hilfstabelle!$A$1:$A$286,Hilfstabelle!$B$1:$B$286))","v":""}]
[null,null,null,null,null,null,null,null,null,null,null,null,null,null,null,null,null,null,null,null,{"$f":"IF(W2344=\"\",\"\",LOOKUP(W2344,Hilfstabelle!$A$1:$A$286,Hilfstabelle!$B$1:$B$286))","v":""}]
[null,null,null,null,null,null,null,null,null,null,null,null,null,null,null,null,null,null,null,null,{"$f":"IF(W2345=\"\",\"\",LOOKUP(W2345,Hilfstabelle!$A$1:$A$286,Hilfstabelle!$B$1:$B$286))","v":""}]
[null,null,null,null,null,null,null,null,null,null,null,null,null,null,null,null,null,null,null,null,{"$f":"IF(W2348=\"\",\"\",LOOKUP(W2348,Hilfstabelle!$A$1:$A$286,Hilfstabelle!$B$1:$B$286))","v":""}]
[null,null,null,null,null,null,null,null,null,null,null,null,null,null,null,null,null,null,null,null,{"$f":"IF(W2349=\"\",\"\",LOOKUP(W2349,Hilfstabelle!$A$1:$A$286,Hilfstabelle!$B$1:$B$286))","v":""}]
[null,null,null,null,null,null,null,null,null,null,null,null,null,null,null,null,null,null,null,null,{"$f":"IF(W2353=\"\",\"\",LOOKUP(W2353,Hilfstabelle!$A$1:$A$286,Hilfstabelle!$B$1:$B$286))","v":""}]
[null,null,null,null,null,null,null,null,null,null,null,null,null,null,null,null,null,null,null,null,{"$f":"IF(W2354=\"\",\"\",LOOKUP(W2354,Hilfstabelle!$A$1:$A$286,Hilfstabelle!$B$1:$B$286))","v":""}]
[null,null,null,null,null,null,null,null,null,null,null,null,null,null,null,null,null,null,null,null,{"$f":"IF(W2357=\"\",\"\",LOOKUP(W2357,Hilfstabelle!$A$1:$A$286,Hilfstabelle!$B$1:$B$286))","v":""}]
[null,null,null,null,null,null,null,null,null,null,null,null,null,null,null,null,null,null,null,null,{"$f":"IF(W2359=\"\",\"\",LOOKUP(W2359,Hilfstabelle!$A$1:$A$286,Hilfstabelle!$B$1:$B$286))","v":""}]
[null,null,null,null,null,null,null,null,null,null,null,null,null,null,null,null,null,null,null,null,{"$f":"IF(W2362=\"\",\"\",LOOKUP(W2362,Hilfstabelle!$A$1:$A$286,Hilfstabelle!$B$1:$B$286))","v":""}]
[null,null,null,null,null,null,null,null,null,null,null,null,null,null,null,null,null,null,null,null,{"$f":"IF(W2363=\"\",\"\",LOOKUP(W2363,Hilfstabelle!$A$1:$A$286,Hilfstabelle!$B$1:$B$286))","v":""}]
[null,null,null,null,null,null,null,null,null,null,null,null,null,null,null,null,null,null,null,null,{"$f":"IF(W2366=\"\",\"\",LOOKUP(W2366,Hilfstabelle!$A$1:$A$286,Hilfstabelle!$B$1:$B$286))","v":""}]
[null,null,null,null,null,null,null,null,null,null,null,null,null,null,null,null,null,null,null,null,{"$f":"IF(W2367=\"\",\"\",LOOKUP(W2367,Hilfstabelle!$A$1:$A$286,Hilfstabelle!$B$1:$B$286))","v":""}]
[null,null,null,null,null,null,null,null,null,null,null,null,null,null,null,null,null,null,null,null,{"$f":"IF(W2371=\"\",\"\",LOOKUP(W2371,Hilfstabelle!$A$1:$A$286,Hilfstabelle!$B$1:$B$286))","v":""}]
[null,null,null,null,null,null,null,null,null,null,null,null,null,null,null,null,null,null,null,null,{"$f":"IF(W2372=\"\",\"\",LOOKUP(W2372,Hilfstabelle!$A$1:$A$286,Hilfstabelle!$B$1:$B$286))","v":""}]
[null,null,null,null,null,null,null,null,null,null,null,null,null,null,null,null,null,null,null,null,{"$f":"IF(W2375=\"\",\"\",LOOKUP(W2375,Hilfstabelle!$A$1:$A$286,Hilfstabelle!$B$1:$B$286))","v":""}]
[null,null,null,null,null,null,null,null,null,null,null,null,null,null,null,null,null,null,null,null,{"$f":"IF(W2377=\"\",\"\",LOOKUP(W2377,Hilfstabelle!$A$1:$A$286,Hilfstabelle!$B$1:$B$286))","v":""}]
[null,null,null,null,null,null,null,null,null,null,null,null,null,null,null,null,null,null,null,null,{"$f":"IF(W2380=\"\",\"\",LOOKUP(W2380,Hilfstabelle!$A$1:$A$286,Hilfstabelle!$B$1:$B$286))","v":""}]
[null,null,null,null,null,null,null,null,null,null,null,null,null,null,null,null,null,null,null,null,{"$f":"IF(W2381=\"\",\"\",LOOKUP(W2381,Hilfstabelle!$A$1:$A$286,Hilfstabelle!$B$1:$B$286))","v":""}]
[null,null,null,null,null,null,null,null,null,null,null,null,null,null,null,null,null,null,null,null,{"$f":"IF(W2384=\"\",\"\",LOOKUP(W2384,Hilfstabelle!$A$1:$A$286,Hilfstabelle!$B$1:$B$286))","v":""}]
[null,null,null,null,null,null,null,null,null,null,null,null,null,null,null,null,null,null,null,null,{"$f":"IF(W2385=\"\",\"\",LOOKUP(W2385,Hilfstabelle!$A$1:$A$286,Hilfstabelle!$B$1:$B$286))","v":""}]
[null,null,null,null,null,null,null,null,null,null,null,null,null,null,null,null,null,null,null,null,{"$f":"IF(W2389=\"\",\"\",LOOKUP(W2389,Hilfstabelle!$A$1:$A$286,Hilfstabelle!$B$1:$B$286))","v":""}]
[null,null,null,null,null,null,null,null,null,null,null,null,null,null,null,null,null,null,null,null,{"$f":"IF(W2390=\"\",\"\",LOOKUP(W2390,Hilfstabelle!$A$1:$A$286,Hilfstabelle!$B$1:$B$286))","v":""}]
[null,null,null,null,null,null,null,null,null,null,null,null,null,null,null,null,null,null,null,null,{"$f":"IF(W2393=\"\",\"\",LOOKUP(W2393,Hilfstabelle!$A$1:$A$286,Hilfstabelle!$B$1:$B$286))","v":""}]
[null,null,null,null,null,null,null,null,null,null,null,null,null,null,null,null,null,null,null,null,{"$f":"IF(W2395=\"\",\"\",LOOKUP(W2395,Hilfstabelle!$A$1:$A$286,Hilfstabelle!$B$1:$B$286))","v":""}]
[null,null,null,null,null,null,null,null,null,null,null,null,null,null,null,null,null,null,null,null,{"$f":"IF(W2398=\"\",\"\",LOOKUP(W2398,Hilfstabelle!$A$1:$A$286,Hilfstabelle!$B$1:$B$286))","v":""}]
[null,null,null,null,null,null,null,null,null,null,null,null,null,null,null,null,null,null,null,null,{"$f":"IF(W2399=\"\",\"\",LOOKUP(W2399,Hilfstabelle!$A$1:$A$286,Hilfstabelle!$B$1:$B$286))","v":""}]
[null,null,null,null,null,null,null,null,null,null,null,null,null,null,null,null,null,null,null,null,{"$f":"IF(W2402=\"\",\"\",LOOKUP(W2402,Hilfstabelle!$A$1:$A$286,Hilfstabelle!$B$1:$B$286))","v":""}]
[null,null,null,null,null,null,null,null,null,null,null,null,null,null,null,null,null,null,null,null,{"$f":"IF(W2403=\"\",\"\",LOOKUP(W2403,Hilfstabelle!$A$1:$A$286,Hilfstabelle!$B$1:$B$286))","v":""}]
[null,null,null,null,null,null,null,null,null,null,null,null,null,null,null,null,null,null,null,null,{"$f":"IF(W2407=\"\",\"\",LOOKUP(W2407,Hilfstabelle!$A$1:$A$286,Hilfstabelle!$B$1:$B$286))","v":""}]
[null,null,null,null,null,null,null,null,null,null,null,null,null,null,null,null,null,null,null,null,{"$f":"IF(W2408=\"\",\"\",LOOKUP(W2408,Hilfstabelle!$A$1:$A$286,Hilfstabelle!$B$1:$B$286))","v":""}]
[null,null,null,null,null,null,null,null,null,null,null,null,null,null,null,null,null,null,null,null,{"$f":"IF(W2411=\"\",\"\",LOOKUP(W2411,Hilfstabelle!$A$1:$A$286,Hilfstabelle!$B$1:$B$286))","v":""}]
[null,null,null,null,null,null,null,null,null,null,null,null,null,null,null,null,null,null,null,null,{"$f":"IF(W2413=\"\",\"\",LOOKUP(W2413,Hilfstabelle!$A$1:$A$286,Hilfstabelle!$B$1:$B$286))","v":""}]
[null,null,null,null,null,null,null,null,null,null,null,null,null,null,null,null,null,null,null,null,{"$f":"IF(W2416=\"\",\"\",LOOKUP(W2416,Hilfstabelle!$A$1:$A$286,Hilfstabelle!$B$1:$B$286))","v":""}]
[null,null,null,null,null,null,null,null,null,null,null,null,null,null,null,null,null,null,null,null,{"$f":"IF(W2417=\"\",\"\",LOOKUP(W2417,Hilfstabelle!$A$1:$A$286,Hilfstabelle!$B$1:$B$286))","v":""}]
[null,null,null,null,null,null,null,null,null,null,null,null,null,null,null,null,null,null,null,null,{"$f":"IF(W2420=\"\",\"\",LOOKUP(W2420,Hilfstabelle!$A$1:$A$286,Hilfstabelle!$B$1:$B$286))","v":""}]
[null,null,null,null,null,null,null,null,null,null,null,null,null,null,null,null,null,null,null,null,{"$f":"IF(W2421=\"\",\"\",LOOKUP(W2421,Hilfstabelle!$A$1:$A$286,Hilfstabelle!$B$1:$B$286))","v":""}]
[null,null,null,null,null,null,null,null,null,null,null,null,null,null,null,null,null,null,null,null,{"$f":"IF(W2425=\"\",\"\",LOOKUP(W2425,Hilfstabelle!$A$1:$A$286,Hilfstabelle!$B$1:$B$286))","v":""}]
[null,null,null,null,null,null,null,null,null,null,null,null,null,null,null,null,null,null,null,null,{"$f":"IF(W2426=\"\",\"\",LOOKUP(W2426,Hilfstabelle!$A$1:$A$286,Hilfstabelle!$B$1:$B$286))","v":""}]
[null,null,null,null,null,null,null,null,null,null,null,null,null,null,null,null,null,null,null,null,{"$f":"IF(W2429=\"\",\"\",LOOKUP(W2429,Hilfstabelle!$A$1:$A$286,Hilfstabelle!$B$1:$B$286))","v":""}]
[null,null,null,null,null,null,null,null,null,null,null,null,null,null,null,null,null,null,null,null,{"$f":"IF(W2431=\"\",\"\",LOOKUP(W2431,Hilfstabelle!$A$1:$A$286,Hilfstabelle!$B$1:$B$286))","v":""}]
[null,null,null,null,null,null,null,null,null,null,null,null,null,null,null,null,null,null,null,null,{"$f":"IF(W2434=\"\",\"\",LOOKUP(W2434,Hilfstabelle!$A$1:$A$286,Hilfstabelle!$B$1:$B$286))","v":""}]
[null,null,null,null,null,null,null,null,null,null,null,null,null,null,null,null,null,null,null,null,{"$f":"IF(W2435=\"\",\"\",LOOKUP(W2435,Hilfstabelle!$A$1:$A$286,Hilfstabelle!$B$1:$B$286))","v":""}]
[null,null,null,null,null,null,null,null,null,null,null,null,null,null,null,null,null,null,null,null,{"$f":"IF(W2438=\"\",\"\",LOOKUP(W2438,Hilfstabelle!$A$1:$A$286,Hilfstabelle!$B$1:$B$286))","v":""}]
[null,null,null,null,null,null,null,null,null,null,null,null,null,null,null,null,null,null,null,null,{"$f":"IF(W2439=\"\",\"\",LOOKUP(W2439,Hilfstabelle!$A$1:$A$286,Hilfstabelle!$B$1:$B$286))","v":""}]
[null,null,null,null,null,null,null,null,null,null,null,null,null,null,null,null,null,null,null,null,{"$f":"IF(W2443=\"\",\"\",LOOKUP(W2443,Hilfstabelle!$A$1:$A$286,Hilfstabelle!$B$1:$B$286))","v":""}]
[null,null,null,null,null,null,null,null,null,null,null,null,null,null,null,null,null,null,null,null,{"$f":"IF(W2444=\"\",\"\",LOOKUP(W2444,Hilfstabelle!$A$1:$A$286,Hilfstabelle!$B$1:$B$286))","v":""}]
[null,null,null,null,null,null,null,null,null,null,null,null,null,null,null,null,null,null,null,null,{"$f":"IF(W2447=\"\",\"\",LOOKUP(W2447,Hilfstabelle!$A$1:$A$286,Hilfstabelle!$B$1:$B$286))","v":""}]
[null,null,null,null,null,null,null,null,null,null,null,null,null,null,null,null,null,null,null,null,{"$f":"IF(W2450=\"\",\"\",LOOKUP(W2450,Hilfstabelle!$A$1:$A$286,Hilfstabelle!$B$1:$B$286))","v":""}]
[null,null,null,null,null,null,null,null,null,null,null,null,null,null,null,null,null,null,null,null,{"$f":"IF(W2452=\"\",\"\",LOOKUP(W2452,Hilfstabelle!$A$1:$A$286,Hilfstabelle!$B$1:$B$286))","v":""}]
[null,null,null,null,null,null,null,null,null,null,null,null,null,null,null,null,null,null,null,null,{"$f":"IF(W2453=\"\",\"\",LOOKUP(W2453,Hilfstabelle!$A$1:$A$286,Hilfstabelle!$B$1:$B$286))","v":""}]
[null,null,null,null,null,null,null,null,null,null,null,null,null,null,null,null,null,null,null,null,{"$f":"IF(W2456=\"\",\"\",LOOKUP(W2456,Hilfstabelle!$A$1:$A$286,Hilfstabelle!$B$1:$B$286))","v":""}]
[null,null,null,null,null,null,null,null,null,null,null,null,null,null,null,null,null,null,null,null,{"$f":"IF(W2457=\"\",\"\",LOOKUP(W2457,Hilfstabelle!$A$1:$A$286,Hilfstabelle!$B$1:$B$286))","v":""}]
[null,null,null,null,null,null,null,null,null,null,null,null,null,null,null,null,null,null,null,null,{"$f":"IF(W2461=\"\",\"\",LOOKUP(W2461,Hilfstabelle!$A$1:$A$286,Hilfstabelle!$B$1:$B$286))","v":""}]
[null,null,null,null,null,null,null,null,null,null,null,null,null,null,null,null,null,null,null,null,{"$f":"IF(W2462=\"\",\"\",LOOKUP(W2462,Hilfstabelle!$A$1:$A$286,Hilfstabelle!$B$1:$B$286))","v":""}]
[null,null,null,null,null,null,null,null,null,null,null,null,null,null,null,null,null,null,null,null,{"$f":"IF(W2465=\"\",\"\",LOOKUP(W2465,Hilfstabelle!$A$1:$A$286,Hilfstabelle!$B$1:$B$286))","v":""}]
[null,null,null,null,null,null,null,null,null,null,null,null,null,null,null,null,null,null,null,null,{"$f":"IF(W2468=\"\",\"\",LOOKUP(W2468,Hilfstabelle!$A$1:$A$286,Hilfstabelle!$B$1:$B$286))","v":""}]
[null,null,null,null,null,null,null,null,null,null,null,null,null,null,null,null,null,null,null,null,{"$f":"IF(W2470=\"\",\"\",LOOKUP(W2470,Hilfstabelle!$A$1:$A$286,Hilfstabelle!$B$1:$B$286))","v":""}]
[null,null,null,null,null,null,null,null,null,null,null,null,null,null,null,null,null,null,null,null,{"$f":"IF(W2471=\"\",\"\",LOOKUP(W2471,Hilfstabelle!$A$1:$A$286,Hilfstabelle!$B$1:$B$286))","v":""}]
[null,null,null,null,null,null,null,null,null,null,null,null,null,null,null,null,null,null,null,null,{"$f":"IF(W2474=\"\",\"\",LOOKUP(W2474,Hilfstabelle!$A$1:$A$286,Hilfstabelle!$B$1:$B$286))","v":""}]
[null,null,null,null,null,null,null,null,null,null,null,null,null,null,null,null,null,null,null,null,{"$f":"IF(W2475=\"\",\"\",LOOKUP(W2475,Hilfstabelle!$A$1:$A$286,Hilfstabelle!$B$1:$B$286))","v":""}]
[null,null,null,null,null,null,null,null,null,null,null,null,null,null,null,null,null,null,null,null,{"$f":"IF(W2479=\"\",\"\",LOOKUP(W2479,Hilfstabelle!$A$1:$A$286,Hilfstabelle!$B$1:$B$286))","v":""}]
[null,null,null,null,null,null,null,null,null,null,null,null,null,null,null,null,null,null,null,null,{"$f":"IF(W2480=\"\",\"\",LOOKUP(W2480,Hilfstabelle!$A$1:$A$286,Hilfstabelle!$B$1:$B$286))","v":""}]
[null,null,null,null,null,null,null,null,null,null,null,null,null,null,null,null,null,null,null,null,{"$f":"IF(W2483=\"\",\"\",LOOKUP(W2483,Hilfstabelle!$A$1:$A$286,Hilfstabelle!$B$1:$B$286))","v":""}]
[null,null,null,null,null,null,null,null,null,null,null,null,null,null,null,null,null,null,null,null,{"$f":"IF(W2486=\"\",\"\",LOOKUP(W2486,Hilfstabelle!$A$1:$A$286,Hilfstabelle!$B$1:$B$286))","v":""}]
[null,null,null,null,null,null,null,null,null,null,null,null,null,null,null,null,null,null,null,null,{"$f":"IF(W2488=\"\",\"\",LOOKUP(W2488,Hilfstabelle!$A$1:$A$286,Hilfstabelle!$B$1:$B$286))","v":""}]
[null,null,null,null,null,null,null,null,null,null,null,null,null,null,null,null,null,null,null,null,{"$f":"IF(W2489=\"\",\"\",LOOKUP(W2489,Hilfstabelle!$A$1:$A$286,Hilfstabelle!$B$1:$B$286))","v":""}]
[null,null,null,null,null,null,null,null,null,null,null,null,null,null,null,null,null,null,null,null,{"$f":"IF(W2492=\"\",\"\",LOOKUP(W2492,Hilfstabelle!$A$1:$A$286,Hilfstabelle!$B$1:$B$286))","v":""}]
[null,null,null,null,null,null,null,null,null,null,null,null,null,null,null,null,null,null,null,null,{"$f":"IF(W2493=\"\",\"\",LOOKUP(W2493,Hilfstabelle!$A$1:$A$286,Hilfstabelle!$B$1:$B$286))","v":""}]
[null,null,null,null,null,null,null,null,null,null,null,null,null,null,null,null,null,null,null,null,{"$f":"IF(W2497=\"\",\"\",LOOKUP(W2497,Hilfstabelle!$A$1:$A$286,Hilfstabelle!$B$1:$B$286))","v":""}]
[null,null,null,null,null,null,null,null,null,null,null,null,null,null,null,null,null,null,null,null,{"$f":"IF(W2498=\"\",\"\",LOOKUP(W2498,Hilfstabelle!$A$1:$A$286,Hilfstabelle!$B$1:$B$286))","v":""}]
[null,null,null,null,null,null,null,null,null,null,null,null,null,null,null,null,null,null,null,null,{"$f":"IF(W2501=\"\",\"\",LOOKUP(W2501,Hilfstabelle!$A$1:$A$286,Hilfstabelle!$B$1:$B$286))","v":""}]
[null,null,null,null,null,null,null,null,null,null,null,null,null,null,null,null,null,null,null,null,{"$f":"IF(W2504=\"\",\"\",LOOKUP(W2504,Hilfstabelle!$A$1:$A$286,Hilfstabelle!$B$1:$B$286))","v":""}]
[null,null,null,null,null,null,null,null,null,null,null,null,null,null,null,null,null,null,null,null,{"$f":"IF(W2506=\"\",\"\",LOOKUP(W2506,Hilfstabelle!$A$1:$A$286,Hilfstabelle!$B$1:$B$286))","v":""}]
[null,null,null,null,null,null,null,null,null,null,null,null,null,null,null,null,null,null,null,null,{"$f":"IF(W2507=\"\",\"\",LOOKUP(W2507,Hilfstabelle!$A$1:$A$286,Hilfstabelle!$B$1:$B$286))","v":""}]
[null,null,null,null,null,null,null,null,null,null,null,null,null,null,null,null,null,null,null,null,{"$f":"IF(W2510=\"\",\"\",LOOKUP(W2510,Hilfstabelle!$A$1:$A$286,Hilfstabelle!$B$1:$B$286))","v":""}]
[null,null,null,null,null,null,null,null,null,null,null,null,null,null,null,null,null,null,null,null,{"$f":"IF(W2511=\"\",\"\",LOOKUP(W2511,Hilfstabelle!$A$1:$A$286,Hilfstabelle!$B$1:$B$286))","v":""}]
[null,null,null,null,null,null,null,null,null,null,null,null,null,null,null,null,null,null,null,null,{"$f":"IF(W2515=\"\",\"\",LOOKUP(W2515,Hilfstabelle!$A$1:$A$286,Hilfstabelle!$B$1:$B$286))","v":""}]
[null,null,null,null,null,null,null,null,null,null,null,null,null,null,null,null,null,null,null,null,{"$f":"IF(W2516=\"\",\"\",LOOKUP(W2516,Hilfstabelle!$A$1:$A$286,Hilfstabelle!$B$1:$B$286))","v":""}]
[null,null,null,null,null,null,null,null,null,null,null,null,null,null,null,null,null,null,null,null,{"$f":"IF(W2519=\"\",\"\",LOOKUP(W2519,Hilfstabelle!$A$1:$A$286,Hilfstabelle!$B$1:$B$286))","v":""}]
[null,null,null,null,null,null,null,null,null,null,null,null,null,null,null,null,null,null,null,null,{"$f":"IF(W2522=\"\",\"\",LOOKUP(W2522,Hilfstabelle!$A$1:$A$286,Hilfstabelle!$B$1:$B$286))","v":""}]
[null,null,null,null,null,null,null,null,null,null,null,null,null,null,null,null,null,null,null,null,{"$f":"IF(W2524=\"\",\"\",LOOKUP(W2524,Hilfstabelle!$A$1:$A$286,Hilfstabelle!$B$1:$B$286))","v":""}]
[null,null,null,null,null,null,null,null,null,null,null,null,null,null,null,null,null,null,null,null,{"$f":"IF(W2525=\"\",\"\",LOOKUP(W2525,Hilfstabelle!$A$1:$A$286,Hilfstabelle!$B$1:$B$286))","v":""}]
[null,null,null,null,null,null,null,null,null,null,null,null,null,null,null,null,null,null,null,null,{"$f":"IF(W2528=\"\",\"\",LOOKUP(W2528,Hilfstabelle!$A$1:$A$286,Hilfstabelle!$B$1:$B$286))","v":""}]
[null,null,null,null,null,null,null,null,null,null,null,null,null,null,null,null,null,null,null,null,{"$f":"IF(W2529=\"\",\"\",LOOKUP(W2529,Hilfstabelle!$A$1:$A$286,Hilfstabelle!$B$1:$B$286))","v":""}]
[null,null,null,null,null,null,null,null,null,null,null,null,null,null,null,null,null,null,null,null,{"$f":"IF(W2533=\"\",\"\",LOOKUP(W2533,Hilfstabelle!$A$1:$A$286,Hilfstabelle!$B$1:$B$286))","v":""}]
[null,null,null,null,null,null,null,null,null,null,null,null,null,null,null,null,null,null,null,null,{"$f":"IF(W2534=\"\",\"\",LOOKUP(W2534,Hilfstabelle!$A$1:$A$286,Hilfstabelle!$B$1:$B$286))","v":""}]
[null,null,null,null,null,null,null,null,null,null,null,null,null,null,null,null,null,null,null,null,{"$f":"IF(W2537=\"\",\"\",LOOKUP(W2537,Hilfstabelle!$A$1:$A$286,Hilfstabelle!$B$1:$B$286))","v":""}]
[null,null,null,null,null,null,null,null,null,null,null,null,null,null,null,null,null,null,null,null,{"$f":"IF(W2540=\"\",\"\",LOOKUP(W2540,Hilfstabelle!$A$1:$A$286,Hilfstabelle!$B$1:$B$286))","v":""}]
[null,null,null,null,null,null,null,null,null,null,null,null,null,null,null,null,null,null,null,null,{"$f":"IF(W2542=\"\",\"\",LOOKUP(W2542,Hilfstabelle!$A$1:$A$286,Hilfstabelle!$B$1:$B$286))","v":""}]
[null,null,null,null,null,null,null,null,null,null,null,null,null,null,null,null,null,null,null,null,{"$f":"IF(W2543=\"\",\"\",LOOKUP(W2543,Hilfstabelle!$A$1:$A$286,Hilfstabelle!$B$1:$B$286))","v":""}]
[null,null,null,null,null,null,null,null,null,null,null,null,null,null,null,null,null,null,null,null,{"$f":"IF(W2546=\"\",\"\",LOOKUP(W2546,Hilfstabelle!$A$1:$A$286,Hilfstabelle!$B$1:$B$286))","v":""}]
[null,null,null,null,null,null,null,null,null,null,null,null,null,null,null,null,null,null,null,null,{"$f":"IF(W2547=\"\",\"\",LOOKUP(W2547,Hilfstabelle!$A$1:$A$286,Hilfstabelle!$B$1:$B$286))","v":""}]
[null,null,null,null,null,null,null,null,null,null,null,null,null,null,null,null,null,null,null,null,{"$f":"IF(W2551=\"\",\"\",LOOKUP(W2551,Hilfstabelle!$A$1:$A$286,Hilfstabelle!$B$1:$B$286))","v":""}]
[null,null,null,null,null,null,null,null,null,null,null,null,null,null,null,null,null,null,null,null,{"$f":"IF(W2552=\"\",\"\",LOOKUP(W2552,Hilfstabelle!$A$1:$A$286,Hilfstabelle!$B$1:$B$286))","v":""}]
[null,null,null,null,null,null,null,null,null,null,null,null,null,null,null,null,null,null,null,null,{"$f":"IF(W2555=\"\",\"\",LOOKUP(W2555,Hilfstabelle!$A$1:$A$286,Hilfstabelle!$B$1:$B$286))","v":""}]
[null,null,null,null,null,null,null,null,null,null,null,null,null,null,null,null,null,null,null,null,{"$f":"IF(W2558=\"\",\"\",LOOKUP(W2558,Hilfstabelle!$A$1:$A$286,Hilfstabelle!$B$1:$B$286))","v":""}]
[null,null,null,null,null,null,null,null,null,null,null,null,null,null,null,null,null,null,null,null,{"$f":"IF(W2560=\"\",\"\",LOOKUP(W2560,Hilfstabelle!$A$1:$A$286,Hilfstabelle!$B$1:$B$286))","v":""}]
[null,null,null,null,null,null,null,null,null,null,null,null,null,null,null,null,null,null,null,null,{"$f":"IF(W2561=\"\",\"\",LOOKUP(W2561,Hilfstabelle!$A$1:$A$286,Hilfstabelle!$B$1:$B$286))","v":""}]
[null,null,null,null,null,null,null,null,null,null,null,null,null,null,null,null,null,null,null,null,{"$f":"IF(W2564=\"\",\"\",LOOKUP(W2564,Hilfstabelle!$A$1:$A$286,Hilfstabelle!$B$1:$B$286))","v":""}]
[null,null,null,null,null,null,null,null,null,null,null,null,null,null,null,null,null,null,null,null,{"$f":"IF(W2565=\"\",\"\",LOOKUP(W2565,Hilfstabelle!$A$1:$A$286,Hilfstabelle!$B$1:$B$286))","v":""}]
[null,null,null,null,null,null,null,null,null,null,null,null,null,null,null,null,null,null,null,null,{"$f":"IF(W2569=\"\",\"\",LOOKUP(W2569,Hilfstabelle!$A$1:$A$286,Hilfstabelle!$B$1:$B$286))","v":""}]
[null,null,null,null,null,null,null,null,null,null,null,null,null,null,null,null,null,null,null,null,{"$f":"IF(W2570=\"\",\"\",LOOKUP(W2570,Hilfstabelle!$A$1:$A$286,Hilfstabelle!$B$1:$B$286))","v":""}]
[null,null,null,null,null,null,null,null,null,null,null,null,null,null,null,null,null,null,null,null,{"$f":"IF(W2573=\"\",\"\",LOOKUP(W2573,Hilfstabelle!$A$1:$A$286,Hilfstabelle!$B$1:$B$286))","v":""}]
[null,null,null,null,null,null,null,null,null,null,null,null,null,null,null,null,null,null,null,null,{"$f":"IF(W2576=\"\",\"\",LOOKUP(W2576,Hilfstabelle!$A$1:$A$286,Hilfstabelle!$B$1:$B$286))","v":""}]
[null,null,null,null,null,null,null,null,null,null,null,null,null,null,null,null,null,null,null,null,{"$f":"IF(W2578=\"\",\"\",LOOKUP(W2578,Hilfstabelle!$A$1:$A$286,Hilfstabelle!$B$1:$B$286))","v":""}]
[null,null,null,null,null,null,null,null,null,null,null,null,null,null,null,null,null,null,null,null,{"$f":"IF(W2579=\"\",\"\",LOOKUP(W2579,Hilfstabelle!$A$1:$A$286,Hilfstabelle!$B$1:$B$286))","v":""}]
[null,null,null,null,null,null,null,null,null,null,null,null,null,null,null,null,null,null,null,null,{"$f":"IF(W2582=\"\",\"\",LOOKUP(W2582,Hilfstabelle!$A$1:$A$286,Hilfstabelle!$B$1:$B$286))","v":""}]
[null,null,null,null,null,null,null,null,null,null,null,null,null,null,null,null,null,null,null,null,{"$f":"IF(W2583=\"\",\"\",LOOKUP(W2583,Hilfstabelle!$A$1:$A$286,Hilfstabelle!$B$1:$B$286))","v":""}]
[null,null,null,null,null,null,null,null,null,null,null,null,null,null,null,null,null,null,null,null,{"$f":"IF(W2587=\"\",\"\",LOOKUP(W2587,Hilfstabelle!$A$1:$A$286,Hilfstabelle!$B$1:$B$286))","v":""}]
[null,null,null,null,null,null,null,null,null,null,null,null,null,null,null,null,null,null,null,null,{"$f":"IF(W2588=\"\",\"\",LOOKUP(W2588,Hilfstabelle!$A$1:$A$286,Hilfstabelle!$B$1:$B$286))","v":""}]
[null,null,null,null,null,null,null,null,null,null,null,null,null,null,null,null,null,null,null,null,{"$f":"IF(W2591=\"\",\"\",LOOKUP(W2591,Hilfstabelle!$A$1:$A$286,Hilfstabelle!$B$1:$B$286))","v":""}]
[null,null,null,null,null,null,null,null,null,null,null,null,null,null,null,null,null,null,null,null,{"$f":"IF(W2594=\"\",\"\",LOOKUP(W2594,Hilfstabelle!$A$1:$A$286,Hilfstabelle!$B$1:$B$286))","v":""}]
[null,null,null,null,null,null,null,null,null,null,null,null,null,null,null,null,null,null,null,null,{"$f":"IF(W2596=\"\",\"\",LOOKUP(W2596,Hilfstabelle!$A$1:$A$286,Hilfstabelle!$B$1:$B$286))","v":""}]
[null,null,null,null,null,null,null,null,null,null,null,null,null,null,null,null,null,null,null,null,{"$f":"IF(W2597=\"\",\"\",LOOKUP(W2597,Hilfstabelle!$A$1:$A$286,Hilfstabelle!$B$1:$B$286))","v":""}]
[null,null,null,null,null,null,null,null,null,null,null,null,null,null,null,null,null,null,null,null,{"$f":"IF(W2600=\"\",\"\",LOOKUP(W2600,Hilfstabelle!$A$1:$A$286,Hilfstabelle!$B$1:$B$286))","v":""}]
[null,null,null,null,null,null,null,null,null,null,null,null,null,null,null,null,null,null,null,null,{"$f":"IF(W2601=\"\",\"\",LOOKUP(W2601,Hilfstabelle!$A$1:$A$286,Hilfstabelle!$B$1:$B$286))","v":""}]
[null,null,null,null,null,null,null,null,null,null,null,null,null,null,null,null,null,null,null,null,{"$f":"IF(W2605=\"\",\"\",LOOKUP(W2605,Hilfstabelle!$A$1:$A$286,Hilfstabelle!$B$1:$B$286))","v":""}]
[null,null,null,null,null,null,null,null,null,null,null,null,null,null,null,null,null,null,null,null,{"$f":"IF(W2606=\"\",\"\",LOOKUP(W2606,Hilfstabelle!$A$1:$A$286,Hilfstabelle!$B$1:$B$286))","v":""}]
[null,null,null,null,null,null,null,null,null,null,null,null,null,null,null,null,null,null,null,null,{"$f":"IF(W2609=\"\",\"\",LOOKUP(W2609,Hilfstabelle!$A$1:$A$286,Hilfstabelle!$B$1:$B$286))","v":""}]
[null,null,null,null,null,null,null,null,null,null,null,null,null,null,null,null,null,null,null,null,{"$f":"IF(W2612=\"\",\"\",LOOKUP(W2612,Hilfstabelle!$A$1:$A$286,Hilfstabelle!$B$1:$B$286))","v":""}]
[null,null,null,null,null,null,null,null,null,null,null,null,null,null,null,null,null,null,null,null,{"$f":"IF(W2614=\"\",\"\",LOOKUP(W2614,Hilfstabelle!$A$1:$A$286,Hilfstabelle!$B$1:$B$286))","v":""}]
[null,null,null,null,null,null,null,null,null,null,null,null,null,null,null,null,null,null,null,null,{"$f":"IF(W2615=\"\",\"\",LOOKUP(W2615,Hilfstabelle!$A$1:$A$286,Hilfstabelle!$B$1:$B$286))","v":""}]
[null,null,null,null,null,null,null,null,null,null,null,null,null,null,null,null,null,null,null,null,{"$f":"IF(W2618=\"\",\"\",LOOKUP(W2618,Hilfstabelle!$A$1:$A$286,Hilfstabelle!$B$1:$B$286))","v":""}]
[null,null,null,null,null,null,null,null,null,null,null,null,null,null,null,null,null,null,null,null,{"$f":"IF(W2620=\"\",\"\",LOOKUP(W2620,Hilfstabelle!$A$1:$A$286,Hilfstabelle!$B$1:$B$286))","v":""}]
[null,null,null,null,null,null,null,null,null,null,null,null,null,null,null,null,null,null,null,null,{"$f":"IF(W2623=\"\",\"\",LOOKUP(W2623,Hilfstabelle!$A$1:$A$286,Hilfstabelle!$B$1:$B$286))","v":""}]
[null,null,null,null,null,null,null,null,null,null,null,null,null,null,null,null,null,null,null,null,{"$f":"IF(W2624=\"\",\"\",LOOKUP(W2624,Hilfstabelle!$A$1:$A$286,Hilfstabelle!$B$1:$B$286))","v":""}]
[null,null,null,null,null,null,null,null,null,null,null,null,null,null,null,null,null,null,null,null,{"$f":"IF(W2627=\"\",\"\",LOOKUP(W2627,Hilfstabelle!$A$1:$A$286,Hilfstabelle!$B$1:$B$286))","v":""}]
[null,null,null,null,null,null,null,null,null,null,null,null,null,null,null,null,null,null,null,null,{"$f":"IF(W2630=\"\",\"\",LOOKUP(W2630,Hilfstabelle!$A$1:$A$286,Hilfstabelle!$B$1:$B$286))","v":""}]
[null,null,null,null,null,null,null,null,null,null,null,null,null,null,null,null,null,null,null,null,{"$f":"IF(W2632=\"\",\"\",LOOKUP(W2632,Hilfstabelle!$A$1:$A$286,Hilfstabelle!$B$1:$B$286))","v":""}]
[null,null,null,null,null,null,null,null,null,null,null,null,null,null,null,null,null,null,null,null,{"$f":"IF(W2633=\"\",\"\",LOOKUP(W2633,Hilfstabelle!$A$1:$A$286,Hilfstabelle!$B$1:$B$286))","v":""}]
[null,null,null,null,null,null,null,null,null,null,null,null,null,null,null,null,null,null,null,null,{"$f":"IF(W2636=\"\",\"\",LOOKUP(W2636,Hilfstabelle!$A$1:$A$286,Hilfstabelle!$B$1:$B$286))","v":""}]
[null,null,null,null,null,null,null,null,null,null,null,null,null,null,null,null,null,null,null,null,{"$f":"IF(W2638=\"\",\"\",LOOKUP(W2638,Hilfstabelle!$A$1:$A$286,Hilfstabelle!$B$1:$B$286))","v":""}]
[null,null,null,null,null,null,null,null,null,null,null,null,null,null,null,null,null,null,null,null,{"$f":"IF(W2641=\"\",\"\",LOOKUP(W2641,Hilfstabelle!$A$1:$A$286,Hilfstabelle!$B$1:$B$286))","v":""}]
[null,null,null,null,null,null,null,null,null,null,null,null,null,null,null,null,null,null,null,null,{"$f":"IF(W2642=\"\",\"\",LOOKUP(W2642,Hilfstabelle!$A$1:$A$286,Hilfstabelle!$B$1:$B$286))","v":""}]
[null,null,null,null,null,null,null,null,null,null,null,null,null,null,null,null,null,null,null,null,{"$f":"IF(W2645=\"\",\"\",LOOKUP(W2645,Hilfstabelle!$A$1:$A$286,Hilfstabelle!$B$1:$B$286))","v":""}]
[null,null,null,null,null,null,null,null,null,null,null,null,null,null,null,null,null,null,null,null,{"$f":"IF(W2648=\"\",\"\",LOOKUP(W2648,Hilfstabelle!$A$1:$A$286,Hilfstabelle!$B$1:$B$286))","v":""}]
[null,null,null,null,null,null,null,null,null,null,null,null,null,null,null,null,null,null,null,null,{"$f":"IF(W2650=\"\",\"\",LOOKUP(W2650,Hilfstabelle!$A$1:$A$286,Hilfstabelle!$B$1:$B$286))","v":""}]
[null,null,null,null,null,null,null,null,null,null,null,null,null,null,null,null,null,null,null,null,{"$f":"IF(W2651=\"\",\"\",LOOKUP(W2651,Hilfstabelle!$A$1:$A$286,Hilfstabelle!$B$1:$B$286))","v":""}]
[null,null,null,null,null,null,null,null,null,null,null,null,null,null,null,null,null,null,null,null,{"$f":"IF(W2654=\"\",\"\",LOOKUP(W2654,Hilfstabelle!$A$1:$A$286,Hilfstabelle!$B$1:$B$286))","v":""}]
[null,null,null,null,null,null,null,null,null,null,null,null,null,null,null,null,null,null,null,null,{"$f":"IF(W2656=\"\",\"\",LOOKUP(W2656,Hilfstabelle!$A$1:$A$286,Hilfstabelle!$B$1:$B$286))","v":""}]
[null,null,null,null,null,null,null,null,null,null,null,null,null,null,null,null,null,null,null,null,{"$f":"IF(W2659=\"\",\"\",LOOKUP(W2659,Hilfstabelle!$A$1:$A$286,Hilfstabelle!$B$1:$B$286))","v":""}]
[null,null,null,null,null,null,null,null,null,null,null,null,null,null,null,null,null,null,null,null,{"$f":"IF(W2660=\"\",\"\",LOOKUP(W2660,Hilfstabelle!$A$1:$A$286,Hilfstabelle!$B$1:$B$286))","v":""}]
[null,null,null,null,null,null,null,null,null,null,null,null,null,null,null,null,null,null,null,null,{"$f":"IF(W2663=\"\",\"\",LOOKUP(W2663,Hilfstabelle!$A$1:$A$286,Hilfstabelle!$B$1:$B$286))","v":""}]
[null,null,null,null,null,null,null,null,null,null,null,null,null,null,null,null,null,null,null,null,{"$f":"IF(W2666=\"\",\"\",LOOKUP(W2666,Hilfstabelle!$A$1:$A$286,Hilfstabelle!$B$1:$B$286))","v":""}]
[null,null,null,null,null,null,null,null,null,null,null,null,null,null,null,null,null,null,null,null,{"$f":"IF(W2668=\"\",\"\",LOOKUP(W2668,Hilfstabelle!$A$1:$A$286,Hilfstabelle!$B$1:$B$286))","v":""}]
[null,null,null,null,null,null,null,null,null,null,null,null,null,null,null,null,null,null,null,null,{"$f":"IF(W2669=\"\",\"\",LOOKUP(W2669,Hilfstabelle!$A$1:$A$286,Hilfstabelle!$B$1:$B$286))","v":""}]
[null,null,null,null,null,null,null,null,null,null,null,null,null,null,null,null,null,null,null,null,{"$f":"IF(W2672=\"\",\"\",LOOKUP(W2672,Hilfstabelle!$A$1:$A$286,Hilfstabelle!$B$1:$B$286))","v":""}]
[null,null,null,null,null,null,null,null,null,null,null,null,null,null,null,null,null,null,null,null,{"$f":"IF(W2674=\"\",\"\",LOOKUP(W2674,Hilfstabelle!$A$1:$A$286,Hilfstabelle!$B$1:$B$286))","v":""}]
[null,null,null,null,null,null,null,null,null,null,null,null,null,null,null,null,null,null,null,null,{"$f":"IF(W2677=\"\",\"\",LOOKUP(W2677,Hilfstabelle!$A$1:$A$286,Hilfstabelle!$B$1:$B$286))","v":""}]
[null,null,null,null,null,null,null,null,null,null,null,null,null,null,null,null,null,null,null,null,{"$f":"IF(W2678=\"\",\"\",LOOKUP(W2678,Hilfstabelle!$A$1:$A$286,Hilfstabelle!$B$1:$B$286))","v":""}]
[null,null,null,null,null,null,null,null,null,null,null,null,null,null,null,null,null,null,null,null,{"$f":"IF(W2681=\"\",\"\",LOOKUP(W2681,Hilfstabelle!$A$1:$A$286,Hilfstabelle!$B$1:$B$286))","v":""}]
[null,null,null,null,null,null,null,null,null,null,null,null,null,null,null,null,null,null,null,null,{"$f":"IF(W2684=\"\",\"\",LOOKUP(W2684,Hilfstabelle!$A$1:$A$286,Hilfstabelle!$B$1:$B$286))","v":""}]
[null,null,null,null,null,null,null,null,null,null,null,null,null,null,null,null,null,null,null,null,{"$f":"IF(W2686=\"\",\"\",LOOKUP(W2686,Hilfstabelle!$A$1:$A$286,Hilfstabelle!$B$1:$B$286))","v":""}]
[null,null,null,null,null,null,null,null,null,null,null,null,null,null,null,null,null,null,null,null,{"$f":"IF(W2687=\"\",\"\",LOOKUP(W2687,Hilfstabelle!$A$1:$A$286,Hilfstabelle!$B$1:$B$286))","v":""}]
[null,null,null,null,null,null,null,null,null,null,null,null,null,null,null,null,null,null,null,null,{"$f":"IF(W2690=\"\",\"\",LOOKUP(W2690,Hilfstabelle!$A$1:$A$286,Hilfstabelle!$B$1:$B$286))","v":""}]
[null,null,null,null,null,null,null,null,null,null,null,null,null,null,null,null,null,null,null,null,{"$f":"IF(W2692=\"\",\"\",LOOKUP(W2692,Hilfstabelle!$A$1:$A$286,Hilfstabelle!$B$1:$B$286))","v":""}]
[null,null,null,null,null,null,null,null,null,null,null,null,null,null,null,null,null,null,null,null,{"$f":"IF(W2695=\"\",\"\",LOOKUP(W2695,Hilfstabelle!$A$1:$A$286,Hilfstabelle!$B$1:$B$286))","v":""}]
[null,null,null,null,null,null,null,null,null,null,null,null,null,null,null,null,null,null,null,null,{"$f":"IF(W2696=\"\",\"\",LOOKUP(W2696,Hilfstabelle!$A$1:$A$286,Hilfstabelle!$B$1:$B$286))","v":""}]
[null,null,null,null,null,null,null,null,null,null,null,null,null,null,null,null,null,null,null,null,{"$f":"IF(W2699=\"\",\"\",LOOKUP(W2699,Hilfstabelle!$A$1:$A$286,Hilfstabelle!$B$1:$B$286))","v":""}]
[null,null,null,null,null,null,null,null,null,null,null,null,null,null,null,null,null,null,null,null,{"$f":"IF(W2702=\"\",\"\",LOOKUP(W2702,Hilfstabelle!$A$1:$A$286,Hilfstabelle!$B$1:$B$286))","v":""}]
[null,null,null,null,null,null,null,null,null,null,null,null,null,null,null,null,null,null,null,null,{"$f":"IF(W2704=\"\",\"\",LOOKUP(W2704,Hilfstabelle!$A$1:$A$286,Hilfstabelle!$B$1:$B$286))","v":""}]
[null,null,null,null,null,null,null,null,null,null,null,null,null,null,null,null,null,null,null,null,{"$f":"IF(W2705=\"\",\"\",LOOKUP(W2705,Hilfstabelle!$A$1:$A$286,Hilfstabelle!$B$1:$B$286))","v":""}]
[null,null,null,null,null,null,null,null,null,null,null,null,null,null,null,null,null,null,null,null,{"$f":"IF(W2708=\"\",\"\",LOOKUP(W2708,Hilfstabelle!$A$1:$A$286,Hilfstabelle!$B$1:$B$286))","v":""}]
[null,null,null,null,null,null,null,null,null,null,null,null,null,null,null,null,null,null,null,null,{"$f":"IF(W2710=\"\",\"\",LOOKUP(W2710,Hilfstabelle!$A$1:$A$286,Hilfstabelle!$B$1:$B$286))","v":""}]
[null,null,null,null,null,null,null,null,null,null,null,null,null,null,null,null,null,null,null,null,{"$f":"IF(W2713=\"\",\"\",LOOKUP(W2713,Hilfstabelle!$A$1:$A$286,Hilfstabelle!$B$1:$B$286))","v":""}]
[null,null,null,null,null,null,null,null,null,null,null,null,null,null,null,null,null,null,null,null,{"$f":"IF(W2714=\"\",\"\",LOOKUP(W2714,Hilfstabelle!$A$1:$A$286,Hilfstabelle!$B$1:$B$286))","v":""}]
[null,null,null,null,null,null,null,null,null,null,null,null,null,null,null,null,null,null,null,null,{"$f":"IF(W2717=\"\",\"\",LOOKUP(W2717,Hilfstabelle!$A$1:$A$286,Hilfstabelle!$B$1:$B$286))","v":""}]
[null,null,null,null,null,null,null,null,null,null,null,null,null,null,null,null,null,null,null,null,{"$f":"IF(W2720=\"\",\"\",LOOKUP(W2720,Hilfstabelle!$A$1:$A$286,Hilfstabelle!$B$1:$B$286))","v":""}]
[null,null,null,null,null,null,null,null,null,null,null,null,null,null,null,null,null,null,null,null,{"$f":"IF(W2722=\"\",\"\",LOOKUP(W2722,Hilfstabelle!$A$1:$A$286,Hilfstabelle!$B$1:$B$286))","v":""}]
[null,null,null,null,null,null,null,null,null,null,null,null,null,null,null,null,null,null,null,null,{"$f":"IF(W2723=\"\",\"\",LOOKUP(W2723,Hilfstabelle!$A$1:$A$286,Hilfstabelle!$B$1:$B$286))","v":""}]
[null,null,null,null,null,null,null,null,null,null,null,null,null,null,null,null,null,null,null,null,{"$f":"IF(W2726=\"\",\"\",LOOKUP(W2726,Hilfstabelle!$A$1:$A$286,Hilfstabelle!$B$1:$B$286))","v":""}]
[null,null,null,null,null,null,null,null,null,null,null,null,null,null,null,null,null,null,null,null,{"$f":"IF(W2728=\"\",\"\",LOOKUP(W2728,Hilfstabelle!$A$1:$A$286,Hilfstabelle!$B$1:$B$286))","v":""}]
[null,null,null,null,null,null,null,null,null,null,null,null,null,null,null,null,null,null,null,null,{"$f":"IF(W2731=\"\",\"\",LOOKUP(W2731,Hilfstabelle!$A$1:$A$286,Hilfstabelle!$B$1:$B$286))","v":""}]
[null,null,null,null,null,null,null,null,null,null,null,null,null,null,null,null,null,null,null,null,{"$f":"IF(W2732=\"\",\"\",LOOKUP(W2732,Hilfstabelle!$A$1:$A$286,Hilfstabelle!$B$1:$B$286))","v":""}]
[null,null,null,null,null,null,null,null,null,null,null,null,null,null,null,null,null,null,null,null,{"$f":"IF(W2735=\"\",\"\",LOOKUP(W2735,Hilfstabelle!$A$1:$A$286,Hilfstabelle!$B$1:$B$286))","v":""}]
[null,null,null,null,null,null,null,null,null,null,null,null,null,null,null,null,null,null,null,null,{"$f":"IF(W2738=\"\",\"\",LOOKUP(W2738,Hilfstabelle!$A$1:$A$286,Hilfstabelle!$B$1:$B$286))","v":""}]
[null,null,null,null,null,null,null,null,null,null,null,null,null,null,null,null,null,null,null,null,{"$f":"IF(W2740=\"\",\"\",LOOKUP(W2740,Hilfstabelle!$A$1:$A$286,Hilfstabelle!$B$1:$B$286))","v":""}]
[null,null,null,null,null,null,null,null,null,null,null,null,null,null,null,null,null,null,null,null,{"$f":"IF(W2741=\"\",\"\",LOOKUP(W2741,Hilfstabelle!$A$1:$A$286,Hilfstabelle!$B$1:$B$286))","v":""}]
[null,null,null,null,null,null,null,null,null,null,null,null,null,null,null,null,null,null,null,null,{"$f":"IF(W2744=\"\",\"\",LOOKUP(W2744,Hilfstabelle!$A$1:$A$286,Hilfstabelle!$B$1:$B$286))","v":""}]
[null,null,null,null,null,null,null,null,null,null,null,null,null,null,null,null,null,null,null,null,{"$f":"IF(W2746=\"\",\"\",LOOKUP(W2746,Hilfstabelle!$A$1:$A$286,Hilfstabelle!$B$1:$B$286))","v":""}]
[null,null,null,null,null,null,null,null,null,null,null,null,null,null,null,null,null,null,null,null,{"$f":"IF(W2749=\"\",\"\",LOOKUP(W2749,Hilfstabelle!$A$1:$A$286,Hilfstabelle!$B$1:$B$286))","v":""}]
[null,null,null,null,null,null,null,null,null,null,null,null,null,null,null,null,null,null,null,null,{"$f":"IF(W2750=\"\",\"\",LOOKUP(W2750,Hilfstabelle!$A$1:$A$286,Hilfstabelle!$B$1:$B$286))","v":""}]
[null,null,null,null,null,null,null,null,null,null,null,null,null,null,null,null,null,null,null,null,{"$f":"IF(W2753=\"\",\"\",LOOKUP(W2753,Hilfstabelle!$A$1:$A$286,Hilfstabelle!$B$1:$B$286))","v":""}]
[null,null,null,null,null,null,null,null,null,null,null,null,null,null,null,null,null,null,null,null,{"$f":"IF(W2756=\"\",\"\",LOOKUP(W2756,Hilfstabelle!$A$1:$A$286,Hilfstabelle!$B$1:$B$286))","v":""}]
[null,null,null,null,null,null,null,null,null,null,null,null,null,null,null,null,null,null,null,null,{"$f":"IF(W2758=\"\",\"\",LOOKUP(W2758,Hilfstabelle!$A$1:$A$286,Hilfstabelle!$B$1:$B$286))","v":""}]
[null,null,null,null,null,null,null,null,null,null,null,null,null,null,null,null,null,null,null,null,{"$f":"IF(W2759=\"\",\"\",LOOKUP(W2759,Hilfstabelle!$A$1:$A$286,Hilfstabelle!$B$1:$B$286))","v":""}]
[null,null,null,null,null,null,null,null,null,null,null,null,null,null,null,null,null,null,null,null,{"$f":"IF(W2762=\"\",\"\",LOOKUP(W2762,Hilfstabelle!$A$1:$A$286,Hilfstabelle!$B$1:$B$286))","v":""}]
[null,null,null,null,null,null,null,null,null,null,null,null,null,null,null,null,null,null,null,null,{"$f":"IF(W2764=\"\",\"\",LOOKUP(W2764,Hilfstabelle!$A$1:$A$286,Hilfstabelle!$B$1:$B$286))","v":""}]
[null,null,null,null,null,null,null,null,null,null,null,null,null,null,null,null,null,null,null,null,{"$f":"IF(W2767=\"\",\"\",LOOKUP(W2767,Hilfstabelle!$A$1:$A$286,Hilfstabelle!$B$1:$B$286))","v":""}]
[null,null,null,null,null,null,null,null,null,null,null,null,null,null,null,null,null,null,null,null,{"$f":"IF(W2768=\"\",\"\",LOOKUP(W2768,Hilfstabelle!$A$1:$A$286,Hilfstabelle!$B$1:$B$286))","v":""}]
[null,null,null,null,null,null,null,null,null,null,null,null,null,null,null,null,null,null,null,null,{"$f":"IF(W2771=\"\",\"\",LOOKUP(W2771,Hilfstabelle!$A$1:$A$286,Hilfstabelle!$B$1:$B$286))","v":""}]
[null,null,null,null,null,null,null,null,null,null,null,null,null,null,null,null,null,null,null,null,{"$f":"IF(W2772=\"\",\"\",LOOKUP(W2772,Hilfstabelle!$A$1:$A$286,Hilfstabelle!$B$1:$B$286))","v":""}]
[null,null,null,null,null,null,null,null,null,null,null,null,null,null,null,null,null,null,null,null,{"$f":"IF(W2776=\"\",\"\",LOOKUP(W2776,Hilfstabelle!$A$1:$A$286,Hilfstabelle!$B$1:$B$286))","v":""}]
[null,null,null,null,null,null,null,null,null,null,null,null,null,null,null,null,null,null,null,null,{"$f":"IF(W2777=\"\",\"\",LOOKUP(W2777,Hilfstabelle!$A$1:$A$286,Hilfstabelle!$B$1:$B$286))","v":""}]
[null,null,null,null,null,null,null,null,null,null,null,null,null,null,null,null,null,null,null,null,{"$f":"IF(W2780=\"\",\"\",LOOKUP(W2780,Hilfstabelle!$A$1:$A$286,Hilfstabelle!$B$1:$B$286))","v":""}]
[null,null,null,null,null,null,null,null,null,null,null,null,null,null,null,null,null,null,null,null,{"$f":"IF(W2782=\"\",\"\",LOOKUP(W2782,Hilfstabelle!$A$1:$A$286,Hilfstabelle!$B$1:$B$286))","v":""}]
[null,null,null,null,null,null,null,null,null,null,null,null,null,null,null,null,null,null,null,null,{"$f":"IF(W2785=\"\",\"\",LOOKUP(W2785,Hilfstabelle!$A$1:$A$286,Hilfstabelle!$B$1:$B$286))","v":""}]
[null,null,null,null,null,null,null,null,null,null,null,null,null,null,null,null,null,null,null,null,{"$f":"IF(W2786=\"\",\"\",LOOKUP(W2786,Hilfstabelle!$A$1:$A$286,Hilfstabelle!$B$1:$B$286))","v":""}]
[null,null,null,null,null,null,null,null,null,null,null,null,null,null,null,null,null,null,null,null,{"$f":"IF(W2789=\"\",\"\",LOOKUP(W2789,Hilfstabelle!$A$1:$A$286,Hilfstabelle!$B$1:$B$286))","v":""}]
[null,null,null,null,null,null,null,null,null,null,null,null,null,null,null,null,null,null,null,null,{"$f":"IF(W2790=\"\",\"\",LOOKUP(W2790,Hilfstabelle!$A$1:$A$286,Hilfstabelle!$B$1:$B$286))","v":""}]
[null,null,null,null,null,null,null,null,null,null,null,null,null,null,null,null,null,null,null,null,{"$f":"IF(W2794=\"\",\"\",LOOKUP(W2794,Hilfstabelle!$A$1:$A$286,Hilfstabelle!$B$1:$B$286))","v":""}]
[null,null,null,null,null,null,null,null,null,null,null,null,null,null,null,null,null,null,null,null,{"$f":"IF(W2795=\"\",\"\",LOOKUP(W2795,Hilfstabelle!$A$1:$A$286,Hilfstabelle!$B$1:$B$286))","v":""}]
[null,null,null,null,null,null,null,null,null,null,null,null,null,null,null,null,null,null,null,null,{"$f":"IF(W2798=\"\",\"\",LOOKUP(W2798,Hilfstabelle!$A$1:$A$286,Hilfstabelle!$B$1:$B$286))","v":""}]
[null,null,null,null,null,null,null,null,null,null,null,null,null,null,null,null,null,null,null,null,{"$f":"IF(W2800=\"\",\"\",LOOKUP(W2800,Hilfstabelle!$A$1:$A$286,Hilfstabelle!$B$1:$B$286))","v":""}]
[null,null,null,null,null,null,null,null,null,null,null,null,null,null,null,null,null,null,null,null,{"$f":"IF(W2803=\"\",\"\",LOOKUP(W2803,Hilfstabelle!$A$1:$A$286,Hilfstabelle!$B$1:$B$286))","v":""}]
[null,null,null,null,null,null,null,null,null,null,null,null,null,null,null,null,null,null,null,null,{"$f":"IF(W2804=\"\",\"\",LOOKUP(W2804,Hilfstabelle!$A$1:$A$286,Hilfstabelle!$B$1:$B$286))","v":""}]
[null,null,null,null,null,null,null,null,null,null,null,null,null,null,null,null,null,null,null,null,{"$f":"IF(W2807=\"\",\"\",LOOKUP(W2807,Hilfstabelle!$A$1:$A$286,Hilfstabelle!$B$1:$B$286))","v":""}]
[null,null,null,null,null,null,null,null,null,null,null,null,null,null,null,null,null,null,null,null,{"$f":"IF(W2808=\"\",\"\",LOOKUP(W2808,Hilfstabelle!$A$1:$A$286,Hilfstabelle!$B$1:$B$286))","v":""}]
[null,null,null,null,null,null,null,null,null,null,null,null,null,null,null,null,null,null,null,null,{"$f":"IF(W2812=\"\",\"\",LOOKUP(W2812,Hilfstabelle!$A$1:$A$286,Hilfstabelle!$B$1:$B$286))","v":""}]
[null,null,null,null,null,null,null,null,null,null,null,null,null,null,null,null,null,null,null,null,{"$f":"IF(W2813=\"\",\"\",LOOKUP(W2813,Hilfstabelle!$A$1:$A$286,Hilfstabelle!$B$1:$B$286))","v":""}]
[null,null,null,null,null,null,null,null,null,null,null,null,null,null,null,null,null,null,null,null,{"$f":"IF(W2816=\"\",\"\",LOOKUP(W2816,Hilfstabelle!$A$1:$A$286,Hilfstabelle!$B$1:$B$286))","v":""}]
[null,null,null,null,null,null,null,null,null,null,null,null,null,null,null,null,null,null,null,null,{"$f":"IF(W2818=\"\",\"\",LOOKUP(W2818,Hilfstabelle!$A$1:$A$286,Hilfstabelle!$B$1:$B$286))","v":""}]
[null,null,null,null,null,null,null,null,null,null,null,null,null,null,null,null,null,null,null,null,{"$f":"IF(W2821=\"\",\"\",LOOKUP(W2821,Hilfstabelle!$A$1:$A$286,Hilfstabelle!$B$1:$B$286))","v":""}]
[null,null,null,null,null,null,null,null,null,null,null,null,null,null,null,null,null,null,null,null,{"$f":"IF(W2822=\"\",\"\",LOOKUP(W2822,Hilfstabelle!$A$1:$A$286,Hilfstabelle!$B$1:$B$286))","v":""}]
[null,null,null,null,null,null,null,null,null,null,null,null,null,null,null,null,null,null,null,null,{"$f":"IF(W2825=\"\",\"\",LOOKUP(W2825,Hilfstabelle!$A$1:$A$286,Hilfstabelle!$B$1:$B$286))","v":""}]
[null,null,null,null,null,null,null,null,null,null,null,null,null,null,null,null,null,null,null,null,{"$f":"IF(W2826=\"\",\"\",LOOKUP(W2826,Hilfstabelle!$A$1:$A$286,Hilfstabelle!$B$1:$B$286))","v":""}]
[null,null,null,null,null,null,null,null,null,null,null,null,null,null,null,null,null,null,null,null,{"$f":"IF(W2830=\"\",\"\",LOOKUP(W2830,Hilfstabelle!$A$1:$A$286,Hilfstabelle!$B$1:$B$286))","v":""}]
[null,null,null,null,null,null,null,null,null,null,null,null,null,null,null,null,null,null,null,null,{"$f":"IF(W2831=\"\",\"\",LOOKUP(W2831,Hilfstabelle!$A$1:$A$286,Hilfstabelle!$B$1:$B$286))","v":""}]
[null,null,null,null,null,null,null,null,null,null,null,null,null,null,null,null,null,null,null,null,{"$f":"IF(W2834=\"\",\"\",LOOKUP(W2834,Hilfstabelle!$A$1:$A$286,Hilfstabelle!$B$1:$B$286))","v":""}]
[null,null,null,null,null,null,null,null,null,null,null,null,null,null,null,null,null,null,null,null,{"$f":"IF(W2836=\"\",\"\",LOOKUP(W2836,Hilfstabelle!$A$1:$A$286,Hilfstabelle!$B$1:$B$286))","v":""}]
[null,null,null,null,null,null,null,null,null,null,null,null,null,null,null,null,null,null,null,null,{"$f":"IF(W2839=\"\",\"\",LOOKUP(W2839,Hilfstabelle!$A$1:$A$286,Hilfstabelle!$B$1:$B$286))","v":""}]
[null,null,null,null,null,null,null,null,null,null,null,null,null,null,null,null,null,null,null,null,{"$f":"IF(W2840=\"\",\"\",LOOKUP(W2840,Hilfstabelle!$A$1:$A$286,Hilfstabelle!$B$1:$B$286))","v":""}]
[null,null,null,null,null,null,null,null,null,null,null,null,null,null,null,null,null,null,null,null,{"$f":"IF(W2843=\"\",\"\",LOOKUP(W2843,Hilfstabelle!$A$1:$A$286,Hilfstabelle!$B$1:$B$286))","v":""}]
[null,null,null,null,null,null,null,null,null,null,null,null,null,null,null,null,null,null,null,null,{"$f":"IF(W2844=\"\",\"\",LOOKUP(W2844,Hilfstabelle!$A$1:$A$286,Hilfstabelle!$B$1:$B$286))","v":""}]
[null,null,null,null,null,null,null,null,null,null,null,null,null,null,null,null,null,null,null,null,{"$f":"IF(W2848=\"\",\"\",LOOKUP(W2848,Hilfstabelle!$A$1:$A$286,Hilfstabelle!$B$1:$B$286))","v":""}]
[null,null,null,null,null,null,null,null,null,null,null,null,null,null,null,null,null,null,null,null,{"$f":"IF(W2849=\"\",\"\",LOOKUP(W2849,Hilfstabelle!$A$1:$A$286,Hilfstabelle!$B$1:$B$286))","v":""}]
[null,null,null,null,null,null,null,null,null,null,null,null,null,null,null,null,null,null,null,null,{"$f":"IF(W2852=\"\",\"\",LOOKUP(W2852,Hilfstabelle!$A$1:$A$286,Hilfstabelle!$B$1:$B$286))","v":""}]
[null,null,null,null,null,null,null,null,null,null,null,null,null,null,null,null,null,null,null,null,{"$f":"IF(W2854=\"\",\"\",LOOKUP(W2854,Hilfstabelle!$A$1:$A$286,Hilfstabelle!$B$1:$B$286))","v":""}]
[null,null,null,null,null,null,null,null,null,null,null,null,null,null,null,null,null,null,null,null,{"$f":"IF(W2857=\"\",\"\",LOOKUP(W2857,Hilfstabelle!$A$1:$A$286,Hilfstabelle!$B$1:$B$286))","v":""}]
[null,null,null,null,null,null,null,null,null,null,null,null,null,null,null,null,null,null,null,null,{"$f":"IF(W2858=\"\",\"\",LOOKUP(W2858,Hilfstabelle!$A$1:$A$286,Hilfstabelle!$B$1:$B$286))","v":""}]
[null,null,null,null,null,null,null,null,null,null,null,null,null,null,null,null,null,null,null,null,{"$f":"IF(W2861=\"\",\"\",LOOKUP(W2861,Hilfstabelle!$A$1:$A$286,Hilfstabelle!$B$1:$B$286))","v":""}]
[null,null,null,null,null,null,null,null,null,null,null,null,null,null,null,null,null,null,null,null,{"$f":"IF(W2862=\"\",\"\",LOOKUP(W2862,Hilfstabelle!$A$1:$A$286,Hilfstabelle!$B$1:$B$286))","v":""}]
[null,null,null,null,null,null,null,null,null,null,null,null,null,null,null,null,null,null,null,null,{"$f":"IF(W2866=\"\",\"\",LOOKUP(W2866,Hilfstabelle!$A$1:$A$286,Hilfstabelle!$B$1:$B$286))","v":""}]
[null,null,null,null,null,null,null,null,null,null,null,null,null,null,null,null,null,null,null,null,{"$f":"IF(W2867=\"\",\"\",LOOKUP(W2867,Hilfstabelle!$A$1:$A$286,Hilfstabelle!$B$1:$B$286))","v":""}]
[null,null,null,null,null,null,null,null,null,null,null,null,null,null,null,null,null,null,null,null,{"$f":"IF(W2870=\"\",\"\",LOOKUP(W2870,Hilfstabelle!$A$1:$A$286,Hilfstabelle!$B$1:$B$286))","v":""}]
[null,null,null,null,null,null,null,null,null,null,null,null,null,null,null,null,null,null,null,null,{"$f":"IF(W2872=\"\",\"\",LOOKUP(W2872,Hilfstabelle!$A$1:$A$286,Hilfstabelle!$B$1:$B$286))","v":""}]
[null,null,null,null,null,null,null,null,null,null,null,null,null,null,null,null,null,null,null,null,{"$f":"IF(W2875=\"\",\"\",LOOKUP(W2875,Hilfstabelle!$A$1:$A$286,Hilfstabelle!$B$1:$B$286))","v":""}]
[null,null,null,null,null,null,null,null,null,null,null,null,null,null,null,null,null,null,null,null,{"$f":"IF(W2876=\"\",\"\",LOOKUP(W2876,Hilfstabelle!$A$1:$A$286,Hilfstabelle!$B$1:$B$286))","v":""}]
[null,null,null,null,null,null,null,null,null,null,null,null,null,null,null,null,null,null,null,null,{"$f":"IF(W2879=\"\",\"\",LOOKUP(W2879,Hilfstabelle!$A$1:$A$286,Hilfstabelle!$B$1:$B$286))","v":""}]
[null,null,null,null,null,null,null,null,null,null,null,null,null,null,null,null,null,null,null,null,{"$f":"IF(W2880=\"\",\"\",LOOKUP(W2880,Hilfstabelle!$A$1:$A$286,Hilfstabelle!$B$1:$B$286))","v":""}]
[null,null,null,null,null,null,null,null,null,null,null,null,null,null,null,null,null,null,null,null,{"$f":"IF(W2884=\"\",\"\",LOOKUP(W2884,Hilfstabelle!$A$1:$A$286,Hilfstabelle!$B$1:$B$286))","v":""}]
[null,null,null,null,null,null,null,null,null,null,null,null,null,null,null,null,null,null,null,null,{"$f":"IF(W2885=\"\",\"\",LOOKUP(W2885,Hilfstabelle!$A$1:$A$286,Hilfstabelle!$B$1:$B$286))","v":""}]
[null,null,null,null,null,null,null,null,null,null,null,null,null,null,null,null,null,null,null,null,{"$f":"IF(W2888=\"\",\"\",LOOKUP(W2888,Hilfstabelle!$A$1:$A$286,Hilfstabelle!$B$1:$B$286))","v":""}]
[null,null,null,null,null,null,null,null,null,null,null,null,null,null,null,null,null,null,null,null,{"$f":"IF(W2890=\"\",\"\",LOOKUP(W2890,Hilfstabelle!$A$1:$A$286,Hilfstabelle!$B$1:$B$286))","v":""}]
[null,null,null,null,null,null,null,null,null,null,null,null,null,null,null,null,null,null,null,null,{"$f":"IF(W2893=\"\",\"\",LOOKUP(W2893,Hilfstabelle!$A$1:$A$286,Hilfstabelle!$B$1:$B$286))","v":""}]
[null,null,null,null,null,null,null,null,null,null,null,null,null,null,null,null,null,null,null,null,{"$f":"IF(W2894=\"\",\"\",LOOKUP(W2894,Hilfstabelle!$A$1:$A$286,Hilfstabelle!$B$1:$B$286))","v":""}]
[null,null,null,null,null,null,null,null,null,null,null,null,null,null,null,null,null,null,null,null,{"$f":"IF(W2897=\"\",\"\",LOOKUP(W2897,Hilfstabelle!$A$1:$A$286,Hilfstabelle!$B$1:$B$286))","v":""}]
[null,null,null,null,null,null,null,null,null,null,null,null,null,null,null,null,null,null,null,null,{"$f":"IF(W2898=\"\",\"\",LOOKUP(W2898,Hilfstabelle!$A$1:$A$286,Hilfstabelle!$B$1:$B$286))","v":""}]
[null,null,null,null,null,null,null,null,null,null,null,null,null,null,null,null,null,null,null,null,{"$f":"IF(W2902=\"\",\"\",LOOKUP(W2902,Hilfstabelle!$A$1:$A$286,Hilfstabelle!$B$1:$B$286))","v":""}]
[null,null,null,null,null,null,null,null,null,null,null,null,null,null,null,null,null,null,null,null,{"$f":"IF(W2903=\"\",\"\",LOOKUP(W2903,Hilfstabelle!$A$1:$A$286,Hilfstabelle!$B$1:$B$286))","v":""}]
[null,null,null,null,null,null,null,null,null,null,null,null,null,null,null,null,null,null,null,null,{"$f":"IF(W2906=\"\",\"\",LOOKUP(W2906,Hilfstabelle!$A$1:$A$286,Hilfstabelle!$B$1:$B$286))","v":""}]
[null,null,null,null,null,null,null,null,null,null,null,null,null,null,null,null,null,null,null,null,{"$f":"IF(W2908=\"\",\"\",LOOKUP(W2908,Hilfstabelle!$A$1:$A$286,Hilfstabelle!$B$1:$B$286))","v":""}]
[null,null,null,null,null,null,null,null,null,null,null,null,null,null,null,null,null,null,null,null,{"$f":"IF(W2911=\"\",\"\",LOOKUP(W2911,Hilfstabelle!$A$1:$A$286,Hilfstabelle!$B$1:$B$286))","v":""}]
[null,null,null,null,null,null,null,null,null,null,null,null,null,null,null,null,null,null,null,null,{"$f":"IF(W2912=\"\",\"\",LOOKUP(W2912,Hilfstabelle!$A$1:$A$286,Hilfstabelle!$B$1:$B$286))","v":""}]
[null,null,null,null,null,null,null,null,null,null,null,null,null,null,null,null,null,null,null,null,{"$f":"IF(W2915=\"\",\"\",LOOKUP(W2915,Hilfstabelle!$A$1:$A$286,Hilfstabelle!$B$1:$B$286))","v":""}]
[null,null,null,null,null,null,null,null,null,null,null,null,null,null,null,null,null,null,null,null,{"$f":"IF(W2916=\"\",\"\",LOOKUP(W2916,Hilfstabelle!$A$1:$A$286,Hilfstabelle!$B$1:$B$286))","v":""}]
[null,null,null,null,null,null,null,null,null,null,null,null,null,null,null,null,null,null,null,null,{"$f":"IF(W2920=\"\",\"\",LOOKUP(W2920,Hilfstabelle!$A$1:$A$286,Hilfstabelle!$B$1:$B$286))","v":""}]
[null,null,null,null,null,null,null,null,null,null,null,null,null,null,null,null,null,null,null,null,{"$f":"IF(W2921=\"\",\"\",LOOKUP(W2921,Hilfstabelle!$A$1:$A$286,Hilfstabelle!$B$1:$B$286))","v":""}]
[null,null,null,null,null,null,null,null,null,null,null,null,null,null,null,null,null,null,null,null,{"$f":"IF(W2924=\"\",\"\",LOOKUP(W2924,Hilfstabelle!$A$1:$A$286,Hilfstabelle!$B$1:$B$286))","v":""}]
[null,null,null,null,null,null,null,null,null,null,null,null,null,null,null,null,null,null,null,null,{"$f":"IF(W2926=\"\",\"\",LOOKUP(W2926,Hilfstabelle!$A$1:$A$286,Hilfstabelle!$B$1:$B$286))","v":""}]
[null,null,null,null,null,null,null,null,null,null,null,null,null,null,null,null,null,null,null,null,{"$f":"IF(W2929=\"\",\"\",LOOKUP(W2929,Hilfstabelle!$A$1:$A$286,Hilfstabelle!$B$1:$B$286))","v":""}]
[null,null,null,null,null,null,null,null,null,null,null,null,null,null,null,null,null,null,null,null,{"$f":"IF(W2930=\"\",\"\",LOOKUP(W2930,Hilfstabelle!$A$1:$A$286,Hilfstabelle!$B$1:$B$286))","v":""}]
[null,null,null,null,null,null,null,null,null,null,null,null,null,null,null,null,null,null,null,null,{"$f":"IF(W2933=\"\",\"\",LOOKUP(W2933,Hilfstabelle!$A$1:$A$286,Hilfstabelle!$B$1:$B$286))","v":""}]
[null,null,null,null,null,null,null,null,null,null,null,null,null,null,null,null,null,null,null,null,{"$f":"IF(W2934=\"\",\"\",LOOKUP(W2934,Hilfstabelle!$A$1:$A$286,Hilfstabelle!$B$1:$B$286))","v":""}]
[null,null,null,null,null,null,null,null,null,null,null,null,null,null,null,null,null,null,null,null,{"$f":"IF(W2938=\"\",\"\",LOOKUP(W2938,Hilfstabelle!$A$1:$A$286,Hilfstabelle!$B$1:$B$286))","v":""}]
[null,null,null,null,null,null,null,null,null,null,null,null,null,null,null,null,null,null,null,null,{"$f":"IF(W2939=\"\",\"\",LOOKUP(W2939,Hilfstabelle!$A$1:$A$286,Hilfstabelle!$B$1:$B$286))","v":""}]
[null,null,null,null,null,null,null,null,null,null,null,null,null,null,null,null,null,null,null,null,{"$f":"IF(W2942=\"\",\"\",LOOKUP(W2942,Hilfstabelle!$A$1:$A$286,Hilfstabelle!$B$1:$B$286))","v":""}]
[null,null,null,null,null,null,null,null,null,null,null,null,null,null,null,null,null,null,null,null,{"$f":"IF(W2945=\"\",\"\",LOOKUP(W2945,Hilfstabelle!$A$1:$A$286,Hilfstabelle!$B$1:$B$286))","v":""}]
[null,null,null,null,null,null,null,null,null,null,null,null,null,null,null,null,null,null,null,null,{"$f":"IF(W2947=\"\",\"\",LOOKUP(W2947,Hilfstabelle!$A$1:$A$286,Hilfstabelle!$B$1:$B$286))","v":""}]
[null,null,null,null,null,null,null,null,null,null,null,null,null,null,null,null,null,null,null,null,{"$f":"IF(W2948=\"\",\"\",LOOKUP(W2948,Hilfstabelle!$A$1:$A$286,Hilfstabelle!$B$1:$B$286))","v":""}]
[null,null,null,null,null,null,null,null,null,null,null,null,null,null,null,null,null,null,null,null,{"$f":"IF(W2951=\"\",\"\",LOOKUP(W2951,Hilfstabelle!$A$1:$A$286,Hilfstabelle!$B$1:$B$286))","v":""}]
[null,null,null,null,null,null,null,null,null,null,null,null,null,null,null,null,null,null,null,null,{"$f":"IF(W2952=\"\",\"\",LOOKUP(W2952,Hilfstabelle!$A$1:$A$286,Hilfstabelle!$B$1:$B$286))","v":""}]
[null,null,null,null,null,null,null,null,null,null,null,null,null,null,null,null,null,null,null,null,{"$f":"IF(W2956=\"\",\"\",LOOKUP(W2956,Hilfstabelle!$A$1:$A$286,Hilfstabelle!$B$1:$B$286))","v":""}]
[null,null,null,null,null,null,null,null,null,null,null,null,null,null,null,null,null,null,null,null,{"$f":"IF(W2957=\"\",\"\",LOOKUP(W2957,Hilfstabelle!$A$1:$A$286,Hilfstabelle!$B$1:$B$286))","v":""}]
[null,null,null,null,null,null,null,null,null,null,null,null,null,null,null,null,null,null,null,null,{"$f":"IF(W2960=\"\",\"\",LOOKUP(W2960,Hilfstabelle!$A$1:$A$286,Hilfstabelle!$B$1:$B$286))","v":""}]
[null,null,null,null,null,null,null,null,null,null,null,null,null,null,null,null,null,null,null,null,{"$f":"IF(W2963=\"\",\"\",LOOKUP(W2963,Hilfstabelle!$A$1:$A$286,Hilfstabelle!$B$1:$B$286))","v":""}]
[null,null,null,null,null,null,null,null,null,null,null,null,null,null,null,null,null,null,null,null,{"$f":"IF(W2965=\"\",\"\",LOOKUP(W2965,Hilfstabelle!$A$1:$A$286,Hilfstabelle!$B$1:$B$286))","v":""}]
[null,null,null,null,null,null,null,null,null,null,null,null,null,null,null,null,null,null,null,null,{"$f":"IF(W2966=\"\",\"\",LOOKUP(W2966,Hilfstabelle!$A$1:$A$286,Hilfstabelle!$B$1:$B$286))","v":""}]
[null,null,null,null,null,null,null,null,null,null,null,null,null,null,null,null,null,null,null,null,{"$f":"IF(W2969=\"\",\"\",LOOKUP(W2969,Hilfstabelle!$A$1:$A$286,Hilfstabelle!$B$1:$B$286))","v":""}]
[null,null,null,null,null,null,null,null,null,null,null,null,null,null,null,null,null,null,null,null,{"$f":"IF(W2970=\"\",\"\",LOOKUP(W2970,Hilfstabelle!$A$1:$A$286,Hilfstabelle!$B$1:$B$286))","v":""}]
[null,null,null,null,null,null,null,null,null,null,null,null,null,null,null,null,null,null,null,null,{"$f":"IF(W2974=\"\",\"\",LOOKUP(W2974,Hilfstabelle!$A$1:$A$286,Hilfstabelle!$B$1:$B$286))","v":""}]
[null,null,null,null,null,null,null,null,null,null,null,null,null,null,null,null,null,null,null,null,{"$f":"IF(W2975=\"\",\"\",LOOKUP(W2975,Hilfstabelle!$A$1:$A$286,Hilfstabelle!$B$1:$B$286))","v":""}]
[null,null,null,null,null,null,null,null,null,null,null,null,null,null,null,null,null,null,null,null,{"$f":"IF(W2978=\"\",\"\",LOOKUP(W2978,Hilfstabelle!$A$1:$A$286,Hilfstabelle!$B$1:$B$286))","v":""}]
[null,null,null,null,null,null,null,null,null,null,null,null,null,null,null,null,null,null,null,null,{"$f":"IF(W2981=\"\",\"\",LOOKUP(W2981,Hilfstabelle!$A$1:$A$286,Hilfstabelle!$B$1:$B$286))","v":""}]
[null,null,null,null,null,null,null,null,null,null,null,null,null,null,null,null,null,null,null,null,{"$f":"IF(W2983=\"\",\"\",LOOKUP(W2983,Hilfstabelle!$A$1:$A$286,Hilfstabelle!$B$1:$B$286))","v":""}]
[null,null,null,null,null,null,null,null,null,null,null,null,null,null,null,null,null,null,null,null,{"$f":"IF(W2984=\"\",\"\",LOOKUP(W2984,Hilfstabelle!$A$1:$A$286,Hilfstabelle!$B$1:$B$286))","v":""}]
[null,null,null,null,null,null,null,null,null,null,null,null,null,null,null,null,null,null,null,null,{"$f":"IF(W2987=\"\",\"\",LOOKUP(W2987,Hilfstabelle!$A$1:$A$286,Hilfstabelle!$B$1:$B$286))","v":""}]
[null,null,null,null,null,null,null,null,null,null,null,null,null,null,null,null,null,null,null,null,{"$f":"IF(W2988=\"\",\"\",LOOKUP(W2988,Hilfstabelle!$A$1:$A$286,Hilfstabelle!$B$1:$B$286))","v":""}]
[null,null,null,null,null,null,null,null,null,null,null,null,null,null,null,null,null,null,null,null,{"$f":"IF(W2992=\"\",\"\",LOOKUP(W2992,Hilfstabelle!$A$1:$A$286,Hilfstabelle!$B$1:$B$286))","v":""}]
[null,null,null,null,null,null,null,null,null,null,null,null,null,null,null,null,null,null,null,null,{"$f":"IF(W2993=\"\",\"\",LOOKUP(W2993,Hilfstabelle!$A$1:$A$286,Hilfstabelle!$B$1:$B$286))","v":""}]
[null,null,null,null,null,null,null,null,null,null,null,null,null,null,null,null,null,null,null,null,{"$f":"IF(W2996=\"\",\"\",LOOKUP(W2996,Hilfstabelle!$A$1:$A$286,Hilfstabelle!$B$1:$B$286))","v":""}]
[null,null,null,null,null,null,null,null,null,null,null,null,null,null,null,null,null,null,null,null,{"$f":"IF(W2999=\"\",\"\",LOOKUP(W2999,Hilfstabelle!$A$1:$A$286,Hilfstabelle!$B$1:$B$286))","v":""}]
[null,null,null,null,null,null,null,null,null,null,null,null,null,null,null,null,null,null,null,null,{"$f":"IF(W3001=\"\",\"\",LOOKUP(W3001,Hilfstabelle!$A$1:$A$286,Hilfstabelle!$B$1:$B$286))","v":""}]
[null,null,null,null,null,null,null,null,null,null,null,null,null,null,null,null,null,null,null,null,{"$f":"IF(W3002=\"\",\"\",LOOKUP(W3002,Hilfstabelle!$A$1:$A$286,Hilfstabelle!$B$1:$B$286))","v":""}]
[null,null,null,null,null,null,null,null,null,null,null,null,null,null,null,null,null,null,null,null,{"$f":"IF(W3005=\"\",\"\",LOOKUP(W3005,Hilfstabelle!$A$1:$A$286,Hilfstabelle!$B$1:$B$286))","v":""}]
[null,null,null,null,null,null,null,null,null,null,null,null,null,null,null,null,null,null,null,null,{"$f":"IF(W3006=\"\",\"\",LOOKUP(W3006,Hilfstabelle!$A$1:$A$286,Hilfstabelle!$B$1:$B$286))","v":""}]
[null,null,null,null,null,null,null,null,null,null,null,null,null,null,null,null,null,null,null,null,{"$f":"IF(W3010=\"\",\"\",LOOKUP(W3010,Hilfstabelle!$A$1:$A$286,Hilfstabelle!$B$1:$B$286))","v":""}]
[null,null,null,null,null,null,null,null,null,null,null,null,null,null,null,null,null,null,null,null,{"$f":"IF(W3011=\"\",\"\",LOOKUP(W3011,Hilfstabelle!$A$1:$A$286,Hilfstabelle!$B$1:$B$286))","v":""}]
[null,null,null,null,null,null,null,null,null,null,null,null,null,null,null,null,null,null,null,null,{"$f":"IF(W3014=\"\",\"\",LOOKUP(W3014,Hilfstabelle!$A$1:$A$286,Hilfstabelle!$B$1:$B$286))","v":""}]
[null,null,null,null,null,null,null,null,null,null,null,null,null,null,null,null,null,null,null,null,{"$f":"IF(W3017=\"\",\"\",LOOKUP(W3017,Hilfstabelle!$A$1:$A$286,Hilfstabelle!$B$1:$B$286))","v":""}]
[null,null,null,null,null,null,null,null,null,null,null,null,null,null,null,null,null,null,null,null,{"$f":"IF(W3019=\"\",\"\",LOOKUP(W3019,Hilfstabelle!$A$1:$A$286,Hilfstabelle!$B$1:$B$286))","v":""}]
[null,null,null,null,null,null,null,null,null,null,null,null,null,null,null,null,null,null,null,null,{"$f":"IF(W3020=\"\",\"\",LOOKUP(W3020,Hilfstabelle!$A$1:$A$286,Hilfstabelle!$B$1:$B$286))","v":""}]
[null,null,null,null,null,null,null,null,null,null,null,null,null,null,null,null,null,null,null,null,{"$f":"IF(W3023=\"\",\"\",LOOKUP(W3023,Hilfstabelle!$A$1:$A$286,Hilfstabelle!$B$1:$B$286))","v":""}]
[null,null,null,null,null,null,null,null,null,null,null,null,null,null,null,null,null,null,null,null,{"$f":"IF(W3024=\"\",\"\",LOOKUP(W3024,Hilfstabelle!$A$1:$A$286,Hilfstabelle!$B$1:$B$286))","v":""}]
[null,null,null,null,null,null,null,null,null,null,null,null,null,null,null,null,null,null,null,null,{"$f":"IF(W3028=\"\",\"\",LOOKUP(W3028,Hilfstabelle!$A$1:$A$286,Hilfstabelle!$B$1:$B$286))","v":""}]
[null,null,null,null,null,null,null,null,null,null,null,null,null,null,null,null,null,null,null,null,{"$f":"IF(W3029=\"\",\"\",LOOKUP(W3029,Hilfstabelle!$A$1:$A$286,Hilfstabelle!$B$1:$B$286))","v":""}]
[null,null,null,null,null,null,null,null,null,null,null,null,null,null,null,null,null,null,null,null,{"$f":"IF(W3032=\"\",\"\",LOOKUP(W3032,Hilfstabelle!$A$1:$A$286,Hilfstabelle!$B$1:$B$286))","v":""}]
[null,null,null,null,null,null,null,null,null,null,null,null,null,null,null,null,null,null,null,null,{"$f":"IF(W3035=\"\",\"\",LOOKUP(W3035,Hilfstabelle!$A$1:$A$286,Hilfstabelle!$B$1:$B$286))","v":""}]
[null,null,null,null,null,null,null,null,null,null,null,null,null,null,null,null,null,null,null,null,{"$f":"IF(W3037=\"\",\"\",LOOKUP(W3037,Hilfstabelle!$A$1:$A$286,Hilfstabelle!$B$1:$B$286))","v":""}]
[null,null,null,null,null,null,null,null,null,null,null,null,null,null,null,null,null,null,null,null,{"$f":"IF(W3038=\"\",\"\",LOOKUP(W3038,Hilfstabelle!$A$1:$A$286,Hilfstabelle!$B$1:$B$286))","v":""}]
[null,null,null,null,null,null,null,null,null,null,null,null,null,null,null,null,null,null,null,null,{"$f":"IF(W3041=\"\",\"\",LOOKUP(W3041,Hilfstabelle!$A$1:$A$286,Hilfstabelle!$B$1:$B$286))","v":""}]
[null,null,null,null,null,null,null,null,null,null,null,null,null,null,null,null,null,null,null,null,{"$f":"IF(W3042=\"\",\"\",LOOKUP(W3042,Hilfstabelle!$A$1:$A$286,Hilfstabelle!$B$1:$B$286))","v":""}]
[null,null,null,null,null,null,null,null,null,null,null,null,null,null,null,null,null,null,null,null,{"$f":"IF(W3046=\"\",\"\",LOOKUP(W3046,Hilfstabelle!$A$1:$A$286,Hilfstabelle!$B$1:$B$286))","v":""}]
[null,null,null,null,null,null,null,null,null,null,null,null,null,null,null,null,null,null,null,null,{"$f":"IF(W3047=\"\",\"\",LOOKUP(W3047,Hilfstabelle!$A$1:$A$286,Hilfstabelle!$B$1:$B$286))","v":""}]
[null,null,null,null,null,null,null,null,null,null,null,null,null,null,null,null,null,null,null,null,{"$f":"IF(W3050=\"\",\"\",LOOKUP(W3050,Hilfstabelle!$A$1:$A$286,Hilfstabelle!$B$1:$B$286))","v":""}]
[null,null,null,null,null,null,null,null,null,null,null,null,null,null,null,null,null,null,null,null,{"$f":"IF(W3053=\"\",\"\",LOOKUP(W3053,Hilfstabelle!$A$1:$A$286,Hilfstabelle!$B$1:$B$286))","v":""}]
[null,null,null,null,null,null,null,null,null,null,null,null,null,null,null,null,null,null,null,null,{"$f":"IF(W3055=\"\",\"\",LOOKUP(W3055,Hilfstabelle!$A$1:$A$286,Hilfstabelle!$B$1:$B$286))","v":""}]
[null,null,null,null,null,null,null,null,null,null,null,null,null,null,null,null,null,null,null,null,{"$f":"IF(W3056=\"\",\"\",LOOKUP(W3056,Hilfstabelle!$A$1:$A$286,Hilfstabelle!$B$1:$B$286))","v":""}]
[null,null,null,null,null,null,null,null,null,null,null,null,null,null,null,null,null,null,null,null,{"$f":"IF(W3059=\"\",\"\",LOOKUP(W3059,Hilfstabelle!$A$1:$A$286,Hilfstabelle!$B$1:$B$286))","v":""}]
[null,null,null,null,null,null,null,null,null,null,null,null,null,null,null,null,null,null,null,null,{"$f":"IF(W3060=\"\",\"\",LOOKUP(W3060,Hilfstabelle!$A$1:$A$286,Hilfstabelle!$B$1:$B$286))","v":""}]
[null,null,null,null,null,null,null,null,null,null,null,null,null,null,null,null,null,null,null,null,{"$f":"IF(W3064=\"\",\"\",LOOKUP(W3064,Hilfstabelle!$A$1:$A$286,Hilfstabelle!$B$1:$B$286))","v":""}]
[null,null,null,null,null,null,null,null,null,null,null,null,null,null,null,null,null,null,null,null,{"$f":"IF(W3065=\"\",\"\",LOOKUP(W3065,Hilfstabelle!$A$1:$A$286,Hilfstabelle!$B$1:$B$286))","v":""}]
[null,null,null,null,null,null,null,null,null,null,null,null,null,null,null,null,null,null,null,null,{"$f":"IF(W3068=\"\",\"\",LOOKUP(W3068,Hilfstabelle!$A$1:$A$286,Hilfstabelle!$B$1:$B$286))","v":""}]
[null,null,null,null,null,null,null,null,null,null,null,null,null,null,null,null,null,null,null,null,{"$f":"IF(W3071=\"\",\"\",LOOKUP(W3071,Hilfstabelle!$A$1:$A$286,Hilfstabelle!$B$1:$B$286))","v":""}]
[null,null,null,null,null,null,null,null,null,null,null,null,null,null,null,null,null,null,null,null,{"$f":"IF(W3073=\"\",\"\",LOOKUP(W3073,Hilfstabelle!$A$1:$A$286,Hilfstabelle!$B$1:$B$286))","v":""}]
[null,null,null,null,null,null,null,null,null,null,null,null,null,null,null,null,null,null,null,null,{"$f":"IF(W3074=\"\",\"\",LOOKUP(W3074,Hilfstabelle!$A$1:$A$286,Hilfstabelle!$B$1:$B$286))","v":""}]
[null,null,null,null,null,null,null,null,null,null,null,null,null,null,null,null,null,null,null,null,{"$f":"IF(W3077=\"\",\"\",LOOKUP(W3077,Hilfstabelle!$A$1:$A$286,Hilfstabelle!$B$1:$B$286))","v":""}]
[null,null,null,null,null,null,null,null,null,null,null,null,null,null,null,null,null,null,null,null,{"$f":"IF(W3078=\"\",\"\",LOOKUP(W3078,Hilfstabelle!$A$1:$A$286,Hilfstabelle!$B$1:$B$286))","v":""}]
[null,null,null,null,null,null,null,null,null,null,null,null,null,null,null,null,null,null,null,null,{"$f":"IF(W3082=\"\",\"\",LOOKUP(W3082,Hilfstabelle!$A$1:$A$286,Hilfstabelle!$B$1:$B$286))","v":""}]
[null,null,null,null,null,null,null,null,null,null,null,null,null,null,null,null,null,null,null,null,{"$f":"IF(W3083=\"\",\"\",LOOKUP(W3083,Hilfstabelle!$A$1:$A$286,Hilfstabelle!$B$1:$B$286))","v":""}]
[null,null,null,null,null,null,null,null,null,null,null,null,null,null,null,null,null,null,null,null,{"$f":"IF(W3086=\"\",\"\",LOOKUP(W3086,Hilfstabelle!$A$1:$A$286,Hilfstabelle!$B$1:$B$286))","v":""}]
[null,null,null,null,null,null,null,null,null,null,null,null,null,null,null,null,null,null,null,null,{"$f":"IF(W3089=\"\",\"\",LOOKUP(W3089,Hilfstabelle!$A$1:$A$286,Hilfstabelle!$B$1:$B$286))","v":""}]
[null,null,null,null,null,null,null,null,null,null,null,null,null,null,null,null,null,null,null,null,{"$f":"IF(W3091=\"\",\"\",LOOKUP(W3091,Hilfstabelle!$A$1:$A$286,Hilfstabelle!$B$1:$B$286))","v":""}]
[null,null,null,null,null,null,null,null,null,null,null,null,null,null,null,null,null,null,null,null,{"$f":"IF(W3092=\"\",\"\",LOOKUP(W3092,Hilfstabelle!$A$1:$A$286,Hilfstabelle!$B$1:$B$286))","v":""}]
[null,null,null,null,null,null,null,null,null,null,null,null,null,null,null,null,null,null,null,null,{"$f":"IF(W3095=\"\",\"\",LOOKUP(W3095,Hilfstabelle!$A$1:$A$286,Hilfstabelle!$B$1:$B$286))","v":""}]
[null,null,null,null,null,null,null,null,null,null,null,null,null,null,null,null,null,null,null,null,{"$f":"IF(W3097=\"\",\"\",LOOKUP(W3097,Hilfstabelle!$A$1:$A$286,Hilfstabelle!$B$1:$B$286))","v":""}]
[null,null,null,null,null,null,null,null,null,null,null,null,null,null,null,null,null,null,null,null,{"$f":"IF(W3100=\"\",\"\",LOOKUP(W3100,Hilfstabelle!$A$1:$A$286,Hilfstabelle!$B$1:$B$286))","v":""}]
[null,null,null,null,null,null,null,null,null,null,null,null,null,null,null,null,null,null,null,null,{"$f":"IF(W3101=\"\",\"\",LOOKUP(W3101,Hilfstabelle!$A$1:$A$286,Hilfstabelle!$B$1:$B$286))","v":""}]
[null,null,null,null,null,null,null,null,null,null,null,null,null,null,null,null,null,null,null,null,{"$f":"IF(W3104=\"\",\"\",LOOKUP(W3104,Hilfstabelle!$A$1:$A$286,Hilfstabelle!$B$1:$B$286))","v":""}]
[null,null,null,null,null,null,null,null,null,null,null,null,null,null,null,null,null,null,null,null,{"$f":"IF(W3107=\"\",\"\",LOOKUP(W3107,Hilfstabelle!$A$1:$A$286,Hilfstabelle!$B$1:$B$286))","v":""}]
[null,null,null,null,null,null,null,null,null,null,null,null,null,null,null,null,null,null,null,null,{"$f":"IF(W3109=\"\",\"\",LOOKUP(W3109,Hilfstabelle!$A$1:$A$286,Hilfstabelle!$B$1:$B$286))","v":""}]
[null,null,null,null,null,null,null,null,null,null,null,null,null,null,null,null,null,null,null,null,{"$f":"IF(W3110=\"\",\"\",LOOKUP(W3110,Hilfstabelle!$A$1:$A$286,Hilfstabelle!$B$1:$B$286))","v":""}]
[null,null,null,null,null,null,null,null,null,null,null,null,null,null,null,null,null,null,null,null,{"$f":"IF(W3113=\"\",\"\",LOOKUP(W3113,Hilfstabelle!$A$1:$A$286,Hilfstabelle!$B$1:$B$286))","v":""}]
[null,null,null,null,null,null,null,null,null,null,null,null,null,null,null,null,null,null,null,null,{"$f":"IF(W3115=\"\",\"\",LOOKUP(W3115,Hilfstabelle!$A$1:$A$286,Hilfstabelle!$B$1:$B$286))","v":""}]
[null,null,null,null,null,null,null,null,null,null,null,null,null,null,null,null,null,null,null,null,{"$f":"IF(W3118=\"\",\"\",LOOKUP(W3118,Hilfstabelle!$A$1:$A$286,Hilfstabelle!$B$1:$B$286))","v":""}]
[null,null,null,null,null,null,null,null,null,null,null,null,null,null,null,null,null,null,null,null,{"$f":"IF(W3119=\"\",\"\",LOOKUP(W3119,Hilfstabelle!$A$1:$A$286,Hilfstabelle!$B$1:$B$286))","v":""}]
[null,null,null,null,null,null,null,null,null,null,null,null,null,null,null,null,null,null,null,null,{"$f":"IF(W3122=\"\",\"\",LOOKUP(W3122,Hilfstabelle!$A$1:$A$286,Hilfstabelle!$B$1:$B$286))","v":""}]
[null,null,null,null,null,null,null,null,null,null,null,null,null,null,null,null,null,null,null,null,{"$f":"IF(W3125=\"\",\"\",LOOKUP(W3125,Hilfstabelle!$A$1:$A$286,Hilfstabelle!$B$1:$B$286))","v":""}]
[null,null,null,null,null,null,null,null,null,null,null,null,null,null,null,null,null,null,null,null,{"$f":"IF(W3127=\"\",\"\",LOOKUP(W3127,Hilfstabelle!$A$1:$A$286,Hilfstabelle!$B$1:$B$286))","v":""}]
[null,null,null,null,null,null,null,null,null,null,null,null,null,null,null,null,null,null,null,null,{"$f":"IF(W3128=\"\",\"\",LOOKUP(W3128,Hilfstabelle!$A$1:$A$286,Hilfstabelle!$B$1:$B$286))","v":""}]
[null,null,null,null,null,null,null,null,null,null,null,null,null,null,null,null,null,null,null,null,{"$f":"IF(W3130=\"\",\"\",LOOKUP(W3130,Hilfstabelle!$A$1:$A$286,Hilfstabelle!$B$1:$B$286))","v":""}]
[null,null,null,null,null,null,null,null,null,null,null,null,null,null,null,null,null,null,null,null,{"$f":"IF(W3133=\"\",\"\",LOOKUP(W3133,Hilfstabelle!$A$1:$A$286,Hilfstabelle!$B$1:$B$286))","v":""}]
[null,null,null,null,null,null,null,null,null,null,null,null,null,null,null,null,null,null,null,null,{"$f":"IF(W3136=\"\",\"\",LOOKUP(W3136,Hilfstabelle!$A$1:$A$286,Hilfstabelle!$B$1:$B$286))","v":""}]
[null,null,null,null,null,null,null,null,null,null,null,null,null,null,null,null,null,null,null,null,{"$f":"IF(W3137=\"\",\"\",LOOKUP(W3137,Hilfstabelle!$A$1:$A$286,Hilfstabelle!$B$1:$B$286))","v":""}]
[null,null,null,null,null,null,null,null,null,null,null,null,null,null,null,null,null,null,null,null,{"$f":"IF(W3141=\"\",\"\",LOOKUP(W3141,Hilfstabelle!$A$1:$A$286,Hilfstabelle!$B$1:$B$286))","v":""}]
[null,null,null,null,null,null,null,null,null,null,null,null,null,null,null,null,null,null,null,null,{"$f":"IF(W3142=\"\",\"\",LOOKUP(W3142,Hilfstabelle!$A$1:$A$286,Hilfstabelle!$B$1:$B$286))","v":""}]
[null,null,null,null,null,null,null,null,null,null,null,null,null,null,null,null,null,null,null,null,{"$f":"IF(W3145=\"\",\"\",LOOKUP(W3145,Hilfstabelle!$A$1:$A$286,Hilfstabelle!$B$1:$B$286))","v":""}]
[null,null,null,null,null,null,null,null,null,null,null,null,null,null,null,null,null,null,null,null,{"$f":"IF(W3146=\"\",\"\",LOOKUP(W3146,Hilfstabelle!$A$1:$A$286,Hilfstabelle!$B$1:$B$286))","v":""}]
[null,null,null,null,null,null,null,null,null,null,null,null,null,null,null,null,null,null,null,null,{"$f":"IF(W3148=\"\",\"\",LOOKUP(W3148,Hilfstabelle!$A$1:$A$286,Hilfstabelle!$B$1:$B$286))","v":""}]
[null,null,null,null,null,null,null,null,null,null,null,null,null,null,null,null,null,null,null,null,{"$f":"IF(W3151=\"\",\"\",LOOKUP(W3151,Hilfstabelle!$A$1:$A$286,Hilfstabelle!$B$1:$B$286))","v":""}]
[null,null,null,null,null,null,null,null,null,null,null,null,null,null,null,null,null,null,null,null,{"$f":"IF(W3154=\"\",\"\",LOOKUP(W3154,Hilfstabelle!$A$1:$A$286,Hilfstabelle!$B$1:$B$286))","v":""}]
[null,null,null,null,null,null,null,null,null,null,null,null,null,null,null,null,null,null,null,null,{"$f":"IF(W3155=\"\",\"\",LOOKUP(W3155,Hilfstabelle!$A$1:$A$286,Hilfstabelle!$B$1:$B$286))","v":""}]
[null,null,null,null,null,null,null,null,null,null,null,null,null,null,null,null,null,null,null,null,{"$f":"IF(W3159=\"\",\"\",LOOKUP(W3159,Hilfstabelle!$A$1:$A$286,Hilfstabelle!$B$1:$B$286))","v":""}]
[null,null,null,null,null,null,null,null,null,null,null,null,null,null,null,null,null,null,null,null,{"$f":"IF(W3160=\"\",\"\",LOOKUP(W3160,Hilfstabelle!$A$1:$A$286,Hilfstabelle!$B$1:$B$286))","v":""}]
[null,null,null,null,null,null,null,null,null,null,null,null,null,null,null,null,null,null,null,null,{"$f":"IF(W3163=\"\",\"\",LOOKUP(W3163,Hilfstabelle!$A$1:$A$286,Hilfstabelle!$B$1:$B$286))","v":""}]
[null,null,null,null,null,null,null,null,null,null,null,null,null,null,null,null,null,null,null,null,{"$f":"IF(W3164=\"\",\"\",LOOKUP(W3164,Hilfstabelle!$A$1:$A$286,Hilfstabelle!$B$1:$B$286))","v":""}]
[null,null,null,null,null,null,null,null,null,null,null,null,null,null,null,null,null,null,null,null,{"$f":"IF(W3166=\"\",\"\",LOOKUP(W3166,Hilfstabelle!$A$1:$A$286,Hilfstabelle!$B$1:$B$286))","v":""}]
[null,null,null,null,null,null,null,null,null,null,null,null,null,null,null,null,null,null,null,null,{"$f":"IF(W3169=\"\",\"\",LOOKUP(W3169,Hilfstabelle!$A$1:$A$286,Hilfstabelle!$B$1:$B$286))","v":""}]
[null,null,null,null,null,null,null,null,null,null,null,null,null,null,null,null,null,null,null,null,{"$f":"IF(W3172=\"\",\"\",LOOKUP(W3172,Hilfstabelle!$A$1:$A$286,Hilfstabelle!$B$1:$B$286))","v":""}]
[null,null,null,null,null,null,null,null,null,null,null,null,null,null,null,null,null,null,null,null,{"$f":"IF(W3173=\"\",\"\",LOOKUP(W3173,Hilfstabelle!$A$1:$A$286,Hilfstabelle!$B$1:$B$286))","v":""}]
[null,null,null,null,null,null,null,null,null,null,null,null,null,null,null,null,null,null,null,null,{"$f":"IF(W3177=\"\",\"\",LOOKUP(W3177,Hilfstabelle!$A$1:$A$286,Hilfstabelle!$B$1:$B$286))","v":""}]
[null,null,null,null,null,null,null,null,null,null,null,null,null,null,null,null,null,null,null,null,{"$f":"IF(W3178=\"\",\"\",LOOKUP(W3178,Hilfstabelle!$A$1:$A$286,Hilfstabelle!$B$1:$B$286))","v":""}]
[null,null,null,null,null,null,null,null,null,null,null,null,null,null,null,null,null,null,null,null,{"$f":"IF(W3181=\"\",\"\",LOOKUP(W3181,Hilfstabelle!$A$1:$A$286,Hilfstabelle!$B$1:$B$286))","v":""}]
[null,null,null,null,null,null,null,null,null,null,null,null,null,null,null,null,null,null,null,null,{"$f":"IF(W3182=\"\",\"\",LOOKUP(W3182,Hilfstabelle!$A$1:$A$286,Hilfstabelle!$B$1:$B$286))","v":""}]
[null,null,null,null,null,null,null,null,null,null,null,null,null,null,null,null,null,null,null,null,{"$f":"IF(W3184=\"\",\"\",LOOKUP(W3184,Hilfstabelle!$A$1:$A$286,Hilfstabelle!$B$1:$B$286))","v":""}]
[null,null,null,null,null,null,null,null,null,null,null,null,null,null,null,null,null,null,null,null,{"$f":"IF(W3187=\"\",\"\",LOOKUP(W3187,Hilfstabelle!$A$1:$A$286,Hilfstabelle!$B$1:$B$286))","v":""}]
[null,null,null,null,null,null,null,null,null,null,null,null,null,null,null,null,null,null,null,null,{"$f":"IF(W3190=\"\",\"\",LOOKUP(W3190,Hilfstabelle!$A$1:$A$286,Hilfstabelle!$B$1:$B$286))","v":""}]
[null,null,null,null,null,null,null,null,null,null,null,null,null,null,null,null,null,null,null,null,{"$f":"IF(W3191=\"\",\"\",LOOKUP(W3191,Hilfstabelle!$A$1:$A$286,Hilfstabelle!$B$1:$B$286))","v":""}]
[null,null,null,null,null,null,null,null,null,null,null,null,null,null,null,null,null,null,null,null,{"$f":"IF(W3195=\"\",\"\",LOOKUP(W3195,Hilfstabelle!$A$1:$A$286,Hilfstabelle!$B$1:$B$286))","v":""}]
[null,null,null,null,null,null,null,null,null,null,null,null,null,null,null,null,null,null,null,null,{"$f":"IF(W3196=\"\",\"\",LOOKUP(W3196,Hilfstabelle!$A$1:$A$286,Hilfstabelle!$B$1:$B$286))","v":""}]
[null,null,null,null,null,null,null,null,null,null,null,null,null,null,null,null,null,null,null,null,{"$f":"IF(W3199=\"\",\"\",LOOKUP(W3199,Hilfstabelle!$A$1:$A$286,Hilfstabelle!$B$1:$B$286))","v":""}]
[null,null,null,null,null,null,null,null,null,null,null,null,null,null,null,null,null,null,null,null,{"$f":"IF(W3200=\"\",\"\",LOOKUP(W3200,Hilfstabelle!$A$1:$A$286,Hilfstabelle!$B$1:$B$286))","v":""}]
[null,null,null,null,null,null,null,null,null,null,null,null,null,null,null,null,null,null,null,null,{"$f":"IF(W3202=\"\",\"\",LOOKUP(W3202,Hilfstabelle!$A$1:$A$286,Hilfstabelle!$B$1:$B$286))","v":""}]
[null,null,null,null,null,null,null,null,null,null,null,null,null,null,null,null,null,null,null,null,{"$f":"IF(W3205=\"\",\"\",LOOKUP(W3205,Hilfstabelle!$A$1:$A$286,Hilfstabelle!$B$1:$B$286))","v":""}]
[null,null,null,null,null,null,null,null,null,null,null,null,null,null,null,null,null,null,null,null,{"$f":"IF(W3208=\"\",\"\",LOOKUP(W3208,Hilfstabelle!$A$1:$A$286,Hilfstabelle!$B$1:$B$286))","v":""}]
[null,null,null,null,null,null,null,null,null,null,null,null,null,null,null,null,null,null,null,null,{"$f":"IF(W3209=\"\",\"\",LOOKUP(W3209,Hilfstabelle!$A$1:$A$286,Hilfstabelle!$B$1:$B$286))","v":""}]
[null,null,null,null,null,null,null,null,null,null,null,null,null,null,null,null,null,null,null,null,{"$f":"IF(W3213=\"\",\"\",LOOKUP(W3213,Hilfstabelle!$A$1:$A$286,Hilfstabelle!$B$1:$B$286))","v":""}]
[null,null,null,null,null,null,null,null,null,null,null,null,null,null,null,null,null,null,null,null,{"$f":"IF(W3214=\"\",\"\",LOOKUP(W3214,Hilfstabelle!$A$1:$A$286,Hilfstabelle!$B$1:$B$286))","v":""}]
[null,null,null,null,null,null,null,null,null,null,null,null,null,null,null,null,null,null,null,null,{"$f":"IF(W3217=\"\",\"\",LOOKUP(W3217,Hilfstabelle!$A$1:$A$286,Hilfstabelle!$B$1:$B$286))","v":""}]
[null,null,null,null,null,null,null,null,null,null,null,null,null,null,null,null,null,null,null,null,{"$f":"IF(W3218=\"\",\"\",LOOKUP(W3218,Hilfstabelle!$A$1:$A$286,Hilfstabelle!$B$1:$B$286))","v":""}]
[null,null,null,null,null,null,null,null,null,null,null,null,null,null,null,null,null,null,null,null,{"$f":"IF(W3221=\"\",\"\",LOOKUP(W3221,Hilfstabelle!$A$1:$A$286,Hilfstabelle!$B$1:$B$286))","v":""}]
[null,null,null,null,null,null,null,null,null,null,null,null,null,null,null,null,null,null,null,null,{"$f":"IF(W3223=\"\",\"\",LOOKUP(W3223,Hilfstabelle!$A$1:$A$286,Hilfstabelle!$B$1:$B$286))","v":""}]
[null,null,null,null,null,null,null,null,null,null,null,null,null,null,null,null,null,null,null,null,{"$f":"IF(W3226=\"\",\"\",LOOKUP(W3226,Hilfstabelle!$A$1:$A$286,Hilfstabelle!$B$1:$B$286))","v":""}]
[null,null,null,null,null,null,null,null,null,null,null,null,null,null,null,null,null,null,null,null,{"$f":"IF(W3227=\"\",\"\",LOOKUP(W3227,Hilfstabelle!$A$1:$A$286,Hilfstabelle!$B$1:$B$286))","v":""}]
[null,null,null,null,null,null,null,null,null,null,null,null,null,null,null,null,null,null,null,null,{"$f":"IF(W3231=\"\",\"\",LOOKUP(W3231,Hilfstabelle!$A$1:$A$286,Hilfstabelle!$B$1:$B$286))","v":""}]
[null,null,null,null,null,null,null,null,null,null,null,null,null,null,null,null,null,null,null,null,{"$f":"IF(W3232=\"\",\"\",LOOKUP(W3232,Hilfstabelle!$A$1:$A$286,Hilfstabelle!$B$1:$B$286))","v":""}]
[null,null,null,null,null,null,null,null,null,null,null,null,null,null,null,null,null,null,null,null,{"$f":"IF(W3235=\"\",\"\",LOOKUP(W3235,Hilfstabelle!$A$1:$A$286,Hilfstabelle!$B$1:$B$286))","v":""}]
[null,null,null,null,null,null,null,null,null,null,null,null,null,null,null,null,null,null,null,null,{"$f":"IF(W3236=\"\",\"\",LOOKUP(W3236,Hilfstabelle!$A$1:$A$286,Hilfstabelle!$B$1:$B$286))","v":""}]
[null,null,null,null,null,null,null,null,null,null,null,null,null,null,null,null,null,null,null,null,{"$f":"IF(W3239=\"\",\"\",LOOKUP(W3239,Hilfstabelle!$A$1:$A$286,Hilfstabelle!$B$1:$B$286))","v":""}]
[null,null,null,null,null,null,null,null,null,null,null,null,null,null,null,null,null,null,null,null,{"$f":"IF(W3241=\"\",\"\",LOOKUP(W3241,Hilfstabelle!$A$1:$A$286,Hilfstabelle!$B$1:$B$286))","v":""}]
[null,null,null,null,null,null,null,null,null,null,null,null,null,null,null,null,null,null,null,null,{"$f":"IF(W3244=\"\",\"\",LOOKUP(W3244,Hilfstabelle!$A$1:$A$286,Hilfstabelle!$B$1:$B$286))","v":""}]
[null,null,null,null,null,null,null,null,null,null,null,null,null,null,null,null,null,null,null,null,{"$f":"IF(W3245=\"\",\"\",LOOKUP(W3245,Hilfstabelle!$A$1:$A$286,Hilfstabelle!$B$1:$B$286))","v":""}]
[null,null,null,null,null,null,null,null,null,null,null,null,null,null,null,null,null,null,null,null,{"$f":"IF(W3249=\"\",\"\",LOOKUP(W3249,Hilfstabelle!$A$1:$A$286,Hilfstabelle!$B$1:$B$286))","v":""}]
[null,null,null,null,null,null,null,null,null,null,null,null,null,null,null,null,null,null,null,null,{"$f":"IF(W3250=\"\",\"\",LOOKUP(W3250,Hilfstabelle!$A$1:$A$286,Hilfstabelle!$B$1:$B$286))","v":""}]
[null,null,null,null,null,null,null,null,null,null,null,null,null,null,null,null,null,null,null,null,{"$f":"IF(W3253=\"\",\"\",LOOKUP(W3253,Hilfstabelle!$A$1:$A$286,Hilfstabelle!$B$1:$B$286))","v":""}]
[null,null,null,null,null,null,null,null,null,null,null,null,null,null,null,null,null,null,null,null,{"$f":"IF(W3254=\"\",\"\",LOOKUP(W3254,Hilfstabelle!$A$1:$A$286,Hilfstabelle!$B$1:$B$286))","v":""}]
[null,null,null,null,null,null,null,null,null,null,null,null,null,null,null,null,null,null,null,null,{"$f":"IF(W3257=\"\",\"\",LOOKUP(W3257,Hilfstabelle!$A$1:$A$286,Hilfstabelle!$B$1:$B$286))","v":""}]
[null,null,null,null,null,null,null,null,null,null,null,null,null,null,null,null,null,null,null,null,{"$f":"IF(W3259=\"\",\"\",LOOKUP(W3259,Hilfstabelle!$A$1:$A$286,Hilfstabelle!$B$1:$B$286))","v":""}]
[null,null,null,null,null,null,null,null,null,null,null,null,null,null,null,null,null,null,null,null,{"$f":"IF(W3262=\"\",\"\",LOOKUP(W3262,Hilfstabelle!$A$1:$A$286,Hilfstabelle!$B$1:$B$286))","v":""}]
[null,null,null,null,null,null,null,null,null,null,null,null,null,null,null,null,null,null,null,null,{"$f":"IF(W3263=\"\",\"\",LOOKUP(W3263,Hilfstabelle!$A$1:$A$286,Hilfstabelle!$B$1:$B$286))","v":""}]
[null,null,null,null,null,null,null,null,null,null,null,null,null,null,null,null,null,null,null,null,{"$f":"IF(W3267=\"\",\"\",LOOKUP(W3267,Hilfstabelle!$A$1:$A$286,Hilfstabelle!$B$1:$B$286))","v":""}]
[null,null,null,null,null,null,null,null,null,null,null,null,null,null,null,null,null,null,null,null,{"$f":"IF(W3268=\"\",\"\",LOOKUP(W3268,Hilfstabelle!$A$1:$A$286,Hilfstabelle!$B$1:$B$286))","v":""}]
[null,null,null,null,null,null,null,null,null,null,null,null,null,null,null,null,null,null,null,null,{"$f":"IF(W3271=\"\",\"\",LOOKUP(W3271,Hilfstabelle!$A$1:$A$286,Hilfstabelle!$B$1:$B$286))","v":""}]
[null,null,null,null,null,null,null,null,null,null,null,null,null,null,null,null,null,null,null,null,{"$f":"IF(W3272=\"\",\"\",LOOKUP(W3272,Hilfstabelle!$A$1:$A$286,Hilfstabelle!$B$1:$B$286))","v":""}]
[null,null,null,null,null,null,null,null,null,null,null,null,null,null,null,null,null,null,null,null,{"$f":"IF(W3275=\"\",\"\",LOOKUP(W3275,Hilfstabelle!$A$1:$A$286,Hilfstabelle!$B$1:$B$286))","v":""}]
[null,null,null,null,null,null,null,null,null,null,null,null,null,null,null,null,null,null,null,null,{"$f":"IF(W3277=\"\",\"\",LOOKUP(W3277,Hilfstabelle!$A$1:$A$286,Hilfstabelle!$B$1:$B$286))","v":""}]
[null,null,null,null,null,null,null,null,null,null,null,null,null,null,null,null,null,null,null,null,{"$f":"IF(W3280=\"\",\"\",LOOKUP(W3280,Hilfstabelle!$A$1:$A$286,Hilfstabelle!$B$1:$B$286))","v":""}]
[null,null,null,null,null,null,null,null,null,null,null,null,null,null,null,null,null,null,null,null,{"$f":"IF(W3281=\"\",\"\",LOOKUP(W3281,Hilfstabelle!$A$1:$A$286,Hilfstabelle!$B$1:$B$286))","v":""}]
[null,null,null,null,null,null,null,null,null,null,null,null,null,null,null,null,null,null,null,null,{"$f":"IF(W3285=\"\",\"\",LOOKUP(W3285,Hilfstabelle!$A$1:$A$286,Hilfstabelle!$B$1:$B$286))","v":""}]
[null,null,null,null,null,null,null,null,null,null,null,null,null,null,null,null,null,null,null,null,{"$f":"IF(W3286=\"\",\"\",LOOKUP(W3286,Hilfstabelle!$A$1:$A$286,Hilfstabelle!$B$1:$B$286))","v":""}]
[null,null,null,null,null,null,null,null,null,null,null,null,null,null,null,null,null,null,null,null,{"$f":"IF(W3289=\"\",\"\",LOOKUP(W3289,Hilfstabelle!$A$1:$A$286,Hilfstabelle!$B$1:$B$286))","v":""}]
[null,null,null,null,null,null,null,null,null,null,null,null,null,null,null,null,null,null,null,null,{"$f":"IF(W3290=\"\",\"\",LOOKUP(W3290,Hilfstabelle!$A$1:$A$286,Hilfstabelle!$B$1:$B$286))","v":""}]
[null,null,null,null,null,null,null,null,null,null,null,null,null,null,null,null,null,null,null,null,{"$f":"IF(W3293=\"\",\"\",LOOKUP(W3293,Hilfstabelle!$A$1:$A$286,Hilfstabelle!$B$1:$B$286))","v":""}]
[null,null,null,null,null,null,null,null,null,null,null,null,null,null,null,null,null,null,null,null,{"$f":"IF(W3295=\"\",\"\",LOOKUP(W3295,Hilfstabelle!$A$1:$A$286,Hilfstabelle!$B$1:$B$286))","v":""}]
[null,null,null,null,null,null,null,null,null,null,null,null,null,null,null,null,null,null,null,null,{"$f":"IF(W3298=\"\",\"\",LOOKUP(W3298,Hilfstabelle!$A$1:$A$286,Hilfstabelle!$B$1:$B$286))","v":""}]
[null,null,null,null,null,null,null,null,null,null,null,null,null,null,null,null,null,null,null,null,{"$f":"IF(W3299=\"\",\"\",LOOKUP(W3299,Hilfstabelle!$A$1:$A$286,Hilfstabelle!$B$1:$B$286))","v":""}]
[null,null,null,null,null,null,null,null,null,null,null,null,null,null,null,null,null,null,null,null,{"$f":"IF(W3303=\"\",\"\",LOOKUP(W3303,Hilfstabelle!$A$1:$A$286,Hilfstabelle!$B$1:$B$286))","v":""}]
[null,null,null,null,null,null,null,null,null,null,null,null,null,null,null,null,null,null,null,null,{"$f":"IF(W3304=\"\",\"\",LOOKUP(W3304,Hilfstabelle!$A$1:$A$286,Hilfstabelle!$B$1:$B$286))","v":""}]
[null,null,null,null,null,null,null,null,null,null,null,null,null,null,null,null,null,null,null,null,{"$f":"IF(W3307=\"\",\"\",LOOKUP(W3307,Hilfstabelle!$A$1:$A$286,Hilfstabelle!$B$1:$B$286))","v":""}]
[null,null,null,null,null,null,null,null,null,null,null,null,null,null,null,null,null,null,null,null,{"$f":"IF(W3308=\"\",\"\",LOOKUP(W3308,Hilfstabelle!$A$1:$A$286,Hilfstabelle!$B$1:$B$286))","v":""}]
[null,null,null,null,null,null,null,null,null,null,null,null,null,null,null,null,null,null,null,null,{"$f":"IF(W3311=\"\",\"\",LOOKUP(W3311,Hilfstabelle!$A$1:$A$286,Hilfstabelle!$B$1:$B$286))","v":""}]
[null,null,null,null,null,null,null,null,null,null,null,null,null,null,null,null,null,null,null,null,{"$f":"IF(W3313=\"\",\"\",LOOKUP(W3313,Hilfstabelle!$A$1:$A$286,Hilfstabelle!$B$1:$B$286))","v":""}]
[null,null,null,null,null,null,null,null,null,null,null,null,null,null,null,null,null,null,null,null,{"$f":"IF(W3316=\"\",\"\",LOOKUP(W3316,Hilfstabelle!$A$1:$A$286,Hilfstabelle!$B$1:$B$286))","v":""}]
[null,null,null,null,null,null,null,null,null,null,null,null,null,null,null,null,null,null,null,null,{"$f":"IF(W3317=\"\",\"\",LOOKUP(W3317,Hilfstabelle!$A$1:$A$286,Hilfstabelle!$B$1:$B$286))","v":""}]
[null,null,null,null,null,null,null,null,null,null,null,null,null,null,null,null,null,null,null,null,{"$f":"IF(W3321=\"\",\"\",LOOKUP(W3321,Hilfstabelle!$A$1:$A$286,Hilfstabelle!$B$1:$B$286))","v":""}]
[null,null,null,null,null,null,null,null,null,null,null,null,null,null,null,null,null,null,null,null,{"$f":"IF(W3322=\"\",\"\",LOOKUP(W3322,Hilfstabelle!$A$1:$A$286,Hilfstabelle!$B$1:$B$286))","v":""}]
[null,null,null,null,null,null,null,null,null,null,null,null,null,null,null,null,null,null,null,null,{"$f":"IF(W3325=\"\",\"\",LOOKUP(W3325,Hilfstabelle!$A$1:$A$286,Hilfstabelle!$B$1:$B$286))","v":""}]
[null,null,null,null,null,null,null,null,null,null,null,null,null,null,null,null,null,null,null,null,{"$f":"IF(W3326=\"\",\"\",LOOKUP(W3326,Hilfstabelle!$A$1:$A$286,Hilfstabelle!$B$1:$B$286))","v":""}]
[null,null,null,null,null,null,null,null,null,null,null,null,null,null,null,null,null,null,null,null,{"$f":"IF(W3329=\"\",\"\",LOOKUP(W3329,Hilfstabelle!$A$1:$A$286,Hilfstabelle!$B$1:$B$286))","v":""}]
[null,null,null,null,null,null,null,null,null,null,null,null,null,null,null,null,null,null,null,null,{"$f":"IF(W3331=\"\",\"\",LOOKUP(W3331,Hilfstabelle!$A$1:$A$286,Hilfstabelle!$B$1:$B$286))","v":""}]
[null,null,null,null,null,null,null,null,null,null,null,null,null,null,null,null,null,null,null,null,{"$f":"IF(W3334=\"\",\"\",LOOKUP(W3334,Hilfstabelle!$A$1:$A$286,Hilfstabelle!$B$1:$B$286))","v":""}]
[null,null,null,null,null,null,null,null,null,null,null,null,null,null,null,null,null,null,null,null,{"$f":"IF(W3335=\"\",\"\",LOOKUP(W3335,Hilfstabelle!$A$1:$A$286,Hilfstabelle!$B$1:$B$286))","v":""}]
[null,null,null,null,null,null,null,null,null,null,null,null,null,null,null,null,null,null,null,null,{"$f":"IF(W3339=\"\",\"\",LOOKUP(W3339,Hilfstabelle!$A$1:$A$286,Hilfstabelle!$B$1:$B$286))","v":""}]
[null,null,null,null,null,null,null,null,null,null,null,null,null,null,null,null,null,null,null,null,{"$f":"IF(W3340=\"\",\"\",LOOKUP(W3340,Hilfstabelle!$A$1:$A$286,Hilfstabelle!$B$1:$B$286))","v":""}]
[null,null,null,null,null,null,null,null,null,null,null,null,null,null,null,null,null,null,null,null,{"$f":"IF(W3343=\"\",\"\",LOOKUP(W3343,Hilfstabelle!$A$1:$A$286,Hilfstabelle!$B$1:$B$286))","v":""}]
[null,null,null,null,null,null,null,null,null,null,null,null,null,null,null,null,null,null,null,null,{"$f":"IF(W3344=\"\",\"\",LOOKUP(W3344,Hilfstabelle!$A$1:$A$286,Hilfstabelle!$B$1:$B$286))","v":""}]
[null,null,null,null,null,null,null,null,null,null,null,null,null,null,null,null,null,null,null,null,{"$f":"IF(W3347=\"\",\"\",LOOKUP(W3347,Hilfstabelle!$A$1:$A$286,Hilfstabelle!$B$1:$B$286))","v":""}]
[null,null,null,null,null,null,null,null,null,null,null,null,null,null,null,null,null,null,null,null,{"$f":"IF(W3349=\"\",\"\",LOOKUP(W3349,Hilfstabelle!$A$1:$A$286,Hilfstabelle!$B$1:$B$286))","v":""}]
[null,null,null,null,null,null,null,null,null,null,null,null,null,null,null,null,null,null,null,null,{"$f":"IF(W3352=\"\",\"\",LOOKUP(W3352,Hilfstabelle!$A$1:$A$286,Hilfstabelle!$B$1:$B$286))","v":""}]
[null,null,null,null,null,null,null,null,null,null,null,null,null,null,null,null,null,null,null,null,{"$f":"IF(W3353=\"\",\"\",LOOKUP(W3353,Hilfstabelle!$A$1:$A$286,Hilfstabelle!$B$1:$B$286))","v":""}]
[null,null,null,null,null,null,null,null,null,null,null,null,null,null,null,null,null,null,null,null,{"$f":"IF(W3357=\"\",\"\",LOOKUP(W3357,Hilfstabelle!$A$1:$A$286,Hilfstabelle!$B$1:$B$286))","v":""}]
[null,null,null,null,null,null,null,null,null,null,null,null,null,null,null,null,null,null,null,null,{"$f":"IF(W3358=\"\",\"\",LOOKUP(W3358,Hilfstabelle!$A$1:$A$286,Hilfstabelle!$B$1:$B$286))","v":""}]
[null,null,null,null,null,null,null,null,null,null,null,null,null,null,null,null,null,null,null,null,{"$f":"IF(W3361=\"\",\"\",LOOKUP(W3361,Hilfstabelle!$A$1:$A$286,Hilfstabelle!$B$1:$B$286))","v":""}]
[null,null,null,null,null,null,null,null,null,null,null,null,null,null,null,null,null,null,null,null,{"$f":"IF(W3362=\"\",\"\",LOOKUP(W3362,Hilfstabelle!$A$1:$A$286,Hilfstabelle!$B$1:$B$286))","v":""}]
[null,null,null,null,null,null,null,null,null,null,null,null,null,null,null,null,null,null,null,null,{"$f":"IF(W3365=\"\",\"\",LOOKUP(W3365,Hilfstabelle!$A$1:$A$286,Hilfstabelle!$B$1:$B$286))","v":""}]
[null,null,null,null,null,null,null,null,null,null,null,null,null,null,null,null,null,null,null,null,{"$f":"IF(W3367=\"\",\"\",LOOKUP(W3367,Hilfstabelle!$A$1:$A$286,Hilfstabelle!$B$1:$B$286))","v":""}]
[null,null,null,null,null,null,null,null,null,null,null,null,null,null,null,null,null,null,null,null,{"$f":"IF(W3370=\"\",\"\",LOOKUP(W3370,Hilfstabelle!$A$1:$A$286,Hilfstabelle!$B$1:$B$286))","v":""}]
[null,null,null,null,null,null,null,null,null,null,null,null,null,null,null,null,null,null,null,null,{"$f":"IF(W3371=\"\",\"\",LOOKUP(W3371,Hilfstabelle!$A$1:$A$286,Hilfstabelle!$B$1:$B$286))","v":""}]
[null,null,null,null,null,null,null,null,null,null,null,null,null,null,null,null,null,null,null,null,{"$f":"IF(W3375=\"\",\"\",LOOKUP(W3375,Hilfstabelle!$A$1:$A$286,Hilfstabelle!$B$1:$B$286))","v":""}]
[null,null,null,null,null,null,null,null,null,null,null,null,null,null,null,null,null,null,null,null,{"$f":"IF(W3376=\"\",\"\",LOOKUP(W3376,Hilfstabelle!$A$1:$A$286,Hilfstabelle!$B$1:$B$286))","v":""}]
[null,null,null,null,null,null,null,null,null,null,null,null,null,null,null,null,null,null,null,null,{"$f":"IF(W3379=\"\",\"\",LOOKUP(W3379,Hilfstabelle!$A$1:$A$286,Hilfstabelle!$B$1:$B$286))","v":""}]
[null,null,null,null,null,null,null,null,null,null,null,null,null,null,null,null,null,null,null,null,{"$f":"IF(W3380=\"\",\"\",LOOKUP(W3380,Hilfstabelle!$A$1:$A$286,Hilfstabelle!$B$1:$B$286))","v":""}]
[null,null,null,null,null,null,null,null,null,null,null,null,null,null,null,null,null,null,null,null,{"$f":"IF(W3383=\"\",\"\",LOOKUP(W3383,Hilfstabelle!$A$1:$A$286,Hilfstabelle!$B$1:$B$286))","v":""}]
[null,null,null,null,null,null,null,null,null,null,null,null,null,null,null,null,null,null,null,null,{"$f":"IF(W3385=\"\",\"\",LOOKUP(W3385,Hilfstabelle!$A$1:$A$286,Hilfstabelle!$B$1:$B$286))","v":""}]
[null,null,null,null,null,null,null,null,null,null,null,null,null,null,null,null,null,null,null,null,{"$f":"IF(W3388=\"\",\"\",LOOKUP(W3388,Hilfstabelle!$A$1:$A$286,Hilfstabelle!$B$1:$B$286))","v":""}]
[null,null,null,null,null,null,null,null,null,null,null,null,null,null,null,null,null,null,null,null,{"$f":"IF(W3389=\"\",\"\",LOOKUP(W3389,Hilfstabelle!$A$1:$A$286,Hilfstabelle!$B$1:$B$286))","v":""}]
[null,null,null,null,null,null,null,null,null,null,null,null,null,null,null,null,null,null,null,null,{"$f":"IF(W3391=\"\",\"\",LOOKUP(W3391,Hilfstabelle!$A$1:$A$286,Hilfstabelle!$B$1:$B$286))","v":""}]
[null,null,null,null,null,null,null,null,null,null,null,null,null,null,null,null,null,null,null,null,{"$f":"IF(W3394=\"\",\"\",LOOKUP(W3394,Hilfstabelle!$A$1:$A$286,Hilfstabelle!$B$1:$B$286))","v":""}]
[null,null,null,null,null,null,null,null,null,null,null,null,null,null,null,null,null,null,null,null,{"$f":"IF(W3397=\"\",\"\",LOOKUP(W3397,Hilfstabelle!$A$1:$A$286,Hilfstabelle!$B$1:$B$286))","v":""}]
[null,null,null,null,null,null,null,null,null,null,null,null,null,null,null,null,null,null,null,null,{"$f":"IF(W3398=\"\",\"\",LOOKUP(W3398,Hilfstabelle!$A$1:$A$286,Hilfstabelle!$B$1:$B$286))","v":""}]
[null,null,null,null,null,null,null,null,null,null,null,null,null,null,null,null,null,null,null,null,{"$f":"IF(W3401=\"\",\"\",LOOKUP(W3401,Hilfstabelle!$A$1:$A$286,Hilfstabelle!$B$1:$B$286))","v":""}]
[null,null,null,null,null,null,null,null,null,null,null,null,null,null,null,null,null,null,null,null,{"$f":"IF(W3403=\"\",\"\",LOOKUP(W3403,Hilfstabelle!$A$1:$A$286,Hilfstabelle!$B$1:$B$286))","v":""}]
[null,null,null,null,null,null,null,null,null,null,null,null,null,null,null,null,null,null,null,null,{"$f":"IF(W3406=\"\",\"\",LOOKUP(W3406,Hilfstabelle!$A$1:$A$286,Hilfstabelle!$B$1:$B$286))","v":""}]
[null,null,null,null,null,null,null,null,null,null,null,null,null,null,null,null,null,null,null,null,{"$f":"IF(W3407=\"\",\"\",LOOKUP(W3407,Hilfstabelle!$A$1:$A$286,Hilfstabelle!$B$1:$B$286))","v":""}]
[null,null,null,null,null,null,null,null,null,null,null,null,null,null,null,null,null,null,null,null,{"$f":"IF(W3409=\"\",\"\",LOOKUP(W3409,Hilfstabelle!$A$1:$A$286,Hilfstabelle!$B$1:$B$286))","v":""}]
[null,null,null,null,null,null,null,null,null,null,null,null,null,null,null,null,null,null,null,null,{"$f":"IF(W3412=\"\",\"\",LOOKUP(W3412,Hilfstabelle!$A$1:$A$286,Hilfstabelle!$B$1:$B$286))","v":""}]
[null,null,null,null,null,null,null,null,null,null,null,null,null,null,null,null,null,null,null,null,{"$f":"IF(W3415=\"\",\"\",LOOKUP(W3415,Hilfstabelle!$A$1:$A$286,Hilfstabelle!$B$1:$B$286))","v":""}]
[null,null,null,null,null,null,null,null,null,null,null,null,null,null,null,null,null,null,null,null,{"$f":"IF(W3416=\"\",\"\",LOOKUP(W3416,Hilfstabelle!$A$1:$A$286,Hilfstabelle!$B$1:$B$286))","v":""}]
[null,null,null,null,null,null,null,null,null,null,null,null,null,null,null,null,null,null,null,null,{"$f":"IF(W3419=\"\",\"\",LOOKUP(W3419,Hilfstabelle!$A$1:$A$286,Hilfstabelle!$B$1:$B$286))","v":""}]
[null,null,null,null,null,null,null,null,null,null,null,null,null,null,null,null,null,null,null,null,{"$f":"IF(W3421=\"\",\"\",LOOKUP(W3421,Hilfstabelle!$A$1:$A$286,Hilfstabelle!$B$1:$B$286))","v":""}]
[null,null,null,null,null,null,null,null,null,null,null,null,null,null,null,null,null,null,null,null,{"$f":"IF(W3424=\"\",\"\",LOOKUP(W3424,Hilfstabelle!$A$1:$A$286,Hilfstabelle!$B$1:$B$286))","v":""}]
[null,null,null,null,null,null,null,null,null,null,null,null,null,null,null,null,null,null,null,null,{"$f":"IF(W3425=\"\",\"\",LOOKUP(W3425,Hilfstabelle!$A$1:$A$286,Hilfstabelle!$B$1:$B$286))","v":""}]
[null,null,null,null,null,null,null,null,null,null,null,null,null,null,null,null,null,null,null,null,{"$f":"IF(W3427=\"\",\"\",LOOKUP(W3427,Hilfstabelle!$A$1:$A$286,Hilfstabelle!$B$1:$B$286))","v":""}]
[null,null,null,null,null,null,null,null,null,null,null,null,null,null,null,null,null,null,null,null,{"$f":"IF(W3430=\"\",\"\",LOOKUP(W3430,Hilfstabelle!$A$1:$A$286,Hilfstabelle!$B$1:$B$286))","v":""}]
[null,null,null,null,null,null,null,null,null,null,null,null,null,null,null,null,null,null,null,null,{"$f":"IF(W3433=\"\",\"\",LOOKUP(W3433,Hilfstabelle!$A$1:$A$286,Hilfstabelle!$B$1:$B$286))","v":""}]
[null,null,null,null,null,null,null,null,null,null,null,null,null,null,null,null,null,null,null,null,{"$f":"IF(W3434=\"\",\"\",LOOKUP(W3434,Hilfstabelle!$A$1:$A$286,Hilfstabelle!$B$1:$B$286))","v":""}]
[null,null,null,null,null,null,null,null,null,null,null,null,null,null,null,null,null,null,null,null,{"$f":"IF(W3437=\"\",\"\",LOOKUP(W3437,Hilfstabelle!$A$1:$A$286,Hilfstabelle!$B$1:$B$286))","v":""}]
[null,null,null,null,null,null,null,null,null,null,null,null,null,null,null,null,null,null,null,null,{"$f":"IF(W3439=\"\",\"\",LOOKUP(W3439,Hilfstabelle!$A$1:$A$286,Hilfstabelle!$B$1:$B$286))","v":""}]
[null,null,null,null,null,null,null,null,null,null,null,null,null,null,null,null,null,null,null,null,{"$f":"IF(W3442=\"\",\"\",LOOKUP(W3442,Hilfstabelle!$A$1:$A$286,Hilfstabelle!$B$1:$B$286))","v":""}]
[null,null,null,null,null,null,null,null,null,null,null,null,null,null,null,null,null,null,null,null,{"$f":"IF(W3443=\"\",\"\",LOOKUP(W3443,Hilfstabelle!$A$1:$A$286,Hilfstabelle!$B$1:$B$286))","v":""}]
[null,null,null,null,null,null,null,null,null,null,null,null,null,null,null,null,null,null,null,null,{"$f":"IF(W3445=\"\",\"\",LOOKUP(W3445,Hilfstabelle!$A$1:$A$286,Hilfstabelle!$B$1:$B$286))","v":""}]
[null,null,null,null,null,null,null,null,null,null,null,null,null,null,null,null,null,null,null,null,{"$f":"IF(W3448=\"\",\"\",LOOKUP(W3448,Hilfstabelle!$A$1:$A$286,Hilfstabelle!$B$1:$B$286))","v":""}]
[null,null,null,null,null,null,null,null,null,null,null,null,null,null,null,null,null,null,null,null,{"$f":"IF(W3451=\"\",\"\",LOOKUP(W3451,Hilfstabelle!$A$1:$A$286,Hilfstabelle!$B$1:$B$286))","v":""}]
[null,null,null,null,null,null,null,null,null,null,null,null,null,null,null,null,null,null,null,null,{"$f":"IF(W3452=\"\",\"\",LOOKUP(W3452,Hilfstabelle!$A$1:$A$286,Hilfstabelle!$B$1:$B$286))","v":""}]
[null,null,null,null,null,null,null,null,null,null,null,null,null,null,null,null,null,null,null,null,{"$f":"IF(W3455=\"\",\"\",LOOKUP(W3455,Hilfstabelle!$A$1:$A$286,Hilfstabelle!$B$1:$B$286))","v":""}]
[null,null,null,null,null,null,null,null,null,null,null,null,null,null,null,null,null,null,null,null,{"$f":"IF(W3457=\"\",\"\",LOOKUP(W3457,Hilfstabelle!$A$1:$A$286,Hilfstabelle!$B$1:$B$286))","v":""}]
[null,null,null,null,null,null,null,null,null,null,null,null,null,null,null,null,null,null,null,null,{"$f":"IF(W3460=\"\",\"\",LOOKUP(W3460,Hilfstabelle!$A$1:$A$286,Hilfstabelle!$B$1:$B$286))","v":""}]
[null,null,null,null,null,null,null,null,null,null,null,null,null,null,null,null,null,null,null,null,{"$f":"IF(W3461=\"\",\"\",LOOKUP(W3461,Hilfstabelle!$A$1:$A$286,Hilfstabelle!$B$1:$B$286))","v":""}]
[null,null,null,null,null,null,null,null,null,null,null,null,null,null,null,null,null,null,null,null,{"$f":"IF(W3463=\"\",\"\",LOOKUP(W3463,Hilfstabelle!$A$1:$A$286,Hilfstabelle!$B$1:$B$286))","v":""}]
[null,null,null,null,null,null,null,null,null,null,null,null,null,null,null,null,null,null,null,null,{"$f":"IF(W3466=\"\",\"\",LOOKUP(W3466,Hilfstabelle!$A$1:$A$286,Hilfstabelle!$B$1:$B$286))","v":""}]
[null,null,null,null,null,null,null,null,null,null,null,null,null,null,null,null,null,null,null,null,{"$f":"IF(W3469=\"\",\"\",LOOKUP(W3469,Hilfstabelle!$A$1:$A$286,Hilfstabelle!$B$1:$B$286))","v":""}]
[null,null,null,null,null,null,null,null,null,null,null,null,null,null,null,null,null,null,null,null,{"$f":"IF(W3470=\"\",\"\",LOOKUP(W3470,Hilfstabelle!$A$1:$A$286,Hilfstabelle!$B$1:$B$286))","v":""}]
[null,null,null,null,null,null,null,null,null,null,null,null,null,null,null,null,null,null,null,null,{"$f":"IF(W3473=\"\",\"\",LOOKUP(W3473,Hilfstabelle!$A$1:$A$286,Hilfstabelle!$B$1:$B$286))","v":""}]
[null,null,null,null,null,null,null,null,null,null,null,null,null,null,null,null,null,null,null,null,{"$f":"IF(W3475=\"\",\"\",LOOKUP(W3475,Hilfstabelle!$A$1:$A$286,Hilfstabelle!$B$1:$B$286))","v":""}]
[null,null,null,null,null,null,null,null,null,null,null,null,null,null,null,null,null,null,null,null,{"$f":"IF(W3478=\"\",\"\",LOOKUP(W3478,Hilfstabelle!$A$1:$A$286,Hilfstabelle!$B$1:$B$286))","v":""}]
[null,null,null,null,null,null,null,null,null,null,null,null,null,null,null,null,null,null,null,null,{"$f":"IF(W3479=\"\",\"\",LOOKUP(W3479,Hilfstabelle!$A$1:$A$286,Hilfstabelle!$B$1:$B$286))","v":""}]
[null,null,null,null,null,null,null,null,null,null,null,null,null,null,null,null,null,null,null,null,{"$f":"IF(W3481=\"\",\"\",LOOKUP(W3481,Hilfstabelle!$A$1:$A$286,Hilfstabelle!$B$1:$B$286))","v":""}]
[null,null,null,null,null,null,null,null,null,null,null,null,null,null,null,null,null,null,null,null,{"$f":"IF(W3484=\"\",\"\",LOOKUP(W3484,Hilfstabelle!$A$1:$A$286,Hilfstabelle!$B$1:$B$286))","v":""}]
[null,null,null,null,null,null,null,null,null,null,null,null,null,null,null,null,null,null,null,null,{"$f":"IF(W3487=\"\",\"\",LOOKUP(W3487,Hilfstabelle!$A$1:$A$286,Hilfstabelle!$B$1:$B$286))","v":""}]
[null,null,null,null,null,null,null,null,null,null,null,null,null,null,null,null,null,null,null,null,{"$f":"IF(W3488=\"\",\"\",LOOKUP(W3488,Hilfstabelle!$A$1:$A$286,Hilfstabelle!$B$1:$B$286))","v":""}]
[null,null,null,null,null,null,null,null,null,null,null,null,null,null,null,null,null,null,null,null,{"$f":"IF(W3491=\"\",\"\",LOOKUP(W3491,Hilfstabelle!$A$1:$A$286,Hilfstabelle!$B$1:$B$286))","v":""}]
[null,null,null,null,null,null,null,null,null,null,null,null,null,null,null,null,null,null,null,null,{"$f":"IF(W3493=\"\",\"\",LOOKUP(W3493,Hilfstabelle!$A$1:$A$286,Hilfstabelle!$B$1:$B$286))","v":""}]
[null,null,null,null,null,null,null,null,null,null,null,null,null,null,null,null,null,null,null,null,{"$f":"IF(W3496=\"\",\"\",LOOKUP(W3496,Hilfstabelle!$A$1:$A$286,Hilfstabelle!$B$1:$B$286))","v":""}]
[null,null,null,null,null,null,null,null,null,null,null,null,null,null,null,null,null,null,null,null,{"$f":"IF(W3497=\"\",\"\",LOOKUP(W3497,Hilfstabelle!$A$1:$A$286,Hilfstabelle!$B$1:$B$286))","v":""}]
[null,null,null,null,null,null,null,null,null,null,null,null,null,null,null,null,null,null,null,null,{"$f":"IF(W3499=\"\",\"\",LOOKUP(W3499,Hilfstabelle!$A$1:$A$286,Hilfstabelle!$B$1:$B$286))","v":""}]
[null,null,null,null,null,null,null,null,null,null,null,null,null,null,null,null,null,null,null,null,{"$f":"IF(W3502=\"\",\"\",LOOKUP(W3502,Hilfstabelle!$A$1:$A$286,Hilfstabelle!$B$1:$B$286))","v":""}]
[null,null,null,null,null,null,null,null,null,null,null,null,null,null,null,null,null,null,null,null,{"$f":"IF(W3505=\"\",\"\",LOOKUP(W3505,Hilfstabelle!$A$1:$A$286,Hilfstabelle!$B$1:$B$286))","v":""}]
[null,null,null,null,null,null,null,null,null,null,null,null,null,null,null,null,null,null,null,null,{"$f":"IF(W3506=\"\",\"\",LOOKUP(W3506,Hilfstabelle!$A$1:$A$286,Hilfstabelle!$B$1:$B$286))","v":""}]
[null,null,null,null,null,null,null,null,null,null,null,null,null,null,null,null,null,null,null,null,{"$f":"IF(W3509=\"\",\"\",LOOKUP(W3509,Hilfstabelle!$A$1:$A$286,Hilfstabelle!$B$1:$B$286))","v":""}]
[null,null,null,null,null,null,null,null,null,null,null,null,null,null,null,null,null,null,null,null,{"$f":"IF(W3511=\"\",\"\",LOOKUP(W3511,Hilfstabelle!$A$1:$A$286,Hilfstabelle!$B$1:$B$286))","v":""}]
[null,null,null,null,null,null,null,null,null,null,null,null,null,null,null,null,null,null,null,null,{"$f":"IF(W3514=\"\",\"\",LOOKUP(W3514,Hilfstabelle!$A$1:$A$286,Hilfstabelle!$B$1:$B$286))","v":""}]
[null,null,null,null,null,null,null,null,null,null,null,null,null,null,null,null,null,null,null,null,{"$f":"IF(W3515=\"\",\"\",LOOKUP(W3515,Hilfstabelle!$A$1:$A$286,Hilfstabelle!$B$1:$B$286))","v":""}]
[null,null,null,null,null,null,null,null,null,null,null,null,null,null,null,null,null,null,null,null,{"$f":"IF(W3517=\"\",\"\",LOOKUP(W3517,Hilfstabelle!$A$1:$A$286,Hilfstabelle!$B$1:$B$286))","v":""}]
[null,null,null,null,null,null,null,null,null,null,null,null,null,null,null,null,null,null,null,null,{"$f":"IF(W3520=\"\",\"\",LOOKUP(W3520,Hilfstabelle!$A$1:$A$286,Hilfstabelle!$B$1:$B$286))","v":""}]
[null,null,null,null,null,null,null,null,null,null,null,null,null,null,null,null,null,null,null,null,{"$f":"IF(W3523=\"\",\"\",LOOKUP(W3523,Hilfstabelle!$A$1:$A$286,Hilfstabelle!$B$1:$B$286))","v":""}]
[null,null,null,null,null,null,null,null,null,null,null,null,null,null,null,null,null,null,null,null,{"$f":"IF(W3524=\"\",\"\",LOOKUP(W3524,Hilfstabelle!$A$1:$A$286,Hilfstabelle!$B$1:$B$286))","v":""}]
[null,null,null,null,null,null,null,null,null,null,null,null,null,null,null,null,null,null,null,null,{"$f":"IF(W3527=\"\",\"\",LOOKUP(W3527,Hilfstabelle!$A$1:$A$286,Hilfstabelle!$B$1:$B$286))","v":""}]
[null,null,null,null,null,null,null,null,null,null,null,null,null,null,null,null,null,null,null,null,{"$f":"IF(W3529=\"\",\"\",LOOKUP(W3529,Hilfstabelle!$A$1:$A$286,Hilfstabelle!$B$1:$B$286))","v":""}]
[null,null,null,null,null,null,null,null,null,null,null,null,null,null,null,null,null,null,null,null,{"$f":"IF(W3532=\"\",\"\",LOOKUP(W3532,Hilfstabelle!$A$1:$A$286,Hilfstabelle!$B$1:$B$286))","v":""}]
[null,null,null,null,null,null,null,null,null,null,null,null,null,null,null,null,null,null,null,null,{"$f":"IF(W3533=\"\",\"\",LOOKUP(W3533,Hilfstabelle!$A$1:$A$286,Hilfstabelle!$B$1:$B$286))","v":""}]
[null,null,null,null,null,null,null,null,null,null,null,null,null,null,null,null,null,null,null,null,{"$f":"IF(W3535=\"\",\"\",LOOKUP(W3535,Hilfstabelle!$A$1:$A$286,Hilfstabelle!$B$1:$B$286))","v":""}]
[null,null,null,null,null,null,null,null,null,null,null,null,null,null,null,null,null,null,null,null,{"$f":"IF(W3538=\"\",\"\",LOOKUP(W3538,Hilfstabelle!$A$1:$A$286,Hilfstabelle!$B$1:$B$286))","v":""}]
[null,null,null,null,null,null,null,null,null,null,null,null,null,null,null,null,null,null,null,null,{"$f":"IF(W3541=\"\",\"\",LOOKUP(W3541,Hilfstabelle!$A$1:$A$286,Hilfstabelle!$B$1:$B$286))","v":""}]
[null,null,null,null,null,null,null,null,null,null,null,null,null,null,null,null,null,null,null,null,{"$f":"IF(W3542=\"\",\"\",LOOKUP(W3542,Hilfstabelle!$A$1:$A$286,Hilfstabelle!$B$1:$B$286))","v":""}]
[null,null,null,null,null,null,null,null,null,null,null,null,null,null,null,null,null,null,null,null,{"$f":"IF(W3546=\"\",\"\",LOOKUP(W3546,Hilfstabelle!$A$1:$A$286,Hilfstabelle!$B$1:$B$286))","v":""}]
[null,null,null,null,null,null,null,null,null,null,null,null,null,null,null,null,null,null,null,null,{"$f":"IF(W3547=\"\",\"\",LOOKUP(W3547,Hilfstabelle!$A$1:$A$286,Hilfstabelle!$B$1:$B$286))","v":""}]
[null,null,null,null,null,null,null,null,null,null,null,null,null,null,null,null,null,null,null,null,{"$f":"IF(W3550=\"\",\"\",LOOKUP(W3550,Hilfstabelle!$A$1:$A$286,Hilfstabelle!$B$1:$B$286))","v":""}]
[null,null,null,null,null,null,null,null,null,null,null,null,null,null,null,null,null,null,null,null,{"$f":"IF(W3551=\"\",\"\",LOOKUP(W3551,Hilfstabelle!$A$1:$A$286,Hilfstabelle!$B$1:$B$286))","v":""}]
[null,null,null,null,null,null,null,null,null,null,null,null,null,null,null,null,null,null,null,null,{"$f":"IF(W3553=\"\",\"\",LOOKUP(W3553,Hilfstabelle!$A$1:$A$286,Hilfstabelle!$B$1:$B$286))","v":""}]
[null,null,null,null,null,null,null,null,null,null,null,null,null,null,null,null,null,null,null,null,{"$f":"IF(W3556=\"\",\"\",LOOKUP(W3556,Hilfstabelle!$A$1:$A$286,Hilfstabelle!$B$1:$B$286))","v":""}]
[null,null,null,null,null,null,null,null,null,null,null,null,null,null,null,null,null,null,null,null,{"$f":"IF(W3559=\"\",\"\",LOOKUP(W3559,Hilfstabelle!$A$1:$A$286,Hilfstabelle!$B$1:$B$286))","v":""}]
[null,null,null,null,null,null,null,null,null,null,null,null,null,null,null,null,null,null,null,null,{"$f":"IF(W3560=\"\",\"\",LOOKUP(W3560,Hilfstabelle!$A$1:$A$286,Hilfstabelle!$B$1:$B$286))","v":""}]
[null,null,null,null,null,null,null,null,null,null,null,null,null,null,null,null,null,null,null,null,{"$f":"IF(W3564=\"\",\"\",LOOKUP(W3564,Hilfstabelle!$A$1:$A$286,Hilfstabelle!$B$1:$B$286))","v":""}]
[null,null,null,null,null,null,null,null,null,null,null,null,null,null,null,null,null,null,null,null,{"$f":"IF(W3565=\"\",\"\",LOOKUP(W3565,Hilfstabelle!$A$1:$A$286,Hilfstabelle!$B$1:$B$286))","v":""}]
[null,null,null,null,null,null,null,null,null,null,null,null,null,null,null,null,null,null,null,null,{"$f":"IF(W3568=\"\",\"\",LOOKUP(W3568,Hilfstabelle!$A$1:$A$286,Hilfstabelle!$B$1:$B$286))","v":""}]
[null,null,null,null,null,null,null,null,null,null,null,null,null,null,null,null,null,null,null,null,{"$f":"IF(W3569=\"\",\"\",LOOKUP(W3569,Hilfstabelle!$A$1:$A$286,Hilfstabelle!$B$1:$B$286))","v":""}]
[null,null,null,null,null,null,null,null,null,null,null,null,null,null,null,null,null,null,null,null,{"$f":"IF(W3571=\"\",\"\",LOOKUP(W3571,Hilfstabelle!$A$1:$A$286,Hilfstabelle!$B$1:$B$286))","v":""}]
[null,null,null,null,null,null,null,null,null,null,null,null,null,null,null,null,null,null,null,null,{"$f":"IF(W3574=\"\",\"\",LOOKUP(W3574,Hilfstabelle!$A$1:$A$286,Hilfstabelle!$B$1:$B$286))","v":""}]
[null,null,null,null,null,null,null,null,null,null,null,null,null,null,null,null,null,null,null,null,{"$f":"IF(W3577=\"\",\"\",LOOKUP(W3577,Hilfstabelle!$A$1:$A$286,Hilfstabelle!$B$1:$B$286))","v":""}]
[null,null,null,null,null,null,null,null,null,null,null,null,null,null,null,null,null,null,null,null,{"$f":"IF(W3578=\"\",\"\",LOOKUP(W3578,Hilfstabelle!$A$1:$A$286,Hilfstabelle!$B$1:$B$286))","v":""}]
[null,null,null,null,null,null,null,null,null,null,null,null,null,null,null,null,null,null,null,null,{"$f":"IF(W3582=\"\",\"\",LOOKUP(W3582,Hilfstabelle!$A$1:$A$286,Hilfstabelle!$B$1:$B$286))","v":""}]
[null,null,null,null,null,null,null,null,null,null,null,null,null,null,null,null,null,null,null,null,{"$f":"IF(W3583=\"\",\"\",LOOKUP(W3583,Hilfstabelle!$A$1:$A$286,Hilfstabelle!$B$1:$B$286))","v":""}]
[null,null,null,null,null,null,null,null,null,null,null,null,null,null,null,null,null,null,null,null,{"$f":"IF(W3586=\"\",\"\",LOOKUP(W3586,Hilfstabelle!$A$1:$A$286,Hilfstabelle!$B$1:$B$286))","v":""}]
[null,null,null,null,null,null,null,null,null,null,null,null,null,null,null,null,null,null,null,null,{"$f":"IF(W3587=\"\",\"\",LOOKUP(W3587,Hilfstabelle!$A$1:$A$286,Hilfstabelle!$B$1:$B$286))","v":""}]
[null,null,null,null,null,null,null,null,null,null,null,null,null,null,null,null,null,null,null,null,{"$f":"IF(W3589=\"\",\"\",LOOKUP(W3589,Hilfstabelle!$A$1:$A$286,Hilfstabelle!$B$1:$B$286))","v":""}]
[null,null,null,null,null,null,null,null,null,null,null,null,null,null,null,null,null,null,null,null,{"$f":"IF(W3592=\"\",\"\",LOOKUP(W3592,Hilfstabelle!$A$1:$A$286,Hilfstabelle!$B$1:$B$286))","v":""}]
[null,null,null,null,null,null,null,null,null,null,null,null,null,null,null,null,null,null,null,null,{"$f":"IF(W3595=\"\",\"\",LOOKUP(W3595,Hilfstabelle!$A$1:$A$286,Hilfstabelle!$B$1:$B$286))","v":""}]
[null,null,null,null,null,null,null,null,null,null,null,null,null,null,null,null,null,null,null,null,{"$f":"IF(W3596=\"\",\"\",LOOKUP(W3596,Hilfstabelle!$A$1:$A$286,Hilfstabelle!$B$1:$B$286))","v":""}]
[null,null,null,null,null,null,null,null,null,null,null,null,null,null,null,null,null,null,null,null,{"$f":"IF(W3600=\"\",\"\",LOOKUP(W3600,Hilfstabelle!$A$1:$A$286,Hilfstabelle!$B$1:$B$286))","v":""}]
[null,null,null,null,null,null,null,null,null,null,null,null,null,null,null,null,null,null,null,null,{"$f":"IF(W3601=\"\",\"\",LOOKUP(W3601,Hilfstabelle!$A$1:$A$286,Hilfstabelle!$B$1:$B$286))","v":""}]
[null,null,null,null,null,null,null,null,null,null,null,null,null,null,null,null,null,null,null,null,{"$f":"IF(W3604=\"\",\"\",LOOKUP(W3604,Hilfstabelle!$A$1:$A$286,Hilfstabelle!$B$1:$B$286))","v":""}]
[null,null,null,null,null,null,null,null,null,null,null,null,null,null,null,null,null,null,null,null,{"$f":"IF(W3605=\"\",\"\",LOOKUP(W3605,Hilfstabelle!$A$1:$A$286,Hilfstabelle!$B$1:$B$286))","v":""}]
[null,null,null,null,null,null,null,null,null,null,null,null,null,null,null,null,null,null,null,null,{"$f":"IF(W3607=\"\",\"\",LOOKUP(W3607,Hilfstabelle!$A$1:$A$286,Hilfstabelle!$B$1:$B$286))","v":""}]
[null,null,null,null,null,null,null,null,null,null,null,null,null,null,null,null,null,null,null,null,{"$f":"IF(W3610=\"\",\"\",LOOKUP(W3610,Hilfstabelle!$A$1:$A$286,Hilfstabelle!$B$1:$B$286))","v":""}]
[null,null,null,null,null,null,null,null,null,null,null,null,null,null,null,null,null,null,null,null,{"$f":"IF(W3613=\"\",\"\",LOOKUP(W3613,Hilfstabelle!$A$1:$A$286,Hilfstabelle!$B$1:$B$286))","v":""}]
[null,null,null,null,null,null,null,null,null,null,null,null,null,null,null,null,null,null,null,null,{"$f":"IF(W3614=\"\",\"\",LOOKUP(W3614,Hilfstabelle!$A$1:$A$286,Hilfstabelle!$B$1:$B$286))","v":""}]
[null,null,null,null,null,null,null,null,null,null,null,null,null,null,null,null,null,null,null,null,{"$f":"IF(W3618=\"\",\"\",LOOKUP(W3618,Hilfstabelle!$A$1:$A$286,Hilfstabelle!$B$1:$B$286))","v":""}]
[null,null,null,null,null,null,null,null,null,null,null,null,null,null,null,null,null,null,null,null,{"$f":"IF(W3619=\"\",\"\",LOOKUP(W3619,Hilfstabelle!$A$1:$A$286,Hilfstabelle!$B$1:$B$286))","v":""}]
[null,null,null,null,null,null,null,null,null,null,null,null,null,null,null,null,null,null,null,null,{"$f":"IF(W3622=\"\",\"\",LOOKUP(W3622,Hilfstabelle!$A$1:$A$286,Hilfstabelle!$B$1:$B$286))","v":""}]
[null,null,null,null,null,null,null,null,null,null,null,null,null,null,null,null,null,null,null,null,{"$f":"IF(W3623=\"\",\"\",LOOKUP(W3623,Hilfstabelle!$A$1:$A$286,Hilfstabelle!$B$1:$B$286))","v":""}]
[null,null,null,null,null,null,null,null,null,null,null,null,null,null,null,null,null,null,null,null,{"$f":"IF(W3625=\"\",\"\",LOOKUP(W3625,Hilfstabelle!$A$1:$A$286,Hilfstabelle!$B$1:$B$286))","v":""}]
[null,null,null,null,null,null,null,null,null,null,null,null,null,null,null,null,null,null,null,null,{"$f":"IF(W3628=\"\",\"\",LOOKUP(W3628,Hilfstabelle!$A$1:$A$286,Hilfstabelle!$B$1:$B$286))","v":""}]
[null,null,null,null,null,null,null,null,null,null,null,null,null,null,null,null,null,null,null,null,{"$f":"IF(W3631=\"\",\"\",LOOKUP(W3631,Hilfstabelle!$A$1:$A$286,Hilfstabelle!$B$1:$B$286))","v":""}]
[null,null,null,null,null,null,null,null,null,null,null,null,null,null,null,null,null,null,null,null,{"$f":"IF(W3632=\"\",\"\",LOOKUP(W3632,Hilfstabelle!$A$1:$A$286,Hilfstabelle!$B$1:$B$286))","v":""}]
[null,null,null,null,null,null,null,null,null,null,null,null,null,null,null,null,null,null,null,null,{"$f":"IF(W3636=\"\",\"\",LOOKUP(W3636,Hilfstabelle!$A$1:$A$286,Hilfstabelle!$B$1:$B$286))","v":""}]
[null,null,null,null,null,null,null,null,null,null,null,null,null,null,null,null,null,null,null,null,{"$f":"IF(W3637=\"\",\"\",LOOKUP(W3637,Hilfstabelle!$A$1:$A$286,Hilfstabelle!$B$1:$B$286))","v":""}]
[null,null,null,null,null,null,null,null,null,null,null,null,null,null,null,null,null,null,null,null,{"$f":"IF(W3640=\"\",\"\",LOOKUP(W3640,Hilfstabelle!$A$1:$A$286,Hilfstabelle!$B$1:$B$286))","v":""}]
[null,null,null,null,null,null,null,null,null,null,null,null,null,null,null,null,null,null,null,null,{"$f":"IF(W3641=\"\",\"\",LOOKUP(W3641,Hilfstabelle!$A$1:$A$286,Hilfstabelle!$B$1:$B$286))","v":""}]
[null,null,null,null,null,null,null,null,null,null,null,null,null,null,null,null,null,null,null,null,{"$f":"IF(W3643=\"\",\"\",LOOKUP(W3643,Hilfstabelle!$A$1:$A$286,Hilfstabelle!$B$1:$B$286))","v":""}]
[null,null,null,null,null,null,null,null,null,null,null,null,null,null,null,null,null,null,null,null,{"$f":"IF(W3646=\"\",\"\",LOOKUP(W3646,Hilfstabelle!$A$1:$A$286,Hilfstabelle!$B$1:$B$286))","v":""}]
[null,null,null,null,null,null,null,null,null,null,null,null,null,null,null,null,null,null,null,null,{"$f":"IF(W3649=\"\",\"\",LOOKUP(W3649,Hilfstabelle!$A$1:$A$286,Hilfstabelle!$B$1:$B$286))","v":""}]
[null,null,null,null,null,null,null,null,null,null,null,null,null,null,null,null,null,null,null,null,{"$f":"IF(W3650=\"\",\"\",LOOKUP(W3650,Hilfstabelle!$A$1:$A$286,Hilfstabelle!$B$1:$B$286))","v":""}]
[null,null,null,null,null,null,null,null,null,null,null,null,null,null,null,null,null,null,null,null,{"$f":"IF(W3654=\"\",\"\",LOOKUP(W3654,Hilfstabelle!$A$1:$A$286,Hilfstabelle!$B$1:$B$286))","v":""}]
[null,null,null,null,null,null,null,null,null,null,null,null,null,null,null,null,null,null,null,null,{"$f":"IF(W3655=\"\",\"\",LOOKUP(W3655,Hilfstabelle!$A$1:$A$286,Hilfstabelle!$B$1:$B$286))","v":""}]
[null,null,null,null,null,null,null,null,null,null,null,null,null,null,null,null,null,null,null,null,{"$f":"IF(W3658=\"\",\"\",LOOKUP(W3658,Hilfstabelle!$A$1:$A$286,Hilfstabelle!$B$1:$B$286))","v":""}]
[null,null,null,null,null,null,null,null,null,null,null,null,null,null,null,null,null,null,null,null,{"$f":"IF(W3659=\"\",\"\",LOOKUP(W3659,Hilfstabelle!$A$1:$A$286,Hilfstabelle!$B$1:$B$286))","v":""}]
[null,null,null,null,null,null,null,null,null,null,null,null,null,null,null,null,null,null,null,null,{"$f":"IF(W3661=\"\",\"\",LOOKUP(W3661,Hilfstabelle!$A$1:$A$286,Hilfstabelle!$B$1:$B$286))","v":""}]
[null,null,null,null,null,null,null,null,null,null,null,null,null,null,null,null,null,null,null,null,{"$f":"IF(W3664=\"\",\"\",LOOKUP(W3664,Hilfstabelle!$A$1:$A$286,Hilfstabelle!$B$1:$B$286))","v":""}]
[null,null,null,null,null,null,null,null,null,null,null,null,null,null,null,null,null,null,null,null,{"$f":"IF(W3667=\"\",\"\",LOOKUP(W3667,Hilfstabelle!$A$1:$A$286,Hilfstabelle!$B$1:$B$286))","v":""}]
[null,null,null,null,null,null,null,null,null,null,null,null,null,null,null,null,null,null,null,null,{"$f":"IF(W3668=\"\",\"\",LOOKUP(W3668,Hilfstabelle!$A$1:$A$286,Hilfstabelle!$B$1:$B$286))","v":""}]
[null,null,null,null,null,null,null,null,null,null,null,null,null,null,null,null,null,null,null,null,{"$f":"IF(W3672=\"\",\"\",LOOKUP(W3672,Hilfstabelle!$A$1:$A$286,Hilfstabelle!$B$1:$B$286))","v":""}]
[null,null,null,null,null,null,null,null,null,null,null,null,null,null,null,null,null,null,null,null,{"$f":"IF(W3673=\"\",\"\",LOOKUP(W3673,Hilfstabelle!$A$1:$A$286,Hilfstabelle!$B$1:$B$286))","v":""}]
[null,null,null,null,null,null,null,null,null,null,null,null,null,null,null,null,null,null,null,null,{"$f":"IF(W3676=\"\",\"\",LOOKUP(W3676,Hilfstabelle!$A$1:$A$286,Hilfstabelle!$B$1:$B$286))","v":""}]
[null,null,null,null,null,null,null,null,null,null,null,null,null,null,null,null,null,null,null,null,{"$f":"IF(W3677=\"\",\"\",LOOKUP(W3677,Hilfstabelle!$A$1:$A$286,Hilfstabelle!$B$1:$B$286))","v":""}]
[null,null,null,null,null,null,null,null,null,null,null,null,null,null,null,null,null,null,null,null,{"$f":"IF(W3679=\"\",\"\",LOOKUP(W3679,Hilfstabelle!$A$1:$A$286,Hilfstabelle!$B$1:$B$286))","v":""}]
[null,null,null,null,null,null,null,null,null,null,null,null,null,null,null,null,null,null,null,null,{"$f":"IF(W3682=\"\",\"\",LOOKUP(W3682,Hilfstabelle!$A$1:$A$286,Hilfstabelle!$B$1:$B$286))","v":""}]
[null,null,null,null,null,null,null,null,null,null,null,null,null,null,null,null,null,null,null,null,{"$f":"IF(W3685=\"\",\"\",LOOKUP(W3685,Hilfstabelle!$A$1:$A$286,Hilfstabelle!$B$1:$B$286))","v":""}]
[null,null,null,null,null,null,null,null,null,null,null,null,null,null,null,null,null,null,null,null,{"$f":"IF(W3686=\"\",\"\",LOOKUP(W3686,Hilfstabelle!$A$1:$A$286,Hilfstabelle!$B$1:$B$286))","v":""}]
[null,null,null,null,null,null,null,null,null,null,null,null,null,null,null,null,null,null,null,null,{"$f":"IF(W3690=\"\",\"\",LOOKUP(W3690,Hilfstabelle!$A$1:$A$286,Hilfstabelle!$B$1:$B$286))","v":""}]
[null,null,null,null,null,null,null,null,null,null,null,null,null,null,null,null,null,null,null,null,{"$f":"IF(W3691=\"\",\"\",LOOKUP(W3691,Hilfstabelle!$A$1:$A$286,Hilfstabelle!$B$1:$B$286))","v":""}]
[null,null,null,null,null,null,null,null,null,null,null,null,null,null,null,null,null,null,null,null,{"$f":"IF(W3694=\"\",\"\",LOOKUP(W3694,Hilfstabelle!$A$1:$A$286,Hilfstabelle!$B$1:$B$286))","v":""}]
[null,null,null,null,null,null,null,null,null,null,null,null,null,null,null,null,null,null,null,null,{"$f":"IF(W3695=\"\",\"\",LOOKUP(W3695,Hilfstabelle!$A$1:$A$286,Hilfstabelle!$B$1:$B$286))","v":""}]
[null,null,null,null,null,null,null,null,null,null,null,null,null,null,null,null,null,null,null,null,{"$f":"IF(W3698=\"\",\"\",LOOKUP(W3698,Hilfstabelle!$A$1:$A$286,Hilfstabelle!$B$1:$B$286))","v":""}]
[null,null,null,null,null,null,null,null,null,null,null,null,null,null,null,null,null,null,null,null,{"$f":"IF(W3700=\"\",\"\",LOOKUP(W3700,Hilfstabelle!$A$1:$A$286,Hilfstabelle!$B$1:$B$286))","v":""}]
[null,null,null,null,null,null,null,null,null,null,null,null,null,null,null,null,null,null,null,null,{"$f":"IF(W3703=\"\",\"\",LOOKUP(W3703,Hilfstabelle!$A$1:$A$286,Hilfstabelle!$B$1:$B$286))","v":""}]
[null,null,null,null,null,null,null,null,null,null,null,null,null,null,null,null,null,null,null,null,{"$f":"IF(W3704=\"\",\"\",LOOKUP(W3704,Hilfstabelle!$A$1:$A$286,Hilfstabelle!$B$1:$B$286))","v":""}]
[null,null,null,null,null,null,null,null,null,null,null,null,null,null,null,null,null,null,null,null,{"$f":"IF(W3708=\"\",\"\",LOOKUP(W3708,Hilfstabelle!$A$1:$A$286,Hilfstabelle!$B$1:$B$286))","v":""}]
[null,null,null,null,null,null,null,null,null,null,null,null,null,null,null,null,null,null,null,null,{"$f":"IF(W3709=\"\",\"\",LOOKUP(W3709,Hilfstabelle!$A$1:$A$286,Hilfstabelle!$B$1:$B$286))","v":""}]
[null,null,null,null,null,null,null,null,null,null,null,null,null,null,null,null,null,null,null,null,{"$f":"IF(W3712=\"\",\"\",LOOKUP(W3712,Hilfstabelle!$A$1:$A$286,Hilfstabelle!$B$1:$B$286))","v":""}]
[null,null,null,null,null,null,null,null,null,null,null,null,null,null,null,null,null,null,null,null,{"$f":"IF(W3713=\"\",\"\",LOOKUP(W3713,Hilfstabelle!$A$1:$A$286,Hilfstabelle!$B$1:$B$286))","v":""}]
[null,null,null,null,null,null,null,null,null,null,null,null,null,null,null,null,null,null,null,null,{"$f":"IF(W3716=\"\",\"\",LOOKUP(W3716,Hilfstabelle!$A$1:$A$286,Hilfstabelle!$B$1:$B$286))","v":""}]
[null,null,null,null,null,null,null,null,null,null,null,null,null,null,null,null,null,null,null,null,{"$f":"IF(W3718=\"\",\"\",LOOKUP(W3718,Hilfstabelle!$A$1:$A$286,Hilfstabelle!$B$1:$B$286))","v":""}]
[null,null,null,null,null,null,null,null,null,null,null,null,null,null,null,null,null,null,null,null,{"$f":"IF(W3721=\"\",\"\",LOOKUP(W3721,Hilfstabelle!$A$1:$A$286,Hilfstabelle!$B$1:$B$286))","v":""}]
[null,null,null,null,null,null,null,null,null,null,null,null,null,null,null,null,null,null,null,null,{"$f":"IF(W3722=\"\",\"\",LOOKUP(W3722,Hilfstabelle!$A$1:$A$286,Hilfstabelle!$B$1:$B$286))","v":""}]
[null,null,null,null,null,null,null,null,null,null,null,null,null,null,null,null,null,null,null,null,{"$f":"IF(W3726=\"\",\"\",LOOKUP(W3726,Hilfstabelle!$A$1:$A$286,Hilfstabelle!$B$1:$B$286))","v":""}]
[null,null,null,null,null,null,null,null,null,null,null,null,null,null,null,null,null,null,null,null,{"$f":"IF(W3727=\"\",\"\",LOOKUP(W3727,Hilfstabelle!$A$1:$A$286,Hilfstabelle!$B$1:$B$286))","v":""}]
[null,null,null,null,null,null,null,null,null,null,null,null,null,null,null,null,null,null,null,null,{"$f":"IF(W3730=\"\",\"\",LOOKUP(W3730,Hilfstabelle!$A$1:$A$286,Hilfstabelle!$B$1:$B$286))","v":""}]
[null,null,null,null,null,null,null,null,null,null,null,null,null,null,null,null,null,null,null,null,{"$f":"IF(W3731=\"\",\"\",LOOKUP(W3731,Hilfstabelle!$A$1:$A$286,Hilfstabelle!$B$1:$B$286))","v":""}]
[null,null,null,null,null,null,null,null,null,null,null,null,null,null,null,null,null,null,null,null,{"$f":"IF(W3734=\"\",\"\",LOOKUP(W3734,Hilfstabelle!$A$1:$A$286,Hilfstabelle!$B$1:$B$286))","v":""}]
[null,null,null,null,null,null,null,null,null,null,null,null,null,null,null,null,null,null,null,null,{"$f":"IF(W3736=\"\",\"\",LOOKUP(W3736,Hilfstabelle!$A$1:$A$286,Hilfstabelle!$B$1:$B$286))","v":""}]
[null,null,null,null,null,null,null,null,null,null,null,null,null,null,null,null,null,null,null,null,{"$f":"IF(W3739=\"\",\"\",LOOKUP(W3739,Hilfstabelle!$A$1:$A$286,Hilfstabelle!$B$1:$B$286))","v":""}]
[null,null,null,null,null,null,null,null,null,null,null,null,null,null,null,null,null,null,null,null,{"$f":"IF(W3740=\"\",\"\",LOOKUP(W3740,Hilfstabelle!$A$1:$A$286,Hilfstabelle!$B$1:$B$286))","v":""}]
[null,null,null,null,null,null,null,null,null,null,null,null,null,null,null,null,null,null,null,null,{"$f":"IF(W3744=\"\",\"\",LOOKUP(W3744,Hilfstabelle!$A$1:$A$286,Hilfstabelle!$B$1:$B$286))","v":""}]
[null,null,null,null,null,null,null,null,null,null,null,null,null,null,null,null,null,null,null,null,{"$f":"IF(W3745=\"\",\"\",LOOKUP(W3745,Hilfstabelle!$A$1:$A$286,Hilfstabelle!$B$1:$B$286))","v":""}]
[null,null,null,null,null,null,null,null,null,null,null,null,null,null,null,null,null,null,null,null,{"$f":"IF(W3748=\"\",\"\",LOOKUP(W3748,Hilfstabelle!$A$1:$A$286,Hilfstabelle!$B$1:$B$286))","v":""}]
[null,null,null,null,null,null,null,null,null,null,null,null,null,null,null,null,null,null,null,null,{"$f":"IF(W3749=\"\",\"\",LOOKUP(W3749,Hilfstabelle!$A$1:$A$286,Hilfstabelle!$B$1:$B$286))","v":""}]
[null,null,null,null,null,null,null,null,null,null,null,null,null,null,null,null,null,null,null,null,{"$f":"IF(W3752=\"\",\"\",LOOKUP(W3752,Hilfstabelle!$A$1:$A$286,Hilfstabelle!$B$1:$B$286))","v":""}]
[null,null,null,null,null,null,null,null,null,null,null,null,null,null,null,null,null,null,null,null,{"$f":"IF(W3754=\"\",\"\",LOOKUP(W3754,Hilfstabelle!$A$1:$A$286,Hilfstabelle!$B$1:$B$286))","v":""}]
[null,null,null,null,null,null,null,null,null,null,null,null,null,null,null,null,null,null,null,null,{"$f":"IF(W3757=\"\",\"\",LOOKUP(W3757,Hilfstabelle!$A$1:$A$286,Hilfstabelle!$B$1:$B$286))","v":""}]
[null,null,null,null,null,null,null,null,null,null,null,null,null,null,null,null,null,null,null,null,{"$f":"IF(W3758=\"\",\"\",LOOKUP(W3758,Hilfstabelle!$A$1:$A$286,Hilfstabelle!$B$1:$B$286))","v":""}]
[null,null,null,null,null,null,null,null,null,null,null,null,null,null,null,null,null,null,null,null,{"$f":"IF(W3762=\"\",\"\",LOOKUP(W3762,Hilfstabelle!$A$1:$A$286,Hilfstabelle!$B$1:$B$286))","v":""}]
[null,null,null,null,null,null,null,null,null,null,null,null,null,null,null,null,null,null,null,null,{"$f":"IF(W3763=\"\",\"\",LOOKUP(W3763,Hilfstabelle!$A$1:$A$286,Hilfstabelle!$B$1:$B$286))","v":""}]
[null,null,null,null,null,null,null,null,null,null,null,null,null,null,null,null,null,null,null,null,{"$f":"IF(W3766=\"\",\"\",LOOKUP(W3766,Hilfstabelle!$A$1:$A$286,Hilfstabelle!$B$1:$B$286))","v":""}]
[null,null,null,null,null,null,null,null,null,null,null,null,null,null,null,null,null,null,null,null,{"$f":"IF(W3767=\"\",\"\",LOOKUP(W3767,Hilfstabelle!$A$1:$A$286,Hilfstabelle!$B$1:$B$286))","v":""}]
[null,null,null,null,null,null,null,null,null,null,null,null,null,null,null,null,null,null,null,null,{"$f":"IF(W3770=\"\",\"\",LOOKUP(W3770,Hilfstabelle!$A$1:$A$286,Hilfstabelle!$B$1:$B$286))","v":""}]
[null,null,null,null,null,null,null,null,null,null,null,null,null,null,null,null,null,null,null,null,{"$f":"IF(W3772=\"\",\"\",LOOKUP(W3772,Hilfstabelle!$A$1:$A$286,Hilfstabelle!$B$1:$B$286))","v":""}]
[null,null,null,null,null,null,null,null,null,null,null,null,null,null,null,null,null,null,null,null,{"$f":"IF(W3775=\"\",\"\",LOOKUP(W3775,Hilfstabelle!$A$1:$A$286,Hilfstabelle!$B$1:$B$286))","v":""}]
[null,null,null,null,null,null,null,null,null,null,null,null,null,null,null,null,null,null,null,null,{"$f":"IF(W3776=\"\",\"\",LOOKUP(W3776,Hilfstabelle!$A$1:$A$286,Hilfstabelle!$B$1:$B$286))","v":""}]
[null,null,null,null,null,null,null,null,null,null,null,null,null,null,null,null,null,null,null,null,{"$f":"IF(W3780=\"\",\"\",LOOKUP(W3780,Hilfstabelle!$A$1:$A$286,Hilfstabelle!$B$1:$B$286))","v":""}]
[null,null,null,null,null,null,null,null,null,null,null,null,null,null,null,null,null,null,null,null,{"$f":"IF(W3781=\"\",\"\",LOOKUP(W3781,Hilfstabelle!$A$1:$A$286,Hilfstabelle!$B$1:$B$286))","v":""}]
[null,null,null,null,null,null,null,null,null,null,null,null,null,null,null,null,null,null,null,null,{"$f":"IF(W3784=\"\",\"\",LOOKUP(W3784,Hilfstabelle!$A$1:$A$286,Hilfstabelle!$B$1:$B$286))","v":""}]
[null,null,null,null,null,null,null,null,null,null,null,null,null,null,null,null,null,null,null,null,{"$f":"IF(W3785=\"\",\"\",LOOKUP(W3785,Hilfstabelle!$A$1:$A$286,Hilfstabelle!$B$1:$B$286))","v":""}]
[null,null,null,null,null,null,null,null,null,null,null,null,null,null,null,null,null,null,null,null,{"$f":"IF(W3788=\"\",\"\",LOOKUP(W3788,Hilfstabelle!$A$1:$A$286,Hilfstabelle!$B$1:$B$286))","v":""}]
[null,null,null,null,null,null,null,null,null,null,null,null,null,null,null,null,null,null,null,null,{"$f":"IF(W3790=\"\",\"\",LOOKUP(W3790,Hilfstabelle!$A$1:$A$286,Hilfstabelle!$B$1:$B$286))","v":""}]
[null,null,null,null,null,null,null,null,null,null,null,null,null,null,null,null,null,null,null,null,{"$f":"IF(W3793=\"\",\"\",LOOKUP(W3793,Hilfstabelle!$A$1:$A$286,Hilfstabelle!$B$1:$B$286))","v":""}]
[null,null,null,null,null,null,null,null,null,null,null,null,null,null,null,null,null,null,null,null,{"$f":"IF(W3794=\"\",\"\",LOOKUP(W3794,Hilfstabelle!$A$1:$A$286,Hilfstabelle!$B$1:$B$286))","v":""}]
[null,null,null,null,null,null,null,null,null,null,null,null,null,null,null,null,null,null,null,null,{"$f":"IF(W3798=\"\",\"\",LOOKUP(W3798,Hilfstabelle!$A$1:$A$286,Hilfstabelle!$B$1:$B$286))","v":""}]
[null,null,null,null,null,null,null,null,null,null,null,null,null,null,null,null,null,null,null,null,{"$f":"IF(W3799=\"\",\"\",LOOKUP(W3799,Hilfstabelle!$A$1:$A$286,Hilfstabelle!$B$1:$B$286))","v":""}]
[null,null,null,null,null,null,null,null,null,null,null,null,null,null,null,null,null,null,null,null,{"$f":"IF(W3802=\"\",\"\",LOOKUP(W3802,Hilfstabelle!$A$1:$A$286,Hilfstabelle!$B$1:$B$286))","v":""}]
[null,null,null,null,null,null,null,null,null,null,null,null,null,null,null,null,null,null,null,null,{"$f":"IF(W3803=\"\",\"\",LOOKUP(W3803,Hilfstabelle!$A$1:$A$286,Hilfstabelle!$B$1:$B$286))","v":""}]
[null,null,null,null,null,null,null,null,null,null,null,null,null,null,null,null,null,null,null,null,{"$f":"IF(W3806=\"\",\"\",LOOKUP(W3806,Hilfstabelle!$A$1:$A$286,Hilfstabelle!$B$1:$B$286))","v":""}]
[null,null,null,null,null,null,null,null,null,null,null,null,null,null,null,null,null,null,null,null,{"$f":"IF(W3808=\"\",\"\",LOOKUP(W3808,Hilfstabelle!$A$1:$A$286,Hilfstabelle!$B$1:$B$286))","v":""}]
[null,null,null,null,null,null,null,null,null,null,null,null,null,null,null,null,null,null,null,null,{"$f":"IF(W3811=\"\",\"\",LOOKUP(W3811,Hilfstabelle!$A$1:$A$286,Hilfstabelle!$B$1:$B$286))","v":""}]
[null,null,null,null,null,null,null,null,null,null,null,null,null,null,null,null,null,null,null,null,{"$f":"IF(W3812=\"\",\"\",LOOKUP(W3812,Hilfstabelle!$A$1:$A$286,Hilfstabelle!$B$1:$B$286))","v":""}]
[null,null,null,null,null,null,null,null,null,null,null,null,null,null,null,null,null,null,null,null,{"$f":"IF(W3816=\"\",\"\",LOOKUP(W3816,Hilfstabelle!$A$1:$A$286,Hilfstabelle!$B$1:$B$286))","v":""}]
[null,null,null,null,null,null,null,null,null,null,null,null,null,null,null,null,null,null,null,null,{"$f":"IF(W3817=\"\",\"\",LOOKUP(W3817,Hilfstabelle!$A$1:$A$286,Hilfstabelle!$B$1:$B$286))","v":""}]
[null,null,null,null,null,null,null,null,null,null,null,null,null,null,null,null,null,null,null,null,{"$f":"IF(W3820=\"\",\"\",LOOKUP(W3820,Hilfstabelle!$A$1:$A$286,Hilfstabelle!$B$1:$B$286))","v":""}]
[null,null,null,null,null,null,null,null,null,null,null,null,null,null,null,null,null,null,null,null,{"$f":"IF(W3821=\"\",\"\",LOOKUP(W3821,Hilfstabelle!$A$1:$A$286,Hilfstabelle!$B$1:$B$286))","v":""}]
[null,null,null,null,null,null,null,null,null,null,null,null,null,null,null,null,null,null,null,null,{"$f":"IF(W3824=\"\",\"\",LOOKUP(W3824,Hilfstabelle!$A$1:$A$286,Hilfstabelle!$B$1:$B$286))","v":""}]
[null,null,null,null,null,null,null,null,null,null,null,null,null,null,null,null,null,null,null,null,{"$f":"IF(W3826=\"\",\"\",LOOKUP(W3826,Hilfstabelle!$A$1:$A$286,Hilfstabelle!$B$1:$B$286))","v":""}]
[null,null,null,null,null,null,null,null,null,null,null,null,null,null,null,null,null,null,null,null,{"$f":"IF(W3829=\"\",\"\",LOOKUP(W3829,Hilfstabelle!$A$1:$A$286,Hilfstabelle!$B$1:$B$286))","v":""}]
[null,null,null,null,null,null,null,null,null,null,null,null,null,null,null,null,null,null,null,null,{"$f":"IF(W3830=\"\",\"\",LOOKUP(W3830,Hilfstabelle!$A$1:$A$286,Hilfstabelle!$B$1:$B$286))","v":""}]
[null,null,null,null,null,null,null,null,null,null,null,null,null,null,null,null,null,null,null,null,{"$f":"IF(W3834=\"\",\"\",LOOKUP(W3834,Hilfstabelle!$A$1:$A$286,Hilfstabelle!$B$1:$B$286))","v":""}]
[null,null,null,null,null,null,null,null,null,null,null,null,null,null,null,null,null,null,null,null,{"$f":"IF(W3835=\"\",\"\",LOOKUP(W3835,Hilfstabelle!$A$1:$A$286,Hilfstabelle!$B$1:$B$286))","v":""}]
[null,null,null,null,null,null,null,null,null,null,null,null,null,null,null,null,null,null,null,null,{"$f":"IF(W3838=\"\",\"\",LOOKUP(W3838,Hilfstabelle!$A$1:$A$286,Hilfstabelle!$B$1:$B$286))","v":""}]
[null,null,null,null,null,null,null,null,null,null,null,null,null,null,null,null,null,null,null,null,{"$f":"IF(W3839=\"\",\"\",LOOKUP(W3839,Hilfstabelle!$A$1:$A$286,Hilfstabelle!$B$1:$B$286))","v":""}]
[null,null,null,null,null,null,null,null,null,null,null,null,null,null,null,null,null,null,null,null,{"$f":"IF(W3842=\"\",\"\",LOOKUP(W3842,Hilfstabelle!$A$1:$A$286,Hilfstabelle!$B$1:$B$286))","v":""}]
[null,null,null,null,null,null,null,null,null,null,null,null,null,null,null,null,null,null,null,null,{"$f":"IF(W3844=\"\",\"\",LOOKUP(W3844,Hilfstabelle!$A$1:$A$286,Hilfstabelle!$B$1:$B$286))","v":""}]
[null,null,null,null,null,null,null,null,null,null,null,null,null,null,null,null,null,null,null,null,{"$f":"IF(W3847=\"\",\"\",LOOKUP(W3847,Hilfstabelle!$A$1:$A$286,Hilfstabelle!$B$1:$B$286))","v":""}]
[null,null,null,null,null,null,null,null,null,null,null,null,null,null,null,null,null,null,null,null,{"$f":"IF(W3848=\"\",\"\",LOOKUP(W3848,Hilfstabelle!$A$1:$A$286,Hilfstabelle!$B$1:$B$286))","v":""}]
[null,null,null,null,null,null,null,null,null,null,null,null,null,null,null,null,null,null,null,null,{"$f":"IF(W3852=\"\",\"\",LOOKUP(W3852,Hilfstabelle!$A$1:$A$286,Hilfstabelle!$B$1:$B$286))","v":""}]
[null,null,null,null,null,null,null,null,null,null,null,null,null,null,null,null,null,null,null,null,{"$f":"IF(W3853=\"\",\"\",LOOKUP(W3853,Hilfstabelle!$A$1:$A$286,Hilfstabelle!$B$1:$B$286))","v":""}]
[null,null,null,null,null,null,null,null,null,null,null,null,null,null,null,null,null,null,null,null,{"$f":"IF(W3856=\"\",\"\",LOOKUP(W3856,Hilfstabelle!$A$1:$A$286,Hilfstabelle!$B$1:$B$286))","v":""}]
[null,null,null,null,null,null,null,null,null,null,null,null,null,null,null,null,null,null,null,null,{"$f":"IF(W3857=\"\",\"\",LOOKUP(W3857,Hilfstabelle!$A$1:$A$286,Hilfstabelle!$B$1:$B$286))","v":""}]
[null,null,null,null,null,null,null,null,null,null,null,null,null,null,null,null,null,null,null,null,{"$f":"IF(W3860=\"\",\"\",LOOKUP(W3860,Hilfstabelle!$A$1:$A$286,Hilfstabelle!$B$1:$B$286))","v":""}]
[null,null,null,null,null,null,null,null,null,null,null,null,null,null,null,null,null,null,null,null,{"$f":"IF(W3862=\"\",\"\",LOOKUP(W3862,Hilfstabelle!$A$1:$A$286,Hilfstabelle!$B$1:$B$286))","v":""}]
[null,null,null,null,null,null,null,null,null,null,null,null,null,null,null,null,null,null,null,null,{"$f":"IF(W3865=\"\",\"\",LOOKUP(W3865,Hilfstabelle!$A$1:$A$286,Hilfstabelle!$B$1:$B$286))","v":""}]
[null,null,null,null,null,null,null,null,null,null,null,null,null,null,null,null,null,null,null,null,{"$f":"IF(W3866=\"\",\"\",LOOKUP(W3866,Hilfstabelle!$A$1:$A$286,Hilfstabelle!$B$1:$B$286))","v":""}]
[null,null,null,null,null,null,null,null,null,null,null,null,null,null,null,null,null,null,null,null,{"$f":"IF(W3868=\"\",\"\",LOOKUP(W3868,Hilfstabelle!$A$1:$A$286,Hilfstabelle!$B$1:$B$286))","v":""}]
[null,null,null,null,null,null,null,null,null,null,null,null,null,null,null,null,null,null,null,null,{"$f":"IF(W3871=\"\",\"\",LOOKUP(W3871,Hilfstabelle!$A$1:$A$286,Hilfstabelle!$B$1:$B$286))","v":""}]
[null,null,null,null,null,null,null,null,null,null,null,null,null,null,null,null,null,null,null,null,{"$f":"IF(W3874=\"\",\"\",LOOKUP(W3874,Hilfstabelle!$A$1:$A$286,Hilfstabelle!$B$1:$B$286))","v":""}]
[null,null,null,null,null,null,null,null,null,null,null,null,null,null,null,null,null,null,null,null,{"$f":"IF(W3875=\"\",\"\",LOOKUP(W3875,Hilfstabelle!$A$1:$A$286,Hilfstabelle!$B$1:$B$286))","v":""}]
[null,null,null,null,null,null,null,null,null,null,null,null,null,null,null,null,null,null,null,null,{"$f":"IF(W3878=\"\",\"\",LOOKUP(W3878,Hilfstabelle!$A$1:$A$286,Hilfstabelle!$B$1:$B$286))","v":""}]
[null,null,null,null,null,null,null,null,null,null,null,null,null,null,null,null,null,null,null,null,{"$f":"IF(W3880=\"\",\"\",LOOKUP(W3880,Hilfstabelle!$A$1:$A$286,Hilfstabelle!$B$1:$B$286))","v":""}]
[null,null,null,null,null,null,null,null,null,null,null,null,null,null,null,null,null,null,null,null,{"$f":"IF(W3883=\"\",\"\",LOOKUP(W3883,Hilfstabelle!$A$1:$A$286,Hilfstabelle!$B$1:$B$286))","v":""}]
[null,null,null,null,null,null,null,null,null,null,null,null,null,null,null,null,null,null,null,null,{"$f":"IF(W3884=\"\",\"\",LOOKUP(W3884,Hilfstabelle!$A$1:$A$286,Hilfstabelle!$B$1:$B$286))","v":""}]
[null,null,null,null,null,null,null,null,null,null,null,null,null,null,null,null,null,null,null,null,{"$f":"IF(W3886=\"\",\"\",LOOKUP(W3886,Hilfstabelle!$A$1:$A$286,Hilfstabelle!$B$1:$B$286))","v":""}]
[null,null,null,null,null,null,null,null,null,null,null,null,null,null,null,null,null,null,null,null,{"$f":"IF(W3889=\"\",\"\",LOOKUP(W3889,Hilfstabelle!$A$1:$A$286,Hilfstabelle!$B$1:$B$286))","v":""}]
[null,null,null,null,null,null,null,null,null,null,null,null,null,null,null,null,null,null,null,null,{"$f":"IF(W3892=\"\",\"\",LOOKUP(W3892,Hilfstabelle!$A$1:$A$286,Hilfstabelle!$B$1:$B$286))","v":""}]
[null,null,null,null,null,null,null,null,null,null,null,null,null,null,null,null,null,null,null,null,{"$f":"IF(W3893=\"\",\"\",LOOKUP(W3893,Hilfstabelle!$A$1:$A$286,Hilfstabelle!$B$1:$B$286))","v":""}]
[null,null,null,null,null,null,null,null,null,null,null,null,null,null,null,null,null,null,null,null,{"$f":"IF(W3896=\"\",\"\",LOOKUP(W3896,Hilfstabelle!$A$1:$A$286,Hilfstabelle!$B$1:$B$286))","v":""}]
[null,null,null,null,null,null,null,null,null,null,null,null,null,null,null,null,null,null,null,null,{"$f":"IF(W3898=\"\",\"\",LOOKUP(W3898,Hilfstabelle!$A$1:$A$286,Hilfstabelle!$B$1:$B$286))","v":""}]
[null,null,null,null,null,null,null,null,null,null,null,null,null,null,null,null,null,null,null,null,{"$f":"IF(W3901=\"\",\"\",LOOKUP(W3901,Hilfstabelle!$A$1:$A$286,Hilfstabelle!$B$1:$B$286))","v":""}]
[null,null,null,null,null,null,null,null,null,null,null,null,null,null,null,null,null,null,null,null,{"$f":"IF(W3902=\"\",\"\",LOOKUP(W3902,Hilfstabelle!$A$1:$A$286,Hilfstabelle!$B$1:$B$286))","v":""}]
[null,null,null,null,null,null,null,null,null,null,null,null,null,null,null,null,null,null,null,null,{"$f":"IF(W3904=\"\",\"\",LOOKUP(W3904,Hilfstabelle!$A$1:$A$286,Hilfstabelle!$B$1:$B$286))","v":""}]
[null,null,null,null,null,null,null,null,null,null,null,null,null,null,null,null,null,null,null,null,{"$f":"IF(W3907=\"\",\"\",LOOKUP(W3907,Hilfstabelle!$A$1:$A$286,Hilfstabelle!$B$1:$B$286))","v":""}]
[null,null,null,null,null,null,null,null,null,null,null,null,null,null,null,null,null,null,null,null,{"$f":"IF(W3910=\"\",\"\",LOOKUP(W3910,Hilfstabelle!$A$1:$A$286,Hilfstabelle!$B$1:$B$286))","v":""}]
[null,null,null,null,null,null,null,null,null,null,null,null,null,null,null,null,null,null,null,null,{"$f":"IF(W3911=\"\",\"\",LOOKUP(W3911,Hilfstabelle!$A$1:$A$286,Hilfstabelle!$B$1:$B$286))","v":""}]
[null,null,null,null,null,null,null,null,null,null,null,null,null,null,null,null,null,null,null,null,{"$f":"IF(W3914=\"\",\"\",LOOKUP(W3914,Hilfstabelle!$A$1:$A$286,Hilfstabelle!$B$1:$B$286))","v":""}]
[null,null,null,null,null,null,null,null,null,null,null,null,null,null,null,null,null,null,null,null,{"$f":"IF(W3916=\"\",\"\",LOOKUP(W3916,Hilfstabelle!$A$1:$A$286,Hilfstabelle!$B$1:$B$286))","v":""}]
[null,null,null,null,null,null,null,null,null,null,null,null,null,null,null,null,null,null,null,null,{"$f":"IF(W3919=\"\",\"\",LOOKUP(W3919,Hilfstabelle!$A$1:$A$286,Hilfstabelle!$B$1:$B$286))","v":""}]
[null,null,null,null,null,null,null,null,null,null,null,null,null,null,null,null,null,null,null,null,{"$f":"IF(W3920=\"\",\"\",LOOKUP(W3920,Hilfstabelle!$A$1:$A$286,Hilfstabelle!$B$1:$B$286))","v":""}]
[null,null,null,null,null,null,null,null,null,null,null,null,null,null,null,null,null,null,null,null,{"$f":"IF(W3922=\"\",\"\",LOOKUP(W3922,Hilfstabelle!$A$1:$A$286,Hilfstabelle!$B$1:$B$286))","v":""}]
[null,null,null,null,null,null,null,null,null,null,null,null,null,null,null,null,null,null,null,null,{"$f":"IF(W3925=\"\",\"\",LOOKUP(W3925,Hilfstabelle!$A$1:$A$286,Hilfstabelle!$B$1:$B$286))","v":""}]
[null,null,null,null,null,null,null,null,null,null,null,null,null,null,null,null,null,null,null,null,{"$f":"IF(W3928=\"\",\"\",LOOKUP(W3928,Hilfstabelle!$A$1:$A$286,Hilfstabelle!$B$1:$B$286))","v":""}]
[null,null,null,null,null,null,null,null,null,null,null,null,null,null,null,null,null,null,null,null,{"$f":"IF(W3929=\"\",\"\",LOOKUP(W3929,Hilfstabelle!$A$1:$A$286,Hilfstabelle!$B$1:$B$286))","v":""}]
[null,null,null,null,null,null,null,null,null,null,null,null,null,null,null,null,null,null,null,null,{"$f":"IF(W3932=\"\",\"\",LOOKUP(W3932,Hilfstabelle!$A$1:$A$286,Hilfstabelle!$B$1:$B$286))","v":""}]
[null,null,null,null,null,null,null,null,null,null,null,null,null,null,null,null,null,null,null,null,{"$f":"IF(W3934=\"\",\"\",LOOKUP(W3934,Hilfstabelle!$A$1:$A$286,Hilfstabelle!$B$1:$B$286))","v":""}]
[null,null,null,null,null,null,null,null,null,null,null,null,null,null,null,null,null,null,null,null,{"$f":"IF(W3937=\"\",\"\",LOOKUP(W3937,Hilfstabelle!$A$1:$A$286,Hilfstabelle!$B$1:$B$286))","v":""}]
[null,null,null,null,null,null,null,null,null,null,null,null,null,null,null,null,null,null,null,null,{"$f":"IF(W3938=\"\",\"\",LOOKUP(W3938,Hilfstabelle!$A$1:$A$286,Hilfstabelle!$B$1:$B$286))","v":""}]
[null,null,null,null,null,null,null,null,null,null,null,null,null,null,null,null,null,null,null,null,{"$f":"IF(W3940=\"\",\"\",LOOKUP(W3940,Hilfstabelle!$A$1:$A$286,Hilfstabelle!$B$1:$B$286))","v":""}]
[null,null,null,null,null,null,null,null,null,null,null,null,null,null,null,null,null,null,null,null,{"$f":"IF(W3943=\"\",\"\",LOOKUP(W3943,Hilfstabelle!$A$1:$A$286,Hilfstabelle!$B$1:$B$286))","v":""}]
[null,null,null,null,null,null,null,null,null,null,null,null,null,null,null,null,null,null,null,null,{"$f":"IF(W3946=\"\",\"\",LOOKUP(W3946,Hilfstabelle!$A$1:$A$286,Hilfstabelle!$B$1:$B$286))","v":""}]
[null,null,null,null,null,null,null,null,null,null,null,null,null,null,null,null,null,null,null,null,{"$f":"IF(W3947=\"\",\"\",LOOKUP(W3947,Hilfstabelle!$A$1:$A$286,Hilfstabelle!$B$1:$B$286))","v":""}]
[null,null,null,null,null,null,null,null,null,null,null,null,null,null,null,null,null,null,null,null,{"$f":"IF(W3950=\"\",\"\",LOOKUP(W3950,Hilfstabelle!$A$1:$A$286,Hilfstabelle!$B$1:$B$286))","v":""}]
[null,null,null,null,null,null,null,null,null,null,null,null,null,null,null,null,null,null,null,null,{"$f":"IF(W3952=\"\",\"\",LOOKUP(W3952,Hilfstabelle!$A$1:$A$286,Hilfstabelle!$B$1:$B$286))","v":""}]
[null,null,null,null,null,null,null,null,null,null,null,null,null,null,null,null,null,null,null,null,{"$f":"IF(W3955=\"\",\"\",LOOKUP(W3955,Hilfstabelle!$A$1:$A$286,Hilfstabelle!$B$1:$B$286))","v":""}]
[null,null,null,null,null,null,null,null,null,null,null,null,null,null,null,null,null,null,null,null,{"$f":"IF(W3956=\"\",\"\",LOOKUP(W3956,Hilfstabelle!$A$1:$A$286,Hilfstabelle!$B$1:$B$286))","v":""}]
[null,null,null,null,null,null,null,null,null,null,null,null,null,null,null,null,null,null,null,null,{"$f":"IF(W3958=\"\",\"\",LOOKUP(W3958,Hilfstabelle!$A$1:$A$286,Hilfstabelle!$B$1:$B$286))","v":""}]
[null,null,null,null,null,null,null,null,null,null,null,null,null,null,null,null,null,null,null,null,{"$f":"IF(W3961=\"\",\"\",LOOKUP(W3961,Hilfstabelle!$A$1:$A$286,Hilfstabelle!$B$1:$B$286))","v":""}]
[null,null,null,null,null,null,null,null,null,null,null,null,null,null,null,null,null,null,null,null,{"$f":"IF(W3964=\"\",\"\",LOOKUP(W3964,Hilfstabelle!$A$1:$A$286,Hilfstabelle!$B$1:$B$286))","v":""}]
[null,null,null,null,null,null,null,null,null,null,null,null,null,null,null,null,null,null,null,null,{"$f":"IF(W3965=\"\",\"\",LOOKUP(W3965,Hilfstabelle!$A$1:$A$286,Hilfstabelle!$B$1:$B$286))","v":""}]
[null,null,null,null,null,null,null,null,null,null,null,null,null,null,null,null,null,null,null,null,{"$f":"IF(W3968=\"\",\"\",LOOKUP(W3968,Hilfstabelle!$A$1:$A$286,Hilfstabelle!$B$1:$B$286))","v":""}]
[null,null,null,null,null,null,null,null,null,null,null,null,null,null,null,null,null,null,null,null,{"$f":"IF(W3970=\"\",\"\",LOOKUP(W3970,Hilfstabelle!$A$1:$A$286,Hilfstabelle!$B$1:$B$286))","v":""}]
[null,null,null,null,null,null,null,null,null,null,null,null,null,null,null,null,null,null,null,null,{"$f":"IF(W3973=\"\",\"\",LOOKUP(W3973,Hilfstabelle!$A$1:$A$286,Hilfstabelle!$B$1:$B$286))","v":""}]
[null,null,null,null,null,null,null,null,null,null,null,null,null,null,null,null,null,null,null,null,{"$f":"IF(W3974=\"\",\"\",LOOKUP(W3974,Hilfstabelle!$A$1:$A$286,Hilfstabelle!$B$1:$B$286))","v":""}]
[null,null,null,null,null,null,null,null,null,null,null,null,null,null,null,null,null,null,null,null,{"$f":"IF(W3976=\"\",\"\",LOOKUP(W3976,Hilfstabelle!$A$1:$A$286,Hilfstabelle!$B$1:$B$286))","v":""}]
[null,null,null,null,null,null,null,null,null,null,null,null,null,null,null,null,null,null,null,null,{"$f":"IF(W3979=\"\",\"\",LOOKUP(W3979,Hilfstabelle!$A$1:$A$286,Hilfstabelle!$B$1:$B$286))","v":""}]
[null,null,null,null,null,null,null,null,null,null,null,null,null,null,null,null,null,null,null,null,{"$f":"IF(W3982=\"\",\"\",LOOKUP(W3982,Hilfstabelle!$A$1:$A$286,Hilfstabelle!$B$1:$B$286))","v":""}]
[null,null,null,null,null,null,null,null,null,null,null,null,null,null,null,null,null,null,null,null,{"$f":"IF(W3983=\"\",\"\",LOOKUP(W3983,Hilfstabelle!$A$1:$A$286,Hilfstabelle!$B$1:$B$286))","v":""}]
[null,null,null,null,null,null,null,null,null,null,null,null,null,null,null,null,null,null,null,null,{"$f":"IF(W3986=\"\",\"\",LOOKUP(W3986,Hilfstabelle!$A$1:$A$286,Hilfstabelle!$B$1:$B$286))","v":""}]
[null,null,null,null,null,null,null,null,null,null,null,null,null,null,null,null,null,null,null,null,{"$f":"IF(W3988=\"\",\"\",LOOKUP(W3988,Hilfstabelle!$A$1:$A$286,Hilfstabelle!$B$1:$B$286))","v":""}]
[null,null,null,null,null,null,null,null,null,null,null,null,null,null,null,null,null,null,null,null,{"$f":"IF(W3991=\"\",\"\",LOOKUP(W3991,Hilfstabelle!$A$1:$A$286,Hilfstabelle!$B$1:$B$286))","v":""}]
[null,null,null,null,null,null,null,null,null,null,null,null,null,null,null,null,null,null,null,null,{"$f":"IF(W3992=\"\",\"\",LOOKUP(W3992,Hilfstabelle!$A$1:$A$286,Hilfstabelle!$B$1:$B$286))","v":""}]
[null,null,null,null,null,null,null,null,null,null,null,null,null,null,null,null,null,null,null,null,{"$f":"IF(W3994=\"\",\"\",LOOKUP(W3994,Hilfstabelle!$A$1:$A$286,Hilfstabelle!$B$1:$B$286))","v":""}]
[null,null,null,null,null,null,null,null,null,null,null,null,null,null,null,null,null,null,null,null,{"$f":"IF(W3997=\"\",\"\",LOOKUP(W3997,Hilfstabelle!$A$1:$A$286,Hilfstabelle!$B$1:$B$286))","v":""}]
[null,null,null,null,null,null,null,null,null,null,null,null,null,null,null,null,null,null,null,null,{"$f":"IF(W4000=\"\",\"\",LOOKUP(W4000,Hilfstabelle!$A$1:$A$286,Hilfstabelle!$B$1:$B$286))","v":""}]
[null,null,null,null,null,null,null,null,null,null,null,null,null,null,null,null,null,null,null,null,{"$f":"IF(W4001=\"\",\"\",LOOKUP(W4001,Hilfstabelle!$A$1:$A$286,Hilfstabelle!$B$1:$B$286))","v":""}]
[null,null,null,null,null,null,null,null,null,null,null,null,null,null,null,null,null,null,null,null,{"$f":"IF(W4004=\"\",\"\",LOOKUP(W4004,Hilfstabelle!$A$1:$A$286,Hilfstabelle!$B$1:$B$286))","v":""}]
[null,null,null,null,null,null,null,null,null,null,null,null,null,null,null,null,null,null,null,null,{"$f":"IF(W4006=\"\",\"\",LOOKUP(W4006,Hilfstabelle!$A$1:$A$286,Hilfstabelle!$B$1:$B$286))","v":""}]
[null,null,null,null,null,null,null,null,null,null,null,null,null,null,null,null,null,null,null,null,{"$f":"IF(W4009=\"\",\"\",LOOKUP(W4009,Hilfstabelle!$A$1:$A$286,Hilfstabelle!$B$1:$B$286))","v":""}]
[null,null,null,null,null,null,null,null,null,null,null,null,null,null,null,null,null,null,null,null,{"$f":"IF(W4010=\"\",\"\",LOOKUP(W4010,Hilfstabelle!$A$1:$A$286,Hilfstabelle!$B$1:$B$286))","v":""}]
[null,null,null,null,null,null,null,null,null,null,null,null,null,null,null,null,null,null,null,null,{"$f":"IF(W4012=\"\",\"\",LOOKUP(W4012,Hilfstabelle!$A$1:$A$286,Hilfstabelle!$B$1:$B$286))","v":""}]
[null,null,null,null,null,null,null,null,null,null,null,null,null,null,null,null,null,null,null,null,{"$f":"IF(W4015=\"\",\"\",LOOKUP(W4015,Hilfstabelle!$A$1:$A$286,Hilfstabelle!$B$1:$B$286))","v":""}]
[null,null,null,null,null,null,null,null,null,null,null,null,null,null,null,null,null,null,null,null,{"$f":"IF(W4018=\"\",\"\",LOOKUP(W4018,Hilfstabelle!$A$1:$A$286,Hilfstabelle!$B$1:$B$286))","v":""}]
[null,null,null,null,null,null,null,null,null,null,null,null,null,null,null,null,null,null,null,null,{"$f":"IF(W4019=\"\",\"\",LOOKUP(W4019,Hilfstabelle!$A$1:$A$286,Hilfstabelle!$B$1:$B$286))","v":""}]
[null,null,null,null,null,null,null,null,null,null,null,null,null,null,null,null,null,null,null,null,{"$f":"IF(W4023=\"\",\"\",LOOKUP(W4023,Hilfstabelle!$A$1:$A$286,Hilfstabelle!$B$1:$B$286))","v":""}]
[null,null,null,null,null,null,null,null,null,null,null,null,null,null,null,null,null,null,null,null,{"$f":"IF(W4024=\"\",\"\",LOOKUP(W4024,Hilfstabelle!$A$1:$A$286,Hilfstabelle!$B$1:$B$286))","v":""}]
[null,null,null,null,null,null,null,null,null,null,null,null,null,null,null,null,null,null,null,null,{"$f":"IF(W4027=\"\",\"\",LOOKUP(W4027,Hilfstabelle!$A$1:$A$286,Hilfstabelle!$B$1:$B$286))","v":""}]
[null,null,null,null,null,null,null,null,null,null,null,null,null,null,null,null,null,null,null,null,{"$f":"IF(W4028=\"\",\"\",LOOKUP(W4028,Hilfstabelle!$A$1:$A$286,Hilfstabelle!$B$1:$B$286))","v":""}]
[null,null,null,null,null,null,null,null,null,null,null,null,null,null,null,null,null,null,null,null,{"$f":"IF(W4030=\"\",\"\",LOOKUP(W4030,Hilfstabelle!$A$1:$A$286,Hilfstabelle!$B$1:$B$286))","v":""}]
[null,null,null,null,null,null,null,null,null,null,null,null,null,null,null,null,null,null,null,null,{"$f":"IF(W4033=\"\",\"\",LOOKUP(W4033,Hilfstabelle!$A$1:$A$286,Hilfstabelle!$B$1:$B$286))","v":""}]
[null,null,null,null,null,null,null,null,null,null,null,null,null,null,null,null,null,null,null,null,{"$f":"IF(W4036=\"\",\"\",LOOKUP(W4036,Hilfstabelle!$A$1:$A$286,Hilfstabelle!$B$1:$B$286))","v":""}]
[null,null,null,null,null,null,null,null,null,null,null,null,null,null,null,null,null,null,null,null,{"$f":"IF(W4037=\"\",\"\",LOOKUP(W4037,Hilfstabelle!$A$1:$A$286,Hilfstabelle!$B$1:$B$286))","v":""}]
[null,null,null,null,null,null,null,null,null,null,null,null,null,null,null,null,null,null,null,null,{"$f":"IF(W4041=\"\",\"\",LOOKUP(W4041,Hilfstabelle!$A$1:$A$286,Hilfstabelle!$B$1:$B$286))","v":""}]
[null,null,null,null,null,null,null,null,null,null,null,null,null,null,null,null,null,null,null,null,{"$f":"IF(W4042=\"\",\"\",LOOKUP(W4042,Hilfstabelle!$A$1:$A$286,Hilfstabelle!$B$1:$B$286))","v":""}]
[null,null,null,null,null,null,null,null,null,null,null,null,null,null,null,null,null,null,null,null,{"$f":"IF(W4045=\"\",\"\",LOOKUP(W4045,Hilfstabelle!$A$1:$A$286,Hilfstabelle!$B$1:$B$286))","v":""}]
[null,null,null,null,null,null,null,null,null,null,null,null,null,null,null,null,null,null,null,null,{"$f":"IF(W4046=\"\",\"\",LOOKUP(W4046,Hilfstabelle!$A$1:$A$286,Hilfstabelle!$B$1:$B$286))","v":""}]
[null,null,null,null,null,null,null,null,null,null,null,null,null,null,null,null,null,null,null,null,{"$f":"IF(W4048=\"\",\"\",LOOKUP(W4048,Hilfstabelle!$A$1:$A$286,Hilfstabelle!$B$1:$B$286))","v":""}]
[null,null,null,null,null,null,null,null,null,null,null,null,null,null,null,null,null,null,null,null,{"$f":"IF(W4051=\"\",\"\",LOOKUP(W4051,Hilfstabelle!$A$1:$A$286,Hilfstabelle!$B$1:$B$286))","v":""}]
[null,null,null,null,null,null,null,null,null,null,null,null,null,null,null,null,null,null,null,null,{"$f":"IF(W4054=\"\",\"\",LOOKUP(W4054,Hilfstabelle!$A$1:$A$286,Hilfstabelle!$B$1:$B$286))","v":""}]
[null,null,null,null,null,null,null,null,null,null,null,null,null,null,null,null,null,null,null,null,{"$f":"IF(W4055=\"\",\"\",LOOKUP(W4055,Hilfstabelle!$A$1:$A$286,Hilfstabelle!$B$1:$B$286))","v":""}]
[null,null,null,null,null,null,null,null,null,null,null,null,null,null,null,null,null,null,null,null,{"$f":"IF(W4059=\"\",\"\",LOOKUP(W4059,Hilfstabelle!$A$1:$A$286,Hilfstabelle!$B$1:$B$286))","v":""}]
[null,null,null,null,null,null,null,null,null,null,null,null,null,null,null,null,null,null,null,null,{"$f":"IF(W4060=\"\",\"\",LOOKUP(W4060,Hilfstabelle!$A$1:$A$286,Hilfstabelle!$B$1:$B$286))","v":""}]
[null,null,null,null,null,null,null,null,null,null,null,null,null,null,null,null,null,null,null,null,{"$f":"IF(W4063=\"\",\"\",LOOKUP(W4063,Hilfstabelle!$A$1:$A$286,Hilfstabelle!$B$1:$B$286))","v":""}]
[null,null,null,null,null,null,null,null,null,null,null,null,null,null,null,null,null,null,null,null,{"$f":"IF(W4064=\"\",\"\",LOOKUP(W4064,Hilfstabelle!$A$1:$A$286,Hilfstabelle!$B$1:$B$286))","v":""}]
[null,null,null,null,null,null,null,null,null,null,null,null,null,null,null,null,null,null,null,null,{"$f":"IF(W4066=\"\",\"\",LOOKUP(W4066,Hilfstabelle!$A$1:$A$286,Hilfstabelle!$B$1:$B$286))","v":""}]
[null,null,null,null,null,null,null,null,null,null,null,null,null,null,null,null,null,null,null,null,{"$f":"IF(W4069=\"\",\"\",LOOKUP(W4069,Hilfstabelle!$A$1:$A$286,Hilfstabelle!$B$1:$B$286))","v":""}]
[null,null,null,null,null,null,null,null,null,null,null,null,null,null,null,null,null,null,null,null,{"$f":"IF(W4072=\"\",\"\",LOOKUP(W4072,Hilfstabelle!$A$1:$A$286,Hilfstabelle!$B$1:$B$286))","v":""}]
[null,null,null,null,null,null,null,null,null,null,null,null,null,null,null,null,null,null,null,null,{"$f":"IF(W4073=\"\",\"\",LOOKUP(W4073,Hilfstabelle!$A$1:$A$286,Hilfstabelle!$B$1:$B$286))","v":""}]
[null,null,null,null,null,null,null,null,null,null,null,null,null,null,null,null,null,null,null,null,{"$f":"IF(W4077=\"\",\"\",LOOKUP(W4077,Hilfstabelle!$A$1:$A$286,Hilfstabelle!$B$1:$B$286))","v":""}]
[null,null,null,null,null,null,null,null,null,null,null,null,null,null,null,null,null,null,null,null,{"$f":"IF(W4078=\"\",\"\",LOOKUP(W4078,Hilfstabelle!$A$1:$A$286,Hilfstabelle!$B$1:$B$286))","v":""}]
[null,null,null,null,null,null,null,null,null,null,null,null,null,null,null,null,null,null,null,null,{"$f":"IF(W4081=\"\",\"\",LOOKUP(W4081,Hilfstabelle!$A$1:$A$286,Hilfstabelle!$B$1:$B$286))","v":""}]
[null,null,null,null,null,null,null,null,null,null,null,null,null,null,null,null,null,null,null,null,{"$f":"IF(W4082=\"\",\"\",LOOKUP(W4082,Hilfstabelle!$A$1:$A$286,Hilfstabelle!$B$1:$B$286))","v":""}]
[null,null,null,null,null,null,null,null,null,null,null,null,null,null,null,null,null,null,null,null,{"$f":"IF(W4084=\"\",\"\",LOOKUP(W4084,Hilfstabelle!$A$1:$A$286,Hilfstabelle!$B$1:$B$286))","v":""}]
[null,null,null,null,null,null,null,null,null,null,null,null,null,null,null,null,null,null,null,null,{"$f":"IF(W4087=\"\",\"\",LOOKUP(W4087,Hilfstabelle!$A$1:$A$286,Hilfstabelle!$B$1:$B$286))","v":""}]
[null,null,null,null,null,null,null,null,null,null,null,null,null,null,null,null,null,null,null,null,{"$f":"IF(W4090=\"\",\"\",LOOKUP(W4090,Hilfstabelle!$A$1:$A$286,Hilfstabelle!$B$1:$B$286))","v":""}]
[null,null,null,null,null,null,null,null,null,null,null,null,null,null,null,null,null,null,null,null,{"$f":"IF(W4091=\"\",\"\",LOOKUP(W4091,Hilfstabelle!$A$1:$A$286,Hilfstabelle!$B$1:$B$286))","v":""}]
[null,null,null,null,null,null,null,null,null,null,null,null,null,null,null,null,null,null,null,null,{"$f":"IF(W4095=\"\",\"\",LOOKUP(W4095,Hilfstabelle!$A$1:$A$286,Hilfstabelle!$B$1:$B$286))","v":""}]
[null,null,null,null,null,null,null,null,null,null,null,null,null,null,null,null,null,null,null,null,{"$f":"IF(W4096=\"\",\"\",LOOKUP(W4096,Hilfstabelle!$A$1:$A$286,Hilfstabelle!$B$1:$B$286))","v":""}]
[null,null,null,null,null,null,null,null,null,null,null,null,null,null,null,null,null,null,null,null,{"$f":"IF(W4099=\"\",\"\",LOOKUP(W4099,Hilfstabelle!$A$1:$A$286,Hilfstabelle!$B$1:$B$286))","v":""}]
[null,null,null,null,null,null,null,null,null,null,null,null,null,null,null,null,null,null,null,null,{"$f":"IF(W4100=\"\",\"\",LOOKUP(W4100,Hilfstabelle!$A$1:$A$286,Hilfstabelle!$B$1:$B$286))","v":""}]
[null,null,null,null,null,null,null,null,null,null,null,null,null,null,null,null,null,null,null,null,{"$f":"IF(W4102=\"\",\"\",LOOKUP(W4102,Hilfstabelle!$A$1:$A$286,Hilfstabelle!$B$1:$B$286))","v":""}]
[null,null,null,null,null,null,null,null,null,null,null,null,null,null,null,null,null,null,null,null,{"$f":"IF(W4105=\"\",\"\",LOOKUP(W4105,Hilfstabelle!$A$1:$A$286,Hilfstabelle!$B$1:$B$286))","v":""}]
[null,null,null,null,null,null,null,null,null,null,null,null,null,null,null,null,null,null,null,null,{"$f":"IF(W4108=\"\",\"\",LOOKUP(W4108,Hilfstabelle!$A$1:$A$286,Hilfstabelle!$B$1:$B$286))","v":""}]
[null,null,null,null,null,null,null,null,null,null,null,null,null,null,null,null,null,null,null,null,{"$f":"IF(W4109=\"\",\"\",LOOKUP(W4109,Hilfstabelle!$A$1:$A$286,Hilfstabelle!$B$1:$B$286))","v":""}]
[null,null,null,null,null,null,null,null,null,null,null,null,null,null,null,null,null,null,null,null,{"$f":"IF(W4113=\"\",\"\",LOOKUP(W4113,Hilfstabelle!$A$1:$A$286,Hilfstabelle!$B$1:$B$286))","v":""}]
[null,null,null,null,null,null,null,null,null,null,null,null,null,null,null,null,null,null,null,null,{"$f":"IF(W4114=\"\",\"\",LOOKUP(W4114,Hilfstabelle!$A$1:$A$286,Hilfstabelle!$B$1:$B$286))","v":""}]
[null,null,null,null,null,null,null,null,null,null,null,null,null,null,null,null,null,null,null,null,{"$f":"IF(W4117=\"\",\"\",LOOKUP(W4117,Hilfstabelle!$A$1:$A$286,Hilfstabelle!$B$1:$B$286))","v":""}]
[null,null,null,null,null,null,null,null,null,null,null,null,null,null,null,null,null,null,null,null,{"$f":"IF(W4118=\"\",\"\",LOOKUP(W4118,Hilfstabelle!$A$1:$A$286,Hilfstabelle!$B$1:$B$286))","v":""}]
[null,null,null,null,null,null,null,null,null,null,null,null,null,null,null,null,null,null,null,null,{"$f":"IF(W4120=\"\",\"\",LOOKUP(W4120,Hilfstabelle!$A$1:$A$286,Hilfstabelle!$B$1:$B$286))","v":""}]
[null,null,null,null,null,null,null,null,null,null,null,null,null,null,null,null,null,null,null,null,{"$f":"IF(W4123=\"\",\"\",LOOKUP(W4123,Hilfstabelle!$A$1:$A$286,Hilfstabelle!$B$1:$B$286))","v":""}]
[null,null,null,null,null,null,null,null,null,null,null,null,null,null,null,null,null,null,null,null,{"$f":"IF(W4126=\"\",\"\",LOOKUP(W4126,Hilfstabelle!$A$1:$A$286,Hilfstabelle!$B$1:$B$286))","v":""}]
[null,null,null,null,null,null,null,null,null,null,null,null,null,null,null,null,null,null,null,null,{"$f":"IF(W4127=\"\",\"\",LOOKUP(W4127,Hilfstabelle!$A$1:$A$286,Hilfstabelle!$B$1:$B$286))","v":""}]
[null,null,null,null,null,null,null,null,null,null,null,null,null,null,null,null,null,null,null,null,{"$f":"IF(W4131=\"\",\"\",LOOKUP(W4131,Hilfstabelle!$A$1:$A$286,Hilfstabelle!$B$1:$B$286))","v":""}]
[null,null,null,null,null,null,null,null,null,null,null,null,null,null,null,null,null,null,null,null,{"$f":"IF(W4132=\"\",\"\",LOOKUP(W4132,Hilfstabelle!$A$1:$A$286,Hilfstabelle!$B$1:$B$286))","v":""}]
[null,null,null,null,null,null,null,null,null,null,null,null,null,null,null,null,null,null,null,null,{"$f":"IF(W4135=\"\",\"\",LOOKUP(W4135,Hilfstabelle!$A$1:$A$286,Hilfstabelle!$B$1:$B$286))","v":""}]
[null,null,null,null,null,null,null,null,null,null,null,null,null,null,null,null,null,null,null,null,{"$f":"IF(W4136=\"\",\"\",LOOKUP(W4136,Hilfstabelle!$A$1:$A$286,Hilfstabelle!$B$1:$B$286))","v":""}]
[null,null,null,null,null,null,null,null,null,null,null,null,null,null,null,null,null,null,null,null,{"$f":"IF(W4138=\"\",\"\",LOOKUP(W4138,Hilfstabelle!$A$1:$A$286,Hilfstabelle!$B$1:$B$286))","v":""}]
[null,null,null,null,null,null,null,null,null,null,null,null,null,null,null,null,null,null,null,null,{"$f":"IF(W4141=\"\",\"\",LOOKUP(W4141,Hilfstabelle!$A$1:$A$286,Hilfstabelle!$B$1:$B$286))","v":""}]
[null,null,null,null,null,null,null,null,null,null,null,null,null,null,null,null,null,null,null,null,{"$f":"IF(W4144=\"\",\"\",LOOKUP(W4144,Hilfstabelle!$A$1:$A$286,Hilfstabelle!$B$1:$B$286))","v":""}]
[null,null,null,null,null,null,null,null,null,null,null,null,null,null,null,null,null,null,null,null,{"$f":"IF(W4145=\"\",\"\",LOOKUP(W4145,Hilfstabelle!$A$1:$A$286,Hilfstabelle!$B$1:$B$286))","v":""}]
[null,null,null,null,null,null,null,null,null,null,null,null,null,null,null,null,null,null,null,null,{"$f":"IF(W4149=\"\",\"\",LOOKUP(W4149,Hilfstabelle!$A$1:$A$286,Hilfstabelle!$B$1:$B$286))","v":""}]
[null,null,null,null,null,null,null,null,null,null,null,null,null,null,null,null,null,null,null,null,{"$f":"IF(W4150=\"\",\"\",LOOKUP(W4150,Hilfstabelle!$A$1:$A$286,Hilfstabelle!$B$1:$B$286))","v":""}]
[null,null,null,null,null,null,null,null,null,null,null,null,null,null,null,null,null,null,null,null,{"$f":"IF(W4153=\"\",\"\",LOOKUP(W4153,Hilfstabelle!$A$1:$A$286,Hilfstabelle!$B$1:$B$286))","v":""}]
[null,null,null,null,null,null,null,null,null,null,null,null,null,null,null,null,null,null,null,null,{"$f":"IF(W4154=\"\",\"\",LOOKUP(W4154,Hilfstabelle!$A$1:$A$286,Hilfstabelle!$B$1:$B$286))","v":""}]
[null,null,null,null,null,null,null,null,null,null,null,null,null,null,null,null,null,null,null,null,{"$f":"IF(W4156=\"\",\"\",LOOKUP(W4156,Hilfstabelle!$A$1:$A$286,Hilfstabelle!$B$1:$B$286))","v":""}]
[null,null,null,null,null,null,null,null,null,null,null,null,null,null,null,null,null,null,null,null,{"$f":"IF(W4159=\"\",\"\",LOOKUP(W4159,Hilfstabelle!$A$1:$A$286,Hilfstabelle!$B$1:$B$286))","v":""}]
[null,null,null,null,null,null,null,null,null,null,null,null,null,null,null,null,null,null,null,null,{"$f":"IF(W4162=\"\",\"\",LOOKUP(W4162,Hilfstabelle!$A$1:$A$286,Hilfstabelle!$B$1:$B$286))","v":""}]
[null,null,null,null,null,null,null,null,null,null,null,null,null,null,null,null,null,null,null,null,{"$f":"IF(W4163=\"\",\"\",LOOKUP(W4163,Hilfstabelle!$A$1:$A$286,Hilfstabelle!$B$1:$B$286))","v":""}]
[null,null,null,null,null,null,null,null,null,null,null,null,null,null,null,null,null,null,null,null,{"$f":"IF(W4167=\"\",\"\",LOOKUP(W4167,Hilfstabelle!$A$1:$A$286,Hilfstabelle!$B$1:$B$286))","v":""}]
[null,null,null,null,null,null,null,null,null,null,null,null,null,null,null,null,null,null,null,null,{"$f":"IF(W4168=\"\",\"\",LOOKUP(W4168,Hilfstabelle!$A$1:$A$286,Hilfstabelle!$B$1:$B$286))","v":""}]
[null,null,null,null,null,null,null,null,null,null,null,null,null,null,null,null,null,null,null,null,{"$f":"IF(W4171=\"\",\"\",LOOKUP(W4171,Hilfstabelle!$A$1:$A$286,Hilfstabelle!$B$1:$B$286))","v":""}]
[null,null,null,null,null,null,null,null,null,null,null,null,null,null,null,null,null,null,null,null,{"$f":"IF(W4172=\"\",\"\",LOOKUP(W4172,Hilfstabelle!$A$1:$A$286,Hilfstabelle!$B$1:$B$286))","v":""}]
[null,null,null,null,null,null,null,null,null,null,null,null,null,null,null,null,null,null,null,null,{"$f":"IF(W4174=\"\",\"\",LOOKUP(W4174,Hilfstabelle!$A$1:$A$286,Hilfstabelle!$B$1:$B$286))","v":""}]
[null,null,null,null,null,null,null,null,null,null,null,null,null,null,null,null,null,null,null,null,{"$f":"IF(W4177=\"\",\"\",LOOKUP(W4177,Hilfstabelle!$A$1:$A$286,Hilfstabelle!$B$1:$B$286))","v":""}]
[null,null,null,null,null,null,null,null,null,null,null,null,null,null,null,null,null,null,null,null,{"$f":"IF(W4180=\"\",\"\",LOOKUP(W4180,Hilfstabelle!$A$1:$A$286,Hilfstabelle!$B$1:$B$286))","v":""}]
[null,null,null,null,null,null,null,null,null,null,null,null,null,null,null,null,null,null,null,null,{"$f":"IF(W4181=\"\",\"\",LOOKUP(W4181,Hilfstabelle!$A$1:$A$286,Hilfstabelle!$B$1:$B$286))","v":""}]
[null,null,null,null,null,null,null,null,null,null,null,null,null,null,null,null,null,null,null,null,{"$f":"IF(W4185=\"\",\"\",LOOKUP(W4185,Hilfstabelle!$A$1:$A$286,Hilfstabelle!$B$1:$B$286))","v":""}]
[null,null,null,null,null,null,null,null,null,null,null,null,null,null,null,null,null,null,null,null,{"$f":"IF(W4186=\"\",\"\",LOOKUP(W4186,Hilfstabelle!$A$1:$A$286,Hilfstabelle!$B$1:$B$286))","v":""}]
[null,null,null,null,null,null,null,null,null,null,null,null,null,null,null,null,null,null,null,null,{"$f":"IF(W4189=\"\",\"\",LOOKUP(W4189,Hilfstabelle!$A$1:$A$286,Hilfstabelle!$B$1:$B$286))","v":""}]
[null,null,null,null,null,null,null,null,null,null,null,null,null,null,null,null,null,null,null,null,{"$f":"IF(W4190=\"\",\"\",LOOKUP(W4190,Hilfstabelle!$A$1:$A$286,Hilfstabelle!$B$1:$B$286))","v":""}]
[null,null,null,null,null,null,null,null,null,null,null,null,null,null,null,null,null,null,null,null,{"$f":"IF(W4193=\"\",\"\",LOOKUP(W4193,Hilfstabelle!$A$1:$A$286,Hilfstabelle!$B$1:$B$286))","v":""}]
[null,null,null,null,null,null,null,null,null,null,null,null,null,null,null,null,null,null,null,null,{"$f":"IF(W4195=\"\",\"\",LOOKUP(W4195,Hilfstabelle!$A$1:$A$286,Hilfstabelle!$B$1:$B$286))","v":""}]
[null,null,null,null,null,null,null,null,null,null,null,null,null,null,null,null,null,null,null,null,{"$f":"IF(W4198=\"\",\"\",LOOKUP(W4198,Hilfstabelle!$A$1:$A$286,Hilfstabelle!$B$1:$B$286))","v":""}]
[null,null,null,null,null,null,null,null,null,null,null,null,null,null,null,null,null,null,null,null,{"$f":"IF(W4199=\"\",\"\",LOOKUP(W4199,Hilfstabelle!$A$1:$A$286,Hilfstabelle!$B$1:$B$286))","v":""}]
[null,null,null,null,null,null,null,null,null,null,null,null,null,null,null,null,null,null,null,null,{"$f":"IF(W4203=\"\",\"\",LOOKUP(W4203,Hilfstabelle!$A$1:$A$286,Hilfstabelle!$B$1:$B$286))","v":""}]
[null,null,null,null,null,null,null,null,null,null,null,null,null,null,null,null,null,null,null,null,{"$f":"IF(W4204=\"\",\"\",LOOKUP(W4204,Hilfstabelle!$A$1:$A$286,Hilfstabelle!$B$1:$B$286))","v":""}]
[null,null,null,null,null,null,null,null,null,null,null,null,null,null,null,null,null,null,null,null,{"$f":"IF(W4207=\"\",\"\",LOOKUP(W4207,Hilfstabelle!$A$1:$A$286,Hilfstabelle!$B$1:$B$286))","v":""}]
[null,null,null,null,null,null,null,null,null,null,null,null,null,null,null,null,null,null,null,null,{"$f":"IF(W4208=\"\",\"\",LOOKUP(W4208,Hilfstabelle!$A$1:$A$286,Hilfstabelle!$B$1:$B$286))","v":""}]
[null,null,null,null,null,null,null,null,null,null,null,null,null,null,null,null,null,null,null,null,{"$f":"IF(W4211=\"\",\"\",LOOKUP(W4211,Hilfstabelle!$A$1:$A$286,Hilfstabelle!$B$1:$B$286))","v":""}]
[null,null,null,null,null,null,null,null,null,null,null,null,null,null,null,null,null,null,null,null,{"$f":"IF(W4213=\"\",\"\",LOOKUP(W4213,Hilfstabelle!$A$1:$A$286,Hilfstabelle!$B$1:$B$286))","v":""}]
[null,null,null,null,null,null,null,null,null,null,null,null,null,null,null,null,null,null,null,null,{"$f":"IF(W4216=\"\",\"\",LOOKUP(W4216,Hilfstabelle!$A$1:$A$286,Hilfstabelle!$B$1:$B$286))","v":""}]
[null,null,null,null,null,null,null,null,null,null,null,null,null,null,null,null,null,null,null,null,{"$f":"IF(W4217=\"\",\"\",LOOKUP(W4217,Hilfstabelle!$A$1:$A$286,Hilfstabelle!$B$1:$B$286))","v":""}]
[null,null,null,null,null,null,null,null,null,null,null,null,null,null,null,null,null,null,null,null,{"$f":"IF(W4221=\"\",\"\",LOOKUP(W4221,Hilfstabelle!$A$1:$A$286,Hilfstabelle!$B$1:$B$286))","v":""}]
[null,null,null,null,null,null,null,null,null,null,null,null,null,null,null,null,null,null,null,null,{"$f":"IF(W4222=\"\",\"\",LOOKUP(W4222,Hilfstabelle!$A$1:$A$286,Hilfstabelle!$B$1:$B$286))","v":""}]
[null,null,null,null,null,null,null,null,null,null,null,null,null,null,null,null,null,null,null,null,{"$f":"IF(W4225=\"\",\"\",LOOKUP(W4225,Hilfstabelle!$A$1:$A$286,Hilfstabelle!$B$1:$B$286))","v":""}]
[null,null,null,null,null,null,null,null,null,null,null,null,null,null,null,null,null,null,null,null,{"$f":"IF(W4226=\"\",\"\",LOOKUP(W4226,Hilfstabelle!$A$1:$A$286,Hilfstabelle!$B$1:$B$286))","v":""}]
[null,null,null,null,null,null,null,null,null,null,null,null,null,null,null,null,null,null,null,null,{"$f":"IF(W4229=\"\",\"\",LOOKUP(W4229,Hilfstabelle!$A$1:$A$286,Hilfstabelle!$B$1:$B$286))","v":""}]
[null,null,null,null,null,null,null,null,null,null,null,null,null,null,null,null,null,null,null,null,{"$f":"IF(W4231=\"\",\"\",LOOKUP(W4231,Hilfstabelle!$A$1:$A$286,Hilfstabelle!$B$1:$B$286))","v":""}]
[null,null,null,null,null,null,null,null,null,null,null,null,null,null,null,null,null,null,null,null,{"$f":"IF(W4234=\"\",\"\",LOOKUP(W4234,Hilfstabelle!$A$1:$A$286,Hilfstabelle!$B$1:$B$286))","v":""}]
[null,null,null,null,null,null,null,null,null,null,null,null,null,null,null,null,null,null,null,null,{"$f":"IF(W4235=\"\",\"\",LOOKUP(W4235,Hilfstabelle!$A$1:$A$286,Hilfstabelle!$B$1:$B$286))","v":""}]
[null,null,null,null,null,null,null,null,null,null,null,null,null,null,null,null,null,null,null,null,{"$f":"IF(W4239=\"\",\"\",LOOKUP(W4239,Hilfstabelle!$A$1:$A$286,Hilfstabelle!$B$1:$B$286))","v":""}]
[null,null,null,null,null,null,null,null,null,null,null,null,null,null,null,null,null,null,null,null,{"$f":"IF(W4240=\"\",\"\",LOOKUP(W4240,Hilfstabelle!$A$1:$A$286,Hilfstabelle!$B$1:$B$286))","v":""}]
[null,null,null,null,null,null,null,null,null,null,null,null,null,null,null,null,null,null,null,null,{"$f":"IF(W4243=\"\",\"\",LOOKUP(W4243,Hilfstabelle!$A$1:$A$286,Hilfstabelle!$B$1:$B$286))","v":""}]
[null,null,null,null,null,null,null,null,null,null,null,null,null,null,null,null,null,null,null,null,{"$f":"IF(W4244=\"\",\"\",LOOKUP(W4244,Hilfstabelle!$A$1:$A$286,Hilfstabelle!$B$1:$B$286))","v":""}]
[null,null,null,null,null,null,null,null,null,null,null,null,null,null,null,null,null,null,null,null,{"$f":"IF(W4247=\"\",\"\",LOOKUP(W4247,Hilfstabelle!$A$1:$A$286,Hilfstabelle!$B$1:$B$286))","v":""}]
[null,null,null,null,null,null,null,null,null,null,null,null,null,null,null,null,null,null,null,null,{"$f":"IF(W4249=\"\",\"\",LOOKUP(W4249,Hilfstabelle!$A$1:$A$286,Hilfstabelle!$B$1:$B$286))","v":""}]
[null,null,null,null,null,null,null,null,null,null,null,null,null,null,null,null,null,null,null,null,{"$f":"IF(W4252=\"\",\"\",LOOKUP(W4252,Hilfstabelle!$A$1:$A$286,Hilfstabelle!$B$1:$B$286))","v":""}]
[null,null,null,null,null,null,null,null,null,null,null,null,null,null,null,null,null,null,null,null,{"$f":"IF(W4255=\"\",\"\",LOOKUP(W4255,Hilfstabelle!$A$1:$A$286,Hilfstabelle!$B$1:$B$286))","v":""}]
[null,null,null,null,null,null,null,null,null,null,null,null,null,null,null,null,null,null,null,null,{"$f":"IF(W4257=\"\",\"\",LOOKUP(W4257,Hilfstabelle!$A$1:$A$286,Hilfstabelle!$B$1:$B$286))","v":""}]
[null,null,null,null,null,null,null,null,null,null,null,null,null,null,null,null,null,null,null,null,{"$f":"IF(W4258=\"\",\"\",LOOKUP(W4258,Hilfstabelle!$A$1:$A$286,Hilfstabelle!$B$1:$B$286))","v":""}]
[null,null,null,null,null,null,null,null,null,null,null,null,null,null,null,null,null,null,null,null,{"$f":"IF(W4261=\"\",\"\",LOOKUP(W4261,Hilfstabelle!$A$1:$A$286,Hilfstabelle!$B$1:$B$286))","v":""}]
[null,null,null,null,null,null,null,null,null,null,null,null,null,null,null,null,null,null,null,null,{"$f":"IF(W4262=\"\",\"\",LOOKUP(W4262,Hilfstabelle!$A$1:$A$286,Hilfstabelle!$B$1:$B$286))","v":""}]
[null,null,null,null,null,null,null,null,null,null,null,null,null,null,null,null,null,null,null,null,{"$f":"IF(W4266=\"\",\"\",LOOKUP(W4266,Hilfstabelle!$A$1:$A$286,Hilfstabelle!$B$1:$B$286))","v":""}]
[null,null,null,null,null,null,null,null,null,null,null,null,null,null,null,null,null,null,null,null,{"$f":"IF(W4267=\"\",\"\",LOOKUP(W4267,Hilfstabelle!$A$1:$A$286,Hilfstabelle!$B$1:$B$286))","v":""}]
[null,null,null,null,null,null,null,null,null,null,null,null,null,null,null,null,null,null,null,null,{"$f":"IF(W4270=\"\",\"\",LOOKUP(W4270,Hilfstabelle!$A$1:$A$286,Hilfstabelle!$B$1:$B$286))","v":""}]
[null,null,null,null,null,null,null,null,null,null,null,null,null,null,null,null,null,null,null,null,{"$f":"IF(W4273=\"\",\"\",LOOKUP(W4273,Hilfstabelle!$A$1:$A$286,Hilfstabelle!$B$1:$B$286))","v":""}]
[null,null,null,null,null,null,null,null,null,null,null,null,null,null,null,null,null,null,null,null,{"$f":"IF(W4275=\"\",\"\",LOOKUP(W4275,Hilfstabelle!$A$1:$A$286,Hilfstabelle!$B$1:$B$286))","v":""}]
[null,null,null,null,null,null,null,null,null,null,null,null,null,null,null,null,null,null,null,null,{"$f":"IF(W4276=\"\",\"\",LOOKUP(W4276,Hilfstabelle!$A$1:$A$286,Hilfstabelle!$B$1:$B$286))","v":""}]
[null,null,null,null,null,null,null,null,null,null,null,null,null,null,null,null,null,null,null,null,{"$f":"IF(W4279=\"\",\"\",LOOKUP(W4279,Hilfstabelle!$A$1:$A$286,Hilfstabelle!$B$1:$B$286))","v":""}]
[null,null,null,null,null,null,null,null,null,null,null,null,null,null,null,null,null,null,null,null,{"$f":"IF(W4280=\"\",\"\",LOOKUP(W4280,Hilfstabelle!$A$1:$A$286,Hilfstabelle!$B$1:$B$286))","v":""}]
[null,null,null,null,null,null,null,null,null,null,null,null,null,null,null,null,null,null,null,null,{"$f":"IF(W4284=\"\",\"\",LOOKUP(W4284,Hilfstabelle!$A$1:$A$286,Hilfstabelle!$B$1:$B$286))","v":""}]
[null,null,null,null,null,null,null,null,null,null,null,null,null,null,null,null,null,null,null,null,{"$f":"IF(W4285=\"\",\"\",LOOKUP(W4285,Hilfstabelle!$A$1:$A$286,Hilfstabelle!$B$1:$B$286))","v":""}]
[null,null,null,null,null,null,null,null,null,null,null,null,null,null,null,null,null,null,null,null,{"$f":"IF(W4288=\"\",\"\",LOOKUP(W4288,Hilfstabelle!$A$1:$A$286,Hilfstabelle!$B$1:$B$286))","v":""}]
[null,null,null,null,null,null,null,null,null,null,null,null,null,null,null,null,null,null,null,null,{"$f":"IF(W4291=\"\",\"\",LOOKUP(W4291,Hilfstabelle!$A$1:$A$286,Hilfstabelle!$B$1:$B$286))","v":""}]
[null,null,null,null,null,null,null,null,null,null,null,null,null,null,null,null,null,null,null,null,{"$f":"IF(W4293=\"\",\"\",LOOKUP(W4293,Hilfstabelle!$A$1:$A$286,Hilfstabelle!$B$1:$B$286))","v":""}]
[null,null,null,null,null,null,null,null,null,null,null,null,null,null,null,null,null,null,null,null,{"$f":"IF(W4294=\"\",\"\",LOOKUP(W4294,Hilfstabelle!$A$1:$A$286,Hilfstabelle!$B$1:$B$286))","v":""}]
[null,null,null,null,null,null,null,null,null,null,null,null,null,null,null,null,null,null,null,null,{"$f":"IF(W4297=\"\",\"\",LOOKUP(W4297,Hilfstabelle!$A$1:$A$286,Hilfstabelle!$B$1:$B$286))","v":""}]
[null,null,null,null,null,null,null,null,null,null,null,null,null,null,null,null,null,null,null,null,{"$f":"IF(W4298=\"\",\"\",LOOKUP(W4298,Hilfstabelle!$A$1:$A$286,Hilfstabelle!$B$1:$B$286))","v":""}]
[null,null,null,null,null,null,null,null,null,null,null,null,null,null,null,null,null,null,null,null,{"$f":"IF(W4302=\"\",\"\",LOOKUP(W4302,Hilfstabelle!$A$1:$A$286,Hilfstabelle!$B$1:$B$286))","v":""}]
[null,null,null,null,null,null,null,null,null,null,null,null,null,null,null,null,null,null,null,null,{"$f":"IF(W4303=\"\",\"\",LOOKUP(W4303,Hilfstabelle!$A$1:$A$286,Hilfstabelle!$B$1:$B$286))","v":""}]
[null,null,null,null,null,null,null,null,null,null,null,null,null,null,null,null,null,null,null,null,{"$f":"IF(W4306=\"\",\"\",LOOKUP(W4306,Hilfstabelle!$A$1:$A$286,Hilfstabelle!$B$1:$B$286))","v":""}]
[null,null,null,null,null,null,null,null,null,null,null,null,null,null,null,null,null,null,null,null,{"$f":"IF(W4309=\"\",\"\",LOOKUP(W4309,Hilfstabelle!$A$1:$A$286,Hilfstabelle!$B$1:$B$286))","v":""}]
[null,null,null,null,null,null,null,null,null,null,null,null,null,null,null,null,null,null,null,null,{"$f":"IF(W4311=\"\",\"\",LOOKUP(W4311,Hilfstabelle!$A$1:$A$286,Hilfstabelle!$B$1:$B$286))","v":""}]
[null,null,null,null,null,null,null,null,null,null,null,null,null,null,null,null,null,null,null,null,{"$f":"IF(W4312=\"\",\"\",LOOKUP(W4312,Hilfstabelle!$A$1:$A$286,Hilfstabelle!$B$1:$B$286))","v":""}]
[null,null,null,null,null,null,null,null,null,null,null,null,null,null,null,null,null,null,null,null,{"$f":"IF(W4315=\"\",\"\",LOOKUP(W4315,Hilfstabelle!$A$1:$A$286,Hilfstabelle!$B$1:$B$286))","v":""}]
[null,null,null,null,null,null,null,null,null,null,null,null,null,null,null,null,null,null,null,null,{"$f":"IF(W4317=\"\",\"\",LOOKUP(W4317,Hilfstabelle!$A$1:$A$286,Hilfstabelle!$B$1:$B$286))","v":""}]
[null,null,null,null,null,null,null,null,null,null,null,null,null,null,null,null,null,null,null,null,{"$f":"IF(W4320=\"\",\"\",LOOKUP(W4320,Hilfstabelle!$A$1:$A$286,Hilfstabelle!$B$1:$B$286))","v":""}]
[null,null,null,null,null,null,null,null,null,null,null,null,null,null,null,null,null,null,null,null,{"$f":"IF(W4321=\"\",\"\",LOOKUP(W4321,Hilfstabelle!$A$1:$A$286,Hilfstabelle!$B$1:$B$286))","v":""}]
[null,null,null,null,null,null,null,null,null,null,null,null,null,null,null,null,null,null,null,null,{"$f":"IF(W4324=\"\",\"\",LOOKUP(W4324,Hilfstabelle!$A$1:$A$286,Hilfstabelle!$B$1:$B$286))","v":""}]
[null,null,null,null,null,null,null,null,null,null,null,null,null,null,null,null,null,null,null,null,{"$f":"IF(W4327=\"\",\"\",LOOKUP(W4327,Hilfstabelle!$A$1:$A$286,Hilfstabelle!$B$1:$B$286))","v":""}]
[null,null,null,null,null,null,null,null,null,null,null,null,null,null,null,null,null,null,null,null,{"$f":"IF(W4329=\"\",\"\",LOOKUP(W4329,Hilfstabelle!$A$1:$A$286,Hilfstabelle!$B$1:$B$286))","v":""}]
[null,null,null,null,null,null,null,null,null,null,null,null,null,null,null,null,null,null,null,null,{"$f":"IF(W4330=\"\",\"\",LOOKUP(W4330,Hilfstabelle!$A$1:$A$286,Hilfstabelle!$B$1:$B$286))","v":""}]
[null,null,null,null,null,null,null,null,null,null,null,null,null,null,null,null,null,null,null,null,{"$f":"IF(W4333=\"\",\"\",LOOKUP(W4333,Hilfstabelle!$A$1:$A$286,Hilfstabelle!$B$1:$B$286))","v":""}]
[null,null,null,null,null,null,null,null,null,null,null,null,null,null,null,null,null,null,null,null,{"$f":"IF(W4335=\"\",\"\",LOOKUP(W4335,Hilfstabelle!$A$1:$A$286,Hilfstabelle!$B$1:$B$286))","v":""}]
[null,null,null,null,null,null,null,null,null,null,null,null,null,null,null,null,null,null,null,null,{"$f":"IF(W4338=\"\",\"\",LOOKUP(W4338,Hilfstabelle!$A$1:$A$286,Hilfstabelle!$B$1:$B$286))","v":""}]
[null,null,null,null,null,null,null,null,null,null,null,null,null,null,null,null,null,null,null,null,{"$f":"IF(W4339=\"\",\"\",LOOKUP(W4339,Hilfstabelle!$A$1:$A$286,Hilfstabelle!$B$1:$B$286))","v":""}]
[null,null,null,null,null,null,null,null,null,null,null,null,null,null,null,null,null,null,null,null,{"$f":"IF(W4342=\"\",\"\",LOOKUP(W4342,Hilfstabelle!$A$1:$A$286,Hilfstabelle!$B$1:$B$286))","v":""}]
[null,null,null,null,null,null,null,null,null,null,null,null,null,null,null,null,null,null,null,null,{"$f":"IF(W4345=\"\",\"\",LOOKUP(W4345,Hilfstabelle!$A$1:$A$286,Hilfstabelle!$B$1:$B$286))","v":""}]
[null,null,null,null,null,null,null,null,null,null,null,null,null,null,null,null,null,null,null,null,{"$f":"IF(W4347=\"\",\"\",LOOKUP(W4347,Hilfstabelle!$A$1:$A$286,Hilfstabelle!$B$1:$B$286))","v":""}]
[null,null,null,null,null,null,null,null,null,null,null,null,null,null,null,null,null,null,null,null,{"$f":"IF(W4348=\"\",\"\",LOOKUP(W4348,Hilfstabelle!$A$1:$A$286,Hilfstabelle!$B$1:$B$286))","v":""}]
[null,null,null,null,null,null,null,null,null,null,null,null,null,null,null,null,null,null,null,null,{"$f":"IF(W4351=\"\",\"\",LOOKUP(W4351,Hilfstabelle!$A$1:$A$286,Hilfstabelle!$B$1:$B$286))","v":""}]
[null,null,null,null,null,null,null,null,null,null,null,null,null,null,null,null,null,null,null,null,{"$f":"IF(W4353=\"\",\"\",LOOKUP(W4353,Hilfstabelle!$A$1:$A$286,Hilfstabelle!$B$1:$B$286))","v":""}]
[null,null,null,null,null,null,null,null,null,null,null,null,null,null,null,null,null,null,null,null,{"$f":"IF(W4356=\"\",\"\",LOOKUP(W4356,Hilfstabelle!$A$1:$A$286,Hilfstabelle!$B$1:$B$286))","v":""}]
[null,null,null,null,null,null,null,null,null,null,null,null,null,null,null,null,null,null,null,null,{"$f":"IF(W4357=\"\",\"\",LOOKUP(W4357,Hilfstabelle!$A$1:$A$286,Hilfstabelle!$B$1:$B$286))","v":""}]
[null,null,null,null,null,null,null,null,null,null,null,null,null,null,null,null,null,null,null,null,{"$f":"IF(W4360=\"\",\"\",LOOKUP(W4360,Hilfstabelle!$A$1:$A$286,Hilfstabelle!$B$1:$B$286))","v":""}]
[null,null,null,null,null,null,null,null,null,null,null,null,null,null,null,null,null,null,null,null,{"$f":"IF(W4363=\"\",\"\",LOOKUP(W4363,Hilfstabelle!$A$1:$A$286,Hilfstabelle!$B$1:$B$286))","v":""}]
[null,null,null,null,null,null,null,null,null,null,null,null,null,null,null,null,null,null,null,null,{"$f":"IF(W4365=\"\",\"\",LOOKUP(W4365,Hilfstabelle!$A$1:$A$286,Hilfstabelle!$B$1:$B$286))","v":""}]
[null,null,null,null,null,null,null,null,null,null,null,null,null,null,null,null,null,null,null,null,{"$f":"IF(W4366=\"\",\"\",LOOKUP(W4366,Hilfstabelle!$A$1:$A$286,Hilfstabelle!$B$1:$B$286))","v":""}]
[null,null,null,null,null,null,null,null,null,null,null,null,null,null,null,null,null,null,null,null,{"$f":"IF(W4369=\"\",\"\",LOOKUP(W4369,Hilfstabelle!$A$1:$A$286,Hilfstabelle!$B$1:$B$286))","v":""}]
[null,null,null,null,null,null,null,null,null,null,null,null,null,null,null,null,null,null,null,null,{"$f":"IF(W4371=\"\",\"\",LOOKUP(W4371,Hilfstabelle!$A$1:$A$286,Hilfstabelle!$B$1:$B$286))","v":""}]
[null,null,null,null,null,null,null,null,null,null,null,null,null,null,null,null,null,null,null,null,{"$f":"IF(W4374=\"\",\"\",LOOKUP(W4374,Hilfstabelle!$A$1:$A$286,Hilfstabelle!$B$1:$B$286))","v":""}]
[null,null,null,null,null,null,null,null,null,null,null,null,null,null,null,null,null,null,null,null,{"$f":"IF(W4375=\"\",\"\",LOOKUP(W4375,Hilfstabelle!$A$1:$A$286,Hilfstabelle!$B$1:$B$286))","v":""}]
[null,null,null,null,null,null,null,null,null,null,null,null,null,null,null,null,null,null,null,null,{"$f":"IF(W4378=\"\",\"\",LOOKUP(W4378,Hilfstabelle!$A$1:$A$286,Hilfstabelle!$B$1:$B$286))","v":""}]
[null,null,null,null,null,null,null,null,null,null,null,null,null,null,null,null,null,null,null,null,{"$f":"IF(W4381=\"\",\"\",LOOKUP(W4381,Hilfstabelle!$A$1:$A$286,Hilfstabelle!$B$1:$B$286))","v":""}]
[null,null,null,null,null,null,null,null,null,null,null,null,null,null,null,null,null,null,null,null,{"$f":"IF(W4383=\"\",\"\",LOOKUP(W4383,Hilfstabelle!$A$1:$A$286,Hilfstabelle!$B$1:$B$286))","v":""}]
[null,null,null,null,null,null,null,null,null,null,null,null,null,null,null,null,null,null,null,null,{"$f":"IF(W4384=\"\",\"\",LOOKUP(W4384,Hilfstabelle!$A$1:$A$286,Hilfstabelle!$B$1:$B$286))","v":""}]
[null,null,null,null,null,null,null,null,null,null,null,null,null,null,null,null,null,null,null,null,{"$f":"IF(W4387=\"\",\"\",LOOKUP(W4387,Hilfstabelle!$A$1:$A$286,Hilfstabelle!$B$1:$B$286))","v":""}]
[null,null,null,null,null,null,null,null,null,null,null,null,null,null,null,null,null,null,null,null,{"$f":"IF(W4389=\"\",\"\",LOOKUP(W4389,Hilfstabelle!$A$1:$A$286,Hilfstabelle!$B$1:$B$286))","v":""}]
[null,null,null,null,null,null,null,null,null,null,null,null,null,null,null,null,null,null,null,null,{"$f":"IF(W4392=\"\",\"\",LOOKUP(W4392,Hilfstabelle!$A$1:$A$286,Hilfstabelle!$B$1:$B$286))","v":""}]
[null,null,null,null,null,null,null,null,null,null,null,null,null,null,null,null,null,null,null,null,{"$f":"IF(W4393=\"\",\"\",LOOKUP(W4393,Hilfstabelle!$A$1:$A$286,Hilfstabelle!$B$1:$B$286))","v":""}]
[null,null,null,null,null,null,null,null,null,null,null,null,null,null,null,null,null,null,null,null,{"$f":"IF(W4396=\"\",\"\",LOOKUP(W4396,Hilfstabelle!$A$1:$A$286,Hilfstabelle!$B$1:$B$286))","v":""}]
[null,null,null,null,null,null,null,null,null,null,null,null,null,null,null,null,null,null,null,null,{"$f":"IF(W4399=\"\",\"\",LOOKUP(W4399,Hilfstabelle!$A$1:$A$286,Hilfstabelle!$B$1:$B$286))","v":""}]
[null,null,null,null,null,null,null,null,null,null,null,null,null,null,null,null,null,null,null,null,{"$f":"IF(W4401=\"\",\"\",LOOKUP(W4401,Hilfstabelle!$A$1:$A$286,Hilfstabelle!$B$1:$B$286))","v":""}]
[null,null,null,null,null,null,null,null,null,null,null,null,null,null,null,null,null,null,null,null,{"$f":"IF(W4402=\"\",\"\",LOOKUP(W4402,Hilfstabelle!$A$1:$A$286,Hilfstabelle!$B$1:$B$286))","v":""}]
[null,null,null,null,null,null,null,null,null,null,null,null,null,null,null,null,null,null,null,null,{"$f":"IF(W4405=\"\",\"\",LOOKUP(W4405,Hilfstabelle!$A$1:$A$286,Hilfstabelle!$B$1:$B$286))","v":""}]
[null,null,null,null,null,null,null,null,null,null,null,null,null,null,null,null,null,null,null,null,{"$f":"IF(W4407=\"\",\"\",LOOKUP(W4407,Hilfstabelle!$A$1:$A$286,Hilfstabelle!$B$1:$B$286))","v":""}]
[null,null,null,null,null,null,null,null,null,null,null,null,null,null,null,null,null,null,null,null,{"$f":"IF(W4410=\"\",\"\",LOOKUP(W4410,Hilfstabelle!$A$1:$A$286,Hilfstabelle!$B$1:$B$286))","v":""}]
[null,null,null,null,null,null,null,null,null,null,null,null,null,null,null,null,null,null,null,null,{"$f":"IF(W4411=\"\",\"\",LOOKUP(W4411,Hilfstabelle!$A$1:$A$286,Hilfstabelle!$B$1:$B$286))","v":""}]
[null,null,null,null,null,null,null,null,null,null,null,null,null,null,null,null,null,null,null,null,{"$f":"IF(W4414=\"\",\"\",LOOKUP(W4414,Hilfstabelle!$A$1:$A$286,Hilfstabelle!$B$1:$B$286))","v":""}]
[null,null,null,null,null,null,null,null,null,null,null,null,null,null,null,null,null,null,null,null,{"$f":"IF(W4417=\"\",\"\",LOOKUP(W4417,Hilfstabelle!$A$1:$A$286,Hilfstabelle!$B$1:$B$286))","v":""}]
[null,null,null,null,null,null,null,null,null,null,null,null,null,null,null,null,null,null,null,null,{"$f":"IF(W4419=\"\",\"\",LOOKUP(W4419,Hilfstabelle!$A$1:$A$286,Hilfstabelle!$B$1:$B$286))","v":""}]
[null,null,null,null,null,null,null,null,null,null,null,null,null,null,null,null,null,null,null,null,{"$f":"IF(W4420=\"\",\"\",LOOKUP(W4420,Hilfstabelle!$A$1:$A$286,Hilfstabelle!$B$1:$B$286))","v":""}]
[null,null,null,null,null,null,null,null,null,null,null,null,null,null,null,null,null,null,null,null,{"$f":"IF(W4423=\"\",\"\",LOOKUP(W4423,Hilfstabelle!$A$1:$A$286,Hilfstabelle!$B$1:$B$286))","v":""}]
[null,null,null,null,null,null,null,null,null,null,null,null,null,null,null,null,null,null,null,null,{"$f":"IF(W4425=\"\",\"\",LOOKUP(W4425,Hilfstabelle!$A$1:$A$286,Hilfstabelle!$B$1:$B$286))","v":""}]
[null,null,null,null,null,null,null,null,null,null,null,null,null,null,null,null,null,null,null,null,{"$f":"IF(W4428=\"\",\"\",LOOKUP(W4428,Hilfstabelle!$A$1:$A$286,Hilfstabelle!$B$1:$B$286))","v":""}]
[null,null,null,null,null,null,null,null,null,null,null,null,null,null,null,null,null,null,null,null,{"$f":"IF(W4429=\"\",\"\",LOOKUP(W4429,Hilfstabelle!$A$1:$A$286,Hilfstabelle!$B$1:$B$286))","v":""}]
[null,null,null,null,null,null,null,null,null,null,null,null,null,null,null,null,null,null,null,null,{"$f":"IF(W4432=\"\",\"\",LOOKUP(W4432,Hilfstabelle!$A$1:$A$286,Hilfstabelle!$B$1:$B$286))","v":""}]
[null,null,null,null,null,null,null,null,null,null,null,null,null,null,null,null,null,null,null,null,{"$f":"IF(W4435=\"\",\"\",LOOKUP(W4435,Hilfstabelle!$A$1:$A$286,Hilfstabelle!$B$1:$B$286))","v":""}]
[null,null,null,null,null,null,null,null,null,null,null,null,null,null,null,null,null,null,null,null,{"$f":"IF(W4437=\"\",\"\",LOOKUP(W4437,Hilfstabelle!$A$1:$A$286,Hilfstabelle!$B$1:$B$286))","v":""}]
[null,null,null,null,null,null,null,null,null,null,null,null,null,null,null,null,null,null,null,null,{"$f":"IF(W4438=\"\",\"\",LOOKUP(W4438,Hilfstabelle!$A$1:$A$286,Hilfstabelle!$B$1:$B$286))","v":""}]
[null,null,null,null,null,null,null,null,null,null,null,null,null,null,null,null,null,null,null,null,{"$f":"IF(W4441=\"\",\"\",LOOKUP(W4441,Hilfstabelle!$A$1:$A$286,Hilfstabelle!$B$1:$B$286))","v":""}]
[null,null,null,null,null,null,null,null,null,null,null,null,null,null,null,null,null,null,null,null,{"$f":"IF(W4443=\"\",\"\",LOOKUP(W4443,Hilfstabelle!$A$1:$A$286,Hilfstabelle!$B$1:$B$286))","v":""}]
[null,null,null,null,null,null,null,null,null,null,null,null,null,null,null,null,null,null,null,null,{"$f":"IF(W4446=\"\",\"\",LOOKUP(W4446,Hilfstabelle!$A$1:$A$286,Hilfstabelle!$B$1:$B$286))","v":""}]
[null,null,null,null,null,null,null,null,null,null,null,null,null,null,null,null,null,null,null,null,{"$f":"IF(W4447=\"\",\"\",LOOKUP(W4447,Hilfstabelle!$A$1:$A$286,Hilfstabelle!$B$1:$B$286))","v":""}]
[null,null,null,null,null,null,null,null,null,null,null,null,null,null,null,null,null,null,null,null,{"$f":"IF(W4450=\"\",\"\",LOOKUP(W4450,Hilfstabelle!$A$1:$A$286,Hilfstabelle!$B$1:$B$286))","v":""}]
[null,null,null,null,null,null,null,null,null,null,null,null,null,null,null,null,null,null,null,null,{"$f":"IF(W4453=\"\",\"\",LOOKUP(W4453,Hilfstabelle!$A$1:$A$286,Hilfstabelle!$B$1:$B$286))","v":""}]
[null,null,null,null,null,null,null,null,null,null,null,null,null,null,null,null,null,null,null,null,{"$f":"IF(W4455=\"\",\"\",LOOKUP(W4455,Hilfstabelle!$A$1:$A$286,Hilfstabelle!$B$1:$B$286))","v":""}]
[null,null,null,null,null,null,null,null,null,null,null,null,null,null,null,null,null,null,null,null,{"$f":"IF(W4456=\"\",\"\",LOOKUP(W4456,Hilfstabelle!$A$1:$A$286,Hilfstabelle!$B$1:$B$286))","v":""}]
[null,null,null,null,null,null,null,null,null,null,null,null,null,null,null,null,null,null,null,null,{"$f":"IF(W4459=\"\",\"\",LOOKUP(W4459,Hilfstabelle!$A$1:$A$286,Hilfstabelle!$B$1:$B$286))","v":""}]
[null,null,null,null,null,null,null,null,null,null,null,null,null,null,null,null,null,null,null,null,{"$f":"IF(W4461=\"\",\"\",LOOKUP(W4461,Hilfstabelle!$A$1:$A$286,Hilfstabelle!$B$1:$B$286))","v":""}]
[null,null,null,null,null,null,null,null,null,null,null,null,null,null,null,null,null,null,null,null,{"$f":"IF(W4464=\"\",\"\",LOOKUP(W4464,Hilfstabelle!$A$1:$A$286,Hilfstabelle!$B$1:$B$286))","v":""}]
[null,null,null,null,null,null,null,null,null,null,null,null,null,null,null,null,null,null,null,null,{"$f":"IF(W4465=\"\",\"\",LOOKUP(W4465,Hilfstabelle!$A$1:$A$286,Hilfstabelle!$B$1:$B$286))","v":""}]
[null,null,null,null,null,null,null,null,null,null,null,null,null,null,null,null,null,null,null,null,{"$f":"IF(W4468=\"\",\"\",LOOKUP(W4468,Hilfstabelle!$A$1:$A$286,Hilfstabelle!$B$1:$B$286))","v":""}]
[null,null,null,null,null,null,null,null,null,null,null,null,null,null,null,null,null,null,null,null,{"$f":"IF(W4469=\"\",\"\",LOOKUP(W4469,Hilfstabelle!$A$1:$A$286,Hilfstabelle!$B$1:$B$286))","v":""}]
[null,null,null,null,null,null,null,null,null,null,null,null,null,null,null,null,null,null,null,null,{"$f":"IF(W4473=\"\",\"\",LOOKUP(W4473,Hilfstabelle!$A$1:$A$286,Hilfstabelle!$B$1:$B$286))","v":""}]
[null,null,null,null,null,null,null,null,null,null,null,null,null,null,null,null,null,null,null,null,{"$f":"IF(W4474=\"\",\"\",LOOKUP(W4474,Hilfstabelle!$A$1:$A$286,Hilfstabelle!$B$1:$B$286))","v":""}]
[null,null,null,null,null,null,null,null,null,null,null,null,null,null,null,null,null,null,null,null,{"$f":"IF(W4477=\"\",\"\",LOOKUP(W4477,Hilfstabelle!$A$1:$A$286,Hilfstabelle!$B$1:$B$286))","v":""}]
[null,null,null,null,null,null,null,null,null,null,null,null,null,null,null,null,null,null,null,null,{"$f":"IF(W4479=\"\",\"\",LOOKUP(W4479,Hilfstabelle!$A$1:$A$286,Hilfstabelle!$B$1:$B$286))","v":""}]
[null,null,null,null,null,null,null,null,null,null,null,null,null,null,null,null,null,null,null,null,{"$f":"IF(W4482=\"\",\"\",LOOKUP(W4482,Hilfstabelle!$A$1:$A$286,Hilfstabelle!$B$1:$B$286))","v":""}]
[null,null,null,null,null,null,null,null,null,null,null,null,null,null,null,null,null,null,null,null,{"$f":"IF(W4483=\"\",\"\",LOOKUP(W4483,Hilfstabelle!$A$1:$A$286,Hilfstabelle!$B$1:$B$286))","v":""}]
[null,null,null,null,null,null,null,null,null,null,null,null,null,null,null,null,null,null,null,null,{"$f":"IF(W4486=\"\",\"\",LOOKUP(W4486,Hilfstabelle!$A$1:$A$286,Hilfstabelle!$B$1:$B$286))","v":""}]
[null,null,null,null,null,null,null,null,null,null,null,null,null,null,null,null,null,null,null,null,{"$f":"IF(W4487=\"\",\"\",LOOKUP(W4487,Hilfstabelle!$A$1:$A$286,Hilfstabelle!$B$1:$B$286))","v":""}]
[null,null,null,null,null,null,null,null,null,null,null,null,null,null,null,null,null,null,null,null,{"$f":"IF(W4491=\"\",\"\",LOOKUP(W4491,Hilfstabelle!$A$1:$A$286,Hilfstabelle!$B$1:$B$286))","v":""}]
[null,null,null,null,null,null,null,null,null,null,null,null,null,null,null,null,null,null,null,null,{"$f":"IF(W4492=\"\",\"\",LOOKUP(W4492,Hilfstabelle!$A$1:$A$286,Hilfstabelle!$B$1:$B$286))","v":""}]
[null,null,null,null,null,null,null,null,null,null,null,null,null,null,null,null,null,null,null,null,{"$f":"IF(W4495=\"\",\"\",LOOKUP(W4495,Hilfstabelle!$A$1:$A$286,Hilfstabelle!$B$1:$B$286))","v":""}]
[null,null,null,null,null,null,null,null,null,null,null,null,null,null,null,null,null,null,null,null,{"$f":"IF(W4497=\"\",\"\",LOOKUP(W4497,Hilfstabelle!$A$1:$A$286,Hilfstabelle!$B$1:$B$286))","v":""}]
[null,null,null,null,null,null,null,null,null,null,null,null,null,null,null,null,null,null,null,null,{"$f":"IF(W4500=\"\",\"\",LOOKUP(W4500,Hilfstabelle!$A$1:$A$286,Hilfstabelle!$B$1:$B$286))","v":""}]
[null,null,null,null,null,null,null,null,null,null,null,null,null,null,null,null,null,null,null,null,{"$f":"IF(W4501=\"\",\"\",LOOKUP(W4501,Hilfstabelle!$A$1:$A$286,Hilfstabelle!$B$1:$B$286))","v":""}]
[null,null,null,null,null,null,null,null,null,null,null,null,null,null,null,null,null,null,null,null,{"$f":"IF(W4504=\"\",\"\",LOOKUP(W4504,Hilfstabelle!$A$1:$A$286,Hilfstabelle!$B$1:$B$286))","v":""}]
[null,null,null,null,null,null,null,null,null,null,null,null,null,null,null,null,null,null,null,null,{"$f":"IF(W4505=\"\",\"\",LOOKUP(W4505,Hilfstabelle!$A$1:$A$286,Hilfstabelle!$B$1:$B$286))","v":""}]
[null,null,null,null,null,null,null,null,null,null,null,null,null,null,null,null,null,null,null,null,{"$f":"IF(W4509=\"\",\"\",LOOKUP(W4509,Hilfstabelle!$A$1:$A$286,Hilfstabelle!$B$1:$B$286))","v":""}]
[null,null,null,null,null,null,null,null,null,null,null,null,null,null,null,null,null,null,null,null,{"$f":"IF(W4510=\"\",\"\",LOOKUP(W4510,Hilfstabelle!$A$1:$A$286,Hilfstabelle!$B$1:$B$286))","v":""}]
[null,null,null,null,null,null,null,null,null,null,null,null,null,null,null,null,null,null,null,null,{"$f":"IF(W4513=\"\",\"\",LOOKUP(W4513,Hilfstabelle!$A$1:$A$286,Hilfstabelle!$B$1:$B$286))","v":""}]
[null,null,null,null,null,null,null,null,null,null,null,null,null,null,null,null,null,null,null,null,{"$f":"IF(W4515=\"\",\"\",LOOKUP(W4515,Hilfstabelle!$A$1:$A$286,Hilfstabelle!$B$1:$B$286))","v":""}]
[null,null,null,null,null,null,null,null,null,null,null,null,null,null,null,null,null,null,null,null,{"$f":"IF(W4518=\"\",\"\",LOOKUP(W4518,Hilfstabelle!$A$1:$A$286,Hilfstabelle!$B$1:$B$286))","v":""}]
[null,null,null,null,null,null,null,null,null,null,null,null,null,null,null,null,null,null,null,null,{"$f":"IF(W4519=\"\",\"\",LOOKUP(W4519,Hilfstabelle!$A$1:$A$286,Hilfstabelle!$B$1:$B$286))","v":""}]
[null,null,null,null,null,null,null,null,null,null,null,null,null,null,null,null,null,null,null,null,{"$f":"IF(W4522=\"\",\"\",LOOKUP(W4522,Hilfstabelle!$A$1:$A$286,Hilfstabelle!$B$1:$B$286))","v":""}]
[null,null,null,null,null,null,null,null,null,null,null,null,null,null,null,null,null,null,null,null,{"$f":"IF(W4523=\"\",\"\",LOOKUP(W4523,Hilfstabelle!$A$1:$A$286,Hilfstabelle!$B$1:$B$286))","v":""}]
[null,null,null,null,null,null,null,null,null,null,null,null,null,null,null,null,null,null,null,null,{"$f":"IF(W4527=\"\",\"\",LOOKUP(W4527,Hilfstabelle!$A$1:$A$286,Hilfstabelle!$B$1:$B$286))","v":""}]
[null,null,null,null,null,null,null,null,null,null,null,null,null,null,null,null,null,null,null,null,{"$f":"IF(W4528=\"\",\"\",LOOKUP(W4528,Hilfstabelle!$A$1:$A$286,Hilfstabelle!$B$1:$B$286))","v":""}]
[null,null,null,null,null,null,null,null,null,null,null,null,null,null,null,null,null,null,null,null,{"$f":"IF(W4531=\"\",\"\",LOOKUP(W4531,Hilfstabelle!$A$1:$A$286,Hilfstabelle!$B$1:$B$286))","v":""}]
[null,null,null,null,null,null,null,null,null,null,null,null,null,null,null,null,null,null,null,null,{"$f":"IF(W4533=\"\",\"\",LOOKUP(W4533,Hilfstabelle!$A$1:$A$286,Hilfstabelle!$B$1:$B$286))","v":""}]
[null,null,null,null,null,null,null,null,null,null,null,null,null,null,null,null,null,null,null,null,{"$f":"IF(W4536=\"\",\"\",LOOKUP(W4536,Hilfstabelle!$A$1:$A$286,Hilfstabelle!$B$1:$B$286))","v":""}]
[null,null,null,null,null,null,null,null,null,null,null,null,null,null,null,null,null,null,null,null,{"$f":"IF(W4537=\"\",\"\",LOOKUP(W4537,Hilfstabelle!$A$1:$A$286,Hilfstabelle!$B$1:$B$286))","v":""}]
[null,null,null,null,null,null,null,null,null,null,null,null,null,null,null,null,null,null,null,null,{"$f":"IF(W4540=\"\",\"\",LOOKUP(W4540,Hilfstabelle!$A$1:$A$286,Hilfstabelle!$B$1:$B$286))","v":""}]
[null,null,null,null,null,null,null,null,null,null,null,null,null,null,null,null,null,null,null,null,{"$f":"IF(W4541=\"\",\"\",LOOKUP(W4541,Hilfstabelle!$A$1:$A$286,Hilfstabelle!$B$1:$B$286))","v":""}]
[null,null,null,null,null,null,null,null,null,null,null,null,null,null,null,null,null,null,null,null,{"$f":"IF(W4545=\"\",\"\",LOOKUP(W4545,Hilfstabelle!$A$1:$A$286,Hilfstabelle!$B$1:$B$286))","v":""}]
[null,null,null,null,null,null,null,null,null,null,null,null,null,null,null,null,null,null,null,null,{"$f":"IF(W4546=\"\",\"\",LOOKUP(W4546,Hilfstabelle!$A$1:$A$286,Hilfstabelle!$B$1:$B$286))","v":""}]
[null,null,null,null,null,null,null,null,null,null,null,null,null,null,null,null,null,null,null,null,{"$f":"IF(W4549=\"\",\"\",LOOKUP(W4549,Hilfstabelle!$A$1:$A$286,Hilfstabelle!$B$1:$B$286))","v":""}]
[null,null,null,null,null,null,null,null,null,null,null,null,null,null,null,null,null,null,null,null,{"$f":"IF(W4551=\"\",\"\",LOOKUP(W4551,Hilfstabelle!$A$1:$A$286,Hilfstabelle!$B$1:$B$286))","v":""}]
[null,null,null,null,null,null,null,null,null,null,null,null,null,null,null,null,null,null,null,null,{"$f":"IF(W4554=\"\",\"\",LOOKUP(W4554,Hilfstabelle!$A$1:$A$286,Hilfstabelle!$B$1:$B$286))","v":""}]
[null,null,null,null,null,null,null,null,null,null,null,null,null,null,null,null,null,null,null,null,{"$f":"IF(W4555=\"\",\"\",LOOKUP(W4555,Hilfstabelle!$A$1:$A$286,Hilfstabelle!$B$1:$B$286))","v":""}]
[null,null,null,null,null,null,null,null,null,null,null,null,null,null,null,null,null,null,null,null,{"$f":"IF(W4558=\"\",\"\",LOOKUP(W4558,Hilfstabelle!$A$1:$A$286,Hilfstabelle!$B$1:$B$286))","v":""}]
[null,null,null,null,null,null,null,null,null,null,null,null,null,null,null,null,null,null,null,null,{"$f":"IF(W4559=\"\",\"\",LOOKUP(W4559,Hilfstabelle!$A$1:$A$286,Hilfstabelle!$B$1:$B$286))","v":""}]
[null,null,null,null,null,null,null,null,null,null,null,null,null,null,null,null,null,null,null,null,{"$f":"IF(W4563=\"\",\"\",LOOKUP(W4563,Hilfstabelle!$A$1:$A$286,Hilfstabelle!$B$1:$B$286))","v":""}]
[null,null,null,null,null,null,null,null,null,null,null,null,null,null,null,null,null,null,null,null,{"$f":"IF(W4564=\"\",\"\",LOOKUP(W4564,Hilfstabelle!$A$1:$A$286,Hilfstabelle!$B$1:$B$286))","v":""}]
[null,null,null,null,null,null,null,null,null,null,null,null,null,null,null,null,null,null,null,null,{"$f":"IF(W4567=\"\",\"\",LOOKUP(W4567,Hilfstabelle!$A$1:$A$286,Hilfstabelle!$B$1:$B$286))","v":""}]
[null,null,null,null,null,null,null,null,null,null,null,null,null,null,null,null,null,null,null,null,{"$f":"IF(W4569=\"\",\"\",LOOKUP(W4569,Hilfstabelle!$A$1:$A$286,Hilfstabelle!$B$1:$B$286))","v":""}]
[null,null,null,null,null,null,null,null,null,null,null,null,null,null,null,null,null,null,null,null,{"$f":"IF(W4572=\"\",\"\",LOOKUP(W4572,Hilfstabelle!$A$1:$A$286,Hilfstabelle!$B$1:$B$286))","v":""}]
[null,null,null,null,null,null,null,null,null,null,null,null,null,null,null,null,null,null,null,null,{"$f":"IF(W4573=\"\",\"\",LOOKUP(W4573,Hilfstabelle!$A$1:$A$286,Hilfstabelle!$B$1:$B$286))","v":""}]
[null,null,null,null,null,null,null,null,null,null,null,null,null,null,null,null,null,null,null,null,{"$f":"IF(W4576=\"\",\"\",LOOKUP(W4576,Hilfstabelle!$A$1:$A$286,Hilfstabelle!$B$1:$B$286))","v":""}]
[null,null,null,null,null,null,null,null,null,null,null,null,null,null,null,null,null,null,null,null,{"$f":"IF(W4577=\"\",\"\",LOOKUP(W4577,Hilfstabelle!$A$1:$A$286,Hilfstabelle!$B$1:$B$286))","v":""}]
[null,null,null,null,null,null,null,null,null,null,null,null,null,null,null,null,null,null,null,null,{"$f":"IF(W4581=\"\",\"\",LOOKUP(W4581,Hilfstabelle!$A$1:$A$286,Hilfstabelle!$B$1:$B$286))","v":""}]
[null,null,null,null,null,null,null,null,null,null,null,null,null,null,null,null,null,null,null,null,{"$f":"IF(W4582=\"\",\"\",LOOKUP(W4582,Hilfstabelle!$A$1:$A$286,Hilfstabelle!$B$1:$B$286))","v":""}]
[null,null,null,null,null,null,null,null,null,null,null,null,null,null,null,null,null,null,null,null,{"$f":"IF(W4585=\"\",\"\",LOOKUP(W4585,Hilfstabelle!$A$1:$A$286,Hilfstabelle!$B$1:$B$286))","v":""}]
[null,null,null,null,null,null,null,null,null,null,null,null,null,null,null,null,null,null,null,null,{"$f":"IF(W4587=\"\",\"\",LOOKUP(W4587,Hilfstabelle!$A$1:$A$286,Hilfstabelle!$B$1:$B$286))","v":""}]
[null,null,null,null,null,null,null,null,null,null,null,null,null,null,null,null,null,null,null,null,{"$f":"IF(W4590=\"\",\"\",LOOKUP(W4590,Hilfstabelle!$A$1:$A$286,Hilfstabelle!$B$1:$B$286))","v":""}]
[null,null,null,null,null,null,null,null,null,null,null,null,null,null,null,null,null,null,null,null,{"$f":"IF(W4591=\"\",\"\",LOOKUP(W4591,Hilfstabelle!$A$1:$A$286,Hilfstabelle!$B$1:$B$286))","v":""}]
[null,null,null,null,null,null,null,null,null,null,null,null,null,null,null,null,null,null,null,null,{"$f":"IF(W4594=\"\",\"\",LOOKUP(W4594,Hilfstabelle!$A$1:$A$286,Hilfstabelle!$B$1:$B$286))","v":""}]
[null,null,null,null,null,null,null,null,null,null,null,null,null,null,null,null,null,null,null,null,{"$f":"IF(W4595=\"\",\"\",LOOKUP(W4595,Hilfstabelle!$A$1:$A$286,Hilfstabelle!$B$1:$B$286))","v":""}]
[null,null,null,null,null,null,null,null,null,null,null,null,null,null,null,null,null,null,null,null,{"$f":"IF(W4599=\"\",\"\",LOOKUP(W4599,Hilfstabelle!$A$1:$A$286,Hilfstabelle!$B$1:$B$286))","v":""}]
[null,null,null,null,null,null,null,null,null,null,null,null,null,null,null,null,null,null,null,null,{"$f":"IF(W4600=\"\",\"\",LOOKUP(W4600,Hilfstabelle!$A$1:$A$286,Hilfstabelle!$B$1:$B$286))","v":""}]
[null,null,null,null,null,null,null,null,null,null,null,null,null,null,null,null,null,null,null,null,{"$f":"IF(W4603=\"\",\"\",LOOKUP(W4603,Hilfstabelle!$A$1:$A$286,Hilfstabelle!$B$1:$B$286))","v":""}]
[null,null,null,null,null,null,null,null,null,null,null,null,null,null,null,null,null,null,null,null,{"$f":"IF(W4605=\"\",\"\",LOOKUP(W4605,Hilfstabelle!$A$1:$A$286,Hilfstabelle!$B$1:$B$286))","v":""}]
[null,null,null,null,null,null,null,null,null,null,null,null,null,null,null,null,null,null,null,null,{"$f":"IF(W4608=\"\",\"\",LOOKUP(W4608,Hilfstabelle!$A$1:$A$286,Hilfstabelle!$B$1:$B$286))","v":""}]
[null,null,null,null,null,null,null,null,null,null,null,null,null,null,null,null,null,null,null,null,{"$f":"IF(W4609=\"\",\"\",LOOKUP(W4609,Hilfstabelle!$A$1:$A$286,Hilfstabelle!$B$1:$B$286))","v":""}]
[null,null,null,null,null,null,null,null,null,null,null,null,null,null,null,null,null,null,null,null,{"$f":"IF(W4612=\"\",\"\",LOOKUP(W4612,Hilfstabelle!$A$1:$A$286,Hilfstabelle!$B$1:$B$286))","v":""}]
[null,null,null,null,null,null,null,null,null,null,null,null,null,null,null,null,null,null,null,null,{"$f":"IF(W4613=\"\",\"\",LOOKUP(W4613,Hilfstabelle!$A$1:$A$286,Hilfstabelle!$B$1:$B$286))","v":""}]
[null,null,null,null,null,null,null,null,null,null,null,null,null,null,null,null,null,null,null,null,{"$f":"IF(W4617=\"\",\"\",LOOKUP(W4617,Hilfstabelle!$A$1:$A$286,Hilfstabelle!$B$1:$B$286))","v":""}]
[null,null,null,null,null,null,null,null,null,null,null,null,null,null,null,null,null,null,null,null,{"$f":"IF(W4618=\"\",\"\",LOOKUP(W4618,Hilfstabelle!$A$1:$A$286,Hilfstabelle!$B$1:$B$286))","v":""}]
[null,null,null,null,null,null,null,null,null,null,null,null,null,null,null,null,null,null,null,null,{"$f":"IF(W4621=\"\",\"\",LOOKUP(W4621,Hilfstabelle!$A$1:$A$286,Hilfstabelle!$B$1:$B$286))","v":""}]
[null,null,null,null,null,null,null,null,null,null,null,null,null,null,null,null,null,null,null,null,{"$f":"IF(W4623=\"\",\"\",LOOKUP(W4623,Hilfstabelle!$A$1:$A$286,Hilfstabelle!$B$1:$B$286))","v":""}]
[null,null,null,null,null,null,null,null,null,null,null,null,null,null,null,null,null,null,null,null,{"$f":"IF(W4626=\"\",\"\",LOOKUP(W4626,Hilfstabelle!$A$1:$A$286,Hilfstabelle!$B$1:$B$286))","v":""}]
[null,null,null,null,null,null,null,null,null,null,null,null,null,null,null,null,null,null,null,null,{"$f":"IF(W4627=\"\",\"\",LOOKUP(W4627,Hilfstabelle!$A$1:$A$286,Hilfstabelle!$B$1:$B$286))","v":""}]
[null,null,null,null,null,null,null,null,null,null,null,null,null,null,null,null,null,null,null,null,{"$f":"IF(W4630=\"\",\"\",LOOKUP(W4630,Hilfstabelle!$A$1:$A$286,Hilfstabelle!$B$1:$B$286))","v":""}]
[null,null,null,null,null,null,null,null,null,null,null,null,null,null,null,null,null,null,null,null,{"$f":"IF(W4631=\"\",\"\",LOOKUP(W4631,Hilfstabelle!$A$1:$A$286,Hilfstabelle!$B$1:$B$286))","v":""}]
[null,null,null,null,null,null,null,null,null,null,null,null,null,null,null,null,null,null,null,null,{"$f":"IF(W4635=\"\",\"\",LOOKUP(W4635,Hilfstabelle!$A$1:$A$286,Hilfstabelle!$B$1:$B$286))","v":""}]
[null,null,null,null,null,null,null,null,null,null,null,null,null,null,null,null,null,null,null,null,{"$f":"IF(W4636=\"\",\"\",LOOKUP(W4636,Hilfstabelle!$A$1:$A$286,Hilfstabelle!$B$1:$B$286))","v":""}]
[null,null,null,null,null,null,null,null,null,null,null,null,null,null,null,null,null,null,null,null,{"$f":"IF(W4639=\"\",\"\",LOOKUP(W4639,Hilfstabelle!$A$1:$A$286,Hilfstabelle!$B$1:$B$286))","v":""}]
[null,null,null,null,null,null,null,null,null,null,null,null,null,null,null,null,null,null,null,null,{"$f":"IF(W4642=\"\",\"\",LOOKUP(W4642,Hilfstabelle!$A$1:$A$286,Hilfstabelle!$B$1:$B$286))","v":""}]
[null,null,null,null,null,null,null,null,null,null,null,null,null,null,null,null,null,null,null,null,{"$f":"IF(W4644=\"\",\"\",LOOKUP(W4644,Hilfstabelle!$A$1:$A$286,Hilfstabelle!$B$1:$B$286))","v":""}]
[null,null,null,null,null,null,null,null,null,null,null,null,null,null,null,null,null,null,null,null,{"$f":"IF(W4645=\"\",\"\",LOOKUP(W4645,Hilfstabelle!$A$1:$A$286,Hilfstabelle!$B$1:$B$286))","v":""}]
[null,null,null,null,null,null,null,null,null,null,null,null,null,null,null,null,null,null,null,null,{"$f":"IF(W4648=\"\",\"\",LOOKUP(W4648,Hilfstabelle!$A$1:$A$286,Hilfstabelle!$B$1:$B$286))","v":""}]
[null,null,null,null,null,null,null,null,null,null,null,null,null,null,null,null,null,null,null,null,{"$f":"IF(W4649=\"\",\"\",LOOKUP(W4649,Hilfstabelle!$A$1:$A$286,Hilfstabelle!$B$1:$B$286))","v":""}]
[null,null,null,null,null,null,null,null,null,null,null,null,null,null,null,null,null,null,null,null,{"$f":"IF(W4653=\"\",\"\",LOOKUP(W4653,Hilfstabelle!$A$1:$A$286,Hilfstabelle!$B$1:$B$286))","v":""}]
[null,null,null,null,null,null,null,null,null,null,null,null,null,null,null,null,null,null,null,null,{"$f":"IF(W4654=\"\",\"\",LOOKUP(W4654,Hilfstabelle!$A$1:$A$286,Hilfstabelle!$B$1:$B$286))","v":""}]
[null,null,null,null,null,null,null,null,null,null,null,null,null,null,null,null,null,null,null,null,{"$f":"IF(W4657=\"\",\"\",LOOKUP(W4657,Hilfstabelle!$A$1:$A$286,Hilfstabelle!$B$1:$B$286))","v":""}]
[null,null,null,null,null,null,null,null,null,null,null,null,null,null,null,null,null,null,null,null,{"$f":"IF(W4660=\"\",\"\",LOOKUP(W4660,Hilfstabelle!$A$1:$A$286,Hilfstabelle!$B$1:$B$286))","v":""}]
[null,null,null,null,null,null,null,null,null,null,null,null,null,null,null,null,null,null,null,null,{"$f":"IF(W4662=\"\",\"\",LOOKUP(W4662,Hilfstabelle!$A$1:$A$286,Hilfstabelle!$B$1:$B$286))","v":""}]
[null,null,null,null,null,null,null,null,null,null,null,null,null,null,null,null,null,null,null,null,{"$f":"IF(W4663=\"\",\"\",LOOKUP(W4663,Hilfstabelle!$A$1:$A$286,Hilfstabelle!$B$1:$B$286))","v":""}]
[null,null,null,null,null,null,null,null,null,null,null,null,null,null,null,null,null,null,null,null,{"$f":"IF(W4666=\"\",\"\",LOOKUP(W4666,Hilfstabelle!$A$1:$A$286,Hilfstabelle!$B$1:$B$286))","v":""}]
[null,null,null,null,null,null,null,null,null,null,null,null,null,null,null,null,null,null,null,null,{"$f":"IF(W4667=\"\",\"\",LOOKUP(W4667,Hilfstabelle!$A$1:$A$286,Hilfstabelle!$B$1:$B$286))","v":""}]
[null,null,null,null,null,null,null,null,null,null,null,null,null,null,null,null,null,null,null,null,{"$f":"IF(W4671=\"\",\"\",LOOKUP(W4671,Hilfstabelle!$A$1:$A$286,Hilfstabelle!$B$1:$B$286))","v":""}]
[null,null,null,null,null,null,null,null,null,null,null,null,null,null,null,null,null,null,null,null,{"$f":"IF(W4672=\"\",\"\",LOOKUP(W4672,Hilfstabelle!$A$1:$A$286,Hilfstabelle!$B$1:$B$286))","v":""}]
[null,null,null,null,null,null,null,null,null,null,null,null,null,null,null,null,null,null,null,null,{"$f":"IF(W4675=\"\",\"\",LOOKUP(W4675,Hilfstabelle!$A$1:$A$286,Hilfstabelle!$B$1:$B$286))","v":""}]
[null,null,null,null,null,null,null,null,null,null,null,null,null,null,null,null,null,null,null,null,{"$f":"IF(W4678=\"\",\"\",LOOKUP(W4678,Hilfstabelle!$A$1:$A$286,Hilfstabelle!$B$1:$B$286))","v":""}]
[null,null,null,null,null,null,null,null,null,null,null,null,null,null,null,null,null,null,null,null,{"$f":"IF(W4680=\"\",\"\",LOOKUP(W4680,Hilfstabelle!$A$1:$A$286,Hilfstabelle!$B$1:$B$286))","v":""}]
[null,null,null,null,null,null,null,null,null,null,null,null,null,null,null,null,null,null,null,null,{"$f":"IF(W4681=\"\",\"\",LOOKUP(W4681,Hilfstabelle!$A$1:$A$286,Hilfstabelle!$B$1:$B$286))","v":""}]
[null,null,null,null,null,null,null,null,null,null,null,null,null,null,null,null,null,null,null,null,{"$f":"IF(W4684=\"\",\"\",LOOKUP(W4684,Hilfstabelle!$A$1:$A$286,Hilfstabelle!$B$1:$B$286))","v":""}]
[null,null,null,null,null,null,null,null,null,null,null,null,null,null,null,null,null,null,null,null,{"$f":"IF(W4685=\"\",\"\",LOOKUP(W4685,Hilfstabelle!$A$1:$A$286,Hilfstabelle!$B$1:$B$286))","v":""}]
[null,null,null,null,null,null,null,null,null,null,null,null,null,null,null,null,null,null,null,null,{"$f":"IF(W4689=\"\",\"\",LOOKUP(W4689,Hilfstabelle!$A$1:$A$286,Hilfstabelle!$B$1:$B$286))","v":""}]
[null,null,null,null,null,null,null,null,null,null,null,null,null,null,null,null,null,null,null,null,{"$f":"IF(W4690=\"\",\"\",LOOKUP(W4690,Hilfstabelle!$A$1:$A$286,Hilfstabelle!$B$1:$B$286))","v":""}]
[null,null,null,null,null,null,null,null,null,null,null,null,null,null,null,null,null,null,null,null,{"$f":"IF(W4693=\"\",\"\",LOOKUP(W4693,Hilfstabelle!$A$1:$A$286,Hilfstabelle!$B$1:$B$286))","v":""}]
[null,null,null,null,null,null,null,null,null,null,null,null,null,null,null,null,null,null,null,null,{"$f":"IF(W4696=\"\",\"\",LOOKUP(W4696,Hilfstabelle!$A$1:$A$286,Hilfstabelle!$B$1:$B$286))","v":""}]
[null,null,null,null,null,null,null,null,null,null,null,null,null,null,null,null,null,null,null,null,{"$f":"IF(W4698=\"\",\"\",LOOKUP(W4698,Hilfstabelle!$A$1:$A$286,Hilfstabelle!$B$1:$B$286))","v":""}]
[null,null,null,null,null,null,null,null,null,null,null,null,null,null,null,null,null,null,null,null,{"$f":"IF(W4699=\"\",\"\",LOOKUP(W4699,Hilfstabelle!$A$1:$A$286,Hilfstabelle!$B$1:$B$286))","v":""}]
[null,null,null,null,null,null,null,null,null,null,null,null,null,null,null,null,null,null,null,null,{"$f":"IF(W4702=\"\",\"\",LOOKUP(W4702,Hilfstabelle!$A$1:$A$286,Hilfstabelle!$B$1:$B$286))","v":""}]
[null,null,null,null,null,null,null,null,null,null,null,null,null,null,null,null,null,null,null,null,{"$f":"IF(W4703=\"\",\"\",LOOKUP(W4703,Hilfstabelle!$A$1:$A$286,Hilfstabelle!$B$1:$B$286))","v":""}]
[null,null,null,null,null,null,null,null,null,null,null,null,null,null,null,null,null,null,null,null,{"$f":"IF(W4707=\"\",\"\",LOOKUP(W4707,Hilfstabelle!$A$1:$A$286,Hilfstabelle!$B$1:$B$286))","v":""}]
[null,null,null,null,null,null,null,null,null,null,null,null,null,null,null,null,null,null,null,null,{"$f":"IF(W4708=\"\",\"\",LOOKUP(W4708,Hilfstabelle!$A$1:$A$286,Hilfstabelle!$B$1:$B$286))","v":""}]
[null,null,null,null,null,null,null,null,null,null,null,null,null,null,null,null,null,null,null,null,{"$f":"IF(W4711=\"\",\"\",LOOKUP(W4711,Hilfstabelle!$A$1:$A$286,Hilfstabelle!$B$1:$B$286))","v":""}]
[null,null,null,null,null,null,null,null,null,null,null,null,null,null,null,null,null,null,null,null,{"$f":"IF(W4714=\"\",\"\",LOOKUP(W4714,Hilfstabelle!$A$1:$A$286,Hilfstabelle!$B$1:$B$286))","v":""}]
[null,null,null,null,null,null,null,null,null,null,null,null,null,null,null,null,null,null,null,null,{"$f":"IF(W4716=\"\",\"\",LOOKUP(W4716,Hilfstabelle!$A$1:$A$286,Hilfstabelle!$B$1:$B$286))","v":""}]
[null,null,null,null,null,null,null,null,null,null,null,null,null,null,null,null,null,null,null,null,{"$f":"IF(W4717=\"\",\"\",LOOKUP(W4717,Hilfstabelle!$A$1:$A$286,Hilfstabelle!$B$1:$B$286))","v":""}]
[null,null,null,null,null,null,null,null,null,null,null,null,null,null,null,null,null,null,null,null,{"$f":"IF(W4720=\"\",\"\",LOOKUP(W4720,Hilfstabelle!$A$1:$A$286,Hilfstabelle!$B$1:$B$286))","v":""}]
[null,null,null,null,null,null,null,null,null,null,null,null,null,null,null,null,null,null,null,null,{"$f":"IF(W4721=\"\",\"\",LOOKUP(W4721,Hilfstabelle!$A$1:$A$286,Hilfstabelle!$B$1:$B$286))","v":""}]
[null,null,null,null,null,null,null,null,null,null,null,null,null,null,null,null,null,null,null,null,{"$f":"IF(W4725=\"\",\"\",LOOKUP(W4725,Hilfstabelle!$A$1:$A$286,Hilfstabelle!$B$1:$B$286))","v":""}]
[null,null,null,null,null,null,null,null,null,null,null,null,null,null,null,null,null,null,null,null,{"$f":"IF(W4726=\"\",\"\",LOOKUP(W4726,Hilfstabelle!$A$1:$A$286,Hilfstabelle!$B$1:$B$286))","v":""}]
[null,null,null,null,null,null,null,null,null,null,null,null,null,null,null,null,null,null,null,null,{"$f":"IF(W4729=\"\",\"\",LOOKUP(W4729,Hilfstabelle!$A$1:$A$286,Hilfstabelle!$B$1:$B$286))","v":""}]
[null,null,null,null,null,null,null,null,null,null,null,null,null,null,null,null,null,null,null,null,{"$f":"IF(W4732=\"\",\"\",LOOKUP(W4732,Hilfstabelle!$A$1:$A$286,Hilfstabelle!$B$1:$B$286))","v":""}]
[null,null,null,null,null,null,null,null,null,null,null,null,null,null,null,null,null,null,null,null,{"$f":"IF(W4734=\"\",\"\",LOOKUP(W4734,Hilfstabelle!$A$1:$A$286,Hilfstabelle!$B$1:$B$286))","v":""}]
[null,null,null,null,null,null,null,null,null,null,null,null,null,null,null,null,null,null,null,null,{"$f":"IF(W4735=\"\",\"\",LOOKUP(W4735,Hilfstabelle!$A$1:$A$286,Hilfstabelle!$B$1:$B$286))","v":""}]
[null,null,null,null,null,null,null,null,null,null,null,null,null,null,null,null,null,null,null,null,{"$f":"IF(W4738=\"\",\"\",LOOKUP(W4738,Hilfstabelle!$A$1:$A$286,Hilfstabelle!$B$1:$B$286))","v":""}]
[null,null,null,null,null,null,null,null,null,null,null,null,null,null,null,null,null,null,null,null,{"$f":"IF(W4739=\"\",\"\",LOOKUP(W4739,Hilfstabelle!$A$1:$A$286,Hilfstabelle!$B$1:$B$286))","v":""}]
[null,null,null,null,null,null,null,null,null,null,null,null,null,null,null,null,null,null,null,null,{"$f":"IF(W4743=\"\",\"\",LOOKUP(W4743,Hilfstabelle!$A$1:$A$286,Hilfstabelle!$B$1:$B$286))","v":""}]
[null,null,null,null,null,null,null,null,null,null,null,null,null,null,null,null,null,null,null,null,{"$f":"IF(W4744=\"\",\"\",LOOKUP(W4744,Hilfstabelle!$A$1:$A$286,Hilfstabelle!$B$1:$B$286))","v":""}]
[null,null,null,null,null,null,null,null,null,null,null,null,null,null,null,null,null,null,null,null,{"$f":"IF(W4747=\"\",\"\",LOOKUP(W4747,Hilfstabelle!$A$1:$A$286,Hilfstabelle!$B$1:$B$286))","v":""}]
[null,null,null,null,null,null,null,null,null,null,null,null,null,null,null,null,null,null,null,null,{"$f":"IF(W4750=\"\",\"\",LOOKUP(W4750,Hilfstabelle!$A$1:$A$286,Hilfstabelle!$B$1:$B$286))","v":""}]
[null,null,null,null,null,null,null,null,null,null,null,null,null,null,null,null,null,null,null,null,{"$f":"IF(W4752=\"\",\"\",LOOKUP(W4752,Hilfstabelle!$A$1:$A$286,Hilfstabelle!$B$1:$B$286))","v":""}]
[null,null,null,null,null,null,null,null,null,null,null,null,null,null,null,null,null,null,null,null,{"$f":"IF(W4753=\"\",\"\",LOOKUP(W4753,Hilfstabelle!$A$1:$A$286,Hilfstabelle!$B$1:$B$286))","v":""}]
[null,null,null,null,null,null,null,null,null,null,null,null,null,null,null,null,null,null,null,null,{"$f":"IF(W4756=\"\",\"\",LOOKUP(W4756,Hilfstabelle!$A$1:$A$286,Hilfstabelle!$B$1:$B$286))","v":""}]
[null,null,null,null,null,null,null,null,null,null,null,null,null,null,null,null,null,null,null,null,{"$f":"IF(W4757=\"\",\"\",LOOKUP(W4757,Hilfstabelle!$A$1:$A$286,Hilfstabelle!$B$1:$B$286))","v":""}]
[null,null,null,null,null,null,null,null,null,null,null,null,null,null,null,null,null,null,null,null,{"$f":"IF(W4761=\"\",\"\",LOOKUP(W4761,Hilfstabelle!$A$1:$A$286,Hilfstabelle!$B$1:$B$286))","v":""}]
[null,null,null,null,null,null,null,null,null,null,null,null,null,null,null,null,null,null,null,null,{"$f":"IF(W4762=\"\",\"\",LOOKUP(W4762,Hilfstabelle!$A$1:$A$286,Hilfstabelle!$B$1:$B$286))","v":""}]
[null,null,null,null,null,null,null,null,null,null,null,null,null,null,null,null,null,null,null,null,{"$f":"IF(W4765=\"\",\"\",LOOKUP(W4765,Hilfstabelle!$A$1:$A$286,Hilfstabelle!$B$1:$B$286))","v":""}]
[null,null,null,null,null,null,null,null,null,null,null,null,null,null,null,null,null,null,null,null,{"$f":"IF(W4768=\"\",\"\",LOOKUP(W4768,Hilfstabelle!$A$1:$A$286,Hilfstabelle!$B$1:$B$286))","v":""}]
[null,null,null,null,null,null,null,null,null,null,null,null,null,null,null,null,null,null,null,null,{"$f":"IF(W4770=\"\",\"\",LOOKUP(W4770,Hilfstabelle!$A$1:$A$286,Hilfstabelle!$B$1:$B$286))","v":""}]
[null,null,null,null,null,null,null,null,null,null,null,null,null,null,null,null,null,null,null,null,{"$f":"IF(W4771=\"\",\"\",LOOKUP(W4771,Hilfstabelle!$A$1:$A$286,Hilfstabelle!$B$1:$B$286))","v":""}]
[null,null,null,null,null,null,null,null,null,null,null,null,null,null,null,null,null,null,null,null,{"$f":"IF(W4774=\"\",\"\",LOOKUP(W4774,Hilfstabelle!$A$1:$A$286,Hilfstabelle!$B$1:$B$286))","v":""}]
[null,null,null,null,null,null,null,null,null,null,null,null,null,null,null,null,null,null,null,null,{"$f":"IF(W4775=\"\",\"\",LOOKUP(W4775,Hilfstabelle!$A$1:$A$286,Hilfstabelle!$B$1:$B$286))","v":""}]
[null,null,null,null,null,null,null,null,null,null,null,null,null,null,null,null,null,null,null,null,{"$f":"IF(W4779=\"\",\"\",LOOKUP(W4779,Hilfstabelle!$A$1:$A$286,Hilfstabelle!$B$1:$B$286))","v":""}]
[null,null,null,null,null,null,null,null,null,null,null,null,null,null,null,null,null,null,null,null,{"$f":"IF(W4780=\"\",\"\",LOOKUP(W4780,Hilfstabelle!$A$1:$A$286,Hilfstabelle!$B$1:$B$286))","v":""}]
[null,null,null,null,null,null,null,null,null,null,null,null,null,null,null,null,null,null,null,null,{"$f":"IF(W4783=\"\",\"\",LOOKUP(W4783,Hilfstabelle!$A$1:$A$286,Hilfstabelle!$B$1:$B$286))","v":""}]
[null,null,null,null,null,null,null,null,null,null,null,null,null,null,null,null,null,null,null,null,{"$f":"IF(W4786=\"\",\"\",LOOKUP(W4786,Hilfstabelle!$A$1:$A$286,Hilfstabelle!$B$1:$B$286))","v":""}]
[null,null,null,null,null,null,null,null,null,null,null,null,null,null,null,null,null,null,null,null,{"$f":"IF(W4788=\"\",\"\",LOOKUP(W4788,Hilfstabelle!$A$1:$A$286,Hilfstabelle!$B$1:$B$286))","v":""}]
[null,null,null,null,null,null,null,null,null,null,null,null,null,null,null,null,null,null,null,null,{"$f":"IF(W4789=\"\",\"\",LOOKUP(W4789,Hilfstabelle!$A$1:$A$286,Hilfstabelle!$B$1:$B$286))","v":""}]
[null,null,null,null,null,null,null,null,null,null,null,null,null,null,null,null,null,null,null,null,{"$f":"IF(W4792=\"\",\"\",LOOKUP(W4792,Hilfstabelle!$A$1:$A$286,Hilfstabelle!$B$1:$B$286))","v":""}]
[null,null,null,null,null,null,null,null,null,null,null,null,null,null,null,null,null,null,null,null,{"$f":"IF(W4794=\"\",\"\",LOOKUP(W4794,Hilfstabelle!$A$1:$A$286,Hilfstabelle!$B$1:$B$286))","v":""}]
[null,null,null,null,null,null,null,null,null,null,null,null,null,null,null,null,null,null,null,null,{"$f":"IF(W4797=\"\",\"\",LOOKUP(W4797,Hilfstabelle!$A$1:$A$286,Hilfstabelle!$B$1:$B$286))","v":""}]
[null,null,null,null,null,null,null,null,null,null,null,null,null,null,null,null,null,null,null,null,{"$f":"IF(W4798=\"\",\"\",LOOKUP(W4798,Hilfstabelle!$A$1:$A$286,Hilfstabelle!$B$1:$B$286))","v":""}]
[null,null,null,null,null,null,null,null,null,null,null,null,null,null,null,null,null,null,null,null,{"$f":"IF(W4801=\"\",\"\",LOOKUP(W4801,Hilfstabelle!$A$1:$A$286,Hilfstabelle!$B$1:$B$286))","v":""}]
[null,null,null,null,null,null,null,null,null,null,null,null,null,null,null,null,null,null,null,null,{"$f":"IF(W4804=\"\",\"\",LOOKUP(W4804,Hilfstabelle!$A$1:$A$286,Hilfstabelle!$B$1:$B$286))","v":""}]
[null,null,null,null,null,null,null,null,null,null,null,null,null,null,null,null,null,null,null,null,{"$f":"IF(W4806=\"\",\"\",LOOKUP(W4806,Hilfstabelle!$A$1:$A$286,Hilfstabelle!$B$1:$B$286))","v":""}]
[null,null,null,null,null,null,null,null,null,null,null,null,null,null,null,null,null,null,null,null,{"$f":"IF(W4807=\"\",\"\",LOOKUP(W4807,Hilfstabelle!$A$1:$A$286,Hilfstabelle!$B$1:$B$286))","v":""}]
[null,null,null,null,null,null,null,null,null,null,null,null,null,null,null,null,null,null,null,null,{"$f":"IF(W4810=\"\",\"\",LOOKUP(W4810,Hilfstabelle!$A$1:$A$286,Hilfstabelle!$B$1:$B$286))","v":""}]
[null,null,null,null,null,null,null,null,null,null,null,null,null,null,null,null,null,null,null,null,{"$f":"IF(W4812=\"\",\"\",LOOKUP(W4812,Hilfstabelle!$A$1:$A$286,Hilfstabelle!$B$1:$B$286))","v":""}]
[null,null,null,null,null,null,null,null,null,null,null,null,null,null,null,null,null,null,null,null,{"$f":"IF(W4815=\"\",\"\",LOOKUP(W4815,Hilfstabelle!$A$1:$A$286,Hilfstabelle!$B$1:$B$286))","v":""}]
[null,null,null,null,null,null,null,null,null,null,null,null,null,null,null,null,null,null,null,null,{"$f":"IF(W4816=\"\",\"\",LOOKUP(W4816,Hilfstabelle!$A$1:$A$286,Hilfstabelle!$B$1:$B$286))","v":""}]
[null,null,null,null,null,null,null,null,null,null,null,null,null,null,null,null,null,null,null,null,{"$f":"IF(W4819=\"\",\"\",LOOKUP(W4819,Hilfstabelle!$A$1:$A$286,Hilfstabelle!$B$1:$B$286))","v":""}]
[null,null,null,null,null,null,null,null,null,null,null,null,null,null,null,null,null,null,null,null,{"$f":"IF(W4822=\"\",\"\",LOOKUP(W4822,Hilfstabelle!$A$1:$A$286,Hilfstabelle!$B$1:$B$286))","v":""}]
[null,null,null,null,null,null,null,null,null,null,null,null,null,null,null,null,null,null,null,null,{"$f":"IF(W4824=\"\",\"\",LOOKUP(W4824,Hilfstabelle!$A$1:$A$286,Hilfstabelle!$B$1:$B$286))","v":""}]
[null,null,null,null,null,null,null,null,null,null,null,null,null,null,null,null,null,null,null,null,{"$f":"IF(W4825=\"\",\"\",LOOKUP(W4825,Hilfstabelle!$A$1:$A$286,Hilfstabelle!$B$1:$B$286))","v":""}]
[null,null,null,null,null,null,null,null,null,null,null,null,null,null,null,null,null,null,null,null,{"$f":"IF(W4828=\"\",\"\",LOOKUP(W4828,Hilfstabelle!$A$1:$A$286,Hilfstabelle!$B$1:$B$286))","v":""}]
[null,null,null,null,null,null,null,null,null,null,null,null,null,null,null,null,null,null,null,null,{"$f":"IF(W4830=\"\",\"\",LOOKUP(W4830,Hilfstabelle!$A$1:$A$286,Hilfstabelle!$B$1:$B$286))","v":""}]
[null,null,null,null,null,null,null,null,null,null,null,null,null,null,null,null,null,null,null,null,{"$f":"IF(W4833=\"\",\"\",LOOKUP(W4833,Hilfstabelle!$A$1:$A$286,Hilfstabelle!$B$1:$B$286))","v":""}]
[null,null,null,null,null,null,null,null,null,null,null,null,null,null,null,null,null,null,null,null,{"$f":"IF(W4834=\"\",\"\",LOOKUP(W4834,Hilfstabelle!$A$1:$A$286,Hilfstabelle!$B$1:$B$286))","v":""}]
[null,null,null,null,null,null,null,null,null,null,null,null,null,null,null,null,null,null,null,null,{"$f":"IF(W4837=\"\",\"\",LOOKUP(W4837,Hilfstabelle!$A$1:$A$286,Hilfstabelle!$B$1:$B$286))","v":""}]
[null,null,null,null,null,null,null,null,null,null,null,null,null,null,null,null,null,null,null,null,{"$f":"IF(W4840=\"\",\"\",LOOKUP(W4840,Hilfstabelle!$A$1:$A$286,Hilfstabelle!$B$1:$B$286))","v":""}]
[null,null,null,null,null,null,null,null,null,null,null,null,null,null,null,null,null,null,null,null,{"$f":"IF(W4842=\"\",\"\",LOOKUP(W4842,Hilfstabelle!$A$1:$A$286,Hilfstabelle!$B$1:$B$286))","v":""}]
[null,null,null,null,null,null,null,null,null,null,null,null,null,null,null,null,null,null,null,null,{"$f":"IF(W4843=\"\",\"\",LOOKUP(W4843,Hilfstabelle!$A$1:$A$286,Hilfstabelle!$B$1:$B$286))","v":""}]
[null,null,null,null,null,null,null,null,null,null,null,null,null,null,null,null,null,null,null,null,{"$f":"IF(W4846=\"\",\"\",LOOKUP(W4846,Hilfstabelle!$A$1:$A$286,Hilfstabelle!$B$1:$B$286))","v":""}]
[null,null,null,null,null,null,null,null,null,null,null,null,null,null,null,null,null,null,null,null,{"$f":"IF(W4848=\"\",\"\",LOOKUP(W4848,Hilfstabelle!$A$1:$A$286,Hilfstabelle!$B$1:$B$286))","v":""}]
[null,null,null,null,null,null,null,null,null,null,null,null,null,null,null,null,null,null,null,null,{"$f":"IF(W4851=\"\",\"\",LOOKUP(W4851,Hilfstabelle!$A$1:$A$286,Hilfstabelle!$B$1:$B$286))","v":""}]
[null,null,null,null,null,null,null,null,null,null,null,null,null,null,null,null,null,null,null,null,{"$f":"IF(W4852=\"\",\"\",LOOKUP(W4852,Hilfstabelle!$A$1:$A$286,Hilfstabelle!$B$1:$B$286))","v":""}]
[null,null,null,null,null,null,null,null,null,null,null,null,null,null,null,null,null,null,null,null,{"$f":"IF(W4855=\"\",\"\",LOOKUP(W4855,Hilfstabelle!$A$1:$A$286,Hilfstabelle!$B$1:$B$286))","v":""}]
[null,null,null,null,null,null,null,null,null,null,null,null,null,null,null,null,null,null,null,null,{"$f":"IF(W4858=\"\",\"\",LOOKUP(W4858,Hilfstabelle!$A$1:$A$286,Hilfstabelle!$B$1:$B$286))","v":""}]
[null,null,null,null,null,null,null,null,null,null,null,null,null,null,null,null,null,null,null,null,{"$f":"IF(W4860=\"\",\"\",LOOKUP(W4860,Hilfstabelle!$A$1:$A$286,Hilfstabelle!$B$1:$B$286))","v":""}]
[null,null,null,null,null,null,null,null,null,null,null,null,null,null,null,null,null,null,null,null,{"$f":"IF(W4861=\"\",\"\",LOOKUP(W4861,Hilfstabelle!$A$1:$A$286,Hilfstabelle!$B$1:$B$286))","v":""}]
[null,null,null,null,null,null,null,null,null,null,null,null,null,null,null,null,null,null,null,null,{"$f":"IF(W4864=\"\",\"\",LOOKUP(W4864,Hilfstabelle!$A$1:$A$286,Hilfstabelle!$B$1:$B$286))","v":""}]
[null,null,null,null,null,null,null,null,null,null,null,null,null,null,null,null,null,null,null,null,{"$f":"IF(W4866=\"\",\"\",LOOKUP(W4866,Hilfstabelle!$A$1:$A$286,Hilfstabelle!$B$1:$B$286))","v":""}]
[null,null,null,null,null,null,null,null,null,null,null,null,null,null,null,null,null,null,null,null,{"$f":"IF(W4869=\"\",\"\",LOOKUP(W4869,Hilfstabelle!$A$1:$A$286,Hilfstabelle!$B$1:$B$286))","v":""}]
[null,null,null,null,null,null,null,null,null,null,null,null,null,null,null,null,null,null,null,null,{"$f":"IF(W4870=\"\",\"\",LOOKUP(W4870,Hilfstabelle!$A$1:$A$286,Hilfstabelle!$B$1:$B$286))","v":""}]
[null,null,null,null,null,null,null,null,null,null,null,null,null,null,null,null,null,null,null,null,{"$f":"IF(W4873=\"\",\"\",LOOKUP(W4873,Hilfstabelle!$A$1:$A$286,Hilfstabelle!$B$1:$B$286))","v":""}]
[null,null,null,null,null,null,null,null,null,null,null,null,null,null,null,null,null,null,null,null,{"$f":"IF(W4876=\"\",\"\",LOOKUP(W4876,Hilfstabelle!$A$1:$A$286,Hilfstabelle!$B$1:$B$286))","v":""}]
[null,null,null,null,null,null,null,null,null,null,null,null,null,null,null,null,null,null,null,null,{"$f":"IF(W4878=\"\",\"\",LOOKUP(W4878,Hilfstabelle!$A$1:$A$286,Hilfstabelle!$B$1:$B$286))","v":""}]
[null,null,null,null,null,null,null,null,null,null,null,null,null,null,null,null,null,null,null,null,{"$f":"IF(W4879=\"\",\"\",LOOKUP(W4879,Hilfstabelle!$A$1:$A$286,Hilfstabelle!$B$1:$B$286))","v":""}]
[null,null,null,null,null,null,null,null,null,null,null,null,null,null,null,null,null,null,null,null,{"$f":"IF(W4882=\"\",\"\",LOOKUP(W4882,Hilfstabelle!$A$1:$A$286,Hilfstabelle!$B$1:$B$286))","v":""}]
[null,null,null,null,null,null,null,null,null,null,null,null,null,null,null,null,null,null,null,null,{"$f":"IF(W4884=\"\",\"\",LOOKUP(W4884,Hilfstabelle!$A$1:$A$286,Hilfstabelle!$B$1:$B$286))","v":""}]
[null,null,null,null,null,null,null,null,null,null,null,null,null,null,null,null,null,null,null,null,{"$f":"IF(W4887=\"\",\"\",LOOKUP(W4887,Hilfstabelle!$A$1:$A$286,Hilfstabelle!$B$1:$B$286))","v":""}]
[null,null,null,null,null,null,null,null,null,null,null,null,null,null,null,null,null,null,null,null,{"$f":"IF(W4888=\"\",\"\",LOOKUP(W4888,Hilfstabelle!$A$1:$A$286,Hilfstabelle!$B$1:$B$286))","v":""}]
[null,null,null,null,null,null,null,null,null,null,null,null,null,null,null,null,null,null,null,null,{"$f":"IF(W4891=\"\",\"\",LOOKUP(W4891,Hilfstabelle!$A$1:$A$286,Hilfstabelle!$B$1:$B$286))","v":""}]
[null,null,null,null,null,null,null,null,null,null,null,null,null,null,null,null,null,null,null,null,{"$f":"IF(W4894=\"\",\"\",LOOKUP(W4894,Hilfstabelle!$A$1:$A$286,Hilfstabelle!$B$1:$B$286))","v":""}]
[null,null,null,null,null,null,null,null,null,null,null,null,null,null,null,null,null,null,null,null,{"$f":"IF(W4896=\"\",\"\",LOOKUP(W4896,Hilfstabelle!$A$1:$A$286,Hilfstabelle!$B$1:$B$286))","v":""}]
[null,null,null,null,null,null,null,null,null,null,null,null,null,null,null,null,null,null,null,null,{"$f":"IF(W4897=\"\",\"\",LOOKUP(W4897,Hilfstabelle!$A$1:$A$286,Hilfstabelle!$B$1:$B$286))","v":""}]
[null,null,null,null,null,null,null,null,null,null,null,null,null,null,null,null,null,null,null,null,{"$f":"IF(W4900=\"\",\"\",LOOKUP(W4900,Hilfstabelle!$A$1:$A$286,Hilfstabelle!$B$1:$B$286))","v":""}]
[null,null,null,null,null,null,null,null,null,null,null,null,null,null,null,null,null,null,null,null,{"$f":"IF(W4902=\"\",\"\",LOOKUP(W4902,Hilfstabelle!$A$1:$A$286,Hilfstabelle!$B$1:$B$286))","v":""}]
[null,null,null,null,null,null,null,null,null,null,null,null,null,null,null,null,null,null,null,null,{"$f":"IF(W4905=\"\",\"\",LOOKUP(W4905,Hilfstabelle!$A$1:$A$286,Hilfstabelle!$B$1:$B$286))","v":""}]
[null,null,null,null,null,null,null,null,null,null,null,null,null,null,null,null,null,null,null,null,{"$f":"IF(W4906=\"\",\"\",LOOKUP(W4906,Hilfstabelle!$A$1:$A$286,Hilfstabelle!$B$1:$B$286))","v":""}]
[null,null,null,null,null,null,null,null,null,null,null,null,null,null,null,null,null,null,null,null,{"$f":"IF(W4909=\"\",\"\",LOOKUP(W4909,Hilfstabelle!$A$1:$A$286,Hilfstabelle!$B$1:$B$286))","v":""}]
[null,null,null,null,null,null,null,null,null,null,null,null,null,null,null,null,null,null,null,null,{"$f":"IF(W4912=\"\",\"\",LOOKUP(W4912,Hilfstabelle!$A$1:$A$286,Hilfstabelle!$B$1:$B$286))","v":""}]
[null,null,null,null,null,null,null,null,null,null,null,null,null,null,null,null,null,null,null,null,{"$f":"IF(W4914=\"\",\"\",LOOKUP(W4914,Hilfstabelle!$A$1:$A$286,Hilfstabelle!$B$1:$B$286))","v":""}]
[null,null,null,null,null,null,null,null,null,null,null,null,null,null,null,null,null,null,null,null,{"$f":"IF(W4915=\"\",\"\",LOOKUP(W4915,Hilfstabelle!$A$1:$A$286,Hilfstabelle!$B$1:$B$286))","v":""}]
[null,null,null,null,null,null,null,null,null,null,null,null,null,null,null,null,null,null,null,null,{"$f":"IF(W4918=\"\",\"\",LOOKUP(W4918,Hilfstabelle!$A$1:$A$286,Hilfstabelle!$B$1:$B$286))","v":""}]
[null,null,null,null,null,null,null,null,null,null,null,null,null,null,null,null,null,null,null,null,{"$f":"IF(W4920=\"\",\"\",LOOKUP(W4920,Hilfstabelle!$A$1:$A$286,Hilfstabelle!$B$1:$B$286))","v":""}]
[null,null,null,null,null,null,null,null,null,null,null,null,null,null,null,null,null,null,null,null,{"$f":"IF(W4923=\"\",\"\",LOOKUP(W4923,Hilfstabelle!$A$1:$A$286,Hilfstabelle!$B$1:$B$286))","v":""}]
[null,null,null,null,null,null,null,null,null,null,null,null,null,null,null,null,null,null,null,null,{"$f":"IF(W4924=\"\",\"\",LOOKUP(W4924,Hilfstabelle!$A$1:$A$286,Hilfstabelle!$B$1:$B$286))","v":""}]
[null,null,null,null,null,null,null,null,null,null,null,null,null,null,null,null,null,null,null,null,{"$f":"IF(W4927=\"\",\"\",LOOKUP(W4927,Hilfstabelle!$A$1:$A$286,Hilfstabelle!$B$1:$B$286))","v":""}]
[null,null,null,null,null,null,null,null,null,null,null,null,null,null,null,null,null,null,null,null,{"$f":"IF(W4930=\"\",\"\",LOOKUP(W4930,Hilfstabelle!$A$1:$A$286,Hilfstabelle!$B$1:$B$286))","v":""}]
[null,null,null,null,null,null,null,null,null,null,null,null,null,null,null,null,null,null,null,null,{"$f":"IF(W4932=\"\",\"\",LOOKUP(W4932,Hilfstabelle!$A$1:$A$286,Hilfstabelle!$B$1:$B$286))","v":""}]
[null,null,null,null,null,null,null,null,null,null,null,null,null,null,null,null,null,null,null,null,{"$f":"IF(W4933=\"\",\"\",LOOKUP(W4933,Hilfstabelle!$A$1:$A$286,Hilfstabelle!$B$1:$B$286))","v":""}]
[null,null,null,null,null,null,null,null,null,null,null,null,null,null,null,null,null,null,null,null,{"$f":"IF(W4936=\"\",\"\",LOOKUP(W4936,Hilfstabelle!$A$1:$A$286,Hilfstabelle!$B$1:$B$286))","v":""}]
[null,null,null,null,null,null,null,null,null,null,null,null,null,null,null,null,null,null,null,null,{"$f":"IF(W4938=\"\",\"\",LOOKUP(W4938,Hilfstabelle!$A$1:$A$286,Hilfstabelle!$B$1:$B$286))","v":""}]
[null,null,null,null,null,null,null,null,null,null,null,null,null,null,null,null,null,null,null,null,{"$f":"IF(W4941=\"\",\"\",LOOKUP(W4941,Hilfstabelle!$A$1:$A$286,Hilfstabelle!$B$1:$B$286))","v":""}]
[null,null,null,null,null,null,null,null,null,null,null,null,null,null,null,null,null,null,null,null,{"$f":"IF(W4942=\"\",\"\",LOOKUP(W4942,Hilfstabelle!$A$1:$A$286,Hilfstabelle!$B$1:$B$286))","v":""}]
[null,null,null,null,null,null,null,null,null,null,null,null,null,null,null,null,null,null,null,null,{"$f":"IF(W4945=\"\",\"\",LOOKUP(W4945,Hilfstabelle!$A$1:$A$286,Hilfstabelle!$B$1:$B$286))","v":""}]
[null,null,null,null,null,null,null,null,null,null,null,null,null,null,null,null,null,null,null,null,{"$f":"IF(W4948=\"\",\"\",LOOKUP(W4948,Hilfstabelle!$A$1:$A$286,Hilfstabelle!$B$1:$B$286))","v":""}]
[null,null,null,null,null,null,null,null,null,null,null,null,null,null,null,null,null,null,null,null,{"$f":"IF(W4950=\"\",\"\",LOOKUP(W4950,Hilfstabelle!$A$1:$A$286,Hilfstabelle!$B$1:$B$286))","v":""}]
[null,null,null,null,null,null,null,null,null,null,null,null,null,null,null,null,null,null,null,null,{"$f":"IF(W4951=\"\",\"\",LOOKUP(W4951,Hilfstabelle!$A$1:$A$286,Hilfstabelle!$B$1:$B$286))","v":""}]
[null,null,null,null,null,null,null,null,null,null,null,null,null,null,null,null,null,null,null,null,{"$f":"IF(W4954=\"\",\"\",LOOKUP(W4954,Hilfstabelle!$A$1:$A$286,Hilfstabelle!$B$1:$B$286))","v":""}]
[null,null,null,null,null,null,null,null,null,null,null,null,null,null,null,null,null,null,null,null,{"$f":"IF(W4956=\"\",\"\",LOOKUP(W4956,Hilfstabelle!$A$1:$A$286,Hilfstabelle!$B$1:$B$286))","v":""}]
[null,null,null,null,null,null,null,null,null,null,null,null,null,null,null,null,null,null,null,null,{"$f":"IF(W4959=\"\",\"\",LOOKUP(W4959,Hilfstabelle!$A$1:$A$286,Hilfstabelle!$B$1:$B$286))","v":""}]
[null,null,null,null,null,null,null,null,null,null,null,null,null,null,null,null,null,null,null,null,{"$f":"IF(W4960=\"\",\"\",LOOKUP(W4960,Hilfstabelle!$A$1:$A$286,Hilfstabelle!$B$1:$B$286))","v":""}]
[null,null,null,null,null,null,null,null,null,null,null,null,null,null,null,null,null,null,null,null,{"$f":"IF(W4963=\"\",\"\",LOOKUP(W4963,Hilfstabelle!$A$1:$A$286,Hilfstabelle!$B$1:$B$286))","v":""}]
[null,null,null,null,null,null,null,null,null,null,null,null,null,null,null,null,null,null,null,null,{"$f":"IF(W4964=\"\",\"\",LOOKUP(W4964,Hilfstabelle!$A$1:$A$286,Hilfstabelle!$B$1:$B$286))","v":""}]
[null,null,null,null,null,null,null,null,null,null,null,null,null,null,null,null,null,null,null,null,{"$f":"IF(W4968=\"\",\"\",LOOKUP(W4968,Hilfstabelle!$A$1:$A$286,Hilfstabelle!$B$1:$B$286))","v":""}]
[null,null,null,null,null,null,null,null,null,null,null,null,null,null,null,null,null,null,null,null,{"$f":"IF(W4969=\"\",\"\",LOOKUP(W4969,Hilfstabelle!$A$1:$A$286,Hilfstabelle!$B$1:$B$286))","v":""}]
[null,null,null,null,null,null,null,null,null,null,null,null,null,null,null,null,null,null,null,null,{"$f":"IF(W4972=\"\",\"\",LOOKUP(W4972,Hilfstabelle!$A$1:$A$286,Hilfstabelle!$B$1:$B$286))","v":""}]
[null,null,null,null,null,null,null,null,null,null,null,null,null,null,null,null,null,null,null,null,{"$f":"IF(W4974=\"\",\"\",LOOKUP(W4974,Hilfstabelle!$A$1:$A$286,Hilfstabelle!$B$1:$B$286))","v":""}]
[null,null,null,null,null,null,null,null,null,null,null,null,null,null,null,null,null,null,null,null,{"$f":"IF(W4977=\"\",\"\",LOOKUP(W4977,Hilfstabelle!$A$1:$A$286,Hilfstabelle!$B$1:$B$286))","v":""}]
[null,null,null,null,null,null,null,null,null,null,null,null,null,null,null,null,null,null,null,null,{"$f":"IF(W4978=\"\",\"\",LOOKUP(W4978,Hilfstabelle!$A$1:$A$286,Hilfstabelle!$B$1:$B$286))","v":""}]
[null,null,null,null,null,null,null,null,null,null,null,null,null,null,null,null,null,null,null,null,{"$f":"IF(W4981=\"\",\"\",LOOKUP(W4981,Hilfstabelle!$A$1:$A$286,Hilfstabelle!$B$1:$B$286))","v":""}]
[null,null,null,null,null,null,null,null,null,null,null,null,null,null,null,null,null,null,null,null,{"$f":"IF(W4982=\"\",\"\",LOOKUP(W4982,Hilfstabelle!$A$1:$A$286,Hilfstabelle!$B$1:$B$286))","v":""}]
[null,null,null,null,null,null,null,null,null,null,null,null,null,null,null,null,null,null,null,null,{"$f":"IF(W4986=\"\",\"\",LOOKUP(W4986,Hilfstabelle!$A$1:$A$286,Hilfstabelle!$B$1:$B$286))","v":""}]
[null,null,null,null,null,null,null,null,null,null,null,null,null,null,null,null,null,null,null,null,{"$f":"IF(W4987=\"\",\"\",LOOKUP(W4987,Hilfstabelle!$A$1:$A$286,Hilfstabelle!$B$1:$B$286))","v":""}]
[null,null,null,null,null,null,null,null,null,null,null,null,null,null,null,null,null,null,null,null,{"$f":"IF(W4990=\"\",\"\",LOOKUP(W4990,Hilfstabelle!$A$1:$A$286,Hilfstabelle!$B$1:$B$286))","v":""}]
[null,null,null,null,null,null,null,null,null,null,null,null,null,null,null,null,null,null,null,null,{"$f":"IF(W4992=\"\",\"\",LOOKUP(W4992,Hilfstabelle!$A$1:$A$286,Hilfstabelle!$B$1:$B$286))","v":""}]
[null,null,null,null,null,null,null,null,null,null,null,null,null,null,null,null,null,null,null,null,{"$f":"IF(W4995=\"\",\"\",LOOKUP(W4995,Hilfstabelle!$A$1:$A$286,Hilfstabelle!$B$1:$B$286))","v":""}]
[null,null,null,null,null,null,null,null,null,null,null,null,null,null,null,null,null,null,null,null,{"$f":"IF(W4996=\"\",\"\",LOOKUP(W4996,Hilfstabelle!$A$1:$A$286,Hilfstabelle!$B$1:$B$286))","v":""}]
[null,null,null,null,null,null,null,null,null,null,null,null,null,null,null,null,null,null,null,null,{"$f":"IF(W4999=\"\",\"\",LOOKUP(W4999,Hilfstabelle!$A$1:$A$286,Hilfstabelle!$B$1:$B$286))","v":""}]
[null,null,null,null,null,null,null,null,null,null,null,null,null,null,null,null,null,null,null,null,{"$f":"IF(W5000=\"\",\"\",LOOKUP(W5000,Hilfstabelle!$A$1:$A$286,Hilfstabelle!$B$1:$B$286))","v":""}]
[null,null,null,null,null,null,null,null,null,null,null,null,null,null,null,null,null,null,null,null,{"$f":"IF(W5004=\"\",\"\",LOOKUP(W5004,Hilfstabelle!$A$1:$A$286,Hilfstabelle!$B$1:$B$286))","v":""}]
[null,null,null,null,null,null,null,null,null,null,null,null,null,null,null,null,null,null,null,null,{"$f":"IF(W5005=\"\",\"\",LOOKUP(W5005,Hilfstabelle!$A$1:$A$286,Hilfstabelle!$B$1:$B$286))","v":""}]
[null,null,null,null,null,null,null,null,null,null,null,null,null,null,null,null,null,null,null,null,{"$f":"IF(W5008=\"\",\"\",LOOKUP(W5008,Hilfstabelle!$A$1:$A$286,Hilfstabelle!$B$1:$B$286))","v":""}]
[null,null,null,null,null,null,null,null,null,null,null,null,null,null,null,null,null,null,null,null,{"$f":"IF(W5010=\"\",\"\",LOOKUP(W5010,Hilfstabelle!$A$1:$A$286,Hilfstabelle!$B$1:$B$286))","v":""}]
[null,null,null,null,null,null,null,null,null,null,null,null,null,null,null,null,null,null,null,null,{"$f":"IF(W5013=\"\",\"\",LOOKUP(W5013,Hilfstabelle!$A$1:$A$286,Hilfstabelle!$B$1:$B$286))","v":""}]
[null,null,null,null,null,null,null,null,null,null,null,null,null,null,null,null,null,null,null,null,{"$f":"IF(W5014=\"\",\"\",LOOKUP(W5014,Hilfstabelle!$A$1:$A$286,Hilfstabelle!$B$1:$B$286))","v":""}]
[null,null,null,null,null,null,null,null,null,null,null,null,null,null,null,null,null,null,null,null,{"$f":"IF(W5017=\"\",\"\",LOOKUP(W5017,Hilfstabelle!$A$1:$A$286,Hilfstabelle!$B$1:$B$286))","v":""}]
[null,null,null,null,null,null,null,null,null,null,null,null,null,null,null,null,null,null,null,null,{"$f":"IF(W5018=\"\",\"\",LOOKUP(W5018,Hilfstabelle!$A$1:$A$286,Hilfstabelle!$B$1:$B$286))","v":""}]
[null,null,null,null,null,null,null,null,null,null,null,null,null,null,null,null,null,null,null,null,{"$f":"IF(W5022=\"\",\"\",LOOKUP(W5022,Hilfstabelle!$A$1:$A$286,Hilfstabelle!$B$1:$B$286))","v":""}]
[null,null,null,null,null,null,null,null,null,null,null,null,null,null,null,null,null,null,null,null,{"$f":"IF(W5023=\"\",\"\",LOOKUP(W5023,Hilfstabelle!$A$1:$A$286,Hilfstabelle!$B$1:$B$286))","v":""}]
[null,null,null,null,null,null,null,null,null,null,null,null,null,null,null,null,null,null,null,null,{"$f":"IF(W5026=\"\",\"\",LOOKUP(W5026,Hilfstabelle!$A$1:$A$286,Hilfstabelle!$B$1:$B$286))","v":""}]
[null,null,null,null,null,null,null,null,null,null,null,null,null,null,null,null,null,null,null,null,{"$f":"IF(W5028=\"\",\"\",LOOKUP(W5028,Hilfstabelle!$A$1:$A$286,Hilfstabelle!$B$1:$B$286))","v":""}]
[null,null,null,null,null,null,null,null,null,null,null,null,null,null,null,null,null,null,null,null,{"$f":"IF(W5031=\"\",\"\",LOOKUP(W5031,Hilfstabelle!$A$1:$A$286,Hilfstabelle!$B$1:$B$286))","v":""}]
[null,null,null,null,null,null,null,null,null,null,null,null,null,null,null,null,null,null,null,null,{"$f":"IF(W5032=\"\",\"\",LOOKUP(W5032,Hilfstabelle!$A$1:$A$286,Hilfstabelle!$B$1:$B$286))","v":""}]
[null,null,null,null,null,null,null,null,null,null,null,null,null,null,null,null,null,null,null,null,{"$f":"IF(W5035=\"\",\"\",LOOKUP(W5035,Hilfstabelle!$A$1:$A$286,Hilfstabelle!$B$1:$B$286))","v":""}]
[null,null,null,null,null,null,null,null,null,null,null,null,null,null,null,null,null,null,null,null,{"$f":"IF(W5036=\"\",\"\",LOOKUP(W5036,Hilfstabelle!$A$1:$A$286,Hilfstabelle!$B$1:$B$286))","v":""}]
[null,null,null,null,null,null,null,null,null,null,null,null,null,null,null,null,null,null,null,null,{"$f":"IF(W5040=\"\",\"\",LOOKUP(W5040,Hilfstabelle!$A$1:$A$286,Hilfstabelle!$B$1:$B$286))","v":""}]
[null,null,null,null,null,null,null,null,null,null,null,null,null,null,null,null,null,null,null,null,{"$f":"IF(W5041=\"\",\"\",LOOKUP(W5041,Hilfstabelle!$A$1:$A$286,Hilfstabelle!$B$1:$B$286))","v":""}]
[null,null,null,null,null,null,null,null,null,null,null,null,null,null,null,null,null,null,null,null,{"$f":"IF(W5044=\"\",\"\",LOOKUP(W5044,Hilfstabelle!$A$1:$A$286,Hilfstabelle!$B$1:$B$286))","v":""}]
[null,null,null,null,null,null,null,null,null,null,null,null,null,null,null,null,null,null,null,null,{"$f":"IF(W5046=\"\",\"\",LOOKUP(W5046,Hilfstabelle!$A$1:$A$286,Hilfstabelle!$B$1:$B$286))","v":""}]
[null,null,null,null,null,null,null,null,null,null,null,null,null,null,null,null,null,null,null,null,{"$f":"IF(W5049=\"\",\"\",LOOKUP(W5049,Hilfstabelle!$A$1:$A$286,Hilfstabelle!$B$1:$B$286))","v":""}]
[null,null,null,null,null,null,null,null,null,null,null,null,null,null,null,null,null,null,null,null,{"$f":"IF(W5050=\"\",\"\",LOOKUP(W5050,Hilfstabelle!$A$1:$A$286,Hilfstabelle!$B$1:$B$286))","v":""}]
[null,null,null,null,null,null,null,null,null,null,null,null,null,null,null,null,null,null,null,null,{"$f":"IF(W5053=\"\",\"\",LOOKUP(W5053,Hilfstabelle!$A$1:$A$286,Hilfstabelle!$B$1:$B$286))","v":""}]
[null,null,null,null,null,null,null,null,null,null,null,null,null,null,null,null,null,null,null,null,{"$f":"IF(W5054=\"\",\"\",LOOKUP(W5054,Hilfstabelle!$A$1:$A$286,Hilfstabelle!$B$1:$B$286))","v":""}]
[null,null,null,null,null,null,null,null,null,null,null,null,null,null,null,null,null,null,null,null,{"$f":"IF(W5058=\"\",\"\",LOOKUP(W5058,Hilfstabelle!$A$1:$A$286,Hilfstabelle!$B$1:$B$286))","v":""}]
[null,null,null,null,null,null,null,null,null,null,null,null,null,null,null,null,null,null,null,null,{"$f":"IF(W5059=\"\",\"\",LOOKUP(W5059,Hilfstabelle!$A$1:$A$286,Hilfstabelle!$B$1:$B$286))","v":""}]
[null,null,null,null,null,null,null,null,null,null,null,null,null,null,null,null,null,null,null,null,{"$f":"IF(W5062=\"\",\"\",LOOKUP(W5062,Hilfstabelle!$A$1:$A$286,Hilfstabelle!$B$1:$B$286))","v":""}]
[null,null,null,null,null,null,null,null,null,null,null,null,null,null,null,null,null,null,null,null,{"$f":"IF(W5064=\"\",\"\",LOOKUP(W5064,Hilfstabelle!$A$1:$A$286,Hilfstabelle!$B$1:$B$286))","v":""}]
[null,null,null,null,null,null,null,null,null,null,null,null,null,null,null,null,null,null,null,null,{"$f":"IF(W5067=\"\",\"\",LOOKUP(W5067,Hilfstabelle!$A$1:$A$286,Hilfstabelle!$B$1:$B$286))","v":""}]
[null,null,null,null,null,null,null,null,null,null,null,null,null,null,null,null,null,null,null,null,{"$f":"IF(W5068=\"\",\"\",LOOKUP(W5068,Hilfstabelle!$A$1:$A$286,Hilfstabelle!$B$1:$B$286))","v":""}]
[null,null,null,null,null,null,null,null,null,null,null,null,null,null,null,null,null,null,null,null,{"$f":"IF(W5071=\"\",\"\",LOOKUP(W5071,Hilfstabelle!$A$1:$A$286,Hilfstabelle!$B$1:$B$286))","v":""}]
[null,null,null,null,null,null,null,null,null,null,null,null,null,null,null,null,null,null,null,null,{"$f":"IF(W5072=\"\",\"\",LOOKUP(W5072,Hilfstabelle!$A$1:$A$286,Hilfstabelle!$B$1:$B$286))","v":""}]
[null,null,null,null,null,null,null,null,null,null,null,null,null,null,null,null,null,null,null,null,{"$f":"IF(W5076=\"\",\"\",LOOKUP(W5076,Hilfstabelle!$A$1:$A$286,Hilfstabelle!$B$1:$B$286))","v":""}]
[null,null,null,null,null,null,null,null,null,null,null,null,null,null,null,null,null,null,null,null,{"$f":"IF(W5077=\"\",\"\",LOOKUP(W5077,Hilfstabelle!$A$1:$A$286,Hilfstabelle!$B$1:$B$286))","v":""}]
[null,null,null,null,null,null,null,null,null,null,null,null,null,null,null,null,null,null,null,null,{"$f":"IF(W5080=\"\",\"\",LOOKUP(W5080,Hilfstabelle!$A$1:$A$286,Hilfstabelle!$B$1:$B$286))","v":""}]
[null,null,null,null,null,null,null,null,null,null,null,null,null,null,null,null,null,null,null,null,{"$f":"IF(W5082=\"\",\"\",LOOKUP(W5082,Hilfstabelle!$A$1:$A$286,Hilfstabelle!$B$1:$B$286))","v":""}]
[null,null,null,null,null,null,null,null,null,null,null,null,null,null,null,null,null,null,null,null,{"$f":"IF(W5085=\"\",\"\",LOOKUP(W5085,Hilfstabelle!$A$1:$A$286,Hilfstabelle!$B$1:$B$286))","v":""}]
[null,null,null,null,null,null,null,null,null,null,null,null,null,null,null,null,null,null,null,null,{"$f":"IF(W5086=\"\",\"\",LOOKUP(W5086,Hilfstabelle!$A$1:$A$286,Hilfstabelle!$B$1:$B$286))","v":""}]
[null,null,null,null,null,null,null,null,null,null,null,null,null,null,null,null,null,null,null,null,{"$f":"IF(W5089=\"\",\"\",LOOKUP(W5089,Hilfstabelle!$A$1:$A$286,Hilfstabelle!$B$1:$B$286))","v":""}]
[null,null,null,null,null,null,null,null,null,null,null,null,null,null,null,null,null,null,null,null,{"$f":"IF(W5090=\"\",\"\",LOOKUP(W5090,Hilfstabelle!$A$1:$A$286,Hilfstabelle!$B$1:$B$286))","v":""}]
[null,null,null,null,null,null,null,null,null,null,null,null,null,null,null,null,null,null,null,null,{"$f":"IF(W5094=\"\",\"\",LOOKUP(W5094,Hilfstabelle!$A$1:$A$286,Hilfstabelle!$B$1:$B$286))","v":""}]
[null,null,null,null,null,null,null,null,null,null,null,null,null,null,null,null,null,null,null,null,{"$f":"IF(W5095=\"\",\"\",LOOKUP(W5095,Hilfstabelle!$A$1:$A$286,Hilfstabelle!$B$1:$B$286))","v":""}]
[null,null,null,null,null,null,null,null,null,null,null,null,null,null,null,null,null,null,null,null,{"$f":"IF(W5098=\"\",\"\",LOOKUP(W5098,Hilfstabelle!$A$1:$A$286,Hilfstabelle!$B$1:$B$286))","v":""}]
[null,null,null,null,null,null,null,null,null,null,null,null,null,null,null,null,null,null,null,null,{"$f":"IF(W5100=\"\",\"\",LOOKUP(W5100,Hilfstabelle!$A$1:$A$286,Hilfstabelle!$B$1:$B$286))","v":""}]
[null,null,null,null,null,null,null,null,null,null,null,null,null,null,null,null,null,null,null,null,{"$f":"IF(W5103=\"\",\"\",LOOKUP(W5103,Hilfstabelle!$A$1:$A$286,Hilfstabelle!$B$1:$B$286))","v":""}]
[null,null,null,null,null,null,null,null,null,null,null,null,null,null,null,null,null,null,null,null,{"$f":"IF(W5104=\"\",\"\",LOOKUP(W5104,Hilfstabelle!$A$1:$A$286,Hilfstabelle!$B$1:$B$286))","v":""}]
[null,null,null,null,null,null,null,null,null,null,null,null,null,null,null,null,null,null,null,null,{"$f":"IF(W5107=\"\",\"\",LOOKUP(W5107,Hilfstabelle!$A$1:$A$286,Hilfstabelle!$B$1:$B$286))","v":""}]
[null,null,null,null,null,null,null,null,null,null,null,null,null,null,null,null,null,null,null,null,{"$f":"IF(W5108=\"\",\"\",LOOKUP(W5108,Hilfstabelle!$A$1:$A$286,Hilfstabelle!$B$1:$B$286))","v":""}]
[null,null,null,null,null,null,null,null,null,null,null,null,null,null,null,null,null,null,null,null,{"$f":"IF(W5112=\"\",\"\",LOOKUP(W5112,Hilfstabelle!$A$1:$A$286,Hilfstabelle!$B$1:$B$286))","v":""}]
[null,null,null,null,null,null,null,null,null,null,null,null,null,null,null,null,null,null,null,null,{"$f":"IF(W5113=\"\",\"\",LOOKUP(W5113,Hilfstabelle!$A$1:$A$286,Hilfstabelle!$B$1:$B$286))","v":""}]
[null,null,null,null,null,null,null,null,null,null,null,null,null,null,null,null,null,null,null,null,{"$f":"IF(W5116=\"\",\"\",LOOKUP(W5116,Hilfstabelle!$A$1:$A$286,Hilfstabelle!$B$1:$B$286))","v":""}]
[null,null,null,null,null,null,null,null,null,null,null,null,null,null,null,null,null,null,null,null,{"$f":"IF(W5119=\"\",\"\",LOOKUP(W5119,Hilfstabelle!$A$1:$A$286,Hilfstabelle!$B$1:$B$286))","v":""}]
[null,null,null,null,null,null,null,null,null,null,null,null,null,null,null,null,null,null,null,null,{"$f":"IF(W5121=\"\",\"\",LOOKUP(W5121,Hilfstabelle!$A$1:$A$286,Hilfstabelle!$B$1:$B$286))","v":""}]
[null,null,null,null,null,null,null,null,null,null,null,null,null,null,null,null,null,null,null,null,{"$f":"IF(W5122=\"\",\"\",LOOKUP(W5122,Hilfstabelle!$A$1:$A$286,Hilfstabelle!$B$1:$B$286))","v":""}]
[null,null,null,null,null,null,null,null,null,null,null,null,null,null,null,null,null,null,null,null,{"$f":"IF(W5125=\"\",\"\",LOOKUP(W5125,Hilfstabelle!$A$1:$A$286,Hilfstabelle!$B$1:$B$286))","v":""}]
[null,null,null,null,null,null,null,null,null,null,null,null,null,null,null,null,null,null,null,null,{"$f":"IF(W5126=\"\",\"\",LOOKUP(W5126,Hilfstabelle!$A$1:$A$286,Hilfstabelle!$B$1:$B$286))","v":""}]
[null,null,null,null,null,null,null,null,null,null,null,null,null,null,null,null,null,null,null,null,{"$f":"IF(W5130=\"\",\"\",LOOKUP(W5130,Hilfstabelle!$A$1:$A$286,Hilfstabelle!$B$1:$B$286))","v":""}]
[null,null,null,null,null,null,null,null,null,null,null,null,null,null,null,null,null,null,null,null,{"$f":"IF(W5131=\"\",\"\",LOOKUP(W5131,Hilfstabelle!$A$1:$A$286,Hilfstabelle!$B$1:$B$286))","v":""}]
[null,null,null,null,null,null,null,null,null,null,null,null,null,null,null,null,null,null,null,null,{"$f":"IF(W5134=\"\",\"\",LOOKUP(W5134,Hilfstabelle!$A$1:$A$286,Hilfstabelle!$B$1:$B$286))","v":""}]
[null,null,null,null,null,null,null,null,null,null,null,null,null,null,null,null,null,null,null,null,{"$f":"IF(W5137=\"\",\"\",LOOKUP(W5137,Hilfstabelle!$A$1:$A$286,Hilfstabelle!$B$1:$B$286))","v":""}]
[null,null,null,null,null,null,null,null,null,null,null,null,null,null,null,null,null,null,null,null,{"$f":"IF(W5139=\"\",\"\",LOOKUP(W5139,Hilfstabelle!$A$1:$A$286,Hilfstabelle!$B$1:$B$286))","v":""}]
[null,null,null,null,null,null,null,null,null,null,null,null,null,null,null,null,null,null,null,null,{"$f":"IF(W5140=\"\",\"\",LOOKUP(W5140,Hilfstabelle!$A$1:$A$286,Hilfstabelle!$B$1:$B$286))","v":""}]
[null,null,null,null,null,null,null,null,null,null,null,null,null,null,null,null,null,null,null,null,{"$f":"IF(W5143=\"\",\"\",LOOKUP(W5143,Hilfstabelle!$A$1:$A$286,Hilfstabelle!$B$1:$B$286))","v":""}]
[null,null,null,null,null,null,null,null,null,null,null,null,null,null,null,null,null,null,null,null,{"$f":"IF(W5144=\"\",\"\",LOOKUP(W5144,Hilfstabelle!$A$1:$A$286,Hilfstabelle!$B$1:$B$286))","v":""}]
[null,null,null,null,null,null,null,null,null,null,null,null,null,null,null,null,null,null,null,null,{"$f":"IF(W5148=\"\",\"\",LOOKUP(W5148,Hilfstabelle!$A$1:$A$286,Hilfstabelle!$B$1:$B$286))","v":""}]
[null,null,null,null,null,null,null,null,null,null,null,null,null,null,null,null,null,null,null,null,{"$f":"IF(W5149=\"\",\"\",LOOKUP(W5149,Hilfstabelle!$A$1:$A$286,Hilfstabelle!$B$1:$B$286))","v":""}]
[null,null,null,null,null,null,null,null,null,null,null,null,null,null,null,null,null,null,null,null,{"$f":"IF(W5152=\"\",\"\",LOOKUP(W5152,Hilfstabelle!$A$1:$A$286,Hilfstabelle!$B$1:$B$286))","v":""}]
[null,null,null,null,null,null,null,null,null,null,null,null,null,null,null,null,null,null,null,null,{"$f":"IF(W5155=\"\",\"\",LOOKUP(W5155,Hilfstabelle!$A$1:$A$286,Hilfstabelle!$B$1:$B$286))","v":""}]
[null,null,null,null,null,null,null,null,null,null,null,null,null,null,null,null,null,null,null,null,{"$f":"IF(W5157=\"\",\"\",LOOKUP(W5157,Hilfstabelle!$A$1:$A$286,Hilfstabelle!$B$1:$B$286))","v":""}]
[null,null,null,null,null,null,null,null,null,null,null,null,null,null,null,null,null,null,null,null,{"$f":"IF(W5158=\"\",\"\",LOOKUP(W5158,Hilfstabelle!$A$1:$A$286,Hilfstabelle!$B$1:$B$286))","v":""}]
[null,null,null,null,null,null,null,null,null,null,null,null,null,null,null,null,null,null,null,null,{"$f":"IF(W5161=\"\",\"\",LOOKUP(W5161,Hilfstabelle!$A$1:$A$286,Hilfstabelle!$B$1:$B$286))","v":""}]
[null,null,null,null,null,null,null,null,null,null,null,null,null,null,null,null,null,null,null,null,{"$f":"IF(W5162=\"\",\"\",LOOKUP(W5162,Hilfstabelle!$A$1:$A$286,Hilfstabelle!$B$1:$B$286))","v":""}]
[null,null,null,null,null,null,null,null,null,null,null,null,null,null,null,null,null,null,null,null,{"$f":"IF(W5166=\"\",\"\",LOOKUP(W5166,Hilfstabelle!$A$1:$A$286,Hilfstabelle!$B$1:$B$286))","v":""}]
[null,null,null,null,null,null,null,null,null,null,null,null,null,null,null,null,null,null,null,null,{"$f":"IF(W5167=\"\",\"\",LOOKUP(W5167,Hilfstabelle!$A$1:$A$286,Hilfstabelle!$B$1:$B$286))","v":""}]
[null,null,null,null,null,null,null,null,null,null,null,null,null,null,null,null,null,null,null,null,{"$f":"IF(W5170=\"\",\"\",LOOKUP(W5170,Hilfstabelle!$A$1:$A$286,Hilfstabelle!$B$1:$B$286))","v":""}]
[null,null,null,null,null,null,null,null,null,null,null,null,null,null,null,null,null,null,null,null,{"$f":"IF(W5173=\"\",\"\",LOOKUP(W5173,Hilfstabelle!$A$1:$A$286,Hilfstabelle!$B$1:$B$286))","v":""}]
[null,null,null,null,null,null,null,null,null,null,null,null,null,null,null,null,null,null,null,null,{"$f":"IF(W5175=\"\",\"\",LOOKUP(W5175,Hilfstabelle!$A$1:$A$286,Hilfstabelle!$B$1:$B$286))","v":""}]
[null,null,null,null,null,null,null,null,null,null,null,null,null,null,null,null,null,null,null,null,{"$f":"IF(W5176=\"\",\"\",LOOKUP(W5176,Hilfstabelle!$A$1:$A$286,Hilfstabelle!$B$1:$B$286))","v":""}]
[null,null,null,null,null,null,null,null,null,null,null,null,null,null,null,null,null,null,null,null,{"$f":"IF(W5179=\"\",\"\",LOOKUP(W5179,Hilfstabelle!$A$1:$A$286,Hilfstabelle!$B$1:$B$286))","v":""}]
[null,null,null,null,null,null,null,null,null,null,null,null,null,null,null,null,null,null,null,null,{"$f":"IF(W5180=\"\",\"\",LOOKUP(W5180,Hilfstabelle!$A$1:$A$286,Hilfstabelle!$B$1:$B$286))","v":""}]
[null,null,null,null,null,null,null,null,null,null,null,null,null,null,null,null,null,null,null,null,{"$f":"IF(W5184=\"\",\"\",LOOKUP(W5184,Hilfstabelle!$A$1:$A$286,Hilfstabelle!$B$1:$B$286))","v":""}]
[null,null,null,null,null,null,null,null,null,null,null,null,null,null,null,null,null,null,null,null,{"$f":"IF(W5185=\"\",\"\",LOOKUP(W5185,Hilfstabelle!$A$1:$A$286,Hilfstabelle!$B$1:$B$286))","v":""}]
[null,null,null,null,null,null,null,null,null,null,null,null,null,null,null,null,null,null,null,null,{"$f":"IF(W5188=\"\",\"\",LOOKUP(W5188,Hilfstabelle!$A$1:$A$286,Hilfstabelle!$B$1:$B$286))","v":""}]
[null,null,null,null,null,null,null,null,null,null,null,null,null,null,null,null,null,null,null,null,{"$f":"IF(W5191=\"\",\"\",LOOKUP(W5191,Hilfstabelle!$A$1:$A$286,Hilfstabelle!$B$1:$B$286))","v":""}]
[null,null,null,null,null,null,null,null,null,null,null,null,null,null,null,null,null,null,null,null,{"$f":"IF(W5193=\"\",\"\",LOOKUP(W5193,Hilfstabelle!$A$1:$A$286,Hilfstabelle!$B$1:$B$286))","v":""}]
[null,null,null,null,null,null,null,null,null,null,null,null,null,null,null,null,null,null,null,null,{"$f":"IF(W5194=\"\",\"\",LOOKUP(W5194,Hilfstabelle!$A$1:$A$286,Hilfstabelle!$B$1:$B$286))","v":""}]
[null,null,null,null,null,null,null,null,null,null,null,null,null,null,null,null,null,null,null,null,{"$f":"IF(W5197=\"\",\"\",LOOKUP(W5197,Hilfstabelle!$A$1:$A$286,Hilfstabelle!$B$1:$B$286))","v":""}]
[null,null,null,null,null,null,null,null,null,null,null,null,null,null,null,null,null,null,null,null,{"$f":"IF(W5198=\"\",\"\",LOOKUP(W5198,Hilfstabelle!$A$1:$A$286,Hilfstabelle!$B$1:$B$286))","v":""}]
[null,null,null,null,null,null,null,null,null,null,null,null,null,null,null,null,null,null,null,null,{"$f":"IF(W5202=\"\",\"\",LOOKUP(W5202,Hilfstabelle!$A$1:$A$286,Hilfstabelle!$B$1:$B$286))","v":""}]
[null,null,null,null,null,null,null,null,null,null,null,null,null,null,null,null,null,null,null,null,{"$f":"IF(W5203=\"\",\"\",LOOKUP(W5203,Hilfstabelle!$A$1:$A$286,Hilfstabelle!$B$1:$B$286))","v":""}]
[null,null,null,null,null,null,null,null,null,null,null,null,null,null,null,null,null,null,null,null,{"$f":"IF(W5206=\"\",\"\",LOOKUP(W5206,Hilfstabelle!$A$1:$A$286,Hilfstabelle!$B$1:$B$286))","v":""}]
[null,null,null,null,null,null,null,null,null,null,null,null,null,null,null,null,null,null,null,null,{"$f":"IF(W5209=\"\",\"\",LOOKUP(W5209,Hilfstabelle!$A$1:$A$286,Hilfstabelle!$B$1:$B$286))","v":""}]
[null,null,null,null,null,null,null,null,null,null,null,null,null,null,null,null,null,null,null,null,{"$f":"IF(W5211=\"\",\"\",LOOKUP(W5211,Hilfstabelle!$A$1:$A$286,Hilfstabelle!$B$1:$B$286))","v":""}]
[null,null,null,null,null,null,null,null,null,null,null,null,null,null,null,null,null,null,null,null,{"$f":"IF(W5212=\"\",\"\",LOOKUP(W5212,Hilfstabelle!$A$1:$A$286,Hilfstabelle!$B$1:$B$286))","v":""}]
[null,null,null,null,null,null,null,null,null,null,null,null,null,null,null,null,null,null,null,null,{"$f":"IF(W5215=\"\",\"\",LOOKUP(W5215,Hilfstabelle!$A$1:$A$286,Hilfstabelle!$B$1:$B$286))","v":""}]
[null,null,null,null,null,null,null,null,null,null,null,null,null,null,null,null,null,null,null,null,{"$f":"IF(W5216=\"\",\"\",LOOKUP(W5216,Hilfstabelle!$A$1:$A$286,Hilfstabelle!$B$1:$B$286))","v":""}]
[null,null,null,null,null,null,null,null,null,null,null,null,null,null,null,null,null,null,null,null,{"$f":"IF(W5220=\"\",\"\",LOOKUP(W5220,Hilfstabelle!$A$1:$A$286,Hilfstabelle!$B$1:$B$286))","v":""}]
[null,null,null,null,null,null,null,null,null,null,null,null,null,null,null,null,null,null,null,null,{"$f":"IF(W5221=\"\",\"\",LOOKUP(W5221,Hilfstabelle!$A$1:$A$286,Hilfstabelle!$B$1:$B$286))","v":""}]
[null,null,null,null,null,null,null,null,null,null,null,null,null,null,null,null,null,null,null,null,{"$f":"IF(W5224=\"\",\"\",LOOKUP(W5224,Hilfstabelle!$A$1:$A$286,Hilfstabelle!$B$1:$B$286))","v":""}]
[null,null,null,null,null,null,null,null,null,null,null,null,null,null,null,null,null,null,null,null,{"$f":"IF(W5227=\"\",\"\",LOOKUP(W5227,Hilfstabelle!$A$1:$A$286,Hilfstabelle!$B$1:$B$286))","v":""}]
[null,null,null,null,null,null,null,null,null,null,null,null,null,null,null,null,null,null,null,null,{"$f":"IF(W5229=\"\",\"\",LOOKUP(W5229,Hilfstabelle!$A$1:$A$286,Hilfstabelle!$B$1:$B$286))","v":""}]
[null,null,null,null,null,null,null,null,null,null,null,null,null,null,null,null,null,null,null,null,{"$f":"IF(W5230=\"\",\"\",LOOKUP(W5230,Hilfstabelle!$A$1:$A$286,Hilfstabelle!$B$1:$B$286))","v":""}]
[null,null,null,null,null,null,null,null,null,null,null,null,null,null,null,null,null,null,null,null,{"$f":"IF(W5233=\"\",\"\",LOOKUP(W5233,Hilfstabelle!$A$1:$A$286,Hilfstabelle!$B$1:$B$286))","v":""}]
[null,null,null,null,null,null,null,null,null,null,null,null,null,null,null,null,null,null,null,null,{"$f":"IF(W5234=\"\",\"\",LOOKUP(W5234,Hilfstabelle!$A$1:$A$286,Hilfstabelle!$B$1:$B$286))","v":""}]
[null,null,null,null,null,null,null,null,null,null,null,null,null,null,null,null,null,null,null,null,{"$f":"IF(W5238=\"\",\"\",LOOKUP(W5238,Hilfstabelle!$A$1:$A$286,Hilfstabelle!$B$1:$B$286))","v":""}]
[null,null,null,null,null,null,null,null,null,null,null,null,null,null,null,null,null,null,null,null,{"$f":"IF(W5239=\"\",\"\",LOOKUP(W5239,Hilfstabelle!$A$1:$A$286,Hilfstabelle!$B$1:$B$286))","v":""}]
[null,null,null,null,null,null,null,null,null,null,null,null,null,null,null,null,null,null,null,null,{"$f":"IF(W5242=\"\",\"\",LOOKUP(W5242,Hilfstabelle!$A$1:$A$286,Hilfstabelle!$B$1:$B$286))","v":""}]
[null,null,null,null,null,null,null,null,null,null,null,null,null,null,null,null,null,null,null,null,{"$f":"IF(W5245=\"\",\"\",LOOKUP(W5245,Hilfstabelle!$A$1:$A$286,Hilfstabelle!$B$1:$B$286))","v":""}]
[null,null,null,null,null,null,null,null,null,null,null,null,null,null,null,null,null,null,null,null,{"$f":"IF(W5247=\"\",\"\",LOOKUP(W5247,Hilfstabelle!$A$1:$A$286,Hilfstabelle!$B$1:$B$286))","v":""}]
[null,null,null,null,null,null,null,null,null,null,null,null,null,null,null,null,null,null,null,null,{"$f":"IF(W5248=\"\",\"\",LOOKUP(W5248,Hilfstabelle!$A$1:$A$286,Hilfstabelle!$B$1:$B$286))","v":""}]
[null,null,null,null,null,null,null,null,null,null,null,null,null,null,null,null,null,null,null,null,{"$f":"IF(W5251=\"\",\"\",LOOKUP(W5251,Hilfstabelle!$A$1:$A$286,Hilfstabelle!$B$1:$B$286))","v":""}]
[null,null,null,null,null,null,null,null,null,null,null,null,null,null,null,null,null,null,null,null,{"$f":"IF(W5252=\"\",\"\",LOOKUP(W5252,Hilfstabelle!$A$1:$A$286,Hilfstabelle!$B$1:$B$286))","v":""}]
[null,null,null,null,null,null,null,null,null,null,null,null,null,null,null,null,null,null,null,null,{"$f":"IF(W5256=\"\",\"\",LOOKUP(W5256,Hilfstabelle!$A$1:$A$286,Hilfstabelle!$B$1:$B$286))","v":""}]
[null,null,null,null,null,null,null,null,null,null,null,null,null,null,null,null,null,null,null,null,{"$f":"IF(W5257=\"\",\"\",LOOKUP(W5257,Hilfstabelle!$A$1:$A$286,Hilfstabelle!$B$1:$B$286))","v":""}]
[null,null,null,null,null,null,null,null,null,null,null,null,null,null,null,null,null,null,null,null,{"$f":"IF(W5260=\"\",\"\",LOOKUP(W5260,Hilfstabelle!$A$1:$A$286,Hilfstabelle!$B$1:$B$286))","v":""}]
[null,null,null,null,null,null,null,null,null,null,null,null,null,null,null,null,null,null,null,null,{"$f":"IF(W5263=\"\",\"\",LOOKUP(W5263,Hilfstabelle!$A$1:$A$286,Hilfstabelle!$B$1:$B$286))","v":""}]
[null,null,null,null,null,null,null,null,null,null,null,null,null,null,null,null,null,null,null,null,{"$f":"IF(W5265=\"\",\"\",LOOKUP(W5265,Hilfstabelle!$A$1:$A$286,Hilfstabelle!$B$1:$B$286))","v":""}]
[null,null,null,null,null,null,null,null,null,null,null,null,null,null,null,null,null,null,null,null,{"$f":"IF(W5266=\"\",\"\",LOOKUP(W5266,Hilfstabelle!$A$1:$A$286,Hilfstabelle!$B$1:$B$286))","v":""}]
[null,null,null,null,null,null,null,null,null,null,null,null,null,null,null,null,null,null,null,null,{"$f":"IF(W5269=\"\",\"\",LOOKUP(W5269,Hilfstabelle!$A$1:$A$286,Hilfstabelle!$B$1:$B$286))","v":""}]
[null,null,null,null,null,null,null,null,null,null,null,null,null,null,null,null,null,null,null,null,{"$f":"IF(W5270=\"\",\"\",LOOKUP(W5270,Hilfstabelle!$A$1:$A$286,Hilfstabelle!$B$1:$B$286))","v":""}]
[null,null,null,null,null,null,null,null,null,null,null,null,null,null,null,null,null,null,null,null,{"$f":"IF(W5274=\"\",\"\",LOOKUP(W5274,Hilfstabelle!$A$1:$A$286,Hilfstabelle!$B$1:$B$286))","v":""}]
[null,null,null,null,null,null,null,null,null,null,null,null,null,null,null,null,null,null,null,null,{"$f":"IF(W5275=\"\",\"\",LOOKUP(W5275,Hilfstabelle!$A$1:$A$286,Hilfstabelle!$B$1:$B$286))","v":""}]
[null,null,null,null,null,null,null,null,null,null,null,null,null,null,null,null,null,null,null,null,{"$f":"IF(W5278=\"\",\"\",LOOKUP(W5278,Hilfstabelle!$A$1:$A$286,Hilfstabelle!$B$1:$B$286))","v":""}]
[null,null,null,null,null,null,null,null,null,null,null,null,null,null,null,null,null,null,null,null,{"$f":"IF(W5281=\"\",\"\",LOOKUP(W5281,Hilfstabelle!$A$1:$A$286,Hilfstabelle!$B$1:$B$286))","v":""}]
[null,null,null,null,null,null,null,null,null,null,null,null,null,null,null,null,null,null,null,null,{"$f":"IF(W5283=\"\",\"\",LOOKUP(W5283,Hilfstabelle!$A$1:$A$286,Hilfstabelle!$B$1:$B$286))","v":""}]
[null,null,null,null,null,null,null,null,null,null,null,null,null,null,null,null,null,null,null,null,{"$f":"IF(W5284=\"\",\"\",LOOKUP(W5284,Hilfstabelle!$A$1:$A$286,Hilfstabelle!$B$1:$B$286))","v":""}]
[null,null,null,null,null,null,null,null,null,null,null,null,null,null,null,null,null,null,null,null,{"$f":"IF(W5287=\"\",\"\",LOOKUP(W5287,Hilfstabelle!$A$1:$A$286,Hilfstabelle!$B$1:$B$286))","v":""}]
[null,null,null,null,null,null,null,null,null,null,null,null,null,null,null,null,null,null,null,null,{"$f":"IF(W5289=\"\",\"\",LOOKUP(W5289,Hilfstabelle!$A$1:$A$286,Hilfstabelle!$B$1:$B$286))","v":""}]
[null,null,null,null,null,null,null,null,null,null,null,null,null,null,null,null,null,null,null,null,{"$f":"IF(W5292=\"\",\"\",LOOKUP(W5292,Hilfstabelle!$A$1:$A$286,Hilfstabelle!$B$1:$B$286))","v":""}]
[null,null,null,null,null,null,null,null,null,null,null,null,null,null,null,null,null,null,null,null,{"$f":"IF(W5293=\"\",\"\",LOOKUP(W5293,Hilfstabelle!$A$1:$A$286,Hilfstabelle!$B$1:$B$286))","v":""}]
[null,null,null,null,null,null,null,null,null,null,null,null,null,null,null,null,null,null,null,null,{"$f":"IF(W5296=\"\",\"\",LOOKUP(W5296,Hilfstabelle!$A$1:$A$286,Hilfstabelle!$B$1:$B$286))","v":""}]
[null,null,null,null,null,null,null,null,null,null,null,null,null,null,null,null,null,null,null,null,{"$f":"IF(W5299=\"\",\"\",LOOKUP(W5299,Hilfstabelle!$A$1:$A$286,Hilfstabelle!$B$1:$B$286))","v":""}]
[null,null,null,null,null,null,null,null,null,null,null,null,null,null,null,null,null,null,null,null,{"$f":"IF(W5301=\"\",\"\",LOOKUP(W5301,Hilfstabelle!$A$1:$A$286,Hilfstabelle!$B$1:$B$286))","v":""}]
[null,null,null,null,null,null,null,null,null,null,null,null,null,null,null,null,null,null,null,null,{"$f":"IF(W5302=\"\",\"\",LOOKUP(W5302,Hilfstabelle!$A$1:$A$286,Hilfstabelle!$B$1:$B$286))","v":""}]
[null,null,null,null,null,null,null,null,null,null,null,null,null,null,null,null,null,null,null,null,{"$f":"IF(W5305=\"\",\"\",LOOKUP(W5305,Hilfstabelle!$A$1:$A$286,Hilfstabelle!$B$1:$B$286))","v":""}]
[null,null,null,null,null,null,null,null,null,null,null,null,null,null,null,null,null,null,null,null,{"$f":"IF(W5307=\"\",\"\",LOOKUP(W5307,Hilfstabelle!$A$1:$A$286,Hilfstabelle!$B$1:$B$286))","v":""}]
[null,null,null,null,null,null,null,null,null,null,null,null,null,null,null,null,null,null,null,null,{"$f":"IF(W5310=\"\",\"\",LOOKUP(W5310,Hilfstabelle!$A$1:$A$286,Hilfstabelle!$B$1:$B$286))","v":""}]
[null,null,null,null,null,null,null,null,null,null,null,null,null,null,null,null,null,null,null,null,{"$f":"IF(W5311=\"\",\"\",LOOKUP(W5311,Hilfstabelle!$A$1:$A$286,Hilfstabelle!$B$1:$B$286))","v":""}]
[null,null,null,null,null,null,null,null,null,null,null,null,null,null,null,null,null,null,null,null,{"$f":"IF(W5314=\"\",\"\",LOOKUP(W5314,Hilfstabelle!$A$1:$A$286,Hilfstabelle!$B$1:$B$286))","v":""}]
[null,null,null,null,null,null,null,null,null,null,null,null,null,null,null,null,null,null,null,null,{"$f":"IF(W5317=\"\",\"\",LOOKUP(W5317,Hilfstabelle!$A$1:$A$286,Hilfstabelle!$B$1:$B$286))","v":""}]
[null,null,null,null,null,null,null,null,null,null,null,null,null,null,null,null,null,null,null,null,{"$f":"IF(W5319=\"\",\"\",LOOKUP(W5319,Hilfstabelle!$A$1:$A$286,Hilfstabelle!$B$1:$B$286))","v":""}]
[null,null,null,null,null,null,null,null,null,null,null,null,null,null,null,null,null,null,null,null,{"$f":"IF(W5320=\"\",\"\",LOOKUP(W5320,Hilfstabelle!$A$1:$A$286,Hilfstabelle!$B$1:$B$286))","v":""}]
[null,null,null,null,null,null,null,null,null,null,null,null,null,null,null,null,null,null,null,null,{"$f":"IF(W5323=\"\",\"\",LOOKUP(W5323,Hilfstabelle!$A$1:$A$286,Hilfstabelle!$B$1:$B$286))","v":""}]
[null,null,null,null,null,null,null,null,null,null,null,null,null,null,null,null,null,null,null,null,{"$f":"IF(W5325=\"\",\"\",LOOKUP(W5325,Hilfstabelle!$A$1:$A$286,Hilfstabelle!$B$1:$B$286))","v":""}]
[null,null,null,null,null,null,null,null,null,null,null,null,null,null,null,null,null,null,null,null,{"$f":"IF(W5328=\"\",\"\",LOOKUP(W5328,Hilfstabelle!$A$1:$A$286,Hilfstabelle!$B$1:$B$286))","v":""}]
[null,null,null,null,null,null,null,null,null,null,null,null,null,null,null,null,null,null,null,null,{"$f":"IF(W5329=\"\",\"\",LOOKUP(W5329,Hilfstabelle!$A$1:$A$286,Hilfstabelle!$B$1:$B$286))","v":""}]
[null,null,null,null,null,null,null,null,null,null,null,null,null,null,null,null,null,null,null,null,{"$f":"IF(W5332=\"\",\"\",LOOKUP(W5332,Hilfstabelle!$A$1:$A$286,Hilfstabelle!$B$1:$B$286))","v":""}]
[null,null,null,null,null,null,null,null,null,null,null,null,null,null,null,null,null,null,null,null,{"$f":"IF(W5335=\"\",\"\",LOOKUP(W5335,Hilfstabelle!$A$1:$A$286,Hilfstabelle!$B$1:$B$286))","v":""}]
[null,null,null,null,null,null,null,null,null,null,null,null,null,null,null,null,null,null,null,null,{"$f":"IF(W5337=\"\",\"\",LOOKUP(W5337,Hilfstabelle!$A$1:$A$286,Hilfstabelle!$B$1:$B$286))","v":""}]
[null,null,null,null,null,null,null,null,null,null,null,null,null,null,null,null,null,null,null,null,{"$f":"IF(W5338=\"\",\"\",LOOKUP(W5338,Hilfstabelle!$A$1:$A$286,Hilfstabelle!$B$1:$B$286))","v":""}]
[null,null,null,null,null,null,null,null,null,null,null,null,null,null,null,null,null,null,null,null,{"$f":"IF(W5341=\"\",\"\",LOOKUP(W5341,Hilfstabelle!$A$1:$A$286,Hilfstabelle!$B$1:$B$286))","v":""}]
[null,null,null,null,null,null,null,null,null,null,null,null,null,null,null,null,null,null,null,null,{"$f":"IF(W5343=\"\",\"\",LOOKUP(W5343,Hilfstabelle!$A$1:$A$286,Hilfstabelle!$B$1:$B$286))","v":""}]
[null,null,null,null,null,null,null,null,null,null,null,null,null,null,null,null,null,null,null,null,{"$f":"IF(W5346=\"\",\"\",LOOKUP(W5346,Hilfstabelle!$A$1:$A$286,Hilfstabelle!$B$1:$B$286))","v":""}]
[null,null,null,null,null,null,null,null,null,null,null,null,null,null,null,null,null,null,null,null,{"$f":"IF(W5347=\"\",\"\",LOOKUP(W5347,Hilfstabelle!$A$1:$A$286,Hilfstabelle!$B$1:$B$286))","v":""}]
[null,null,null,null,null,null,null,null,null,null,null,null,null,null,null,null,null,null,null,null,{"$f":"IF(W5350=\"\",\"\",LOOKUP(W5350,Hilfstabelle!$A$1:$A$286,Hilfstabelle!$B$1:$B$286))","v":""}]
[null,null,null,null,null,null,null,null,null,null,null,null,null,null,null,null,null,null,null,null,{"$f":"IF(W5353=\"\",\"\",LOOKUP(W5353,Hilfstabelle!$A$1:$A$286,Hilfstabelle!$B$1:$B$286))","v":""}]
[null,null,null,null,null,null,null,null,null,null,null,null,null,null,null,null,null,null,null,null,{"$f":"IF(W5355=\"\",\"\",LOOKUP(W5355,Hilfstabelle!$A$1:$A$286,Hilfstabelle!$B$1:$B$286))","v":""}]
[null,null,null,null,null,null,null,null,null,null,null,null,null,null,null,null,null,null,null,null,{"$f":"IF(W5356=\"\",\"\",LOOKUP(W5356,Hilfstabelle!$A$1:$A$286,Hilfstabelle!$B$1:$B$286))","v":""}]
[null,null,null,null,null,null,null,null,null,null,null,null,null,null,null,null,null,null,null,null,{"$f":"IF(W5359=\"\",\"\",LOOKUP(W5359,Hilfstabelle!$A$1:$A$286,Hilfstabelle!$B$1:$B$286))","v":""}]
[null,null,null,null,null,null,null,null,null,null,null,null,null,null,null,null,null,null,null,null,{"$f":"IF(W5361=\"\",\"\",LOOKUP(W5361,Hilfstabelle!$A$1:$A$286,Hilfstabelle!$B$1:$B$286))","v":""}]
[null,null,null,null,null,null,null,null,null,null,null,null,null,null,null,null,null,null,null,null,{"$f":"IF(W5364=\"\",\"\",LOOKUP(W5364,Hilfstabelle!$A$1:$A$286,Hilfstabelle!$B$1:$B$286))","v":""}]
[null,null,null,null,null,null,null,null,null,null,null,null,null,null,null,null,null,null,null,null,{"$f":"IF(W5365=\"\",\"\",LOOKUP(W5365,Hilfstabelle!$A$1:$A$286,Hilfstabelle!$B$1:$B$286))","v":""}]
[null,null,null,null,null,null,null,null,null,null,null,null,null,null,null,null,null,null,null,null,{"$f":"IF(W5368=\"\",\"\",LOOKUP(W5368,Hilfstabelle!$A$1:$A$286,Hilfstabelle!$B$1:$B$286))","v":""}]
[null,null,null,null,null,null,null,null,null,null,null,null,null,null,null,null,null,null,null,null,{"$f":"IF(W5371=\"\",\"\",LOOKUP(W5371,Hilfstabelle!$A$1:$A$286,Hilfstabelle!$B$1:$B$286))","v":""}]
[null,null,null,null,null,null,null,null,null,null,null,null,null,null,null,null,null,null,null,null,{"$f":"IF(W5373=\"\",\"\",LOOKUP(W5373,Hilfstabelle!$A$1:$A$286,Hilfstabelle!$B$1:$B$286))","v":""}]
[null,null,null,null,null,null,null,null,null,null,null,null,null,null,null,null,null,null,null,null,{"$f":"IF(W5374=\"\",\"\",LOOKUP(W5374,Hilfstabelle!$A$1:$A$286,Hilfstabelle!$B$1:$B$286))","v":""}]
[null,null,null,null,null,null,null,null,null,null,null,null,null,null,null,null,null,null,null,null,{"$f":"IF(W5376=\"\",\"\",LOOKUP(W5376,Hilfstabelle!$A$1:$A$286,Hilfstabelle!$B$1:$B$286))","v":""}]
[null,null,null,null,null,null,null,null,null,null,null,null,null,null,null,null,null,null,null,null,{"$f":"IF(W5379=\"\",\"\",LOOKUP(W5379,Hilfstabelle!$A$1:$A$286,Hilfstabelle!$B$1:$B$286))","v":""}]
[null,null,null,null,null,null,null,null,null,null,null,null,null,null,null,null,null,null,null,null,{"$f":"IF(W5382=\"\",\"\",LOOKUP(W5382,Hilfstabelle!$A$1:$A$286,Hilfstabelle!$B$1:$B$286))","v":""}]
[null,null,null,null,null,null,null,null,null,null,null,null,null,null,null,null,null,null,null,null,{"$f":"IF(W5383=\"\",\"\",LOOKUP(W5383,Hilfstabelle!$A$1:$A$286,Hilfstabelle!$B$1:$B$286))","v":""}]
[null,null,null,null,null,null,null,null,null,null,null,null,null,null,null,null,null,null,null,null,{"$f":"IF(W5387=\"\",\"\",LOOKUP(W5387,Hilfstabelle!$A$1:$A$286,Hilfstabelle!$B$1:$B$286))","v":""}]
[null,null,null,null,null,null,null,null,null,null,null,null,null,null,null,null,null,null,null,null,{"$f":"IF(W5388=\"\",\"\",LOOKUP(W5388,Hilfstabelle!$A$1:$A$286,Hilfstabelle!$B$1:$B$286))","v":""}]
[null,null,null,null,null,null,null,null,null,null,null,null,null,null,null,null,null,null,null,null,{"$f":"IF(W5391=\"\",\"\",LOOKUP(W5391,Hilfstabelle!$A$1:$A$286,Hilfstabelle!$B$1:$B$286))","v":""}]
[null,null,null,null,null,null,null,null,null,null,null,null,null,null,null,null,null,null,null,null,{"$f":"IF(W5392=\"\",\"\",LOOKUP(W5392,Hilfstabelle!$A$1:$A$286,Hilfstabelle!$B$1:$B$286))","v":""}]
[null,null,null,null,null,null,null,null,null,null,null,null,null,null,null,null,null,null,null,null,{"$f":"IF(W5395=\"\",\"\",LOOKUP(W5395,Hilfstabelle!$A$1:$A$286,Hilfstabelle!$B$1:$B$286))","v":""}]
[null,null,null,null,null,null,null,null,null,null,null,null,null,null,null,null,null,null,null,null,{"$f":"IF(W5397=\"\",\"\",LOOKUP(W5397,Hilfstabelle!$A$1:$A$286,Hilfstabelle!$B$1:$B$286))","v":""}]
[null,null,null,null,null,null,null,null,null,null,null,null,null,null,null,null,null,null,null,null,{"$f":"IF(W5400=\"\",\"\",LOOKUP(W5400,Hilfstabelle!$A$1:$A$286,Hilfstabelle!$B$1:$B$286))","v":""}]
[null,null,null,null,null,null,null,null,null,null,null,null,null,null,null,null,null,null,null,null,{"$f":"IF(W5401=\"\",\"\",LOOKUP(W5401,Hilfstabelle!$A$1:$A$286,Hilfstabelle!$B$1:$B$286))","v":""}]
[null,null,null,null,null,null,null,null,null,null,null,null,null,null,null,null,null,null,null,null,{"$f":"IF(W5405=\"\",\"\",LOOKUP(W5405,Hilfstabelle!$A$1:$A$286,Hilfstabelle!$B$1:$B$286))","v":""}]
[null,null,null,null,null,null,null,null,null,null,null,null,null,null,null,null,null,null,null,null,{"$f":"IF(W5406=\"\",\"\",LOOKUP(W5406,Hilfstabelle!$A$1:$A$286,Hilfstabelle!$B$1:$B$286))","v":""}]
[null,null,null,null,null,null,null,null,null,null,null,null,null,null,null,null,null,null,null,null,{"$f":"IF(W5409=\"\",\"\",LOOKUP(W5409,Hilfstabelle!$A$1:$A$286,Hilfstabelle!$B$1:$B$286))","v":""}]
[null,null,null,null,null,null,null,null,null,null,null,null,null,null,null,null,null,null,null,null,{"$f":"IF(W5410=\"\",\"\",LOOKUP(W5410,Hilfstabelle!$A$1:$A$286,Hilfstabelle!$B$1:$B$286))","v":""}]
[null,null,null,null,null,null,null,null,null,null,null,null,null,null,null,null,null,null,null,null,{"$f":"IF(W5413=\"\",\"\",LOOKUP(W5413,Hilfstabelle!$A$1:$A$286,Hilfstabelle!$B$1:$B$286))","v":""}]
[null,null,null,null,null,null,null,null,null,null,null,null,null,null,null,null,null,null,null,null,{"$f":"IF(W5415=\"\",\"\",LOOKUP(W5415,Hilfstabelle!$A$1:$A$286,Hilfstabelle!$B$1:$B$286))","v":""}]
[null,null,null,null,null,null,null,null,null,null,null,null,null,null,null,null,null,null,null,null,{"$f":"IF(W5418=\"\",\"\",LOOKUP(W5418,Hilfstabelle!$A$1:$A$286,Hilfstabelle!$B$1:$B$286))","v":""}]
[null,null,null,null,null,null,null,null,null,null,null,null,null,null,null,null,null,null,null,null,{"$f":"IF(W5419=\"\",\"\",LOOKUP(W5419,Hilfstabelle!$A$1:$A$286,Hilfstabelle!$B$1:$B$286))","v":""}]
[null,null,null,null,null,null,null,null,null,null,null,null,null,null,null,null,null,null,null,null,{"$f":"IF(W5423=\"\",\"\",LOOKUP(W5423,Hilfstabelle!$A$1:$A$286,Hilfstabelle!$B$1:$B$286))","v":""}]
[null,null,null,null,null,null,null,null,null,null,null,null,null,null,null,null,null,null,null,null,{"$f":"IF(W5424=\"\",\"\",LOOKUP(W5424,Hilfstabelle!$A$1:$A$286,Hilfstabelle!$B$1:$B$286))","v":""}]
[null,null,null,null,null,null,null,null,null,null,null,null,null,null,null,null,null,null,null,null,{"$f":"IF(W5427=\"\",\"\",LOOKUP(W5427,Hilfstabelle!$A$1:$A$286,Hilfstabelle!$B$1:$B$286))","v":""}]
[null,null,null,null,null,null,null,null,null,null,null,null,null,null,null,null,null,null,null,null,{"$f":"IF(W5428=\"\",\"\",LOOKUP(W5428,Hilfstabelle!$A$1:$A$286,Hilfstabelle!$B$1:$B$286))","v":""}]
[null,null,null,null,null,null,null,null,null,null,null,null,null,null,null,null,null,null,null,null,{"$f":"IF(W5431=\"\",\"\",LOOKUP(W5431,Hilfstabelle!$A$1:$A$286,Hilfstabelle!$B$1:$B$286))","v":""}]
[null,null,null,null,null,null,null,null,null,null,null,null,null,null,null,null,null,null,null,null,{"$f":"IF(W5433=\"\",\"\",LOOKUP(W5433,Hilfstabelle!$A$1:$A$286,Hilfstabelle!$B$1:$B$286))","v":""}]
[null,null,null,null,null,null,null,null,null,null,null,null,null,null,null,null,null,null,null,null,{"$f":"IF(W5436=\"\",\"\",LOOKUP(W5436,Hilfstabelle!$A$1:$A$286,Hilfstabelle!$B$1:$B$286))","v":""}]
[null,null,null,null,null,null,null,null,null,null,null,null,null,null,null,null,null,null,null,null,{"$f":"IF(W5437=\"\",\"\",LOOKUP(W5437,Hilfstabelle!$A$1:$A$286,Hilfstabelle!$B$1:$B$286))","v":""}]
[null,null,null,null,null,null,null,null,null,null,null,null,null,null,null,null,null,null,null,null,{"$f":"IF(W5441=\"\",\"\",LOOKUP(W5441,Hilfstabelle!$A$1:$A$286,Hilfstabelle!$B$1:$B$286))","v":""}]
[null,null,null,null,null,null,null,null,null,null,null,null,null,null,null,null,null,null,null,null,{"$f":"IF(W5442=\"\",\"\",LOOKUP(W5442,Hilfstabelle!$A$1:$A$286,Hilfstabelle!$B$1:$B$286))","v":""}]
[null,null,null,null,null,null,null,null,null,null,null,null,null,null,null,null,null,null,null,null,{"$f":"IF(W5445=\"\",\"\",LOOKUP(W5445,Hilfstabelle!$A$1:$A$286,Hilfstabelle!$B$1:$B$286))","v":""}]
[null,null,null,null,null,null,null,null,null,null,null,null,null,null,null,null,null,null,null,null,{"$f":"IF(W5446=\"\",\"\",LOOKUP(W5446,Hilfstabelle!$A$1:$A$286,Hilfstabelle!$B$1:$B$286))","v":""}]
[null,null,null,null,null,null,null,null,null,null,null,null,null,null,null,null,null,null,null,null,{"$f":"IF(W5449=\"\",\"\",LOOKUP(W5449,Hilfstabelle!$A$1:$A$286,Hilfstabelle!$B$1:$B$286))","v":""}]
[null,null,null,null,null,null,null,null,null,null,null,null,null,null,null,null,null,null,null,null,{"$f":"IF(W5451=\"\",\"\",LOOKUP(W5451,Hilfstabelle!$A$1:$A$286,Hilfstabelle!$B$1:$B$286))","v":""}]
[null,null,null,null,null,null,null,null,null,null,null,null,null,null,null,null,null,null,null,null,{"$f":"IF(W5454=\"\",\"\",LOOKUP(W5454,Hilfstabelle!$A$1:$A$286,Hilfstabelle!$B$1:$B$286))","v":""}]
[null,null,null,null,null,null,null,null,null,null,null,null,null,null,null,null,null,null,null,null,{"$f":"IF(W5455=\"\",\"\",LOOKUP(W5455,Hilfstabelle!$A$1:$A$286,Hilfstabelle!$B$1:$B$286))","v":""}]
[null,null,null,null,null,null,null,null,null,null,null,null,null,null,null,null,null,null,null,null,{"$f":"IF(W5459=\"\",\"\",LOOKUP(W5459,Hilfstabelle!$A$1:$A$286,Hilfstabelle!$B$1:$B$286))","v":""}]
[null,null,null,null,null,null,null,null,null,null,null,null,null,null,null,null,null,null,null,null,{"$f":"IF(W5460=\"\",\"\",LOOKUP(W5460,Hilfstabelle!$A$1:$A$286,Hilfstabelle!$B$1:$B$286))","v":""}]
[null,null,null,null,null,null,null,null,null,null,null,null,null,null,null,null,null,null,null,null,{"$f":"IF(W5463=\"\",\"\",LOOKUP(W5463,Hilfstabelle!$A$1:$A$286,Hilfstabelle!$B$1:$B$286))","v":""}]
[null,null,null,null,null,null,null,null,null,null,null,null,null,null,null,null,null,null,null,null,{"$f":"IF(W5464=\"\",\"\",LOOKUP(W5464,Hilfstabelle!$A$1:$A$286,Hilfstabelle!$B$1:$B$286))","v":""}]
[null,null,null,null,null,null,null,null,null,null,null,null,null,null,null,null,null,null,null,null,{"$f":"IF(W5467=\"\",\"\",LOOKUP(W5467,Hilfstabelle!$A$1:$A$286,Hilfstabelle!$B$1:$B$286))","v":""}]
[null,null,null,null,null,null,null,null,null,null,null,null,null,null,null,null,null,null,null,null,{"$f":"IF(W5469=\"\",\"\",LOOKUP(W5469,Hilfstabelle!$A$1:$A$286,Hilfstabelle!$B$1:$B$286))","v":""}]
[null,null,null,null,null,null,null,null,null,null,null,null,null,null,null,null,null,null,null,null,{"$f":"IF(W5472=\"\",\"\",LOOKUP(W5472,Hilfstabelle!$A$1:$A$286,Hilfstabelle!$B$1:$B$286))","v":""}]
[null,null,null,null,null,null,null,null,null,null,null,null,null,null,null,null,null,null,null,null,{"$f":"IF(W5473=\"\",\"\",LOOKUP(W5473,Hilfstabelle!$A$1:$A$286,Hilfstabelle!$B$1:$B$286))","v":""}]
[null,null,null,null,null,null,null,null,null,null,null,null,null,null,null,null,null,null,null,null,{"$f":"IF(W5477=\"\",\"\",LOOKUP(W5477,Hilfstabelle!$A$1:$A$286,Hilfstabelle!$B$1:$B$286))","v":""}]
[null,null,null,null,null,null,null,null,null,null,null,null,null,null,null,null,null,null,null,null,{"$f":"IF(W5478=\"\",\"\",LOOKUP(W5478,Hilfstabelle!$A$1:$A$286,Hilfstabelle!$B$1:$B$286))","v":""}]
[null,null,null,null,null,null,null,null,null,null,null,null,null,null,null,null,null,null,null,null,{"$f":"IF(W5481=\"\",\"\",LOOKUP(W5481,Hilfstabelle!$A$1:$A$286,Hilfstabelle!$B$1:$B$286))","v":""}]
[null,null,null,null,null,null,null,null,null,null,null,null,null,null,null,null,null,null,null,null,{"$f":"IF(W5482=\"\",\"\",LOOKUP(W5482,Hilfstabelle!$A$1:$A$286,Hilfstabelle!$B$1:$B$286))","v":""}]
[null,null,null,null,null,null,null,null,null,null,null,null,null,null,null,null,null,null,null,null,{"$f":"IF(W5485=\"\",\"\",LOOKUP(W5485,Hilfstabelle!$A$1:$A$286,Hilfstabelle!$B$1:$B$286))","v":""}]
[null,null,null,null,null,null,null,null,null,null,null,null,null,null,null,null,null,null,null,null,{"$f":"IF(W5487=\"\",\"\",LOOKUP(W5487,Hilfstabelle!$A$1:$A$286,Hilfstabelle!$B$1:$B$286))","v":""}]
[null,null,null,null,null,null,null,null,null,null,null,null,null,null,null,null,null,null,null,null,{"$f":"IF(W5490=\"\",\"\",LOOKUP(W5490,Hilfstabelle!$A$1:$A$286,Hilfstabelle!$B$1:$B$286))","v":""}]
[null,null,null,null,null,null,null,null,null,null,null,null,null,null,null,null,null,null,null,null,{"$f":"IF(W5491=\"\",\"\",LOOKUP(W5491,Hilfstabelle!$A$1:$A$286,Hilfstabelle!$B$1:$B$286))","v":""}]
[null,null,null,null,null,null,null,null,null,null,null,null,null,null,null,null,null,null,null,null,{"$f":"IF(W5495=\"\",\"\",LOOKUP(W5495,Hilfstabelle!$A$1:$A$286,Hilfstabelle!$B$1:$B$286))","v":""}]
[null,null,null,null,null,null,null,null,null,null,null,null,null,null,null,null,null,null,null,null,{"$f":"IF(W5496=\"\",\"\",LOOKUP(W5496,Hilfstabelle!$A$1:$A$286,Hilfstabelle!$B$1:$B$286))","v":""}]
[null,null,null,null,null,null,null,null,null,null,null,null,null,null,null,null,null,null,null,null,{"$f":"IF(W5499=\"\",\"\",LOOKUP(W5499,Hilfstabelle!$A$1:$A$286,Hilfstabelle!$B$1:$B$286))","v":""}]
[null,null,null,null,null,null,null,null,null,null,null,null,null,null,null,null,null,null,null,null,{"$f":"IF(W5500=\"\",\"\",LOOKUP(W5500,Hilfstabelle!$A$1:$A$286,Hilfstabelle!$B$1:$B$286))","v":""}]
[null,null,null,null,null,null,null,null,null,null,null,null,null,null,null,null,null,null,null,null,{"$f":"IF(W5503=\"\",\"\",LOOKUP(W5503,Hilfstabelle!$A$1:$A$286,Hilfstabelle!$B$1:$B$286))","v":""}]
[null,null,null,null,null,null,null,null,null,null,null,null,null,null,null,null,null,null,null,null,{"$f":"IF(W5505=\"\",\"\",LOOKUP(W5505,Hilfstabelle!$A$1:$A$286,Hilfstabelle!$B$1:$B$286))","v":""}]
[null,null,null,null,null,null,null,null,null,null,null,null,null,null,null,null,null,null,null,null,{"$f":"IF(W5508=\"\",\"\",LOOKUP(W5508,Hilfstabelle!$A$1:$A$286,Hilfstabelle!$B$1:$B$286))","v":""}]
[null,null,null,null,null,null,null,null,null,null,null,null,null,null,null,null,null,null,null,null,{"$f":"IF(W5509=\"\",\"\",LOOKUP(W5509,Hilfstabelle!$A$1:$A$286,Hilfstabelle!$B$1:$B$286))","v":""}]
[null,null,null,null,null,null,null,null,null,null,null,null,null,null,null,null,null,null,null,null,{"$f":"IF(W5513=\"\",\"\",LOOKUP(W5513,Hilfstabelle!$A$1:$A$286,Hilfstabelle!$B$1:$B$286))","v":""}]
[null,null,null,null,null,null,null,null,null,null,null,null,null,null,null,null,null,null,null,null,{"$f":"IF(W5514=\"\",\"\",LOOKUP(W5514,Hilfstabelle!$A$1:$A$286,Hilfstabelle!$B$1:$B$286))","v":""}]
[null,null,null,null,null,null,null,null,null,null,null,null,null,null,null,null,null,null,null,null,{"$f":"IF(W5517=\"\",\"\",LOOKUP(W5517,Hilfstabelle!$A$1:$A$286,Hilfstabelle!$B$1:$B$286))","v":""}]
[null,null,null,null,null,null,null,null,null,null,null,null,null,null,null,null,null,null,null,null,{"$f":"IF(W5518=\"\",\"\",LOOKUP(W5518,Hilfstabelle!$A$1:$A$286,Hilfstabelle!$B$1:$B$286))","v":""}]
[null,null,null,null,null,null,null,null,null,null,null,null,null,null,null,null,null,null,null,null,{"$f":"IF(W5521=\"\",\"\",LOOKUP(W5521,Hilfstabelle!$A$1:$A$286,Hilfstabelle!$B$1:$B$286))","v":""}]
[null,null,null,null,null,null,null,null,null,null,null,null,null,null,null,null,null,null,null,null,{"$f":"IF(W5523=\"\",\"\",LOOKUP(W5523,Hilfstabelle!$A$1:$A$286,Hilfstabelle!$B$1:$B$286))","v":""}]
[null,null,null,null,null,null,null,null,null,null,null,null,null,null,null,null,null,null,null,null,{"$f":"IF(W5526=\"\",\"\",LOOKUP(W5526,Hilfstabelle!$A$1:$A$286,Hilfstabelle!$B$1:$B$286))","v":""}]
[null,null,null,null,null,null,null,null,null,null,null,null,null,null,null,null,null,null,null,null,{"$f":"IF(W5527=\"\",\"\",LOOKUP(W5527,Hilfstabelle!$A$1:$A$286,Hilfstabelle!$B$1:$B$286))","v":""}]
[null,null,null,null,null,null,null,null,null,null,null,null,null,null,null,null,null,null,null,null,{"$f":"IF(W5531=\"\",\"\",LOOKUP(W5531,Hilfstabelle!$A$1:$A$286,Hilfstabelle!$B$1:$B$286))","v":""}]
[null,null,null,null,null,null,null,null,null,null,null,null,null,null,null,null,null,null,null,null,{"$f":"IF(W5532=\"\",\"\",LOOKUP(W5532,Hilfstabelle!$A$1:$A$286,Hilfstabelle!$B$1:$B$286))","v":""}]
[null,null,null,null,null,null,null,null,null,null,null,null,null,null,null,null,null,null,null,null,{"$f":"IF(W5535=\"\",\"\",LOOKUP(W5535,Hilfstabelle!$A$1:$A$286,Hilfstabelle!$B$1:$B$286))","v":""}]
[null,null,null,null,null,null,null,null,null,null,null,null,null,null,null,null,null,null,null,null,{"$f":"IF(W5536=\"\",\"\",LOOKUP(W5536,Hilfstabelle!$A$1:$A$286,Hilfstabelle!$B$1:$B$286))","v":""}]
[null,null,null,null,null,null,null,null,null,null,null,null,null,null,null,null,null,null,null,null,{"$f":"IF(W5539=\"\",\"\",LOOKUP(W5539,Hilfstabelle!$A$1:$A$286,Hilfstabelle!$B$1:$B$286))","v":""}]
[null,null,null,null,null,null,null,null,null,null,null,null,null,null,null,null,null,null,null,null,{"$f":"IF(W5541=\"\",\"\",LOOKUP(W5541,Hilfstabelle!$A$1:$A$286,Hilfstabelle!$B$1:$B$286))","v":""}]
[null,null,null,null,null,null,null,null,null,null,null,null,null,null,null,null,null,null,null,null,{"$f":"IF(W5544=\"\",\"\",LOOKUP(W5544,Hilfstabelle!$A$1:$A$286,Hilfstabelle!$B$1:$B$286))","v":""}]
[null,null,null,null,null,null,null,null,null,null,null,null,null,null,null,null,null,null,null,null,{"$f":"IF(W5545=\"\",\"\",LOOKUP(W5545,Hilfstabelle!$A$1:$A$286,Hilfstabelle!$B$1:$B$286))","v":""}]
[null,null,null,null,null,null,null,null,null,null,null,null,null,null,null,null,null,null,null,null,{"$f":"IF(W5549=\"\",\"\",LOOKUP(W5549,Hilfstabelle!$A$1:$A$286,Hilfstabelle!$B$1:$B$286))","v":""}]
[null,null,null,null,null,null,null,null,null,null,null,null,null,null,null,null,null,null,null,null,{"$f":"IF(W5550=\"\",\"\",LOOKUP(W5550,Hilfstabelle!$A$1:$A$286,Hilfstabelle!$B$1:$B$286))","v":""}]
[null,null,null,null,null,null,null,null,null,null,null,null,null,null,null,null,null,null,null,null,{"$f":"IF(W5553=\"\",\"\",LOOKUP(W5553,Hilfstabelle!$A$1:$A$286,Hilfstabelle!$B$1:$B$286))","v":""}]
[null,null,null,null,null,null,null,null,null,null,null,null,null,null,null,null,null,null,null,null,{"$f":"IF(W5554=\"\",\"\",LOOKUP(W5554,Hilfstabelle!$A$1:$A$286,Hilfstabelle!$B$1:$B$286))","v":""}]
[null,null,null,null,null,null,null,null,null,null,null,null,null,null,null,null,null,null,null,null,{"$f":"IF(W5557=\"\",\"\",LOOKUP(W5557,Hilfstabelle!$A$1:$A$286,Hilfstabelle!$B$1:$B$286))","v":""}]
[null,null,null,null,null,null,null,null,null,null,null,null,null,null,null,null,null,null,null,null,{"$f":"IF(W5559=\"\",\"\",LOOKUP(W5559,Hilfstabelle!$A$1:$A$286,Hilfstabelle!$B$1:$B$286))","v":""}]
[null,null,null,null,null,null,null,null,null,null,null,null,null,null,null,null,null,null,null,null,{"$f":"IF(W5562=\"\",\"\",LOOKUP(W5562,Hilfstabelle!$A$1:$A$286,Hilfstabelle!$B$1:$B$286))","v":""}]
[null,null,null,null,null,null,null,null,null,null,null,null,null,null,null,null,null,null,null,null,{"$f":"IF(W5563=\"\",\"\",LOOKUP(W5563,Hilfstabelle!$A$1:$A$286,Hilfstabelle!$B$1:$B$286))","v":""}]
[null,null,null,null,null,null,null,null,null,null,null,null,null,null,null,null,null,null,null,null,{"$f":"IF(W5565=\"\",\"\",LOOKUP(W5565,Hilfstabelle!$A$1:$A$286,Hilfstabelle!$B$1:$B$286))","v":""}]
[null,null,null,null,null,null,null,null,null,null,null,null,null,null,null,null,null,null,null,null,{"$f":"IF(W5568=\"\",\"\",LOOKUP(W5568,Hilfstabelle!$A$1:$A$286,Hilfstabelle!$B$1:$B$286))","v":""}]
[null,null,null,null,null,null,null,null,null,null,null,null,null,null,null,null,null,null,null,null,{"$f":"IF(W5571=\"\",\"\",LOOKUP(W5571,Hilfstabelle!$A$1:$A$286,Hilfstabelle!$B$1:$B$286))","v":""}]
[null,null,null,null,null,null,null,null,null,null,null,null,null,null,null,null,null,null,null,null,{"$f":"IF(W5572=\"\",\"\",LOOKUP(W5572,Hilfstabelle!$A$1:$A$286,Hilfstabelle!$B$1:$B$286))","v":""}]
[null,null,null,null,null,null,null,null,null,null,null,null,null,null,null,null,null,null,null,null,{"$f":"IF(W5575=\"\",\"\",LOOKUP(W5575,Hilfstabelle!$A$1:$A$286,Hilfstabelle!$B$1:$B$286))","v":""}]
[null,null,null,null,null,null,null,null,null,null,null,null,null,null,null,null,null,null,null,null,{"$f":"IF(W5577=\"\",\"\",LOOKUP(W5577,Hilfstabelle!$A$1:$A$286,Hilfstabelle!$B$1:$B$286))","v":""}]
[null,null,null,null,null,null,null,null,null,null,null,null,null,null,null,null,null,null,null,null,{"$f":"IF(W5580=\"\",\"\",LOOKUP(W5580,Hilfstabelle!$A$1:$A$286,Hilfstabelle!$B$1:$B$286))","v":""}]
[null,null,null,null,null,null,null,null,null,null,null,null,null,null,null,null,null,null,null,null,{"$f":"IF(W5581=\"\",\"\",LOOKUP(W5581,Hilfstabelle!$A$1:$A$286,Hilfstabelle!$B$1:$B$286))","v":""}]
[null,null,null,null,null,null,null,null,null,null,null,null,null,null,null,null,null,null,null,null,{"$f":"IF(W5583=\"\",\"\",LOOKUP(W5583,Hilfstabelle!$A$1:$A$286,Hilfstabelle!$B$1:$B$286))","v":""}]
[null,null,null,null,null,null,null,null,null,null,null,null,null,null,null,null,null,null,null,null,{"$f":"IF(W5586=\"\",\"\",LOOKUP(W5586,Hilfstabelle!$A$1:$A$286,Hilfstabelle!$B$1:$B$286))","v":""}]
[null,null,null,null,null,null,null,null,null,null,null,null,null,null,null,null,null,null,null,null,{"$f":"IF(W5589=\"\",\"\",LOOKUP(W5589,Hilfstabelle!$A$1:$A$286,Hilfstabelle!$B$1:$B$286))","v":""}]
[null,null,null,null,null,null,null,null,null,null,null,null,null,null,null,null,null,null,null,null,{"$f":"IF(W5590=\"\",\"\",LOOKUP(W5590,Hilfstabelle!$A$1:$A$286,Hilfstabelle!$B$1:$B$286))","v":""}]
[null,null,null,null,null,null,null,null,null,null,null,null,null,null,null,null,null,null,null,null,{"$f":"IF(W5593=\"\",\"\",LOOKUP(W5593,Hilfstabelle!$A$1:$A$286,Hilfstabelle!$B$1:$B$286))","v":""}]
[null,null,null,null,null,null,null,null,null,null,null,null,null,null,null,null,null,null,null,null,{"$f":"IF(W5595=\"\",\"\",LOOKUP(W5595,Hilfstabelle!$A$1:$A$286,Hilfstabelle!$B$1:$B$286))","v":""}]
[null,null,null,null,null,null,null,null,null,null,null,null,null,null,null,null,null,null,null,null,{"$f":"IF(W5598=\"\",\"\",LOOKUP(W5598,Hilfstabelle!$A$1:$A$286,Hilfstabelle!$B$1:$B$286))","v":""}]
[null,null,null,null,null,null,null,null,null,null,null,null,null,null,null,null,null,null,null,null,{"$f":"IF(W5599=\"\",\"\",LOOKUP(W5599,Hilfstabelle!$A$1:$A$286,Hilfstabelle!$B$1:$B$286))","v":""}]
[null,null,null,null,null,null,null,null,null,null,null,null,null,null,null,null,null,null,null,null,{"$f":"IF(W5601=\"\",\"\",LOOKUP(W5601,Hilfstabelle!$A$1:$A$286,Hilfstabelle!$B$1:$B$286))","v":""}]
[null,null,null,null,null,null,null,null,null,null,null,null,null,null,null,null,null,null,null,null,{"$f":"IF(W5604=\"\",\"\",LOOKUP(W5604,Hilfstabelle!$A$1:$A$286,Hilfstabelle!$B$1:$B$286))","v":""}]
[null,null,null,null,null,null,null,null,null,null,null,null,null,null,null,null,null,null,null,null,{"$f":"IF(W5607=\"\",\"\",LOOKUP(W5607,Hilfstabelle!$A$1:$A$286,Hilfstabelle!$B$1:$B$286))","v":""}]
[null,null,null,null,null,null,null,null,null,null,null,null,null,null,null,null,null,null,null,null,{"$f":"IF(W5608=\"\",\"\",LOOKUP(W5608,Hilfstabelle!$A$1:$A$286,Hilfstabelle!$B$1:$B$286))","v":""}]
[null,null,null,null,null,null,null,null,null,null,null,null,null,null,null,null,null,null,null,null,{"$f":"IF(W5611=\"\",\"\",LOOKUP(W5611,Hilfstabelle!$A$1:$A$286,Hilfstabelle!$B$1:$B$286))","v":""}]
[null,null,null,null,null,null,null,null,null,null,null,null,null,null,null,null,null,null,null,null,{"$f":"IF(W5613=\"\",\"\",LOOKUP(W5613,Hilfstabelle!$A$1:$A$286,Hilfstabelle!$B$1:$B$286))","v":""}]
[null,null,null,null,null,null,null,null,null,null,null,null,null,null,null,null,null,null,null,null,{"$f":"IF(W5616=\"\",\"\",LOOKUP(W5616,Hilfstabelle!$A$1:$A$286,Hilfstabelle!$B$1:$B$286))","v":""}]
[null,null,null,null,null,null,null,null,null,null,null,null,null,null,null,null,null,null,null,null,{"$f":"IF(W5617=\"\",\"\",LOOKUP(W5617,Hilfstabelle!$A$1:$A$286,Hilfstabelle!$B$1:$B$286))","v":""}]
[null,null,null,null,null,null,null,null,null,null,null,null,null,null,null,null,null,null,null,null,{"$f":"IF(W5619=\"\",\"\",LOOKUP(W5619,Hilfstabelle!$A$1:$A$286,Hilfstabelle!$B$1:$B$286))","v":""}]
[null,null,null,null,null,null,null,null,null,null,null,null,null,null,null,null,null,null,null,null,{"$f":"IF(W5622=\"\",\"\",LOOKUP(W5622,Hilfstabelle!$A$1:$A$286,Hilfstabelle!$B$1:$B$286))","v":""}]
[null,null,null,null,null,null,null,null,null,null,null,null,null,null,null,null,null,null,null,null,{"$f":"IF(W5625=\"\",\"\",LOOKUP(W5625,Hilfstabelle!$A$1:$A$286,Hilfstabelle!$B$1:$B$286))","v":""}]
[null,null,null,null,null,null,null,null,null,null,null,null,null,null,null,null,null,null,null,null,{"$f":"IF(W5626=\"\",\"\",LOOKUP(W5626,Hilfstabelle!$A$1:$A$286,Hilfstabelle!$B$1:$B$286))","v":""}]
[null,null,null,null,null,null,null,null,null,null,null,null,null,null,null,null,null,null,null,null,{"$f":"IF(W5629=\"\",\"\",LOOKUP(W5629,Hilfstabelle!$A$1:$A$286,Hilfstabelle!$B$1:$B$286))","v":""}]
[null,null,null,null,null,null,null,null,null,null,null,null,null,null,null,null,null,null,null,null,{"$f":"IF(W5631=\"\",\"\",LOOKUP(W5631,Hilfstabelle!$A$1:$A$286,Hilfstabelle!$B$1:$B$286))","v":""}]
[null,null,null,null,null,null,null,null,null,null,null,null,null,null,null,null,null,null,null,null,{"$f":"IF(W5634=\"\",\"\",LOOKUP(W5634,Hilfstabelle!$A$1:$A$286,Hilfstabelle!$B$1:$B$286))","v":""}]
[null,null,null,null,null,null,null,null,null,null,null,null,null,null,null,null,null,null,null,null,{"$f":"IF(W5635=\"\",\"\",LOOKUP(W5635,Hilfstabelle!$A$1:$A$286,Hilfstabelle!$B$1:$B$286))","v":""}]
[null,null,null,null,null,null,null,null,null,null,null,null,null,null,null,null,null,null,null,null,{"$f":"IF(W5637=\"\",\"\",LOOKUP(W5637,Hilfstabelle!$A$1:$A$286,Hilfstabelle!$B$1:$B$286))","v":""}]
[null,null,null,null,null,null,null,null,null,null,null,null,null,null,null,null,null,null,null,null,{"$f":"IF(W5640=\"\",\"\",LOOKUP(W5640,Hilfstabelle!$A$1:$A$286,Hilfstabelle!$B$1:$B$286))","v":""}]
[null,null,null,null,null,null,null,null,null,null,null,null,null,null,null,null,null,null,null,null,{"$f":"IF(W5643=\"\",\"\",LOOKUP(W5643,Hilfstabelle!$A$1:$A$286,Hilfstabelle!$B$1:$B$286))","v":""}]
[null,null,null,null,null,null,null,null,null,null,null,null,null,null,null,null,null,null,null,null,{"$f":"IF(W5644=\"\",\"\",LOOKUP(W5644,Hilfstabelle!$A$1:$A$286,Hilfstabelle!$B$1:$B$286))","v":""}]
[null,null,null,null,null,null,null,null,null,null,null,null,null,null,null,null,null,null,null,null,{"$f":"IF(W5647=\"\",\"\",LOOKUP(W5647,Hilfstabelle!$A$1:$A$286,Hilfstabelle!$B$1:$B$286))","v":""}]
[null,null,null,null,null,null,null,null,null,null,null,null,null,null,null,null,null,null,null,null,{"$f":"IF(W5649=\"\",\"\",LOOKUP(W5649,Hilfstabelle!$A$1:$A$286,Hilfstabelle!$B$1:$B$286))","v":""}]
[null,null,null,null,null,null,null,null,null,null,null,null,null,null,null,null,null,null,null,null,{"$f":"IF(W5652=\"\",\"\",LOOKUP(W5652,Hilfstabelle!$A$1:$A$286,Hilfstabelle!$B$1:$B$286))","v":""}]
[null,null,null,null,null,null,null,null,null,null,null,null,null,null,null,null,null,null,null,null,{"$f":"IF(W5653=\"\",\"\",LOOKUP(W5653,Hilfstabelle!$A$1:$A$286,Hilfstabelle!$B$1:$B$286))","v":""}]
[null,null,null,null,null,null,null,null,null,null,null,null,null,null,null,null,null,null,null,null,{"$f":"IF(W5655=\"\",\"\",LOOKUP(W5655,Hilfstabelle!$A$1:$A$286,Hilfstabelle!$B$1:$B$286))","v":""}]
[null,null,null,null,null,null,null,null,null,null,null,null,null,null,null,null,null,null,null,null,{"$f":"IF(W5658=\"\",\"\",LOOKUP(W5658,Hilfstabelle!$A$1:$A$286,Hilfstabelle!$B$1:$B$286))","v":""}]
[null,null,null,null,null,null,null,null,null,null,null,null,null,null,null,null,null,null,null,null,{"$f":"IF(W5661=\"\",\"\",LOOKUP(W5661,Hilfstabelle!$A$1:$A$286,Hilfstabelle!$B$1:$B$286))","v":""}]
[null,null,null,null,null,null,null,null,null,null,null,null,null,null,null,null,null,null,null,null,{"$f":"IF(W5662=\"\",\"\",LOOKUP(W5662,Hilfstabelle!$A$1:$A$286,Hilfstabelle!$B$1:$B$286))","v":""}]
[null,null,null,null,null,null,null,null,null,null,null,null,null,null,null,null,null,null,null,null,{"$f":"IF(W5665=\"\",\"\",LOOKUP(W5665,Hilfstabelle!$A$1:$A$286,Hilfstabelle!$B$1:$B$286))","v":""}]
[null,null,null,null,null,null,null,null,null,null,null,null,null,null,null,null,null,null,null,null,{"$f":"IF(W5667=\"\",\"\",LOOKUP(W5667,Hilfstabelle!$A$1:$A$286,Hilfstabelle!$B$1:$B$286))","v":""}]
[null,null,null,null,null,null,null,null,null,null,null,null,null,null,null,null,null,null,null,null,{"$f":"IF(W5670=\"\",\"\",LOOKUP(W5670,Hilfstabelle!$A$1:$A$286,Hilfstabelle!$B$1:$B$286))","v":""}]
[null,null,null,null,null,null,null,null,null,null,null,null,null,null,null,null,null,null,null,null,{"$f":"IF(W5671=\"\",\"\",LOOKUP(W5671,Hilfstabelle!$A$1:$A$286,Hilfstabelle!$B$1:$B$286))","v":""}]
[null,null,null,null,null,null,null,null,null,null,null,null,null,null,null,null,null,null,null,null,{"$f":"IF(W5673=\"\",\"\",LOOKUP(W5673,Hilfstabelle!$A$1:$A$286,Hilfstabelle!$B$1:$B$286))","v":""}]
[null,null,null,null,null,null,null,null,null,null,null,null,null,null,null,null,null,null,null,null,{"$f":"IF(W5676=\"\",\"\",LOOKUP(W5676,Hilfstabelle!$A$1:$A$286,Hilfstabelle!$B$1:$B$286))","v":""}]
[null,null,null,null,null,null,null,null,null,null,null,null,null,null,null,null,null,null,null,null,{"$f":"IF(W5679=\"\",\"\",LOOKUP(W5679,Hilfstabelle!$A$1:$A$286,Hilfstabelle!$B$1:$B$286))","v":""}]
[null,null,null,null,null,null,null,null,null,null,null,null,null,null,null,null,null,null,null,null,{"$f":"IF(W5680=\"\",\"\",LOOKUP(W5680,Hilfstabelle!$A$1:$A$286,Hilfstabelle!$B$1:$B$286))","v":""}]
[null,null,null,null,null,null,null,null,null,null,null,null,null,null,null,null,null,null,null,null,{"$f":"IF(W5683=\"\",\"\",LOOKUP(W5683,Hilfstabelle!$A$1:$A$286,Hilfstabelle!$B$1:$B$286))","v":""}]
[null,null,null,null,null,null,null,null,null,null,null,null,null,null,null,null,null,null,null,null,{"$f":"IF(W5685=\"\",\"\",LOOKUP(W5685,Hilfstabelle!$A$1:$A$286,Hilfstabelle!$B$1:$B$286))","v":""}]
[null,null,null,null,null,null,null,null,null,null,null,null,null,null,null,null,null,null,null,null,{"$f":"IF(W5688=\"\",\"\",LOOKUP(W5688,Hilfstabelle!$A$1:$A$286,Hilfstabelle!$B$1:$B$286))","v":""}]
[null,null,null,null,null,null,null,null,null,null,null,null,null,null,null,null,null,null,null,null,{"$f":"IF(W5689=\"\",\"\",LOOKUP(W5689,Hilfstabelle!$A$1:$A$286,Hilfstabelle!$B$1:$B$286))","v":""}]
[null,null,null,null,null,null,null,null,null,null,null,null,null,null,null,null,null,null,null,null,{"$f":"IF(W5691=\"\",\"\",LOOKUP(W5691,Hilfstabelle!$A$1:$A$286,Hilfstabelle!$B$1:$B$286))","v":""}]
[null,null,null,null,null,null,null,null,null,null,null,null,null,null,null,null,null,null,null,null,{"$f":"IF(W5694=\"\",\"\",LOOKUP(W5694,Hilfstabelle!$A$1:$A$286,Hilfstabelle!$B$1:$B$286))","v":""}]
[null,null,null,null,null,null,null,null,null,null,null,null,null,null,null,null,null,null,null,null,{"$f":"IF(W5697=\"\",\"\",LOOKUP(W5697,Hilfstabelle!$A$1:$A$286,Hilfstabelle!$B$1:$B$286))","v":""}]
[null,null,null,null,null,null,null,null,null,null,null,null,null,null,null,null,null,null,null,null,{"$f":"IF(W5698=\"\",\"\",LOOKUP(W5698,Hilfstabelle!$A$1:$A$286,Hilfstabelle!$B$1:$B$286))","v":""}]
[null,null,null,null,null,null,null,null,null,null,null,null,null,null,null,null,null,null,null,null,{"$f":"IF(W5701=\"\",\"\",LOOKUP(W5701,Hilfstabelle!$A$1:$A$286,Hilfstabelle!$B$1:$B$286))","v":""}]
[null,null,null,null,null,null,null,null,null,null,null,null,null,null,null,null,null,null,null,null,{"$f":"IF(W5703=\"\",\"\",LOOKUP(W5703,Hilfstabelle!$A$1:$A$286,Hilfstabelle!$B$1:$B$286))","v":""}]
[null,null,null,null,null,null,null,null,null,null,null,null,null,null,null,null,null,null,null,null,{"$f":"IF(W5706=\"\",\"\",LOOKUP(W5706,Hilfstabelle!$A$1:$A$286,Hilfstabelle!$B$1:$B$286))","v":""}]
[null,null,null,null,null,null,null,null,null,null,null,null,null,null,null,null,null,null,null,null,{"$f":"IF(W5707=\"\",\"\",LOOKUP(W5707,Hilfstabelle!$A$1:$A$286,Hilfstabelle!$B$1:$B$286))","v":""}]
[null,null,null,null,null,null,null,null,null,null,null,null,null,null,null,null,null,null,null,null,{"$f":"IF(W5709=\"\",\"\",LOOKUP(W5709,Hilfstabelle!$A$1:$A$286,Hilfstabelle!$B$1:$B$286))","v":""}]
[null,null,null,null,null,null,null,null,null,null,null,null,null,null,null,null,null,null,null,null,{"$f":"IF(W5712=\"\",\"\",LOOKUP(W5712,Hilfstabelle!$A$1:$A$286,Hilfstabelle!$B$1:$B$286))","v":""}]
[null,null,null,null,null,null,null,null,null,null,null,null,null,null,null,null,null,null,null,null,{"$f":"IF(W5715=\"\",\"\",LOOKUP(W5715,Hilfstabelle!$A$1:$A$286,Hilfstabelle!$B$1:$B$286))","v":""}]
[null,null,null,null,null,null,null,null,null,null,null,null,null,null,null,null,null,null,null,null,{"$f":"IF(W5716=\"\",\"\",LOOKUP(W5716,Hilfstabelle!$A$1:$A$286,Hilfstabelle!$B$1:$B$286))","v":""}]
[null,null,null,null,null,null,null,null,null,null,null,null,null,null,null,null,null,null,null,null,{"$f":"IF(W5720=\"\",\"\",LOOKUP(W5720,Hilfstabelle!$A$1:$A$286,Hilfstabelle!$B$1:$B$286))","v":""}]
[null,null,null,null,null,null,null,null,null,null,null,null,null,null,null,null,null,null,null,null,{"$f":"IF(W5721=\"\",\"\",LOOKUP(W5721,Hilfstabelle!$A$1:$A$286,Hilfstabelle!$B$1:$B$286))","v":""}]
[null,null,null,null,null,null,null,null,null,null,null,null,null,null,null,null,null,null,null,null,{"$f":"IF(W5724=\"\",\"\",LOOKUP(W5724,Hilfstabelle!$A$1:$A$286,Hilfstabelle!$B$1:$B$286))","v":""}]
[null,null,null,null,null,null,null,null,null,null,null,null,null,null,null,null,null,null,null,null,{"$f":"IF(W5725=\"\",\"\",LOOKUP(W5725,Hilfstabelle!$A$1:$A$286,Hilfstabelle!$B$1:$B$286))","v":""}]
[null,null,null,null,null,null,null,null,null,null,null,null,null,null,null,null,null,null,null,null,{"$f":"IF(W5727=\"\",\"\",LOOKUP(W5727,Hilfstabelle!$A$1:$A$286,Hilfstabelle!$B$1:$B$286))","v":""}]
[null,null,null,null,null,null,null,null,null,null,null,null,null,null,null,null,null,null,null,null,{"$f":"IF(W5730=\"\",\"\",LOOKUP(W5730,Hilfstabelle!$A$1:$A$286,Hilfstabelle!$B$1:$B$286))","v":""}]
[null,null,null,null,null,null,null,null,null,null,null,null,null,null,null,null,null,null,null,null,{"$f":"IF(W5733=\"\",\"\",LOOKUP(W5733,Hilfstabelle!$A$1:$A$286,Hilfstabelle!$B$1:$B$286))","v":""}]
[null,null,null,null,null,null,null,null,null,null,null,null,null,null,null,null,null,null,null,null,{"$f":"IF(W5734=\"\",\"\",LOOKUP(W5734,Hilfstabelle!$A$1:$A$286,Hilfstabelle!$B$1:$B$286))","v":""}]
[null,null,null,null,null,null,null,null,null,null,null,null,null,null,null,null,null,null,null,null,{"$f":"IF(W5738=\"\",\"\",LOOKUP(W5738,Hilfstabelle!$A$1:$A$286,Hilfstabelle!$B$1:$B$286))","v":""}]
[null,null,null,null,null,null,null,null,null,null,null,null,null,null,null,null,null,null,null,null,{"$f":"IF(W5739=\"\",\"\",LOOKUP(W5739,Hilfstabelle!$A$1:$A$286,Hilfstabelle!$B$1:$B$286))","v":""}]
[null,null,null,null,null,null,null,null,null,null,null,null,null,null,null,null,null,null,null,null,{"$f":"IF(W5742=\"\",\"\",LOOKUP(W5742,Hilfstabelle!$A$1:$A$286,Hilfstabelle!$B$1:$B$286))","v":""}]
[null,null,null,null,null,null,null,null,null,null,null,null,null,null,null,null,null,null,null,null,{"$f":"IF(W5743=\"\",\"\",LOOKUP(W5743,Hilfstabelle!$A$1:$A$286,Hilfstabelle!$B$1:$B$286))","v":""}]
[null,null,null,null,null,null,null,null,null,null,null,null,null,null,null,null,null,null,null,null,{"$f":"IF(W5745=\"\",\"\",LOOKUP(W5745,Hilfstabelle!$A$1:$A$286,Hilfstabelle!$B$1:$B$286))","v":""}]
[null,null,null,null,null,null,null,null,null,null,null,null,null,null,null,null,null,null,null,null,{"$f":"IF(W5748=\"\",\"\",LOOKUP(W5748,Hilfstabelle!$A$1:$A$286,Hilfstabelle!$B$1:$B$286))","v":""}]
[null,null,null,null,null,null,null,null,null,null,null,null,null,null,null,null,null,null,null,null,{"$f":"IF(W5751=\"\",\"\",LOOKUP(W5751,Hilfstabelle!$A$1:$A$286,Hilfstabelle!$B$1:$B$286))","v":""}]
[null,null,null,null,null,null,null,null,null,null,null,null,null,null,null,null,null,null,null,null,{"$f":"IF(W5752=\"\",\"\",LOOKUP(W5752,Hilfstabelle!$A$1:$A$286,Hilfstabelle!$B$1:$B$286))","v":""}]
[null,null,null,null,null,null,null,null,null,null,null,null,null,null,null,null,null,null,null,null,{"$f":"IF(W5756=\"\",\"\",LOOKUP(W5756,Hilfstabelle!$A$1:$A$286,Hilfstabelle!$B$1:$B$286))","v":""}]
[null,null,null,null,null,null,null,null,null,null,null,null,null,null,null,null,null,null,null,null,{"$f":"IF(W5757=\"\",\"\",LOOKUP(W5757,Hilfstabelle!$A$1:$A$286,Hilfstabelle!$B$1:$B$286))","v":""}]
[null,null,null,null,null,null,null,null,null,null,null,null,null,null,null,null,null,null,null,null,{"$f":"IF(W5760=\"\",\"\",LOOKUP(W5760,Hilfstabelle!$A$1:$A$286,Hilfstabelle!$B$1:$B$286))","v":""}]
[null,null,null,null,null,null,null,null,null,null,null,null,null,null,null,null,null,null,null,null,{"$f":"IF(W5761=\"\",\"\",LOOKUP(W5761,Hilfstabelle!$A$1:$A$286,Hilfstabelle!$B$1:$B$286))","v":""}]
[null,null,null,null,null,null,null,null,null,null,null,null,null,null,null,null,null,null,null,null,{"$f":"IF(W5763=\"\",\"\",LOOKUP(W5763,Hilfstabelle!$A$1:$A$286,Hilfstabelle!$B$1:$B$286))","v":""}]
[null,null,null,null,null,null,null,null,null,null,null,null,null,null,null,null,null,null,null,null,{"$f":"IF(W5766=\"\",\"\",LOOKUP(W5766,Hilfstabelle!$A$1:$A$286,Hilfstabelle!$B$1:$B$286))","v":""}]
[null,null,null,null,null,null,null,null,null,null,null,null,null,null,null,null,null,null,null,null,{"$f":"IF(W5769=\"\",\"\",LOOKUP(W5769,Hilfstabelle!$A$1:$A$286,Hilfstabelle!$B$1:$B$286))","v":""}]
[null,null,null,null,null,null,null,null,null,null,null,null,null,null,null,null,null,null,null,null,{"$f":"IF(W5770=\"\",\"\",LOOKUP(W5770,Hilfstabelle!$A$1:$A$286,Hilfstabelle!$B$1:$B$286))","v":""}]
[null,null,null,null,null,null,null,null,null,null,null,null,null,null,null,null,null,null,null,null,{"$f":"IF(W5774=\"\",\"\",LOOKUP(W5774,Hilfstabelle!$A$1:$A$286,Hilfstabelle!$B$1:$B$286))","v":""}]
[null,null,null,null,null,null,null,null,null,null,null,null,null,null,null,null,null,null,null,null,{"$f":"IF(W5775=\"\",\"\",LOOKUP(W5775,Hilfstabelle!$A$1:$A$286,Hilfstabelle!$B$1:$B$286))","v":""}]
[null,null,null,null,null,null,null,null,null,null,null,null,null,null,null,null,null,null,null,null,{"$f":"IF(W5778=\"\",\"\",LOOKUP(W5778,Hilfstabelle!$A$1:$A$286,Hilfstabelle!$B$1:$B$286))","v":""}]
[null,null,null,null,null,null,null,null,null,null,null,null,null,null,null,null,null,null,null,null,{"$f":"IF(W5779=\"\",\"\",LOOKUP(W5779,Hilfstabelle!$A$1:$A$286,Hilfstabelle!$B$1:$B$286))","v":""}]
[null,null,null,null,null,null,null,null,null,null,null,null,null,null,null,null,null,null,null,null,{"$f":"IF(W5781=\"\",\"\",LOOKUP(W5781,Hilfstabelle!$A$1:$A$286,Hilfstabelle!$B$1:$B$286))","v":""}]
[null,null,null,null,null,null,null,null,null,null,null,null,null,null,null,null,null,null,null,null,{"$f":"IF(W5784=\"\",\"\",LOOKUP(W5784,Hilfstabelle!$A$1:$A$286,Hilfstabelle!$B$1:$B$286))","v":""}]
[null,null,null,null,null,null,null,null,null,null,null,null,null,null,null,null,null,null,null,null,{"$f":"IF(W5787=\"\",\"\",LOOKUP(W5787,Hilfstabelle!$A$1:$A$286,Hilfstabelle!$B$1:$B$286))","v":""}]
[null,null,null,null,null,null,null,null,null,null,null,null,null,null,null,null,null,null,null,null,{"$f":"IF(W5788=\"\",\"\",LOOKUP(W5788,Hilfstabelle!$A$1:$A$286,Hilfstabelle!$B$1:$B$286))","v":""}]
[null,null,null,null,null,null,null,null,null,null,null,null,null,null,null,null,null,null,null,null,{"$f":"IF(W5792=\"\",\"\",LOOKUP(W5792,Hilfstabelle!$A$1:$A$286,Hilfstabelle!$B$1:$B$286))","v":""}]
[null,null,null,null,null,null,null,null,null,null,null,null,null,null,null,null,null,null,null,null,{"$f":"IF(W5793=\"\",\"\",LOOKUP(W5793,Hilfstabelle!$A$1:$A$286,Hilfstabelle!$B$1:$B$286))","v":""}]
[null,null,null,null,null,null,null,null,null,null,null,null,null,null,null,null,null,null,null,null,{"$f":"IF(W5796=\"\",\"\",LOOKUP(W5796,Hilfstabelle!$A$1:$A$286,Hilfstabelle!$B$1:$B$286))","v":""}]
[null,null,null,null,null,null,null,null,null,null,null,null,null,null,null,null,null,null,null,null,{"$f":"IF(W5797=\"\",\"\",LOOKUP(W5797,Hilfstabelle!$A$1:$A$286,Hilfstabelle!$B$1:$B$286))","v":""}]
[null,null,null,null,null,null,null,null,null,null,null,null,null,null,null,null,null,null,null,null,{"$f":"IF(W5799=\"\",\"\",LOOKUP(W5799,Hilfstabelle!$A$1:$A$286,Hilfstabelle!$B$1:$B$286))","v":""}]
[null,null,null,null,null,null,null,null,null,null,null,null,null,null,null,null,null,null,null,null,{"$f":"IF(W5802=\"\",\"\",LOOKUP(W5802,Hilfstabelle!$A$1:$A$286,Hilfstabelle!$B$1:$B$286))","v":""}]
[null,null,null,null,null,null,null,null,null,null,null,null,null,null,null,null,null,null,null,null,{"$f":"IF(W5805=\"\",\"\",LOOKUP(W5805,Hilfstabelle!$A$1:$A$286,Hilfstabelle!$B$1:$B$286))","v":""}]
[null,null,null,null,null,null,null,null,null,null,null,null,null,null,null,null,null,null,null,null,{"$f":"IF(W5806=\"\",\"\",LOOKUP(W5806,Hilfstabelle!$A$1:$A$286,Hilfstabelle!$B$1:$B$286))","v":""}]
[null,null,null,null,null,null,null,null,null,null,null,null,null,null,null,null,null,null,null,null,{"$f":"IF(W5810=\"\",\"\",LOOKUP(W5810,Hilfstabelle!$A$1:$A$286,Hilfstabelle!$B$1:$B$286))","v":""}]
[null,null,null,null,null,null,null,null,null,null,null,null,null,null,null,null,null,null,null,null,{"$f":"IF(W5811=\"\",\"\",LOOKUP(W5811,Hilfstabelle!$A$1:$A$286,Hilfstabelle!$B$1:$B$286))","v":""}]
[null,null,null,null,null,null,null,null,null,null,null,null,null,null,null,null,null,null,null,null,{"$f":"IF(W5814=\"\",\"\",LOOKUP(W5814,Hilfstabelle!$A$1:$A$286,Hilfstabelle!$B$1:$B$286))","v":""}]
[null,null,null,null,null,null,null,null,null,null,null,null,null,null,null,null,null,null,null,null,{"$f":"IF(W5815=\"\",\"\",LOOKUP(W5815,Hilfstabelle!$A$1:$A$286,Hilfstabelle!$B$1:$B$286))","v":""}]
[null,null,null,null,null,null,null,null,null,null,null,null,null,null,null,null,null,null,null,null,{"$f":"IF(W5817=\"\",\"\",LOOKUP(W5817,Hilfstabelle!$A$1:$A$286,Hilfstabelle!$B$1:$B$286))","v":""}]
[null,null,null,null,null,null,null,null,null,null,null,null,null,null,null,null,null,null,null,null,{"$f":"IF(W5820=\"\",\"\",LOOKUP(W5820,Hilfstabelle!$A$1:$A$286,Hilfstabelle!$B$1:$B$286))","v":""}]
[null,null,null,null,null,null,null,null,null,null,null,null,null,null,null,null,null,null,null,null,{"$f":"IF(W5823=\"\",\"\",LOOKUP(W5823,Hilfstabelle!$A$1:$A$286,Hilfstabelle!$B$1:$B$286))","v":""}]
[null,null,null,null,null,null,null,null,null,null,null,null,null,null,null,null,null,null,null,null,{"$f":"IF(W5824=\"\",\"\",LOOKUP(W5824,Hilfstabelle!$A$1:$A$286,Hilfstabelle!$B$1:$B$286))","v":""}]
[null,null,null,null,null,null,null,null,null,null,null,null,null,null,null,null,null,null,null,null,{"$f":"IF(W5828=\"\",\"\",LOOKUP(W5828,Hilfstabelle!$A$1:$A$286,Hilfstabelle!$B$1:$B$286))","v":""}]
[null,null,null,null,null,null,null,null,null,null,null,null,null,null,null,null,null,null,null,null,{"$f":"IF(W5829=\"\",\"\",LOOKUP(W5829,Hilfstabelle!$A$1:$A$286,Hilfstabelle!$B$1:$B$286))","v":""}]
[null,null,null,null,null,null,null,null,null,null,null,null,null,null,null,null,null,null,null,null,{"$f":"IF(W5832=\"\",\"\",LOOKUP(W5832,Hilfstabelle!$A$1:$A$286,Hilfstabelle!$B$1:$B$286))","v":""}]
[null,null,null,null,null,null,null,null,null,null,null,null,null,null,null,null,null,null,null,null,{"$f":"IF(W5833=\"\",\"\",LOOKUP(W5833,Hilfstabelle!$A$1:$A$286,Hilfstabelle!$B$1:$B$286))","v":""}]
[null,null,null,null,null,null,null,null,null,null,null,null,null,null,null,null,null,null,null,null,{"$f":"IF(W5835=\"\",\"\",LOOKUP(W5835,Hilfstabelle!$A$1:$A$286,Hilfstabelle!$B$1:$B$286))","v":""}]
[null,null,null,null,null,null,null,null,null,null,null,null,null,null,null,null,null,null,null,null,{"$f":"IF(W5838=\"\",\"\",LOOKUP(W5838,Hilfstabelle!$A$1:$A$286,Hilfstabelle!$B$1:$B$286))","v":""}]
[null,null,null,null,null,null,null,null,null,null,null,null,null,null,null,null,null,null,null,null,{"$f":"IF(W5841=\"\",\"\",LOOKUP(W5841,Hilfstabelle!$A$1:$A$286,Hilfstabelle!$B$1:$B$286))","v":""}]
[null,null,null,null,null,null,null,null,null,null,null,null,null,null,null,null,null,null,null,null,{"$f":"IF(W5842=\"\",\"\",LOOKUP(W5842,Hilfstabelle!$A$1:$A$286,Hilfstabelle!$B$1:$B$286))","v":""}]
[null,null,null,null,null,null,null,null,null,null,null,null,null,null,null,null,null,null,null,null,{"$f":"IF(W5846=\"\",\"\",LOOKUP(W5846,Hilfstabelle!$A$1:$A$286,Hilfstabelle!$B$1:$B$286))","v":""}]
[null,null,null,null,null,null,null,null,null,null,null,null,null,null,null,null,null,null,null,null,{"$f":"IF(W5847=\"\",\"\",LOOKUP(W5847,Hilfstabelle!$A$1:$A$286,Hilfstabelle!$B$1:$B$286))","v":""}]
[null,null,null,null,null,null,null,null,null,null,null,null,null,null,null,null,null,null,null,null,{"$f":"IF(W5850=\"\",\"\",LOOKUP(W5850,Hilfstabelle!$A$1:$A$286,Hilfstabelle!$B$1:$B$286))","v":""}]
[null,null,null,null,null,null,null,null,null,null,null,null,null,null,null,null,null,null,null,null,{"$f":"IF(W5851=\"\",\"\",LOOKUP(W5851,Hilfstabelle!$A$1:$A$286,Hilfstabelle!$B$1:$B$286))","v":""}]
[null,null,null,null,null,null,null,null,null,null,null,null,null,null,null,null,null,null,null,null,{"$f":"IF(W5853=\"\",\"\",LOOKUP(W5853,Hilfstabelle!$A$1:$A$286,Hilfstabelle!$B$1:$B$286))","v":""}]
[null,null,null,null,null,null,null,null,null,null,null,null,null,null,null,null,null,null,null,null,{"$f":"IF(W5856=\"\",\"\",LOOKUP(W5856,Hilfstabelle!$A$1:$A$286,Hilfstabelle!$B$1:$B$286))","v":""}]
[null,null,null,null,null,null,null,null,null,null,null,null,null,null,null,null,null,null,null,null,{"$f":"IF(W5859=\"\",\"\",LOOKUP(W5859,Hilfstabelle!$A$1:$A$286,Hilfstabelle!$B$1:$B$286))","v":""}]
[null,null,null,null,null,null,null,null,null,null,null,null,null,null,null,null,null,null,null,null,{"$f":"IF(W5860=\"\",\"\",LOOKUP(W5860,Hilfstabelle!$A$1:$A$286,Hilfstabelle!$B$1:$B$286))","v":""}]
[null,null,null,null,null,null,null,null,null,null,null,null,null,null,null,null,null,null,null,null,{"$f":"IF(W5864=\"\",\"\",LOOKUP(W5864,Hilfstabelle!$A$1:$A$286,Hilfstabelle!$B$1:$B$286))","v":""}]
[null,null,null,null,null,null,null,null,null,null,null,null,null,null,null,null,null,null,null,null,{"$f":"IF(W5865=\"\",\"\",LOOKUP(W5865,Hilfstabelle!$A$1:$A$286,Hilfstabelle!$B$1:$B$286))","v":""}]
[null,null,null,null,null,null,null,null,null,null,null,null,null,null,null,null,null,null,null,null,{"$f":"IF(W5868=\"\",\"\",LOOKUP(W5868,Hilfstabelle!$A$1:$A$286,Hilfstabelle!$B$1:$B$286))","v":""}]
[null,null,null,null,null,null,null,null,null,null,null,null,null,null,null,null,null,null,null,null,{"$f":"IF(W5869=\"\",\"\",LOOKUP(W5869,Hilfstabelle!$A$1:$A$286,Hilfstabelle!$B$1:$B$286))","v":""}]
[null,null,null,null,null,null,null,null,null,null,null,null,null,null,null,null,null,null,null,null,{"$f":"IF(W5871=\"\",\"\",LOOKUP(W5871,Hilfstabelle!$A$1:$A$286,Hilfstabelle!$B$1:$B$286))","v":""}]
[null,null,null,null,null,null,null,null,null,null,null,null,null,null,null,null,null,null,null,null,{"$f":"IF(W5874=\"\",\"\",LOOKUP(W5874,Hilfstabelle!$A$1:$A$286,Hilfstabelle!$B$1:$B$286))","v":""}]
[null,null,null,null,null,null,null,null,null,null,null,null,null,null,null,null,null,null,null,null,{"$f":"IF(W5877=\"\",\"\",LOOKUP(W5877,Hilfstabelle!$A$1:$A$286,Hilfstabelle!$B$1:$B$286))","v":""}]
[null,null,null,null,null,null,null,null,null,null,null,null,null,null,null,null,null,null,null,null,{"$f":"IF(W5878=\"\",\"\",LOOKUP(W5878,Hilfstabelle!$A$1:$A$286,Hilfstabelle!$B$1:$B$286))","v":""}]
[null,null,null,null,null,null,null,null,null,null,null,null,null,null,null,null,null,null,null,null,{"$f":"IF(W5882=\"\",\"\",LOOKUP(W5882,Hilfstabelle!$A$1:$A$286,Hilfstabelle!$B$1:$B$286))","v":""}]
[null,null,null,null,null,null,null,null,null,null,null,null,null,null,null,null,null,null,null,null,{"$f":"IF(W5883=\"\",\"\",LOOKUP(W5883,Hilfstabelle!$A$1:$A$286,Hilfstabelle!$B$1:$B$286))","v":""}]
[null,null,null,null,null,null,null,null,null,null,null,null,null,null,null,null,null,null,null,null,{"$f":"IF(W5886=\"\",\"\",LOOKUP(W5886,Hilfstabelle!$A$1:$A$286,Hilfstabelle!$B$1:$B$286))","v":""}]
[null,null,null,null,null,null,null,null,null,null,null,null,null,null,null,null,null,null,null,null,{"$f":"IF(W5887=\"\",\"\",LOOKUP(W5887,Hilfstabelle!$A$1:$A$286,Hilfstabelle!$B$1:$B$286))","v":""}]
[null,null,null,null,null,null,null,null,null,null,null,null,null,null,null,null,null,null,null,null,{"$f":"IF(W5890=\"\",\"\",LOOKUP(W5890,Hilfstabelle!$A$1:$A$286,Hilfstabelle!$B$1:$B$286))","v":""}]
[null,null,null,null,null,null,null,null,null,null,null,null,null,null,null,null,null,null,null,null,{"$f":"IF(W5892=\"\",\"\",LOOKUP(W5892,Hilfstabelle!$A$1:$A$286,Hilfstabelle!$B$1:$B$286))","v":""}]
[null,null,null,null,null,null,null,null,null,null,null,null,null,null,null,null,null,null,null,null,{"$f":"IF(W5895=\"\",\"\",LOOKUP(W5895,Hilfstabelle!$A$1:$A$286,Hilfstabelle!$B$1:$B$286))","v":""}]
[null,null,null,null,null,null,null,null,null,null,null,null,null,null,null,null,null,null,null,null,{"$f":"IF(W5896=\"\",\"\",LOOKUP(W5896,Hilfstabelle!$A$1:$A$286,Hilfstabelle!$B$1:$B$286))","v":""}]
[null,null,null,null,null,null,null,null,null,null,null,null,null,null,null,null,null,null,null,null,{"$f":"IF(W5900=\"\",\"\",LOOKUP(W5900,Hilfstabelle!$A$1:$A$286,Hilfstabelle!$B$1:$B$286))","v":""}]
[null,null,null,null,null,null,null,null,null,null,null,null,null,null,null,null,null,null,null,null,{"$f":"IF(W5901=\"\",\"\",LOOKUP(W5901,Hilfstabelle!$A$1:$A$286,Hilfstabelle!$B$1:$B$286))","v":""}]
[null,null,null,null,null,null,null,null,null,null,null,null,null,null,null,null,null,null,null,null,{"$f":"IF(W5904=\"\",\"\",LOOKUP(W5904,Hilfstabelle!$A$1:$A$286,Hilfstabelle!$B$1:$B$286))","v":""}]
[null,null,null,null,null,null,null,null,null,null,null,null,null,null,null,null,null,null,null,null,{"$f":"IF(W5905=\"\",\"\",LOOKUP(W5905,Hilfstabelle!$A$1:$A$286,Hilfstabelle!$B$1:$B$286))","v":""}]
[null,null,null,null,null,null,null,null,null,null,null,null,null,null,null,null,null,null,null,null,{"$f":"IF(W5908=\"\",\"\",LOOKUP(W5908,Hilfstabelle!$A$1:$A$286,Hilfstabelle!$B$1:$B$286))","v":""}]
[null,null,null,null,null,null,null,null,null,null,null,null,null,null,null,null,null,null,null,null,{"$f":"IF(W5910=\"\",\"\",LOOKUP(W5910,Hilfstabelle!$A$1:$A$286,Hilfstabelle!$B$1:$B$286))","v":""}]
[null,null,null,null,null,null,null,null,null,null,null,null,null,null,null,null,null,null,null,null,{"$f":"IF(W5913=\"\",\"\",LOOKUP(W5913,Hilfstabelle!$A$1:$A$286,Hilfstabelle!$B$1:$B$286))","v":""}]
[null,null,null,null,null,null,null,null,null,null,null,null,null,null,null,null,null,null,null,null,{"$f":"IF(W5914=\"\",\"\",LOOKUP(W5914,Hilfstabelle!$A$1:$A$286,Hilfstabelle!$B$1:$B$286))","v":""}]
[null,null,null,null,null,null,null,null,null,null,null,null,null,null,null,null,null,null,null,null,{"$f":"IF(W5918=\"\",\"\",LOOKUP(W5918,Hilfstabelle!$A$1:$A$286,Hilfstabelle!$B$1:$B$286))","v":""}]
[null,null,null,null,null,null,null,null,null,null,null,null,null,null,null,null,null,null,null,null,{"$f":"IF(W5919=\"\",\"\",LOOKUP(W5919,Hilfstabelle!$A$1:$A$286,Hilfstabelle!$B$1:$B$286))","v":""}]
[null,null,null,null,null,null,null,null,null,null,null,null,null,null,null,null,null,null,null,null,{"$f":"IF(W5922=\"\",\"\",LOOKUP(W5922,Hilfstabelle!$A$1:$A$286,Hilfstabelle!$B$1:$B$286))","v":""}]
[null,null,null,null,null,null,null,null,null,null,null,null,null,null,null,null,null,null,null,null,{"$f":"IF(W5923=\"\",\"\",LOOKUP(W5923,Hilfstabelle!$A$1:$A$286,Hilfstabelle!$B$1:$B$286))","v":""}]
[null,null,null,null,null,null,null,null,null,null,null,null,null,null,null,null,null,null,null,null,{"$f":"IF(W5926=\"\",\"\",LOOKUP(W5926,Hilfstabelle!$A$1:$A$286,Hilfstabelle!$B$1:$B$286))","v":""}]
[null,null,null,null,null,null,null,null,null,null,null,null,null,null,null,null,null,null,null,null,{"$f":"IF(W5928=\"\",\"\",LOOKUP(W5928,Hilfstabelle!$A$1:$A$286,Hilfstabelle!$B$1:$B$286))","v":""}]
[null,null,null,null,null,null,null,null,null,null,null,null,null,null,null,null,null,null,null,null,{"$f":"IF(W5931=\"\",\"\",LOOKUP(W5931,Hilfstabelle!$A$1:$A$286,Hilfstabelle!$B$1:$B$286))","v":""}]
[null,null,null,null,null,null,null,null,null,null,null,null,null,null,null,null,null,null,null,null,{"$f":"IF(W5932=\"\",\"\",LOOKUP(W5932,Hilfstabelle!$A$1:$A$286,Hilfstabelle!$B$1:$B$286))","v":""}]
[null,null,null,null,null,null,null,null,null,null,null,null,null,null,null,null,null,null,null,null,{"$f":"IF(W5936=\"\",\"\",LOOKUP(W5936,Hilfstabelle!$A$1:$A$286,Hilfstabelle!$B$1:$B$286))","v":""}]
[null,null,null,null,null,null,null,null,null,null,null,null,null,null,null,null,null,null,null,null,{"$f":"IF(W5937=\"\",\"\",LOOKUP(W5937,Hilfstabelle!$A$1:$A$286,Hilfstabelle!$B$1:$B$286))","v":""}]
[null,null,null,null,null,null,null,null,null,null,null,null,null,null,null,null,null,null,null,null,{"$f":"IF(W5940=\"\",\"\",LOOKUP(W5940,Hilfstabelle!$A$1:$A$286,Hilfstabelle!$B$1:$B$286))","v":""}]
[null,null,null,null,null,null,null,null,null,null,null,null,null,null,null,null,null,null,null,null,{"$f":"IF(W5941=\"\",\"\",LOOKUP(W5941,Hilfstabelle!$A$1:$A$286,Hilfstabelle!$B$1:$B$286))","v":""}]
[null,null,null,null,null,null,null,null,null,null,null,null,null,null,null,null,null,null,null,null,{"$f":"IF(W5944=\"\",\"\",LOOKUP(W5944,Hilfstabelle!$A$1:$A$286,Hilfstabelle!$B$1:$B$286))","v":""}]
[null,null,null,null,null,null,null,null,null,null,null,null,null,null,null,null,null,null,null,null,{"$f":"IF(W5946=\"\",\"\",LOOKUP(W5946,Hilfstabelle!$A$1:$A$286,Hilfstabelle!$B$1:$B$286))","v":""}]
[null,null,null,null,null,null,null,null,null,null,null,null,null,null,null,null,null,null,null,null,{"$f":"IF(W5949=\"\",\"\",LOOKUP(W5949,Hilfstabelle!$A$1:$A$286,Hilfstabelle!$B$1:$B$286))","v":""}]
[null,null,null,null,null,null,null,null,null,null,null,null,null,null,null,null,null,null,null,null,{"$f":"IF(W5950=\"\",\"\",LOOKUP(W5950,Hilfstabelle!$A$1:$A$286,Hilfstabelle!$B$1:$B$286))","v":""}]
[null,null,null,null,null,null,null,null,null,null,null,null,null,null,null,null,null,null,null,null,{"$f":"IF(W5954=\"\",\"\",LOOKUP(W5954,Hilfstabelle!$A$1:$A$286,Hilfstabelle!$B$1:$B$286))","v":""}]
[null,null,null,null,null,null,null,null,null,null,null,null,null,null,null,null,null,null,null,null,{"$f":"IF(W5955=\"\",\"\",LOOKUP(W5955,Hilfstabelle!$A$1:$A$286,Hilfstabelle!$B$1:$B$286))","v":""}]
[null,null,null,null,null,null,null,null,null,null,null,null,null,null,null,null,null,null,null,null,{"$f":"IF(W5958=\"\",\"\",LOOKUP(W5958,Hilfstabelle!$A$1:$A$286,Hilfstabelle!$B$1:$B$286))","v":""}]
[null,null,null,null,null,null,null,null,null,null,null,null,null,null,null,null,null,null,null,null,{"$f":"IF(W5959=\"\",\"\",LOOKUP(W5959,Hilfstabelle!$A$1:$A$286,Hilfstabelle!$B$1:$B$286))","v":""}]
[null,null,null,null,null,null,null,null,null,null,null,null,null,null,null,null,null,null,null,null,{"$f":"IF(W5962=\"\",\"\",LOOKUP(W5962,Hilfstabelle!$A$1:$A$286,Hilfstabelle!$B$1:$B$286))","v":""}]
[null,null,null,null,null,null,null,null,null,null,null,null,null,null,null,null,null,null,null,null,{"$f":"IF(W5964=\"\",\"\",LOOKUP(W5964,Hilfstabelle!$A$1:$A$286,Hilfstabelle!$B$1:$B$286))","v":""}]
[null,null,null,null,null,null,null,null,null,null,null,null,null,null,null,null,null,null,null,null,{"$f":"IF(W5967=\"\",\"\",LOOKUP(W5967,Hilfstabelle!$A$1:$A$286,Hilfstabelle!$B$1:$B$286))","v":""}]
[null,null,null,null,null,null,null,null,null,null,null,null,null,null,null,null,null,null,null,null,{"$f":"IF(W5968=\"\",\"\",LOOKUP(W5968,Hilfstabelle!$A$1:$A$286,Hilfstabelle!$B$1:$B$286))","v":""}]
[null,null,null,null,null,null,null,null,null,null,null,null,null,null,null,null,null,null,null,null,{"$f":"IF(W5972=\"\",\"\",LOOKUP(W5972,Hilfstabelle!$A$1:$A$286,Hilfstabelle!$B$1:$B$286))","v":""}]
[null,null,null,null,null,null,null,null,null,null,null,null,null,null,null,null,null,null,null,null,{"$f":"IF(W5973=\"\",\"\",LOOKUP(W5973,Hilfstabelle!$A$1:$A$286,Hilfstabelle!$B$1:$B$286))","v":""}]
[null,null,null,null,null,null,null,null,null,null,null,null,null,null,null,null,null,null,null,null,{"$f":"IF(W5976=\"\",\"\",LOOKUP(W5976,Hilfstabelle!$A$1:$A$286,Hilfstabelle!$B$1:$B$286))","v":""}]
[null,null,null,null,null,null,null,null,null,null,null,null,null,null,null,null,null,null,null,null,{"$f":"IF(W5977=\"\",\"\",LOOKUP(W5977,Hilfstabelle!$A$1:$A$286,Hilfstabelle!$B$1:$B$286))","v":""}]
[null,null,null,null,null,null,null,null,null,null,null,null,null,null,null,null,null,null,null,null,{"$f":"IF(W5980=\"\",\"\",LOOKUP(W5980,Hilfstabelle!$A$1:$A$286,Hilfstabelle!$B$1:$B$286))","v":""}]
[null,null,null,null,null,null,null,null,null,null,null,null,null,null,null,null,null,null,null,null,{"$f":"IF(W5982=\"\",\"\",LOOKUP(W5982,Hilfstabelle!$A$1:$A$286,Hilfstabelle!$B$1:$B$286))","v":""}]
[null,null,null,null,null,null,null,null,null,null,null,null,null,null,null,null,null,null,null,null,{"$f":"IF(W5985=\"\",\"\",LOOKUP(W5985,Hilfstabelle!$A$1:$A$286,Hilfstabelle!$B$1:$B$286))","v":""}]
[null,null,null,null,null,null,null,null,null,null,null,null,null,null,null,null,null,null,null,null,{"$f":"IF(W5986=\"\",\"\",LOOKUP(W5986,Hilfstabelle!$A$1:$A$286,Hilfstabelle!$B$1:$B$286))","v":""}]
[null,null,null,null,null,null,null,null,null,null,null,null,null,null,null,null,null,null,null,null,{"$f":"IF(W5990=\"\",\"\",LOOKUP(W5990,Hilfstabelle!$A$1:$A$286,Hilfstabelle!$B$1:$B$286))","v":""}]
[null,null,null,null,null,null,null,null,null,null,null,null,null,null,null,null,null,null,null,null,{"$f":"IF(W5991=\"\",\"\",LOOKUP(W5991,Hilfstabelle!$A$1:$A$286,Hilfstabelle!$B$1:$B$286))","v":""}]
[null,null,null,null,null,null,null,null,null,null,null,null,null,null,null,null,null,null,null,null,{"$f":"IF(W5994=\"\",\"\",LOOKUP(W5994,Hilfstabelle!$A$1:$A$286,Hilfstabelle!$B$1:$B$286))","v":""}]
[null,null,null,null,null,null,null,null,null,null,null,null,null,null,null,null,null,null,null,null,{"$f":"IF(W5995=\"\",\"\",LOOKUP(W5995,Hilfstabelle!$A$1:$A$286,Hilfstabelle!$B$1:$B$286))","v":""}]
[null,null,null,null,null,null,null,null,null,null,null,null,null,null,null,null,null,null,null,null,{"$f":"IF(W5998=\"\",\"\",LOOKUP(W5998,Hilfstabelle!$A$1:$A$286,Hilfstabelle!$B$1:$B$286))","v":""}]
[null,null,null,null,null,null,null,null,null,null,null,null,null,null,null,null,null,null,null,null,{"$f":"IF(W6000=\"\",\"\",LOOKUP(W6000,Hilfstabelle!$A$1:$A$286,Hilfstabelle!$B$1:$B$286))","v":""}]
[null,null,null,null,null,null,null,null,null,null,null,null,null,null,null,null,null,null,null,null,{"$f":"IF(W6003=\"\",\"\",LOOKUP(W6003,Hilfstabelle!$A$1:$A$286,Hilfstabelle!$B$1:$B$286))","v":""}]
[null,null,null,null,null,null,null,null,null,null,null,null,null,null,null,null,null,null,null,null,{"$f":"IF(W6004=\"\",\"\",LOOKUP(W6004,Hilfstabelle!$A$1:$A$286,Hilfstabelle!$B$1:$B$286))","v":""}]
[null,null,null,null,null,null,null,null,null,null,null,null,null,null,null,null,null,null,null,null,{"$f":"IF(W6008=\"\",\"\",LOOKUP(W6008,Hilfstabelle!$A$1:$A$286,Hilfstabelle!$B$1:$B$286))","v":""}]
[null,null,null,null,null,null,null,null,null,null,null,null,null,null,null,null,null,null,null,null,{"$f":"IF(W6009=\"\",\"\",LOOKUP(W6009,Hilfstabelle!$A$1:$A$286,Hilfstabelle!$B$1:$B$286))","v":""}]
[null,null,null,null,null,null,null,null,null,null,null,null,null,null,null,null,null,null,null,null,{"$f":"IF(W6012=\"\",\"\",LOOKUP(W6012,Hilfstabelle!$A$1:$A$286,Hilfstabelle!$B$1:$B$286))","v":""}]
[null,null,null,null,null,null,null,null,null,null,null,null,null,null,null,null,null,null,null,null,{"$f":"IF(W6013=\"\",\"\",LOOKUP(W6013,Hilfstabelle!$A$1:$A$286,Hilfstabelle!$B$1:$B$286))","v":""}]
[null,null,null,null,null,null,null,null,null,null,null,null,null,null,null,null,null,null,null,null,{"$f":"IF(W6016=\"\",\"\",LOOKUP(W6016,Hilfstabelle!$A$1:$A$286,Hilfstabelle!$B$1:$B$286))","v":""}]
[null,null,null,null,null,null,null,null,null,null,null,null,null,null,null,null,null,null,null,null,{"$f":"IF(W6018=\"\",\"\",LOOKUP(W6018,Hilfstabelle!$A$1:$A$286,Hilfstabelle!$B$1:$B$286))","v":""}]
[null,null,null,null,null,null,null,null,null,null,null,null,null,null,null,null,null,null,null,null,{"$f":"IF(W6021=\"\",\"\",LOOKUP(W6021,Hilfstabelle!$A$1:$A$286,Hilfstabelle!$B$1:$B$286))","v":""}]
[null,null,null,null,null,null,null,null,null,null,null,null,null,null,null,null,null,null,null,null,{"$f":"IF(W6022=\"\",\"\",LOOKUP(W6022,Hilfstabelle!$A$1:$A$286,Hilfstabelle!$B$1:$B$286))","v":""}]
[null,null,null,null,null,null,null,null,null,null,null,null,null,null,null,null,null,null,null,null,{"$f":"IF(W6026=\"\",\"\",LOOKUP(W6026,Hilfstabelle!$A$1:$A$286,Hilfstabelle!$B$1:$B$286))","v":""}]
[null,null,null,null,null,null,null,null,null,null,null,null,null,null,null,null,null,null,null,null,{"$f":"IF(W6027=\"\",\"\",LOOKUP(W6027,Hilfstabelle!$A$1:$A$286,Hilfstabelle!$B$1:$B$286))","v":""}]
[null,null,null,null,null,null,null,null,null,null,null,null,null,null,null,null,null,null,null,null,{"$f":"IF(W6030=\"\",\"\",LOOKUP(W6030,Hilfstabelle!$A$1:$A$286,Hilfstabelle!$B$1:$B$286))","v":""}]
[null,null,null,null,null,null,null,null,null,null,null,null,null,null,null,null,null,null,null,null,{"$f":"IF(W6031=\"\",\"\",LOOKUP(W6031,Hilfstabelle!$A$1:$A$286,Hilfstabelle!$B$1:$B$286))","v":""}]
[null,null,null,null,null,null,null,null,null,null,null,null,null,null,null,null,null,null,null,null,{"$f":"IF(W6034=\"\",\"\",LOOKUP(W6034,Hilfstabelle!$A$1:$A$286,Hilfstabelle!$B$1:$B$286))","v":""}]
[null,null,null,null,null,null,null,null,null,null,null,null,null,null,null,null,null,null,null,null,{"$f":"IF(W6036=\"\",\"\",LOOKUP(W6036,Hilfstabelle!$A$1:$A$286,Hilfstabelle!$B$1:$B$286))","v":""}]
[null,null,null,null,null,null,null,null,null,null,null,null,null,null,null,null,null,null,null,null,{"$f":"IF(W6039=\"\",\"\",LOOKUP(W6039,Hilfstabelle!$A$1:$A$286,Hilfstabelle!$B$1:$B$286))","v":""}]
[null,null,null,null,null,null,null,null,null,null,null,null,null,null,null,null,null,null,null,null,{"$f":"IF(W6040=\"\",\"\",LOOKUP(W6040,Hilfstabelle!$A$1:$A$286,Hilfstabelle!$B$1:$B$286))","v":""}]
[null,null,null,null,null,null,null,null,null,null,null,null,null,null,null,null,null,null,null,null,{"$f":"IF(W6042=\"\",\"\",LOOKUP(W6042,Hilfstabelle!$A$1:$A$286,Hilfstabelle!$B$1:$B$286))","v":""}]
[null,null,null,null,null,null,null,null,null,null,null,null,null,null,null,null,null,null,null,null,{"$f":"IF(W6045=\"\",\"\",LOOKUP(W6045,Hilfstabelle!$A$1:$A$286,Hilfstabelle!$B$1:$B$286))","v":""}]
[null,null,null,null,null,null,null,null,null,null,null,null,null,null,null,null,null,null,null,null,{"$f":"IF(W6048=\"\",\"\",LOOKUP(W6048,Hilfstabelle!$A$1:$A$286,Hilfstabelle!$B$1:$B$286))","v":""}]
[null,null,null,null,null,null,null,null,null,null,null,null,null,null,null,null,null,null,null,null,{"$f":"IF(W6049=\"\",\"\",LOOKUP(W6049,Hilfstabelle!$A$1:$A$286,Hilfstabelle!$B$1:$B$286))","v":""}]
[null,null,null,null,null,null,null,null,null,null,null,null,null,null,null,null,null,null,null,null,{"$f":"IF(W6052=\"\",\"\",LOOKUP(W6052,Hilfstabelle!$A$1:$A$286,Hilfstabelle!$B$1:$B$286))","v":""}]
[null,null,null,null,null,null,null,null,null,null,null,null,null,null,null,null,null,null,null,null,{"$f":"IF(W6054=\"\",\"\",LOOKUP(W6054,Hilfstabelle!$A$1:$A$286,Hilfstabelle!$B$1:$B$286))","v":""}]
[null,null,null,null,null,null,null,null,null,null,null,null,null,null,null,null,null,null,null,null,{"$f":"IF(W6057=\"\",\"\",LOOKUP(W6057,Hilfstabelle!$A$1:$A$286,Hilfstabelle!$B$1:$B$286))","v":""}]
[null,null,null,null,null,null,null,null,null,null,null,null,null,null,null,null,null,null,null,null,{"$f":"IF(W6058=\"\",\"\",LOOKUP(W6058,Hilfstabelle!$A$1:$A$286,Hilfstabelle!$B$1:$B$286))","v":""}]
[null,null,null,null,null,null,null,null,null,null,null,null,null,null,null,null,null,null,null,null,{"$f":"IF(W6060=\"\",\"\",LOOKUP(W6060,Hilfstabelle!$A$1:$A$286,Hilfstabelle!$B$1:$B$286))","v":""}]
[null,null,null,null,null,null,null,null,null,null,null,null,null,null,null,null,null,null,null,null,{"$f":"IF(W6063=\"\",\"\",LOOKUP(W6063,Hilfstabelle!$A$1:$A$286,Hilfstabelle!$B$1:$B$286))","v":""}]
[null,null,null,null,null,null,null,null,null,null,null,null,null,null,null,null,null,null,null,null,{"$f":"IF(W6066=\"\",\"\",LOOKUP(W6066,Hilfstabelle!$A$1:$A$286,Hilfstabelle!$B$1:$B$286))","v":""}]
[null,null,null,null,null,null,null,null,null,null,null,null,null,null,null,null,null,null,null,null,{"$f":"IF(W6067=\"\",\"\",LOOKUP(W6067,Hilfstabelle!$A$1:$A$286,Hilfstabelle!$B$1:$B$286))","v":""}]
[null,null,null,null,null,null,null,null,null,null,null,null,null,null,null,null,null,null,null,null,{"$f":"IF(W6070=\"\",\"\",LOOKUP(W6070,Hilfstabelle!$A$1:$A$286,Hilfstabelle!$B$1:$B$286))","v":""}]
[null,null,null,null,null,null,null,null,null,null,null,null,null,null,null,null,null,null,null,null,{"$f":"IF(W6072=\"\",\"\",LOOKUP(W6072,Hilfstabelle!$A$1:$A$286,Hilfstabelle!$B$1:$B$286))","v":""}]
[null,null,null,null,null,null,null,null,null,null,null,null,null,null,null,null,null,null,null,null,{"$f":"IF(W6075=\"\",\"\",LOOKUP(W6075,Hilfstabelle!$A$1:$A$286,Hilfstabelle!$B$1:$B$286))","v":""}]
[null,null,null,null,null,null,null,null,null,null,null,null,null,null,null,null,null,null,null,null,{"$f":"IF(W6076=\"\",\"\",LOOKUP(W6076,Hilfstabelle!$A$1:$A$286,Hilfstabelle!$B$1:$B$286))","v":""}]
[null,null,null,null,null,null,null,null,null,null,null,null,null,null,null,null,null,null,null,null,{"$f":"IF(W6078=\"\",\"\",LOOKUP(W6078,Hilfstabelle!$A$1:$A$286,Hilfstabelle!$B$1:$B$286))","v":""}]
[null,null,null,null,null,null,null,null,null,null,null,null,null,null,null,null,null,null,null,null,{"$f":"IF(W6081=\"\",\"\",LOOKUP(W6081,Hilfstabelle!$A$1:$A$286,Hilfstabelle!$B$1:$B$286))","v":""}]
[null,null,null,null,null,null,null,null,null,null,null,null,null,null,null,null,null,null,null,null,{"$f":"IF(W6084=\"\",\"\",LOOKUP(W6084,Hilfstabelle!$A$1:$A$286,Hilfstabelle!$B$1:$B$286))","v":""}]
[null,null,null,null,null,null,null,null,null,null,null,null,null,null,null,null,null,null,null,null,{"$f":"IF(W6085=\"\",\"\",LOOKUP(W6085,Hilfstabelle!$A$1:$A$286,Hilfstabelle!$B$1:$B$286))","v":""}]
[null,null,null,null,null,null,null,null,null,null,null,null,null,null,null,null,null,null,null,null,{"$f":"IF(W6088=\"\",\"\",LOOKUP(W6088,Hilfstabelle!$A$1:$A$286,Hilfstabelle!$B$1:$B$286))","v":""}]
[null,null,null,null,null,null,null,null,null,null,null,null,null,null,null,null,null,null,null,null,{"$f":"IF(W6090=\"\",\"\",LOOKUP(W6090,Hilfstabelle!$A$1:$A$286,Hilfstabelle!$B$1:$B$286))","v":""}]
[null,null,null,null,null,null,null,null,null,null,null,null,null,null,null,null,null,null,null,null,{"$f":"IF(W6093=\"\",\"\",LOOKUP(W6093,Hilfstabelle!$A$1:$A$286,Hilfstabelle!$B$1:$B$286))","v":""}]
[null,null,null,null,null,null,null,null,null,null,null,null,null,null,null,null,null,null,null,null,{"$f":"IF(W6094=\"\",\"\",LOOKUP(W6094,Hilfstabelle!$A$1:$A$286,Hilfstabelle!$B$1:$B$286))","v":""}]
[null,null,null,null,null,null,null,null,null,null,null,null,null,null,null,null,null,null,null,null,{"$f":"IF(W6096=\"\",\"\",LOOKUP(W6096,Hilfstabelle!$A$1:$A$286,Hilfstabelle!$B$1:$B$286))","v":""}]
[null,null,null,null,null,null,null,null,null,null,null,null,null,null,null,null,null,null,null,null,{"$f":"IF(W6099=\"\",\"\",LOOKUP(W6099,Hilfstabelle!$A$1:$A$286,Hilfstabelle!$B$1:$B$286))","v":""}]
[null,null,null,null,null,null,null,null,null,null,null,null,null,null,null,null,null,null,null,null,{"$f":"IF(W6102=\"\",\"\",LOOKUP(W6102,Hilfstabelle!$A$1:$A$286,Hilfstabelle!$B$1:$B$286))","v":""}]
[null,null,null,null,null,null,null,null,null,null,null,null,null,null,null,null,null,null,null,null,{"$f":"IF(W6103=\"\",\"\",LOOKUP(W6103,Hilfstabelle!$A$1:$A$286,Hilfstabelle!$B$1:$B$286))","v":""}]
[null,null,null,null,null,null,null,null,null,null,null,null,null,null,null,null,null,null,null,null,{"$f":"IF(W6106=\"\",\"\",LOOKUP(W6106,Hilfstabelle!$A$1:$A$286,Hilfstabelle!$B$1:$B$286))","v":""}]
[null,null,null,null,null,null,null,null,null,null,null,null,null,null,null,null,null,null,null,null,{"$f":"IF(W6108=\"\",\"\",LOOKUP(W6108,Hilfstabelle!$A$1:$A$286,Hilfstabelle!$B$1:$B$286))","v":""}]
[null,null,null,null,null,null,null,null,null,null,null,null,null,null,null,null,null,null,null,null,{"$f":"IF(W6111=\"\",\"\",LOOKUP(W6111,Hilfstabelle!$A$1:$A$286,Hilfstabelle!$B$1:$B$286))","v":""}]
[null,null,null,null,null,null,null,null,null,null,null,null,null,null,null,null,null,null,null,null,{"$f":"IF(W6112=\"\",\"\",LOOKUP(W6112,Hilfstabelle!$A$1:$A$286,Hilfstabelle!$B$1:$B$286))","v":""}]
[null,null,null,null,null,null,null,null,null,null,null,null,null,null,null,null,null,null,null,null,{"$f":"IF(W6114=\"\",\"\",LOOKUP(W6114,Hilfstabelle!$A$1:$A$286,Hilfstabelle!$B$1:$B$286))","v":""}]
[null,null,null,null,null,null,null,null,null,null,null,null,null,null,null,null,null,null,null,null,{"$f":"IF(W6117=\"\",\"\",LOOKUP(W6117,Hilfstabelle!$A$1:$A$286,Hilfstabelle!$B$1:$B$286))","v":""}]
[null,null,null,null,null,null,null,null,null,null,null,null,null,null,null,null,null,null,null,null,{"$f":"IF(W6120=\"\",\"\",LOOKUP(W6120,Hilfstabelle!$A$1:$A$286,Hilfstabelle!$B$1:$B$286))","v":""}]
[null,null,null,null,null,null,null,null,null,null,null,null,null,null,null,null,null,null,null,null,{"$f":"IF(W6121=\"\",\"\",LOOKUP(W6121,Hilfstabelle!$A$1:$A$286,Hilfstabelle!$B$1:$B$286))","v":""}]
[null,null,null,null,null,null,null,null,null,null,null,null,null,null,null,null,null,null,null,null,{"$f":"IF(W6124=\"\",\"\",LOOKUP(W6124,Hilfstabelle!$A$1:$A$286,Hilfstabelle!$B$1:$B$286))","v":""}]
[null,null,null,null,null,null,null,null,null,null,null,null,null,null,null,null,null,null,null,null,{"$f":"IF(W6126=\"\",\"\",LOOKUP(W6126,Hilfstabelle!$A$1:$A$286,Hilfstabelle!$B$1:$B$286))","v":""}]
[null,null,null,null,null,null,null,null,null,null,null,null,null,null,null,null,null,null,null,null,{"$f":"IF(W6129=\"\",\"\",LOOKUP(W6129,Hilfstabelle!$A$1:$A$286,Hilfstabelle!$B$1:$B$286))","v":""}]
[null,null,null,null,null,null,null,null,null,null,null,null,null,null,null,null,null,null,null,null,{"$f":"IF(W6130=\"\",\"\",LOOKUP(W6130,Hilfstabelle!$A$1:$A$286,Hilfstabelle!$B$1:$B$286))","v":""}]
[null,null,null,null,null,null,null,null,null,null,null,null,null,null,null,null,null,null,null,null,{"$f":"IF(W6132=\"\",\"\",LOOKUP(W6132,Hilfstabelle!$A$1:$A$286,Hilfstabelle!$B$1:$B$286))","v":""}]
[null,null,null,null,null,null,null,null,null,null,null,null,null,null,null,null,null,null,null,null,{"$f":"IF(W6135=\"\",\"\",LOOKUP(W6135,Hilfstabelle!$A$1:$A$286,Hilfstabelle!$B$1:$B$286))","v":""}]
[null,null,null,null,null,null,null,null,null,null,null,null,null,null,null,null,null,null,null,null,{"$f":"IF(W6138=\"\",\"\",LOOKUP(W6138,Hilfstabelle!$A$1:$A$286,Hilfstabelle!$B$1:$B$286))","v":""}]
[null,null,null,null,null,null,null,null,null,null,null,null,null,null,null,null,null,null,null,null,{"$f":"IF(W6139=\"\",\"\",LOOKUP(W6139,Hilfstabelle!$A$1:$A$286,Hilfstabelle!$B$1:$B$286))","v":""}]
[null,null,null,null,null,null,null,null,null,null,null,null,null,null,null,null,null,null,null,null,{"$f":"IF(W6142=\"\",\"\",LOOKUP(W6142,Hilfstabelle!$A$1:$A$286,Hilfstabelle!$B$1:$B$286))","v":""}]
[null,null,null,null,null,null,null,null,null,null,null,null,null,null,null,null,null,null,null,null,{"$f":"IF(W6144=\"\",\"\",LOOKUP(W6144,Hilfstabelle!$A$1:$A$286,Hilfstabelle!$B$1:$B$286))","v":""}]
[null,null,null,null,null,null,null,null,null,null,null,null,null,null,null,null,null,null,null,null,{"$f":"IF(W6147=\"\",\"\",LOOKUP(W6147,Hilfstabelle!$A$1:$A$286,Hilfstabelle!$B$1:$B$286))","v":""}]
[null,null,null,null,null,null,null,null,null,null,null,null,null,null,null,null,null,null,null,null,{"$f":"IF(W6148=\"\",\"\",LOOKUP(W6148,Hilfstabelle!$A$1:$A$286,Hilfstabelle!$B$1:$B$286))","v":""}]
[null,null,null,null,null,null,null,null,null,null,null,null,null,null,null,null,null,null,null,null,{"$f":"IF(W6150=\"\",\"\",LOOKUP(W6150,Hilfstabelle!$A$1:$A$286,Hilfstabelle!$B$1:$B$286))","v":""}]
[null,null,null,null,null,null,null,null,null,null,null,null,null,null,null,null,null,null,null,null,{"$f":"IF(W6153=\"\",\"\",LOOKUP(W6153,Hilfstabelle!$A$1:$A$286,Hilfstabelle!$B$1:$B$286))","v":""}]
[null,null,null,null,null,null,null,null,null,null,null,null,null,null,null,null,null,null,null,null,{"$f":"IF(W6156=\"\",\"\",LOOKUP(W6156,Hilfstabelle!$A$1:$A$286,Hilfstabelle!$B$1:$B$286))","v":""}]
[null,null,null,null,null,null,null,null,null,null,null,null,null,null,null,null,null,null,null,null,{"$f":"IF(W6157=\"\",\"\",LOOKUP(W6157,Hilfstabelle!$A$1:$A$286,Hilfstabelle!$B$1:$B$286))","v":""}]
[null,null,null,null,null,null,null,null,null,null,null,null,null,null,null,null,null,null,null,null,{"$f":"IF(W6160=\"\",\"\",LOOKUP(W6160,Hilfstabelle!$A$1:$A$286,Hilfstabelle!$B$1:$B$286))","v":""}]
[null,null,null,null,null,null,null,null,null,null,null,null,null,null,null,null,null,null,null,null,{"$f":"IF(W6162=\"\",\"\",LOOKUP(W6162,Hilfstabelle!$A$1:$A$286,Hilfstabelle!$B$1:$B$286))","v":""}]
[null,null,null,null,null,null,null,null,null,null,null,null,null,null,null,null,null,null,null,null,{"$f":"IF(W6165=\"\",\"\",LOOKUP(W6165,Hilfstabelle!$A$1:$A$286,Hilfstabelle!$B$1:$B$286))","v":""}]
[null,null,null,null,null,null,null,null,null,null,null,null,null,null,null,null,null,null,null,null,{"$f":"IF(W6166=\"\",\"\",LOOKUP(W6166,Hilfstabelle!$A$1:$A$286,Hilfstabelle!$B$1:$B$286))","v":""}]
[null,null,null,null,null,null,null,null,null,null,null,null,null,null,null,null,null,null,null,null,{"$f":"IF(W6168=\"\",\"\",LOOKUP(W6168,Hilfstabelle!$A$1:$A$286,Hilfstabelle!$B$1:$B$286))","v":""}]
[null,null,null,null,null,null,null,null,null,null,null,null,null,null,null,null,null,null,null,null,{"$f":"IF(W6171=\"\",\"\",LOOKUP(W6171,Hilfstabelle!$A$1:$A$286,Hilfstabelle!$B$1:$B$286))","v":""}]
[null,null,null,null,null,null,null,null,null,null,null,null,null,null,null,null,null,null,null,null,{"$f":"IF(W6174=\"\",\"\",LOOKUP(W6174,Hilfstabelle!$A$1:$A$286,Hilfstabelle!$B$1:$B$286))","v":""}]
[null,null,null,null,null,null,null,null,null,null,null,null,null,null,null,null,null,null,null,null,{"$f":"IF(W6175=\"\",\"\",LOOKUP(W6175,Hilfstabelle!$A$1:$A$286,Hilfstabelle!$B$1:$B$286))","v":""}]
[null,null,null,null,null,null,null,null,null,null,null,null,null,null,null,null,null,null,null,null,{"$f":"IF(W6178=\"\",\"\",LOOKUP(W6178,Hilfstabelle!$A$1:$A$286,Hilfstabelle!$B$1:$B$286))","v":""}]
[null,null,null,null,null,null,null,null,null,null,null,null,null,null,null,null,null,null,null,null,{"$f":"IF(W6180=\"\",\"\",LOOKUP(W6180,Hilfstabelle!$A$1:$A$286,Hilfstabelle!$B$1:$B$286))","v":""}]
[null,null,null,null,null,null,null,null,null,null,null,null,null,null,null,null,null,null,null,null,{"$f":"IF(W6183=\"\",\"\",LOOKUP(W6183,Hilfstabelle!$A$1:$A$286,Hilfstabelle!$B$1:$B$286))","v":""}]
[null,null,null,null,null,null,null,null,null,null,null,null,null,null,null,null,null,null,null,null,{"$f":"IF(W6184=\"\",\"\",LOOKUP(W6184,Hilfstabelle!$A$1:$A$286,Hilfstabelle!$B$1:$B$286))","v":""}]
[null,null,null,null,null,null,null,null,null,null,null,null,null,null,null,null,null,null,null,null,{"$f":"IF(W6186=\"\",\"\",LOOKUP(W6186,Hilfstabelle!$A$1:$A$286,Hilfstabelle!$B$1:$B$286))","v":""}]
[null,null,null,null,null,null,null,null,null,null,null,null,null,null,null,null,null,null,null,null,{"$f":"IF(W6189=\"\",\"\",LOOKUP(W6189,Hilfstabelle!$A$1:$A$286,Hilfstabelle!$B$1:$B$286))","v":""}]
[null,null,null,null,null,null,null,null,null,null,null,null,null,null,null,null,null,null,null,null,{"$f":"IF(W6192=\"\",\"\",LOOKUP(W6192,Hilfstabelle!$A$1:$A$286,Hilfstabelle!$B$1:$B$286))","v":""}]
[null,null,null,null,null,null,null,null,null,null,null,null,null,null,null,null,null,null,null,null,{"$f":"IF(W6193=\"\",\"\",LOOKUP(W6193,Hilfstabelle!$A$1:$A$286,Hilfstabelle!$B$1:$B$286))","v":""}]
[null,null,null,null,null,null,null,null,null,null,null,null,null,null,null,null,null,null,null,null,{"$f":"IF(W6196=\"\",\"\",LOOKUP(W6196,Hilfstabelle!$A$1:$A$286,Hilfstabelle!$B$1:$B$286))","v":""}]
[null,null,null,null,null,null,null,null,null,null,null,null,null,null,null,null,null,null,null,null,{"$f":"IF(W6198=\"\",\"\",LOOKUP(W6198,Hilfstabelle!$A$1:$A$286,Hilfstabelle!$B$1:$B$286))","v":""}]
[null,null,null,null,null,null,null,null,null,null,null,null,null,null,null,null,null,null,null,null,{"$f":"IF(W6201=\"\",\"\",LOOKUP(W6201,Hilfstabelle!$A$1:$A$286,Hilfstabelle!$B$1:$B$286))","v":""}]
[null,null,null,null,null,null,null,null,null,null,null,null,null,null,null,null,null,null,null,null,{"$f":"IF(W6202=\"\",\"\",LOOKUP(W6202,Hilfstabelle!$A$1:$A$286,Hilfstabelle!$B$1:$B$286))","v":""}]
[null,null,null,null,null,null,null,null,null,null,null,null,null,null,null,null,null,null,null,null,{"$f":"IF(W6204=\"\",\"\",LOOKUP(W6204,Hilfstabelle!$A$1:$A$286,Hilfstabelle!$B$1:$B$286))","v":""}]
[null,null,null,null,null,null,null,null,null,null,null,null,null,null,null,null,null,null,null,null,{"$f":"IF(W6207=\"\",\"\",LOOKUP(W6207,Hilfstabelle!$A$1:$A$286,Hilfstabelle!$B$1:$B$286))","v":""}]
[null,null,null,null,null,null,null,null,null,null,null,null,null,null,null,null,null,null,null,null,{"$f":"IF(W6210=\"\",\"\",LOOKUP(W6210,Hilfstabelle!$A$1:$A$286,Hilfstabelle!$B$1:$B$286))","v":""}]
[null,null,null,null,null,null,null,null,null,null,null,null,null,null,null,null,null,null,null,null,{"$f":"IF(W6211=\"\",\"\",LOOKUP(W6211,Hilfstabelle!$A$1:$A$286,Hilfstabelle!$B$1:$B$286))","v":""}]
[null,null,null,null,null,null,null,null,null,null,null,null,null,null,null,null,null,null,null,null,{"$f":"IF(W6215=\"\",\"\",LOOKUP(W6215,Hilfstabelle!$A$1:$A$286,Hilfstabelle!$B$1:$B$286))","v":""}]
[null,null,null,null,null,null,null,null,null,null,null,null,null,null,null,null,null,null,null,null,{"$f":"IF(W6216=\"\",\"\",LOOKUP(W6216,Hilfstabelle!$A$1:$A$286,Hilfstabelle!$B$1:$B$286))","v":""}]
[null,null,null,null,null,null,null,null,null,null,null,null,null,null,null,null,null,null,null,null,{"$f":"IF(W6219=\"\",\"\",LOOKUP(W6219,Hilfstabelle!$A$1:$A$286,Hilfstabelle!$B$1:$B$286))","v":""}]
[null,null,null,null,null,null,null,null,null,null,null,null,null,null,null,null,null,null,null,null,{"$f":"IF(W6220=\"\",\"\",LOOKUP(W6220,Hilfstabelle!$A$1:$A$286,Hilfstabelle!$B$1:$B$286))","v":""}]
[null,null,null,null,null,null,null,null,null,null,null,null,null,null,null,null,null,null,null,null,{"$f":"IF(W6222=\"\",\"\",LOOKUP(W6222,Hilfstabelle!$A$1:$A$286,Hilfstabelle!$B$1:$B$286))","v":""}]
[null,null,null,null,null,null,null,null,null,null,null,null,null,null,null,null,null,null,null,null,{"$f":"IF(W6225=\"\",\"\",LOOKUP(W6225,Hilfstabelle!$A$1:$A$286,Hilfstabelle!$B$1:$B$286))","v":""}]
[null,null,null,null,null,null,null,null,null,null,null,null,null,null,null,null,null,null,null,null,{"$f":"IF(W6228=\"\",\"\",LOOKUP(W6228,Hilfstabelle!$A$1:$A$286,Hilfstabelle!$B$1:$B$286))","v":""}]
[null,null,null,null,null,null,null,null,null,null,null,null,null,null,null,null,null,null,null,null,{"$f":"IF(W6229=\"\",\"\",LOOKUP(W6229,Hilfstabelle!$A$1:$A$286,Hilfstabelle!$B$1:$B$286))","v":""}]
[null,null,null,null,null,null,null,null,null,null,null,null,null,null,null,null,null,null,null,null,{"$f":"IF(W6233=\"\",\"\",LOOKUP(W6233,Hilfstabelle!$A$1:$A$286,Hilfstabelle!$B$1:$B$286))","v":""}]
[null,null,null,null,null,null,null,null,null,null,null,null,null,null,null,null,null,null,null,null,{"$f":"IF(W6234=\"\",\"\",LOOKUP(W6234,Hilfstabelle!$A$1:$A$286,Hilfstabelle!$B$1:$B$286))","v":""}]
[null,null,null,null,null,null,null,null,null,null,null,null,null,null,null,null,null,null,null,null,{"$f":"IF(W6237=\"\",\"\",LOOKUP(W6237,Hilfstabelle!$A$1:$A$286,Hilfstabelle!$B$1:$B$286))","v":""}]
[null,null,null,null,null,null,null,null,null,null,null,null,null,null,null,null,null,null,null,null,{"$f":"IF(W6238=\"\",\"\",LOOKUP(W6238,Hilfstabelle!$A$1:$A$286,Hilfstabelle!$B$1:$B$286))","v":""}]
[null,null,null,null,null,null,null,null,null,null,null,null,null,null,null,null,null,null,null,null,{"$f":"IF(W6240=\"\",\"\",LOOKUP(W6240,Hilfstabelle!$A$1:$A$286,Hilfstabelle!$B$1:$B$286))","v":""}]
[null,null,null,null,null,null,null,null,null,null,null,null,null,null,null,null,null,null,null,null,{"$f":"IF(W6243=\"\",\"\",LOOKUP(W6243,Hilfstabelle!$A$1:$A$286,Hilfstabelle!$B$1:$B$286))","v":""}]
[null,null,null,null,null,null,null,null,null,null,null,null,null,null,null,null,null,null,null,null,{"$f":"IF(W6246=\"\",\"\",LOOKUP(W6246,Hilfstabelle!$A$1:$A$286,Hilfstabelle!$B$1:$B$286))","v":""}]
[null,null,null,null,null,null,null,null,null,null,null,null,null,null,null,null,null,null,null,null,{"$f":"IF(W6247=\"\",\"\",LOOKUP(W6247,Hilfstabelle!$A$1:$A$286,Hilfstabelle!$B$1:$B$286))","v":""}]
[null,null,null,null,null,null,null,null,null,null,null,null,null,null,null,null,null,null,null,null,{"$f":"IF(W6251=\"\",\"\",LOOKUP(W6251,Hilfstabelle!$A$1:$A$286,Hilfstabelle!$B$1:$B$286))","v":""}]
[null,null,null,null,null,null,null,null,null,null,null,null,null,null,null,null,null,null,null,null,{"$f":"IF(W6252=\"\",\"\",LOOKUP(W6252,Hilfstabelle!$A$1:$A$286,Hilfstabelle!$B$1:$B$286))","v":""}]
[null,null,null,null,null,null,null,null,null,null,null,null,null,null,null,null,null,null,null,null,{"$f":"IF(W6255=\"\",\"\",LOOKUP(W6255,Hilfstabelle!$A$1:$A$286,Hilfstabelle!$B$1:$B$286))","v":""}]
[null,null,null,null,null,null,null,null,null,null,null,null,null,null,null,null,null,null,null,null,{"$f":"IF(W6256=\"\",\"\",LOOKUP(W6256,Hilfstabelle!$A$1:$A$286,Hilfstabelle!$B$1:$B$286))","v":""}]
[null,null,null,null,null,null,null,null,null,null,null,null,null,null,null,null,null,null,null,null,{"$f":"IF(W6258=\"\",\"\",LOOKUP(W6258,Hilfstabelle!$A$1:$A$286,Hilfstabelle!$B$1:$B$286))","v":""}]
[null,null,null,null,null,null,null,null,null,null,null,null,null,null,null,null,null,null,null,null,{"$f":"IF(W6261=\"\",\"\",LOOKUP(W6261,Hilfstabelle!$A$1:$A$286,Hilfstabelle!$B$1:$B$286))","v":""}]
[null,null,null,null,null,null,null,null,null,null,null,null,null,null,null,null,null,null,null,null,{"$f":"IF(W6264=\"\",\"\",LOOKUP(W6264,Hilfstabelle!$A$1:$A$286,Hilfstabelle!$B$1:$B$286))","v":""}]
[null,null,null,null,null,null,null,null,null,null,null,null,null,null,null,null,null,null,null,null,{"$f":"IF(W6265=\"\",\"\",LOOKUP(W6265,Hilfstabelle!$A$1:$A$286,Hilfstabelle!$B$1:$B$286))","v":""}]
[null,null,null,null,null,null,null,null,null,null,null,null,null,null,null,null,null,null,null,null,{"$f":"IF(W6269=\"\",\"\",LOOKUP(W6269,Hilfstabelle!$A$1:$A$286,Hilfstabelle!$B$1:$B$286))","v":""}]
[null,null,null,null,null,null,null,null,null,null,null,null,null,null,null,null,null,null,null,null,{"$f":"IF(W6270=\"\",\"\",LOOKUP(W6270,Hilfstabelle!$A$1:$A$286,Hilfstabelle!$B$1:$B$286))","v":""}]
[null,null,null,null,null,null,null,null,null,null,null,null,null,null,null,null,null,null,null,null,{"$f":"IF(W6273=\"\",\"\",LOOKUP(W6273,Hilfstabelle!$A$1:$A$286,Hilfstabelle!$B$1:$B$286))","v":""}]
[null,null,null,null,null,null,null,null,null,null,null,null,null,null,null,null,null,null,null,null,{"$f":"IF(W6274=\"\",\"\",LOOKUP(W6274,Hilfstabelle!$A$1:$A$286,Hilfstabelle!$B$1:$B$286))","v":""}]
[null,null,null,null,null,null,null,null,null,null,null,null,null,null,null,null,null,null,null,null,{"$f":"IF(W6276=\"\",\"\",LOOKUP(W6276,Hilfstabelle!$A$1:$A$286,Hilfstabelle!$B$1:$B$286))","v":""}]
[null,null,null,null,null,null,null,null,null,null,null,null,null,null,null,null,null,null,null,null,{"$f":"IF(W6279=\"\",\"\",LOOKUP(W6279,Hilfstabelle!$A$1:$A$286,Hilfstabelle!$B$1:$B$286))","v":""}]
[null,null,null,null,null,null,null,null,null,null,null,null,null,null,null,null,null,null,null,null,{"$f":"IF(W6282=\"\",\"\",LOOKUP(W6282,Hilfstabelle!$A$1:$A$286,Hilfstabelle!$B$1:$B$286))","v":""}]
[null,null,null,null,null,null,null,null,null,null,null,null,null,null,null,null,null,null,null,null,{"$f":"IF(W6283=\"\",\"\",LOOKUP(W6283,Hilfstabelle!$A$1:$A$286,Hilfstabelle!$B$1:$B$286))","v":""}]
[null,null,null,null,null,null,null,null,null,null,null,null,null,null,null,null,null,null,null,null,{"$f":"IF(W6287=\"\",\"\",LOOKUP(W6287,Hilfstabelle!$A$1:$A$286,Hilfstabelle!$B$1:$B$286))","v":""}]
[null,null,null,null,null,null,null,null,null,null,null,null,null,null,null,null,null,null,null,null,{"$f":"IF(W6288=\"\",\"\",LOOKUP(W6288,Hilfstabelle!$A$1:$A$286,Hilfstabelle!$B$1:$B$286))","v":""}]
[null,null,null,null,null,null,null,null,null,null,null,null,null,null,null,null,null,null,null,null,{"$f":"IF(W6291=\"\",\"\",LOOKUP(W6291,Hilfstabelle!$A$1:$A$286,Hilfstabelle!$B$1:$B$286))","v":""}]
[null,null,null,null,null,null,null,null,null,null,null,null,null,null,null,null,null,null,null,null,{"$f":"IF(W6292=\"\",\"\",LOOKUP(W6292,Hilfstabelle!$A$1:$A$286,Hilfstabelle!$B$1:$B$286))","v":""}]
[null,null,null,null,null,null,null,null,null,null,null,null,null,null,null,null,null,null,null,null,{"$f":"IF(W6294=\"\",\"\",LOOKUP(W6294,Hilfstabelle!$A$1:$A$286,Hilfstabelle!$B$1:$B$286))","v":""}]
[null,null,null,null,null,null,null,null,null,null,null,null,null,null,null,null,null,null,null,null,{"$f":"IF(W6297=\"\",\"\",LOOKUP(W6297,Hilfstabelle!$A$1:$A$286,Hilfstabelle!$B$1:$B$286))","v":""}]
[null,null,null,null,null,null,null,null,null,null,null,null,null,null,null,null,null,null,null,null,{"$f":"IF(W6300=\"\",\"\",LOOKUP(W6300,Hilfstabelle!$A$1:$A$286,Hilfstabelle!$B$1:$B$286))","v":""}]
[null,null,null,null,null,null,null,null,null,null,null,null,null,null,null,null,null,null,null,null,{"$f":"IF(W6301=\"\",\"\",LOOKUP(W6301,Hilfstabelle!$A$1:$A$286,Hilfstabelle!$B$1:$B$286))","v":""}]
[null,null,null,null,null,null,null,null,null,null,null,null,null,null,null,null,null,null,null,null,{"$f":"IF(W6305=\"\",\"\",LOOKUP(W6305,Hilfstabelle!$A$1:$A$286,Hilfstabelle!$B$1:$B$286))","v":""}]
[null,null,null,null,null,null,null,null,null,null,null,null,null,null,null,null,null,null,null,null,{"$f":"IF(W6306=\"\",\"\",LOOKUP(W6306,Hilfstabelle!$A$1:$A$286,Hilfstabelle!$B$1:$B$286))","v":""}]
[null,null,null,null,null,null,null,null,null,null,null,null,null,null,null,null,null,null,null,null,{"$f":"IF(W6309=\"\",\"\",LOOKUP(W6309,Hilfstabelle!$A$1:$A$286,Hilfstabelle!$B$1:$B$286))","v":""}]
[null,null,null,null,null,null,null,null,null,null,null,null,null,null,null,null,null,null,null,null,{"$f":"IF(W6310=\"\",\"\",LOOKUP(W6310,Hilfstabelle!$A$1:$A$286,Hilfstabelle!$B$1:$B$286))","v":""}]
[null,null,null,null,null,null,null,null,null,null,null,null,null,null,null,null,null,null,null,null,{"$f":"IF(W6312=\"\",\"\",LOOKUP(W6312,Hilfstabelle!$A$1:$A$286,Hilfstabelle!$B$1:$B$286))","v":""}]
[null,null,null,null,null,null,null,null,null,null,null,null,null,null,null,null,null,null,null,null,{"$f":"IF(W6315=\"\",\"\",LOOKUP(W6315,Hilfstabelle!$A$1:$A$286,Hilfstabelle!$B$1:$B$286))","v":""}]
[null,null,null,null,null,null,null,null,null,null,null,null,null,null,null,null,null,null,null,null,{"$f":"IF(W6318=\"\",\"\",LOOKUP(W6318,Hilfstabelle!$A$1:$A$286,Hilfstabelle!$B$1:$B$286))","v":""}]
[null,null,null,null,null,null,null,null,null,null,null,null,null,null,null,null,null,null,null,null,{"$f":"IF(W6319=\"\",\"\",LOOKUP(W6319,Hilfstabelle!$A$1:$A$286,Hilfstabelle!$B$1:$B$286))","v":""}]
[null,null,null,null,null,null,null,null,null,null,null,null,null,null,null,null,null,null,null,null,{"$f":"IF(W6323=\"\",\"\",LOOKUP(W6323,Hilfstabelle!$A$1:$A$286,Hilfstabelle!$B$1:$B$286))","v":""}]
[null,null,null,null,null,null,null,null,null,null,null,null,null,null,null,null,null,null,null,null,{"$f":"IF(W6324=\"\",\"\",LOOKUP(W6324,Hilfstabelle!$A$1:$A$286,Hilfstabelle!$B$1:$B$286))","v":""}]
[null,null,null,null,null,null,null,null,null,null,null,null,null,null,null,null,null,null,null,null,{"$f":"IF(W6327=\"\",\"\",LOOKUP(W6327,Hilfstabelle!$A$1:$A$286,Hilfstabelle!$B$1:$B$286))","v":""}]
[null,null,null,null,null,null,null,null,null,null,null,null,null,null,null,null,null,null,null,null,{"$f":"IF(W6328=\"\",\"\",LOOKUP(W6328,Hilfstabelle!$A$1:$A$286,Hilfstabelle!$B$1:$B$286))","v":""}]
[null,null,null,null,null,null,null,null,null,null,null,null,null,null,null,null,null,null,null,null,{"$f":"IF(W6330=\"\",\"\",LOOKUP(W6330,Hilfstabelle!$A$1:$A$286,Hilfstabelle!$B$1:$B$286))","v":""}]
[null,null,null,null,null,null,null,null,null,null,null,null,null,null,null,null,null,null,null,null,{"$f":"IF(W6333=\"\",\"\",LOOKUP(W6333,Hilfstabelle!$A$1:$A$286,Hilfstabelle!$B$1:$B$286))","v":""}]
[null,null,null,null,null,null,null,null,null,null,null,null,null,null,null,null,null,null,null,null,{"$f":"IF(W6336=\"\",\"\",LOOKUP(W6336,Hilfstabelle!$A$1:$A$286,Hilfstabelle!$B$1:$B$286))","v":""}]
[null,null,null,null,null,null,null,null,null,null,null,null,null,null,null,null,null,null,null,null,{"$f":"IF(W6337=\"\",\"\",LOOKUP(W6337,Hilfstabelle!$A$1:$A$286,Hilfstabelle!$B$1:$B$286))","v":""}]
[null,null,null,null,null,null,null,null,null,null,null,null,null,null,null,null,null,null,null,null,{"$f":"IF(W6341=\"\",\"\",LOOKUP(W6341,Hilfstabelle!$A$1:$A$286,Hilfstabelle!$B$1:$B$286))","v":""}]
[null,null,null,null,null,null,null,null,null,null,null,null,null,null,null,null,null,null,null,null,{"$f":"IF(W6342=\"\",\"\",LOOKUP(W6342,Hilfstabelle!$A$1:$A$286,Hilfstabelle!$B$1:$B$286))","v":""}]
[null,null,null,null,null,null,null,null,null,null,null,null,null,null,null,null,null,null,null,null,{"$f":"IF(W6345=\"\",\"\",LOOKUP(W6345,Hilfstabelle!$A$1:$A$286,Hilfstabelle!$B$1:$B$286))","v":""}]
[null,null,null,null,null,null,null,null,null,null,null,null,null,null,null,null,null,null,null,null,{"$f":"IF(W6346=\"\",\"\",LOOKUP(W6346,Hilfstabelle!$A$1:$A$286,Hilfstabelle!$B$1:$B$286))","v":""}]
[null,null,null,null,null,null,null,null,null,null,null,null,null,null,null,null,null,null,null,null,{"$f":"IF(W6348=\"\",\"\",LOOKUP(W6348,Hilfstabelle!$A$1:$A$286,Hilfstabelle!$B$1:$B$286))","v":""}]
[null,null,null,null,null,null,null,null,null,null,null,null,null,null,null,null,null,null,null,null,{"$f":"IF(W6351=\"\",\"\",LOOKUP(W6351,Hilfstabelle!$A$1:$A$286,Hilfstabelle!$B$1:$B$286))","v":""}]
[null,null,null,null,null,null,null,null,null,null,null,null,null,null,null,null,null,null,null,null,{"$f":"IF(W6354=\"\",\"\",LOOKUP(W6354,Hilfstabelle!$A$1:$A$286,Hilfstabelle!$B$1:$B$286))","v":""}]
[null,null,null,null,null,null,null,null,null,null,null,null,null,null,null,null,null,null,null,null,{"$f":"IF(W6355=\"\",\"\",LOOKUP(W6355,Hilfstabelle!$A$1:$A$286,Hilfstabelle!$B$1:$B$286))","v":""}]
[null,null,null,null,null,null,null,null,null,null,null,null,null,null,null,null,null,null,null,null,{"$f":"IF(W6359=\"\",\"\",LOOKUP(W6359,Hilfstabelle!$A$1:$A$286,Hilfstabelle!$B$1:$B$286))","v":""}]
[null,null,null,null,null,null,null,null,null,null,null,null,null,null,null,null,null,null,null,null,{"$f":"IF(W6360=\"\",\"\",LOOKUP(W6360,Hilfstabelle!$A$1:$A$286,Hilfstabelle!$B$1:$B$286))","v":""}]
[null,null,null,null,null,null,null,null,null,null,null,null,null,null,null,null,null,null,null,null,{"$f":"IF(W6363=\"\",\"\",LOOKUP(W6363,Hilfstabelle!$A$1:$A$286,Hilfstabelle!$B$1:$B$286))","v":""}]
[null,null,null,null,null,null,null,null,null,null,null,null,null,null,null,null,null,null,null,null,{"$f":"IF(W6364=\"\",\"\",LOOKUP(W6364,Hilfstabelle!$A$1:$A$286,Hilfstabelle!$B$1:$B$286))","v":""}]
[null,null,null,null,null,null,null,null,null,null,null,null,null,null,null,null,null,null,null,null,{"$f":"IF(W6367=\"\",\"\",LOOKUP(W6367,Hilfstabelle!$A$1:$A$286,Hilfstabelle!$B$1:$B$286))","v":""}]
[null,null,null,null,null,null,null,null,null,null,null,null,null,null,null,null,null,null,null,null,{"$f":"IF(W6369=\"\",\"\",LOOKUP(W6369,Hilfstabelle!$A$1:$A$286,Hilfstabelle!$B$1:$B$286))","v":""}]
[null,null,null,null,null,null,null,null,null,null,null,null,null,null,null,null,null,null,null,null,{"$f":"IF(W6372=\"\",\"\",LOOKUP(W6372,Hilfstabelle!$A$1:$A$286,Hilfstabelle!$B$1:$B$286))","v":""}]
[null,null,null,null,null,null,null,null,null,null,null,null,null,null,null,null,null,null,null,null,{"$f":"IF(W6373=\"\",\"\",LOOKUP(W6373,Hilfstabelle!$A$1:$A$286,Hilfstabelle!$B$1:$B$286))","v":""}]
[null,null,null,null,null,null,null,null,null,null,null,null,null,null,null,null,null,null,null,null,{"$f":"IF(W6377=\"\",\"\",LOOKUP(W6377,Hilfstabelle!$A$1:$A$286,Hilfstabelle!$B$1:$B$286))","v":""}]
[null,null,null,null,null,null,null,null,null,null,null,null,null,null,null,null,null,null,null,null,{"$f":"IF(W6378=\"\",\"\",LOOKUP(W6378,Hilfstabelle!$A$1:$A$286,Hilfstabelle!$B$1:$B$286))","v":""}]
[null,null,null,null,null,null,null,null,null,null,null,null,null,null,null,null,null,null,null,null,{"$f":"IF(W6381=\"\",\"\",LOOKUP(W6381,Hilfstabelle!$A$1:$A$286,Hilfstabelle!$B$1:$B$286))","v":""}]
[null,null,null,null,null,null,null,null,null,null,null,null,null,null,null,null,null,null,null,null,{"$f":"IF(W6382=\"\",\"\",LOOKUP(W6382,Hilfstabelle!$A$1:$A$286,Hilfstabelle!$B$1:$B$286))","v":""}]
[null,null,null,null,null,null,null,null,null,null,null,null,null,null,null,null,null,null,null,null,{"$f":"IF(W6385=\"\",\"\",LOOKUP(W6385,Hilfstabelle!$A$1:$A$286,Hilfstabelle!$B$1:$B$286))","v":""}]
[null,null,null,null,null,null,null,null,null,null,null,null,null,null,null,null,null,null,null,null,{"$f":"IF(W6387=\"\",\"\",LOOKUP(W6387,Hilfstabelle!$A$1:$A$286,Hilfstabelle!$B$1:$B$286))","v":""}]
[null,null,null,null,null,null,null,null,null,null,null,null,null,null,null,null,null,null,null,null,{"$f":"IF(W6390=\"\",\"\",LOOKUP(W6390,Hilfstabelle!$A$1:$A$286,Hilfstabelle!$B$1:$B$286))","v":""}]
[null,null,null,null,null,null,null,null,null,null,null,null,null,null,null,null,null,null,null,null,{"$f":"IF(W6391=\"\",\"\",LOOKUP(W6391,Hilfstabelle!$A$1:$A$286,Hilfstabelle!$B$1:$B$286))","v":""}]
[null,null,null,null,null,null,null,null,null,null,null,null,null,null,null,null,null,null,null,null,{"$f":"IF(W6395=\"\",\"\",LOOKUP(W6395,Hilfstabelle!$A$1:$A$286,Hilfstabelle!$B$1:$B$286))","v":""}]
[null,null,null,null,null,null,null,null,null,null,null,null,null,null,null,null,null,null,null,null,{"$f":"IF(W6396=\"\",\"\",LOOKUP(W6396,Hilfstabelle!$A$1:$A$286,Hilfstabelle!$B$1:$B$286))","v":""}]
[null,null,null,null,null,null,null,null,null,null,null,null,null,null,null,null,null,null,null,null,{"$f":"IF(W6399=\"\",\"\",LOOKUP(W6399,Hilfstabelle!$A$1:$A$286,Hilfstabelle!$B$1:$B$286))","v":""}]
[null,null,null,null,null,null,null,null,null,null,null,null,null,null,null,null,null,null,null,null,{"$f":"IF(W6400=\"\",\"\",LOOKUP(W6400,Hilfstabelle!$A$1:$A$286,Hilfstabelle!$B$1:$B$286))","v":""}]
[null,null,null,null,null,null,null,null,null,null,null,null,null,null,null,null,null,null,null,null,{"$f":"IF(W6403=\"\",\"\",LOOKUP(W6403,Hilfstabelle!$A$1:$A$286,Hilfstabelle!$B$1:$B$286))","v":""}]
[null,null,null,null,null,null,null,null,null,null,null,null,null,null,null,null,null,null,null,null,{"$f":"IF(W6405=\"\",\"\",LOOKUP(W6405,Hilfstabelle!$A$1:$A$286,Hilfstabelle!$B$1:$B$286))","v":""}]
[null,null,null,null,null,null,null,null,null,null,null,null,null,null,null,null,null,null,null,null,{"$f":"IF(W6408=\"\",\"\",LOOKUP(W6408,Hilfstabelle!$A$1:$A$286,Hilfstabelle!$B$1:$B$286))","v":""}]
[null,null,null,null,null,null,null,null,null,null,null,null,null,null,null,null,null,null,null,null,{"$f":"IF(W6409=\"\",\"\",LOOKUP(W6409,Hilfstabelle!$A$1:$A$286,Hilfstabelle!$B$1:$B$286))","v":""}]
[null,null,null,null,null,null,null,null,null,null,null,null,null,null,null,null,null,null,null,null,{"$f":"IF(W6413=\"\",\"\",LOOKUP(W6413,Hilfstabelle!$A$1:$A$286,Hilfstabelle!$B$1:$B$286))","v":""}]
[null,null,null,null,null,null,null,null,null,null,null,null,null,null,null,null,null,null,null,null,{"$f":"IF(W6414=\"\",\"\",LOOKUP(W6414,Hilfstabelle!$A$1:$A$286,Hilfstabelle!$B$1:$B$286))","v":""}]
[null,null,null,null,null,null,null,null,null,null,null,null,null,null,null,null,null,null,null,null,{"$f":"IF(W6417=\"\",\"\",LOOKUP(W6417,Hilfstabelle!$A$1:$A$286,Hilfstabelle!$B$1:$B$286))","v":""}]
[null,null,null,null,null,null,null,null,null,null,null,null,null,null,null,null,null,null,null,null,{"$f":"IF(W6418=\"\",\"\",LOOKUP(W6418,Hilfstabelle!$A$1:$A$286,Hilfstabelle!$B$1:$B$286))","v":""}]
[null,null,null,null,null,null,null,null,null,null,null,null,null,null,null,null,null,null,null,null,{"$f":"IF(W6421=\"\",\"\",LOOKUP(W6421,Hilfstabelle!$A$1:$A$286,Hilfstabelle!$B$1:$B$286))","v":""}]
[null,null,null,null,null,null,null,null,null,null,null,null,null,null,null,null,null,null,null,null,{"$f":"IF(W6423=\"\",\"\",LOOKUP(W6423,Hilfstabelle!$A$1:$A$286,Hilfstabelle!$B$1:$B$286))","v":""}]
[null,null,null,null,null,null,null,null,null,null,null,null,null,null,null,null,null,null,null,null,{"$f":"IF(W6426=\"\",\"\",LOOKUP(W6426,Hilfstabelle!$A$1:$A$286,Hilfstabelle!$B$1:$B$286))","v":""}]
[null,null,null,null,null,null,null,null,null,null,null,null,null,null,null,null,null,null,null,null,{"$f":"IF(W6427=\"\",\"\",LOOKUP(W6427,Hilfstabelle!$A$1:$A$286,Hilfstabelle!$B$1:$B$286))","v":""}]
[null,null,null,null,null,null,null,null,null,null,null,null,null,null,null,null,null,null,null,null,{"$f":"IF(W6431=\"\",\"\",LOOKUP(W6431,Hilfstabelle!$A$1:$A$286,Hilfstabelle!$B$1:$B$286))","v":""}]
[null,null,null,null,null,null,null,null,null,null,null,null,null,null,null,null,null,null,null,null,{"$f":"IF(W6432=\"\",\"\",LOOKUP(W6432,Hilfstabelle!$A$1:$A$286,Hilfstabelle!$B$1:$B$286))","v":""}]
[null,null,null,null,null,null,null,null,null,null,null,null,null,null,null,null,null,null,null,null,{"$f":"IF(W6435=\"\",\"\",LOOKUP(W6435,Hilfstabelle!$A$1:$A$286,Hilfstabelle!$B$1:$B$286))","v":""}]
[null,null,null,null,null,null,null,null,null,null,null,null,null,null,null,null,null,null,null,null,{"$f":"IF(W6436=\"\",\"\",LOOKUP(W6436,Hilfstabelle!$A$1:$A$286,Hilfstabelle!$B$1:$B$286))","v":""}]
[null,null,null,null,null,null,null,null,null,null,null,null,null,null,null,null,null,null,null,null,{"$f":"IF(W6439=\"\",\"\",LOOKUP(W6439,Hilfstabelle!$A$1:$A$286,Hilfstabelle!$B$1:$B$286))","v":""}]
[null,null,null,null,null,null,null,null,null,null,null,null,null,null,null,null,null,null,null,null,{"$f":"IF(W6441=\"\",\"\",LOOKUP(W6441,Hilfstabelle!$A$1:$A$286,Hilfstabelle!$B$1:$B$286))","v":""}]
[null,null,null,null,null,null,null,null,null,null,null,null,null,null,null,null,null,null,null,null,{"$f":"IF(W6444=\"\",\"\",LOOKUP(W6444,Hilfstabelle!$A$1:$A$286,Hilfstabelle!$B$1:$B$286))","v":""}]
[null,null,null,null,null,null,null,null,null,null,null,null,null,null,null,null,null,null,null,null,{"$f":"IF(W6445=\"\",\"\",LOOKUP(W6445,Hilfstabelle!$A$1:$A$286,Hilfstabelle!$B$1:$B$286))","v":""}]
[null,null,null,null,null,null,null,null,null,null,null,null,null,null,null,null,null,null,null,null,{"$f":"IF(W6449=\"\",\"\",LOOKUP(W6449,Hilfstabelle!$A$1:$A$286,Hilfstabelle!$B$1:$B$286))","v":""}]
[null,null,null,null,null,null,null,null,null,null,null,null,null,null,null,null,null,null,null,null,{"$f":"IF(W6450=\"\",\"\",LOOKUP(W6450,Hilfstabelle!$A$1:$A$286,Hilfstabelle!$B$1:$B$286))","v":""}]
[null,null,null,null,null,null,null,null,null,null,null,null,null,null,null,null,null,null,null,null,{"$f":"IF(W6453=\"\",\"\",LOOKUP(W6453,Hilfstabelle!$A$1:$A$286,Hilfstabelle!$B$1:$B$286))","v":""}]
[null,null,null,null,null,null,null,null,null,null,null,null,null,null,null,null,null,null,null,null,{"$f":"IF(W6454=\"\",\"\",LOOKUP(W6454,Hilfstabelle!$A$1:$A$286,Hilfstabelle!$B$1:$B$286))","v":""}]
[null,null,null,null,null,null,null,null,null,null,null,null,null,null,null,null,null,null,null,null,{"$f":"IF(W6457=\"\",\"\",LOOKUP(W6457,Hilfstabelle!$A$1:$A$286,Hilfstabelle!$B$1:$B$286))","v":""}]
[null,null,null,null,null,null,null,null,null,null,null,null,null,null,null,null,null,null,null,null,{"$f":"IF(W6459=\"\",\"\",LOOKUP(W6459,Hilfstabelle!$A$1:$A$286,Hilfstabelle!$B$1:$B$286))","v":""}]
[null,null,null,null,null,null,null,null,null,null,null,null,null,null,null,null,null,null,null,null,{"$f":"IF(W6462=\"\",\"\",LOOKUP(W6462,Hilfstabelle!$A$1:$A$286,Hilfstabelle!$B$1:$B$286))","v":""}]
[null,null,null,null,null,null,null,null,null,null,null,null,null,null,null,null,null,null,null,null,{"$f":"IF(W6463=\"\",\"\",LOOKUP(W6463,Hilfstabelle!$A$1:$A$286,Hilfstabelle!$B$1:$B$286))","v":""}]
[null,null,null,null,null,null,null,null,null,null,null,null,null,null,null,null,null,null,null,null,{"$f":"IF(W6467=\"\",\"\",LOOKUP(W6467,Hilfstabelle!$A$1:$A$286,Hilfstabelle!$B$1:$B$286))","v":""}]
[null,null,null,null,null,null,null,null,null,null,null,null,null,null,null,null,null,null,null,null,{"$f":"IF(W6468=\"\",\"\",LOOKUP(W6468,Hilfstabelle!$A$1:$A$286,Hilfstabelle!$B$1:$B$286))","v":""}]
[null,null,null,null,null,null,null,null,null,null,null,null,null,null,null,null,null,null,null,null,{"$f":"IF(W6471=\"\",\"\",LOOKUP(W6471,Hilfstabelle!$A$1:$A$286,Hilfstabelle!$B$1:$B$286))","v":""}]
[null,null,null,null,null,null,null,null,null,null,null,null,null,null,null,null,null,null,null,null,{"$f":"IF(W6472=\"\",\"\",LOOKUP(W6472,Hilfstabelle!$A$1:$A$286,Hilfstabelle!$B$1:$B$286))","v":""}]
[null,null,null,null,null,null,null,null,null,null,null,null,null,null,null,null,null,null,null,null,{"$f":"IF(W6475=\"\",\"\",LOOKUP(W6475,Hilfstabelle!$A$1:$A$286,Hilfstabelle!$B$1:$B$286))","v":""}]
[null,null,null,null,null,null,null,null,null,null,null,null,null,null,null,null,null,null,null,null,{"$f":"IF(W6477=\"\",\"\",LOOKUP(W6477,Hilfstabelle!$A$1:$A$286,Hilfstabelle!$B$1:$B$286))","v":""}]
[null,null,null,null,null,null,null,null,null,null,null,null,null,null,null,null,null,null,null,null,{"$f":"IF(W6480=\"\",\"\",LOOKUP(W6480,Hilfstabelle!$A$1:$A$286,Hilfstabelle!$B$1:$B$286))","v":""}]
[null,null,null,null,null,null,null,null,null,null,null,null,null,null,null,null,null,null,null,null,{"$f":"IF(W6481=\"\",\"\",LOOKUP(W6481,Hilfstabelle!$A$1:$A$286,Hilfstabelle!$B$1:$B$286))","v":""}]
[null,null,null,null,null,null,null,null,null,null,null,null,null,null,null,null,null,null,null,null,{"$f":"IF(W6485=\"\",\"\",LOOKUP(W6485,Hilfstabelle!$A$1:$A$286,Hilfstabelle!$B$1:$B$286))","v":""}]
[null,null,null,null,null,null,null,null,null,null,null,null,null,null,null,null,null,null,null,null,{"$f":"IF(W6486=\"\",\"\",LOOKUP(W6486,Hilfstabelle!$A$1:$A$286,Hilfstabelle!$B$1:$B$286))","v":""}]
[null,null,null,null,null,null,null,null,null,null,null,null,null,null,null,null,null,null,null,null,{"$f":"IF(W6489=\"\",\"\",LOOKUP(W6489,Hilfstabelle!$A$1:$A$286,Hilfstabelle!$B$1:$B$286))","v":""}]
[null,null,null,null,null,null,null,null,null,null,null,null,null,null,null,null,null,null,null,null,{"$f":"IF(W6490=\"\",\"\",LOOKUP(W6490,Hilfstabelle!$A$1:$A$286,Hilfstabelle!$B$1:$B$286))","v":""}]
[null,null,null,null,null,null,null,null,null,null,null,null,null,null,null,null,null,null,null,null,{"$f":"IF(W6493=\"\",\"\",LOOKUP(W6493,Hilfstabelle!$A$1:$A$286,Hilfstabelle!$B$1:$B$286))","v":""}]
[null,null,null,null,null,null,null,null,null,null,null,null,null,null,null,null,null,null,null,null,{"$f":"IF(W6495=\"\",\"\",LOOKUP(W6495,Hilfstabelle!$A$1:$A$286,Hilfstabelle!$B$1:$B$286))","v":""}]
[null,null,null,null,null,null,null,null,null,null,null,null,null,null,null,null,null,null,null,null,{"$f":"IF(W6498=\"\",\"\",LOOKUP(W6498,Hilfstabelle!$A$1:$A$286,Hilfstabelle!$B$1:$B$286))","v":""}]
[null,null,null,null,null,null,null,null,null,null,null,null,null,null,null,null,null,null,null,null,{"$f":"IF(W6501=\"\",\"\",LOOKUP(W6501,Hilfstabelle!$A$1:$A$286,Hilfstabelle!$B$1:$B$286))","v":""}]
[null,null,null,null,null,null,null,null,null,null,null,null,null,null,null,null,null,null,null,null,{"$f":"IF(W6502=\"\",\"\",LOOKUP(W6502,Hilfstabelle!$A$1:$A$286,Hilfstabelle!$B$1:$B$286))","v":""}]
[null,null,null,null,null,null,null,null,null,null,null,null,null,null,null,null,null,null,null,null,{"$f":"IF(W6503=\"\",\"\",LOOKUP(W6503,Hilfstabelle!$A$1:$A$286,Hilfstabelle!$B$1:$B$286))","v":""}]
[null,null,null,null,null,null,null,null,null,null,null,null,null,null,null,null,null,null,null,null,{"$f":"IF(W6504=\"\",\"\",LOOKUP(W6504,Hilfstabelle!$A$1:$A$286,Hilfstabelle!$B$1:$B$286))","v":""}]
[null,null,null,null,null,null,null,null,null,null,null,null,null,null,null,null,null,null,null,null,{"$f":"IF(W6505=\"\",\"\",LOOKUP(W6505,Hilfstabelle!$A$1:$A$286,Hilfstabelle!$B$1:$B$286))","v":""}]
[null,null,null,null,null,null,null,null,null,null,null,null,null,null,null,null,null,null,null,null,{"$f":"IF(W6506=\"\",\"\",LOOKUP(W6506,Hilfstabelle!$A$1:$A$286,Hilfstabelle!$B$1:$B$286))","v":""}]
[null,null,null,null,null,null,null,null,null,null,null,null,null,null,null,null,null,null,null,null,{"$f":"IF(W6507=\"\",\"\",LOOKUP(W6507,Hilfstabelle!$A$1:$A$286,Hilfstabelle!$B$1:$B$286))","v":""}]
[null,null,null,null,null,null,null,null,null,null,null,null,null,null,null,null,null,null,null,null,{"$f":"IF(W6508=\"\",\"\",LOOKUP(W6508,Hilfstabelle!$A$1:$A$286,Hilfstabelle!$B$1:$B$286))","v":""}]
[null,null,null,null,null,null,null,null,null,null,null,null,null,null,null,null,null,null,null,null,{"$f":"IF(W6509=\"\",\"\",LOOKUP(W6509,Hilfstabelle!$A$1:$A$286,Hilfstabelle!$B$1:$B$286))","v":""}]
[null,null,null,null,null,null,null,null,null,null,null,null,null,null,null,null,null,null,null,null,{"$f":"IF(W6510=\"\",\"\",LOOKUP(W6510,Hilfstabelle!$A$1:$A$286,Hilfstabelle!$B$1:$B$286))","v":""}]
[null,null,null,null,null,null,null,null,null,null,null,null,null,null,null,null,null,null,null,null,{"$f":"IF(W6511=\"\",\"\",LOOKUP(W6511,Hilfstabelle!$A$1:$A$286,Hilfstabelle!$B$1:$B$286))","v":""}]
[null,null,null,null,null,null,null,null,null,null,null,null,null,null,null,null,null,null,null,null,{"$f":"IF(W6512=\"\",\"\",LOOKUP(W6512,Hilfstabelle!$A$1:$A$286,Hilfstabelle!$B$1:$B$286))","v":""}]
[null,null,null,null,null,null,null,null,null,null,null,null,null,null,null,null,null,null,null,null,{"$f":"IF(W6513=\"\",\"\",LOOKUP(W6513,Hilfstabelle!$A$1:$A$286,Hilfstabelle!$B$1:$B$286))","v":""}]
[null,null,null,null,null,null,null,null,null,null,null,null,null,null,null,null,null,null,null,null,{"$f":"IF(W6514=\"\",\"\",LOOKUP(W6514,Hilfstabelle!$A$1:$A$286,Hilfstabelle!$B$1:$B$286))","v":""}]
[null,null,null,null,null,null,null,null,null,null,null,null,null,null,null,null,null,null,null,null,{"$f":"IF(W6515=\"\",\"\",LOOKUP(W6515,Hilfstabelle!$A$1:$A$286,Hilfstabelle!$B$1:$B$286))","v":""}]
[null,null,null,null,null,null,null,null,null,null,null,null,null,null,null,null,null,null,null,null,{"$f":"IF(W6516=\"\",\"\",LOOKUP(W6516,Hilfstabelle!$A$1:$A$286,Hilfstabelle!$B$1:$B$286))","v":""}]
[null,null,null,null,null,null,null,null,null,null,null,null,null,null,null,null,null,null,null,null,{"$f":"IF(W6517=\"\",\"\",LOOKUP(W6517,Hilfstabelle!$A$1:$A$286,Hilfstabelle!$B$1:$B$286))","v":""}]
[null,null,null,null,null,null,null,null,null,null,null,null,null,null,null,null,null,null,null,null,{"$f":"IF(W6518=\"\",\"\",LOOKUP(W6518,Hilfstabelle!$A$1:$A$286,Hilfstabelle!$B$1:$B$286))","v":""}]
[null,null,null,null,null,null,null,null,null,null,null,null,null,null,null,null,null,null,null,null,{"$f":"IF(W6519=\"\",\"\",LOOKUP(W6519,Hilfstabelle!$A$1:$A$286,Hilfstabelle!$B$1:$B$286))","v":""}]
[null,null,null,null,null,null,null,null,null,null,null,null,null,null,null,null,null,null,null,null,{"$f":"IF(W6520=\"\",\"\",LOOKUP(W6520,Hilfstabelle!$A$1:$A$286,Hilfstabelle!$B$1:$B$286))","v":""}]
[null,null,null,null,null,null,null,null,null,null,null,null,null,null,null,null,null,null,null,null,{"$f":"IF(W6521=\"\",\"\",LOOKUP(W6521,Hilfstabelle!$A$1:$A$286,Hilfstabelle!$B$1:$B$286))","v":""}]
[null,null,null,null,null,null,null,null,null,null,null,null,null,null,null,null,null,null,null,null,{"$f":"IF(W6522=\"\",\"\",LOOKUP(W6522,Hilfstabelle!$A$1:$A$286,Hilfstabelle!$B$1:$B$286))","v":""}]
[null,null,null,null,null,null,null,null,null,null,null,null,null,null,null,null,null,null,null,null,{"$f":"IF(W6523=\"\",\"\",LOOKUP(W6523,Hilfstabelle!$A$1:$A$286,Hilfstabelle!$B$1:$B$286))","v":""}]
[null,null,null,null,null,null,null,null,null,null,null,null,null,null,null,null,null,null,null,null,{"$f":"IF(W6524=\"\",\"\",LOOKUP(W6524,Hilfstabelle!$A$1:$A$286,Hilfstabelle!$B$1:$B$286))","v":""}]
[null,null,null,null,null,null,null,null,null,null,null,null,null,null,null,null,null,null,null,null,{"$f":"IF(W6525=\"\",\"\",LOOKUP(W6525,Hilfstabelle!$A$1:$A$286,Hilfstabelle!$B$1:$B$286))","v":""}]
[null,null,null,null,null,null,null,null,null,null,null,null,null,null,null,null,null,null,null,null,{"$f":"IF(W6526=\"\",\"\",LOOKUP(W6526,Hilfstabelle!$A$1:$A$286,Hilfstabelle!$B$1:$B$286))","v":""}]
[null,null,null,null,null,null,null,null,null,null,null,null,null,null,null,null,null,null,null,null,{"$f":"IF(W6527=\"\",\"\",LOOKUP(W6527,Hilfstabelle!$A$1:$A$286,Hilfstabelle!$B$1:$B$286))","v":""}]
[null,null,null,null,null,null,null,null,null,null,null,null,null,null,null,null,null,null,null,null,{"$f":"IF(W6528=\"\",\"\",LOOKUP(W6528,Hilfstabelle!$A$1:$A$286,Hilfstabelle!$B$1:$B$286))","v":""}]
[null,null,null,null,null,null,null,null,null,null,null,null,null,null,null,null,null,null,null,null,{"$f":"IF(W6529=\"\",\"\",LOOKUP(W6529,Hilfstabelle!$A$1:$A$286,Hilfstabelle!$B$1:$B$286))","v":""}]
[null,null,null,null,null,null,null,null,null,null,null,null,null,null,null,null,null,null,null,null,{"$f":"IF(W6530=\"\",\"\",LOOKUP(W6530,Hilfstabelle!$A$1:$A$286,Hilfstabelle!$B$1:$B$286))","v":""}]
[null,null,null,null,null,null,null,null,null,null,null,null,null,null,null,null,null,null,null,null,{"$f":"IF(W6531=\"\",\"\",LOOKUP(W6531,Hilfstabelle!$A$1:$A$286,Hilfstabelle!$B$1:$B$286))","v":""}]
[null,null,null,null,null,null,null,null,null,null,null,null,null,null,null,null,null,null,null,null,{"$f":"IF(W6532=\"\",\"\",LOOKUP(W6532,Hilfstabelle!$A$1:$A$286,Hilfstabelle!$B$1:$B$286))","v":""}]
[null,null,null,null,null,null,null,null,null,null,null,null,null,null,null,null,null,null,null,null,{"$f":"IF(W6533=\"\",\"\",LOOKUP(W6533,Hilfstabelle!$A$1:$A$286,Hilfstabelle!$B$1:$B$286))","v":""}]
[null,null,null,null,null,null,null,null,null,null,null,null,null,null,null,null,null,null,null,null,{"$f":"IF(W6534=\"\",\"\",LOOKUP(W6534,Hilfstabelle!$A$1:$A$286,Hilfstabelle!$B$1:$B$286))","v":""}]
[null,null,null,null,null,null,null,null,null,null,null,null,null,null,null,null,null,null,null,null,{"$f":"IF(W6535=\"\",\"\",LOOKUP(W6535,Hilfstabelle!$A$1:$A$286,Hilfstabelle!$B$1:$B$286))","v":""}]
[null,null,null,null,null,null,null,null,null,null,null,null,null,null,null,null,null,null,null,null,{"$f":"IF(W6536=\"\",\"\",LOOKUP(W6536,Hilfstabelle!$A$1:$A$286,Hilfstabelle!$B$1:$B$286))","v":""}]
[null,null,null,null,null,null,null,null,null,null,null,null,null,null,null,null,null,null,null,null,{"$f":"IF(W6537=\"\",\"\",LOOKUP(W6537,Hilfstabelle!$A$1:$A$286,Hilfstabelle!$B$1:$B$286))","v":""}]
[null,null,null,null,null,null,null,null,null,null,null,null,null,null,null,null,null,null,null,null,{"$f":"IF(W6538=\"\",\"\",LOOKUP(W6538,Hilfstabelle!$A$1:$A$286,Hilfstabelle!$B$1:$B$286))","v":""}]
[null,null,null,null,null,null,null,null,null,null,null,null,null,null,null,null,null,null,null,null,{"$f":"IF(W6539=\"\",\"\",LOOKUP(W6539,Hilfstabelle!$A$1:$A$286,Hilfstabelle!$B$1:$B$286))","v":""}]
[null,null,null,null,null,null,null,null,null,null,null,null,null,null,null,null,null,null,null,null,{"$f":"IF(W6540=\"\",\"\",LOOKUP(W6540,Hilfstabelle!$A$1:$A$286,Hilfstabelle!$B$1:$B$286))","v":""}]
[null,null,null,null,null,null,null,null,null,null,null,null,null,null,null,null,null,null,null,null,{"$f":"IF(W6541=\"\",\"\",LOOKUP(W6541,Hilfstabelle!$A$1:$A$286,Hilfstabelle!$B$1:$B$286))","v":""}]
[null,null,null,null,null,null,null,null,null,null,null,null,null,null,null,null,null,null,null,null,{"$f":"IF(W6542=\"\",\"\",LOOKUP(W6542,Hilfstabelle!$A$1:$A$286,Hilfstabelle!$B$1:$B$286))","v":""}]
[null,null,null,null,null,null,null,null,null,null,null,null,null,null,null,null,null,null,null,null,{"$f":"IF(W6543=\"\",\"\",LOOKUP(W6543,Hilfstabelle!$A$1:$A$286,Hilfstabelle!$B$1:$B$286))","v":""}]
[null,null,null,null,null,null,null,null,null,null,null,null,null,null,null,null,null,null,null,null,{"$f":"IF(W6544=\"\",\"\",LOOKUP(W6544,Hilfstabelle!$A$1:$A$286,Hilfstabelle!$B$1:$B$286))","v":""}]
[null,null,null,null,null,null,null,null,null,null,null,null,null,null,null,null,null,null,null,null,{"$f":"IF(W6545=\"\",\"\",LOOKUP(W6545,Hilfstabelle!$A$1:$A$286,Hilfstabelle!$B$1:$B$286))","v":""}]
[null,null,null,null,null,null,null,null,null,null,null,null,null,null,null,null,null,null,null,null,{"$f":"IF(W6546=\"\",\"\",LOOKUP(W6546,Hilfstabelle!$A$1:$A$286,Hilfstabelle!$B$1:$B$286))","v":""}]
[null,null,null,null,null,null,null,null,null,null,null,null,null,null,null,null,null,null,null,null,{"$f":"IF(W6547=\"\",\"\",LOOKUP(W6547,Hilfstabelle!$A$1:$A$286,Hilfstabelle!$B$1:$B$286))","v":""}]
[null,null,null,null,null,null,null,null,null,null,null,null,null,null,null,null,null,null,null,null,{"$f":"IF(W6548=\"\",\"\",LOOKUP(W6548,Hilfstabelle!$A$1:$A$286,Hilfstabelle!$B$1:$B$286))","v":""}]
[null,null,null,null,null,null,null,null,null,null,null,null,null,null,null,null,null,null,null,null,{"$f":"IF(W6549=\"\",\"\",LOOKUP(W6549,Hilfstabelle!$A$1:$A$286,Hilfstabelle!$B$1:$B$286))","v":""}]
[null,null,null,null,null,null,null,null,null,null,null,null,null,null,null,null,null,null,null,null,{"$f":"IF(W6550=\"\",\"\",LOOKUP(W6550,Hilfstabelle!$A$1:$A$286,Hilfstabelle!$B$1:$B$286))","v":""}]
[null,null,null,null,null,null,null,null,null,null,null,null,null,null,null,null,null,null,null,null,{"$f":"IF(W6551=\"\",\"\",LOOKUP(W6551,Hilfstabelle!$A$1:$A$286,Hilfstabelle!$B$1:$B$286))","v":""}]
[null,null,null,null,null,null,null,null,null,null,null,null,null,null,null,null,null,null,null,null,{"$f":"IF(W6552=\"\",\"\",LOOKUP(W6552,Hilfstabelle!$A$1:$A$286,Hilfstabelle!$B$1:$B$286))","v":""}]
[null,null,null,null,null,null,null,null,null,null,null,null,null,null,null,null,null,null,null,null,{"$f":"IF(W6553=\"\",\"\",LOOKUP(W6553,Hilfstabelle!$A$1:$A$286,Hilfstabelle!$B$1:$B$286))","v":""}]
[null,null,null,null,null,null,null,null,null,null,null,null,null,null,null,null,null,null,null,null,{"$f":"IF(W6554=\"\",\"\",LOOKUP(W6554,Hilfstabelle!$A$1:$A$286,Hilfstabelle!$B$1:$B$286))","v":""}]
[null,null,null,null,null,null,null,null,null,null,null,null,null,null,null,null,null,null,null,null,{"$f":"IF(W6555=\"\",\"\",LOOKUP(W6555,Hilfstabelle!$A$1:$A$286,Hilfstabelle!$B$1:$B$286))","v":""}]
[null,null,null,null,null,null,null,null,null,null,null,null,null,null,null,null,null,null,null,null,{"$f":"IF(W6556=\"\",\"\",LOOKUP(W6556,Hilfstabelle!$A$1:$A$286,Hilfstabelle!$B$1:$B$286))","v":""}]
[null,null,null,null,null,null,null,null,null,null,null,null,null,null,null,null,null,null,null,null,{"$f":"IF(W6557=\"\",\"\",LOOKUP(W6557,Hilfstabelle!$A$1:$A$286,Hilfstabelle!$B$1:$B$286))","v":""}]
[null,null,null,null,null,null,null,null,null,null,null,null,null,null,null,null,null,null,null,null,{"$f":"IF(W6558=\"\",\"\",LOOKUP(W6558,Hilfstabelle!$A$1:$A$286,Hilfstabelle!$B$1:$B$286))","v":""}]
[null,null,null,null,null,null,null,null,null,null,null,null,null,null,null,null,null,null,null,null,{"$f":"IF(W6559=\"\",\"\",LOOKUP(W6559,Hilfstabelle!$A$1:$A$286,Hilfstabelle!$B$1:$B$286))","v":""}]
[null,null,null,null,null,null,null,null,null,null,null,null,null,null,null,null,null,null,null,null,{"$f":"IF(W6560=\"\",\"\",LOOKUP(W6560,Hilfstabelle!$A$1:$A$286,Hilfstabelle!$B$1:$B$286))","v":""}]
[null,null,null,null,null,null,null,null,null,null,null,null,null,null,null,null,null,null,null,null,{"$f":"IF(W6561=\"\",\"\",LOOKUP(W6561,Hilfstabelle!$A$1:$A$286,Hilfstabelle!$B$1:$B$286))","v":""}]
[null,null,null,null,null,null,null,null,null,null,null,null,null,null,null,null,null,null,null,null,{"$f":"IF(W6562=\"\",\"\",LOOKUP(W6562,Hilfstabelle!$A$1:$A$286,Hilfstabelle!$B$1:$B$286))","v":""}]
[null,null,null,null,null,null,null,null,null,null,null,null,null,null,null,null,null,null,null,null,{"$f":"IF(W6563=\"\",\"\",LOOKUP(W6563,Hilfstabelle!$A$1:$A$286,Hilfstabelle!$B$1:$B$286))","v":""}]
[null,null,null,null,null,null,null,null,null,null,null,null,null,null,null,null,null,null,null,null,{"$f":"IF(W6564=\"\",\"\",LOOKUP(W6564,Hilfstabelle!$A$1:$A$286,Hilfstabelle!$B$1:$B$286))","v":""}]
[null,null,null,null,null,null,null,null,null,null,null,null,null,null,null,null,null,null,null,null,{"$f":"IF(W6565=\"\",\"\",LOOKUP(W6565,Hilfstabelle!$A$1:$A$286,Hilfstabelle!$B$1:$B$286))","v":""}]
[null,null,null,null,null,null,null,null,null,null,null,null,null,null,null,null,null,null,null,null,{"$f":"IF(W6566=\"\",\"\",LOOKUP(W6566,Hilfstabelle!$A$1:$A$286,Hilfstabelle!$B$1:$B$286))","v":""}]
[null,null,null,null,null,null,null,null,null,null,null,null,null,null,null,null,null,null,null,null,{"$f":"IF(W6567=\"\",\"\",LOOKUP(W6567,Hilfstabelle!$A$1:$A$286,Hilfstabelle!$B$1:$B$286))","v":""}]
[null,null,null,null,null,null,null,null,null,null,null,null,null,null,null,null,null,null,null,null,{"$f":"IF(W6568=\"\",\"\",LOOKUP(W6568,Hilfstabelle!$A$1:$A$286,Hilfstabelle!$B$1:$B$286))","v":""}]
[null,null,null,null,null,null,null,null,null,null,null,null,null,null,null,null,null,null,null,null,{"$f":"IF(W6569=\"\",\"\",LOOKUP(W6569,Hilfstabelle!$A$1:$A$286,Hilfstabelle!$B$1:$B$286))","v":""}]
[null,null,null,null,null,null,null,null,null,null,null,null,null,null,null,null,null,null,null,null,{"$f":"IF(W6570=\"\",\"\",LOOKUP(W6570,Hilfstabelle!$A$1:$A$286,Hilfstabelle!$B$1:$B$286))","v":""}]
[null,null,null,null,null,null,null,null,null,null,null,null,null,null,null,null,null,null,null,null,{"$f":"IF(W6571=\"\",\"\",LOOKUP(W6571,Hilfstabelle!$A$1:$A$286,Hilfstabelle!$B$1:$B$286))","v":""}]
[null,null,null,null,null,null,null,null,null,null,null,null,null,null,null,null,null,null,null,null,{"$f":"IF(W6572=\"\",\"\",LOOKUP(W6572,Hilfstabelle!$A$1:$A$286,Hilfstabelle!$B$1:$B$286))","v":""}]
[null,null,null,null,null,null,null,null,null,null,null,null,null,null,null,null,null,null,null,null,{"$f":"IF(W6573=\"\",\"\",LOOKUP(W6573,Hilfstabelle!$A$1:$A$286,Hilfstabelle!$B$1:$B$286))","v":""}]
[null,null,null,null,null,null,null,null,null,null,null,null,null,null,null,null,null,null,null,null,{"$f":"IF(W6574=\"\",\"\",LOOKUP(W6574,Hilfstabelle!$A$1:$A$286,Hilfstabelle!$B$1:$B$286))","v":""}]
[null,null,null,null,null,null,null,null,null,null,null,null,null,null,null,null,null,null,null,null,{"$f":"IF(W6575=\"\",\"\",LOOKUP(W6575,Hilfstabelle!$A$1:$A$286,Hilfstabelle!$B$1:$B$286))","v":""}]
[null,null,null,null,null,null,null,null,null,null,null,null,null,null,null,null,null,null,null,null,{"$f":"IF(W6576=\"\",\"\",LOOKUP(W6576,Hilfstabelle!$A$1:$A$286,Hilfstabelle!$B$1:$B$286))","v":""}]
[null,null,null,null,null,null,null,null,null,null,null,null,null,null,null,null,null,null,null,null,{"$f":"IF(W6577=\"\",\"\",LOOKUP(W6577,Hilfstabelle!$A$1:$A$286,Hilfstabelle!$B$1:$B$286))","v":""}]
[null,null,null,null,null,null,null,null,null,null,null,null,null,null,null,null,null,null,null,null,{"$f":"IF(W6578=\"\",\"\",LOOKUP(W6578,Hilfstabelle!$A$1:$A$286,Hilfstabelle!$B$1:$B$286))","v":""}]
[null,null,null,null,null,null,null,null,null,null,null,null,null,null,null,null,null,null,null,null,{"$f":"IF(W6579=\"\",\"\",LOOKUP(W6579,Hilfstabelle!$A$1:$A$286,Hilfstabelle!$B$1:$B$286))","v":""}]
[null,null,null,null,null,null,null,null,null,null,null,null,null,null,null,null,null,null,null,null,{"$f":"IF(W6580=\"\",\"\",LOOKUP(W6580,Hilfstabelle!$A$1:$A$286,Hilfstabelle!$B$1:$B$286))","v":""}]
[null,null,null,null,null,null,null,null,null,null,null,null,null,null,null,null,null,null,null,null,{"$f":"IF(W6581=\"\",\"\",LOOKUP(W6581,Hilfstabelle!$A$1:$A$286,Hilfstabelle!$B$1:$B$286))","v":""}]
[null,null,null,null,null,null,null,null,null,null,null,null,null,null,null,null,null,null,null,null,{"$f":"IF(W6582=\"\",\"\",LOOKUP(W6582,Hilfstabelle!$A$1:$A$286,Hilfstabelle!$B$1:$B$286))","v":""}]
[null,null,null,null,null,null,null,null,null,null,null,null,null,null,null,null,null,null,null,null,{"$f":"IF(W6583=\"\",\"\",LOOKUP(W6583,Hilfstabelle!$A$1:$A$286,Hilfstabelle!$B$1:$B$286))","v":""}]
[null,null,null,null,null,null,null,null,null,null,null,null,null,null,null,null,null,null,null,null,{"$f":"IF(W6584=\"\",\"\",LOOKUP(W6584,Hilfstabelle!$A$1:$A$286,Hilfstabelle!$B$1:$B$286))","v":""}]
[null,null,null,null,null,null,null,null,null,null,null,null,null,null,null,null,null,null,null,null,{"$f":"IF(W6585=\"\",\"\",LOOKUP(W6585,Hilfstabelle!$A$1:$A$286,Hilfstabelle!$B$1:$B$286))","v":""}]
[null,null,null,null,null,null,null,null,null,null,null,null,null,null,null,null,null,null,null,null,{"$f":"IF(W6586=\"\",\"\",LOOKUP(W6586,Hilfstabelle!$A$1:$A$286,Hilfstabelle!$B$1:$B$286))","v":""}]
[null,null,null,null,null,null,null,null,null,null,null,null,null,null,null,null,null,null,null,null,{"$f":"IF(W6587=\"\",\"\",LOOKUP(W6587,Hilfstabelle!$A$1:$A$286,Hilfstabelle!$B$1:$B$286))","v":""}]
[null,null,null,null,null,null,null,null,null,null,null,null,null,null,null,null,null,null,null,null,{"$f":"IF(W6588=\"\",\"\",LOOKUP(W6588,Hilfstabelle!$A$1:$A$286,Hilfstabelle!$B$1:$B$286))","v":""}]
[null,null,null,null,null,null,null,null,null,null,null,null,null,null,null,null,null,null,null,null,{"$f":"IF(W6589=\"\",\"\",LOOKUP(W6589,Hilfstabelle!$A$1:$A$286,Hilfstabelle!$B$1:$B$286))","v":""}]
[null,null,null,null,null,null,null,null,null,null,null,null,null,null,null,null,null,null,null,null,{"$f":"IF(W6590=\"\",\"\",LOOKUP(W6590,Hilfstabelle!$A$1:$A$286,Hilfstabelle!$B$1:$B$286))","v":""}]
[null,null,null,null,null,null,null,null,null,null,null,null,null,null,null,null,null,null,null,null,{"$f":"IF(W6591=\"\",\"\",LOOKUP(W6591,Hilfstabelle!$A$1:$A$286,Hilfstabelle!$B$1:$B$286))","v":""}]
[null,null,null,null,null,null,null,null,null,null,null,null,null,null,null,null,null,null,null,null,{"$f":"IF(W6592=\"\",\"\",LOOKUP(W6592,Hilfstabelle!$A$1:$A$286,Hilfstabelle!$B$1:$B$286))","v":""}]
[null,null,null,null,null,null,null,null,null,null,null,null,null,null,null,null,null,null,null,null,{"$f":"IF(W6593=\"\",\"\",LOOKUP(W6593,Hilfstabelle!$A$1:$A$286,Hilfstabelle!$B$1:$B$286))","v":""}]
[null,null,null,null,null,null,null,null,null,null,null,null,null,null,null,null,null,null,null,null,{"$f":"IF(W6594=\"\",\"\",LOOKUP(W6594,Hilfstabelle!$A$1:$A$286,Hilfstabelle!$B$1:$B$286))","v":""}]
[null,null,null,null,null,null,null,null,null,null,null,null,null,null,null,null,null,null,null,null,{"$f":"IF(W6595=\"\",\"\",LOOKUP(W6595,Hilfstabelle!$A$1:$A$286,Hilfstabelle!$B$1:$B$286))","v":""}]
[null,null,null,null,null,null,null,null,null,null,null,null,null,null,null,null,null,null,null,null,{"$f":"IF(W6596=\"\",\"\",LOOKUP(W6596,Hilfstabelle!$A$1:$A$286,Hilfstabelle!$B$1:$B$286))","v":""}]
[null,null,null,null,null,null,null,null,null,null,null,null,null,null,null,null,null,null,null,null,{"$f":"IF(W6597=\"\",\"\",LOOKUP(W6597,Hilfstabelle!$A$1:$A$286,Hilfstabelle!$B$1:$B$286))","v":""}]
[null,null,null,null,null,null,null,null,null,null,null,null,null,null,null,null,null,null,null,null,{"$f":"IF(W6598=\"\",\"\",LOOKUP(W6598,Hilfstabelle!$A$1:$A$286,Hilfstabelle!$B$1:$B$286))","v":""}]
[null,null,null,null,null,null,null,null,null,null,null,null,null,null,null,null,null,null,null,null,{"$f":"IF(W6599=\"\",\"\",LOOKUP(W6599,Hilfstabelle!$A$1:$A$286,Hilfstabelle!$B$1:$B$286))","v":""}]
[null,null,null,null,null,null,null,null,null,null,null,null,null,null,null,null,null,null,null,null,{"$f":"IF(W6600=\"\",\"\",LOOKUP(W6600,Hilfstabelle!$A$1:$A$286,Hilfstabelle!$B$1:$B$286))","v":""}]
[null,null,null,null,null,null,null,null,null,null,null,null,null,null,null,null,null,null,null,null,{"$f":"IF(W6601=\"\",\"\",LOOKUP(W6601,Hilfstabelle!$A$1:$A$286,Hilfstabelle!$B$1:$B$286))","v":""}]
[null,null,null,null,null,null,null,null,null,null,null,null,null,null,null,null,null,null,null,null,{"$f":"IF(W6602=\"\",\"\",LOOKUP(W6602,Hilfstabelle!$A$1:$A$286,Hilfstabelle!$B$1:$B$286))","v":""}]
[null,null,null,null,null,null,null,null,null,null,null,null,null,null,null,null,null,null,null,null,{"$f":"IF(W6603=\"\",\"\",LOOKUP(W6603,Hilfstabelle!$A$1:$A$286,Hilfstabelle!$B$1:$B$286))","v":""}]
[null,null,null,null,null,null,null,null,null,null,null,null,null,null,null,null,null,null,null,null,{"$f":"IF(W6604=\"\",\"\",LOOKUP(W6604,Hilfstabelle!$A$1:$A$286,Hilfstabelle!$B$1:$B$286))","v":""}]
[null,null,null,null,null,null,null,null,null,null,null,null,null,null,null,null,null,null,null,null,{"$f":"IF(W6605=\"\",\"\",LOOKUP(W6605,Hilfstabelle!$A$1:$A$286,Hilfstabelle!$B$1:$B$286))","v":""}]
[null,null,null,null,null,null,null,null,null,null,null,null,null,null,null,null,null,null,null,null,{"$f":"IF(W6606=\"\",\"\",LOOKUP(W6606,Hilfstabelle!$A$1:$A$286,Hilfstabelle!$B$1:$B$286))","v":""}]
[null,null,null,null,null,null,null,null,null,null,null,null,null,null,null,null,null,null,null,null,{"$f":"IF(W6607=\"\",\"\",LOOKUP(W6607,Hilfstabelle!$A$1:$A$286,Hilfstabelle!$B$1:$B$286))","v":""}]
[null,null,null,null,null,null,null,null,null,null,null,null,null,null,null,null,null,null,null,null,{"$f":"IF(W6608=\"\",\"\",LOOKUP(W6608,Hilfstabelle!$A$1:$A$286,Hilfstabelle!$B$1:$B$286))","v":""}]
[null,null,null,null,null,null,null,null,null,null,null,null,null,null,null,null,null,null,null,null,{"$f":"IF(W6609=\"\",\"\",LOOKUP(W6609,Hilfstabelle!$A$1:$A$286,Hilfstabelle!$B$1:$B$286))","v":""}]
[null,null,null,null,null,null,null,null,null,null,null,null,null,null,null,null,null,null,null,null,{"$f":"IF(W6610=\"\",\"\",LOOKUP(W6610,Hilfstabelle!$A$1:$A$286,Hilfstabelle!$B$1:$B$286))","v":""}]
[null,null,null,null,null,null,null,null,null,null,null,null,null,null,null,null,null,null,null,null,{"$f":"IF(W6611=\"\",\"\",LOOKUP(W6611,Hilfstabelle!$A$1:$A$286,Hilfstabelle!$B$1:$B$286))","v":""}]
[null,null,null,null,null,null,null,null,null,null,null,null,null,null,null,null,null,null,null,null,{"$f":"IF(W6612=\"\",\"\",LOOKUP(W6612,Hilfstabelle!$A$1:$A$286,Hilfstabelle!$B$1:$B$286))","v":""}]
[null,null,null,null,null,null,null,null,null,null,null,null,null,null,null,null,null,null,null,null,{"$f":"IF(W6613=\"\",\"\",LOOKUP(W6613,Hilfstabelle!$A$1:$A$286,Hilfstabelle!$B$1:$B$286))","v":""}]
[null,null,null,null,null,null,null,null,null,null,null,null,null,null,null,null,null,null,null,null,{"$f":"IF(W6614=\"\",\"\",LOOKUP(W6614,Hilfstabelle!$A$1:$A$286,Hilfstabelle!$B$1:$B$286))","v":""}]
[null,null,null,null,null,null,null,null,null,null,null,null,null,null,null,null,null,null,null,null,{"$f":"IF(W6615=\"\",\"\",LOOKUP(W6615,Hilfstabelle!$A$1:$A$286,Hilfstabelle!$B$1:$B$286))","v":""}]
[null,null,null,null,null,null,null,null,null,null,null,null,null,null,null,null,null,null,null,null,{"$f":"IF(W6616=\"\",\"\",LOOKUP(W6616,Hilfstabelle!$A$1:$A$286,Hilfstabelle!$B$1:$B$286))","v":""}]
[null,null,null,null,null,null,null,null,null,null,null,null,null,null,null,null,null,null,null,null,{"$f":"IF(W6617=\"\",\"\",LOOKUP(W6617,Hilfstabelle!$A$1:$A$286,Hilfstabelle!$B$1:$B$286))","v":""}]
[null,null,null,null,null,null,null,null,null,null,null,null,null,null,null,null,null,null,null,null,{"$f":"IF(W6618=\"\",\"\",LOOKUP(W6618,Hilfstabelle!$A$1:$A$286,Hilfstabelle!$B$1:$B$286))","v":""}]
[null,null,null,null,null,null,null,null,null,null,null,null,null,null,null,null,null,null,null,null,{"$f":"IF(W6619=\"\",\"\",LOOKUP(W6619,Hilfstabelle!$A$1:$A$286,Hilfstabelle!$B$1:$B$286))","v":""}]
[null,null,null,null,null,null,null,null,null,null,null,null,null,null,null,null,null,null,null,null,{"$f":"IF(W6620=\"\",\"\",LOOKUP(W6620,Hilfstabelle!$A$1:$A$286,Hilfstabelle!$B$1:$B$286))","v":""}]
[null,null,null,null,null,null,null,null,null,null,null,null,null,null,null,null,null,null,null,null,{"$f":"IF(W6621=\"\",\"\",LOOKUP(W6621,Hilfstabelle!$A$1:$A$286,Hilfstabelle!$B$1:$B$286))","v":""}]
[null,null,null,null,null,null,null,null,null,null,null,null,null,null,null,null,null,null,null,null,{"$f":"IF(W6622=\"\",\"\",LOOKUP(W6622,Hilfstabelle!$A$1:$A$286,Hilfstabelle!$B$1:$B$286))","v":""}]
[null,null,null,null,null,null,null,null,null,null,null,null,null,null,null,null,null,null,null,null,{"$f":"IF(W6623=\"\",\"\",LOOKUP(W6623,Hilfstabelle!$A$1:$A$286,Hilfstabelle!$B$1:$B$286))","v":""}]
[null,null,null,null,null,null,null,null,null,null,null,null,null,null,null,null,null,null,null,null,{"$f":"IF(W6624=\"\",\"\",LOOKUP(W6624,Hilfstabelle!$A$1:$A$286,Hilfstabelle!$B$1:$B$286))","v":""}]
[null,null,null,null,null,null,null,null,null,null,null,null,null,null,null,null,null,null,null,null,{"$f":"IF(W6625=\"\",\"\",LOOKUP(W6625,Hilfstabelle!$A$1:$A$286,Hilfstabelle!$B$1:$B$286))","v":""}]
[null,null,null,null,null,null,null,null,null,null,null,null,null,null,null,null,null,null,null,null,{"$f":"IF(W6626=\"\",\"\",LOOKUP(W6626,Hilfstabelle!$A$1:$A$286,Hilfstabelle!$B$1:$B$286))","v":""}]
[null,null,null,null,null,null,null,null,null,null,null,null,null,null,null,null,null,null,null,null,{"$f":"IF(W6627=\"\",\"\",LOOKUP(W6627,Hilfstabelle!$A$1:$A$286,Hilfstabelle!$B$1:$B$286))","v":""}]
[null,null,null,null,null,null,null,null,null,null,null,null,null,null,null,null,null,null,null,null,{"$f":"IF(W6628=\"\",\"\",LOOKUP(W6628,Hilfstabelle!$A$1:$A$286,Hilfstabelle!$B$1:$B$286))","v":""}]
[null,null,null,null,null,null,null,null,null,null,null,null,null,null,null,null,null,null,null,null,{"$f":"IF(W6629=\"\",\"\",LOOKUP(W6629,Hilfstabelle!$A$1:$A$286,Hilfstabelle!$B$1:$B$286))","v":""}]
[null,null,null,null,null,null,null,null,null,null,null,null,null,null,null,null,null,null,null,null,{"$f":"IF(W6630=\"\",\"\",LOOKUP(W6630,Hilfstabelle!$A$1:$A$286,Hilfstabelle!$B$1:$B$286))","v":""}]
[null,null,null,null,null,null,null,null,null,null,null,null,null,null,null,null,null,null,null,null,{"$f":"IF(W6631=\"\",\"\",LOOKUP(W6631,Hilfstabelle!$A$1:$A$286,Hilfstabelle!$B$1:$B$286))","v":""}]
[null,null,null,null,null,null,null,null,null,null,null,null,null,null,null,null,null,null,null,null,{"$f":"IF(W6632=\"\",\"\",LOOKUP(W6632,Hilfstabelle!$A$1:$A$286,Hilfstabelle!$B$1:$B$286))","v":""}]
[null,null,null,null,null,null,null,null,null,null,null,null,null,null,null,null,null,null,null,null,{"$f":"IF(W6633=\"\",\"\",LOOKUP(W6633,Hilfstabelle!$A$1:$A$286,Hilfstabelle!$B$1:$B$286))","v":""}]
[null,null,null,null,null,null,null,null,null,null,null,null,null,null,null,null,null,null,null,null,{"$f":"IF(W6634=\"\",\"\",LOOKUP(W6634,Hilfstabelle!$A$1:$A$286,Hilfstabelle!$B$1:$B$286))","v":""}]
[null,null,null,null,null,null,null,null,null,null,null,null,null,null,null,null,null,null,null,null,{"$f":"IF(W6635=\"\",\"\",LOOKUP(W6635,Hilfstabelle!$A$1:$A$286,Hilfstabelle!$B$1:$B$286))","v":""}]
[null,null,null,null,null,null,null,null,null,null,null,null,null,null,null,null,null,null,null,null,{"$f":"IF(W6636=\"\",\"\",LOOKUP(W6636,Hilfstabelle!$A$1:$A$286,Hilfstabelle!$B$1:$B$286))","v":""}]
[null,null,null,null,null,null,null,null,null,null,null,null,null,null,null,null,null,null,null,null,{"$f":"IF(W6637=\"\",\"\",LOOKUP(W6637,Hilfstabelle!$A$1:$A$286,Hilfstabelle!$B$1:$B$286))","v":""}]
[null,null,null,null,null,null,null,null,null,null,null,null,null,null,null,null,null,null,null,null,{"$f":"IF(W6638=\"\",\"\",LOOKUP(W6638,Hilfstabelle!$A$1:$A$286,Hilfstabelle!$B$1:$B$286))","v":""}]
[null,null,null,null,null,null,null,null,null,null,null,null,null,null,null,null,null,null,null,null,{"$f":"IF(W6639=\"\",\"\",LOOKUP(W6639,Hilfstabelle!$A$1:$A$286,Hilfstabelle!$B$1:$B$286))","v":""}]
[null,null,null,null,null,null,null,null,null,null,null,null,null,null,null,null,null,null,null,null,{"$f":"IF(W6640=\"\",\"\",LOOKUP(W6640,Hilfstabelle!$A$1:$A$286,Hilfstabelle!$B$1:$B$286))","v":""}]
[null,null,null,null,null,null,null,null,null,null,null,null,null,null,null,null,null,null,null,null,{"$f":"IF(W6641=\"\",\"\",LOOKUP(W6641,Hilfstabelle!$A$1:$A$286,Hilfstabelle!$B$1:$B$286))","v":""}]
[null,null,null,null,null,null,null,null,null,null,null,null,null,null,null,null,null,null,null,null,{"$f":"IF(W6642=\"\",\"\",LOOKUP(W6642,Hilfstabelle!$A$1:$A$286,Hilfstabelle!$B$1:$B$286))","v":""}]
[null,null,null,null,null,null,null,null,null,null,null,null,null,null,null,null,null,null,null,null,{"$f":"IF(W6643=\"\",\"\",LOOKUP(W6643,Hilfstabelle!$A$1:$A$286,Hilfstabelle!$B$1:$B$286))","v":""}]
[null,null,null,null,null,null,null,null,null,null,null,null,null,null,null,null,null,null,null,null,{"$f":"IF(W6644=\"\",\"\",LOOKUP(W6644,Hilfstabelle!$A$1:$A$286,Hilfstabelle!$B$1:$B$286))","v":""}]
[null,null,null,null,null,null,null,null,null,null,null,null,null,null,null,null,null,null,null,null,{"$f":"IF(W6645=\"\",\"\",LOOKUP(W6645,Hilfstabelle!$A$1:$A$286,Hilfstabelle!$B$1:$B$286))","v":""}]
[null,null,null,null,null,null,null,null,null,null,null,null,null,null,null,null,null,null,null,null,{"$f":"IF(W6646=\"\",\"\",LOOKUP(W6646,Hilfstabelle!$A$1:$A$286,Hilfstabelle!$B$1:$B$286))","v":""}]
[null,null,null,null,null,null,null,null,null,null,null,null,null,null,null,null,null,null,null,null,{"$f":"IF(W6647=\"\",\"\",LOOKUP(W6647,Hilfstabelle!$A$1:$A$286,Hilfstabelle!$B$1:$B$286))","v":""}]
[null,null,null,null,null,null,null,null,null,null,null,null,null,null,null,null,null,null,null,null,{"$f":"IF(W6648=\"\",\"\",LOOKUP(W6648,Hilfstabelle!$A$1:$A$286,Hilfstabelle!$B$1:$B$286))","v":""}]
[null,null,null,null,null,null,null,null,null,null,null,null,null,null,null,null,null,null,null,null,{"$f":"IF(W6649=\"\",\"\",LOOKUP(W6649,Hilfstabelle!$A$1:$A$286,Hilfstabelle!$B$1:$B$286))","v":""}]
[null,null,null,null,null,null,null,null,null,null,null,null,null,null,null,null,null,null,null,null,{"$f":"IF(W6650=\"\",\"\",LOOKUP(W6650,Hilfstabelle!$A$1:$A$286,Hilfstabelle!$B$1:$B$286))","v":""}]
[null,null,null,null,null,null,null,null,null,null,null,null,null,null,null,null,null,null,null,null,{"$f":"IF(W6651=\"\",\"\",LOOKUP(W6651,Hilfstabelle!$A$1:$A$286,Hilfstabelle!$B$1:$B$286))","v":""}]
[null,null,null,null,null,null,null,null,null,null,null,null,null,null,null,null,null,null,null,null,{"$f":"IF(W6652=\"\",\"\",LOOKUP(W6652,Hilfstabelle!$A$1:$A$286,Hilfstabelle!$B$1:$B$286))","v":""}]
[null,null,null,null,null,null,null,null,null,null,null,null,null,null,null,null,null,null,null,null,{"$f":"IF(W6653=\"\",\"\",LOOKUP(W6653,Hilfstabelle!$A$1:$A$286,Hilfstabelle!$B$1:$B$286))","v":""}]
[null,null,null,null,null,null,null,null,null,null,null,null,null,null,null,null,null,null,null,null,{"$f":"IF(W6654=\"\",\"\",LOOKUP(W6654,Hilfstabelle!$A$1:$A$286,Hilfstabelle!$B$1:$B$286))","v":""}]
[null,null,null,null,null,null,null,null,null,null,null,null,null,null,null,null,null,null,null,null,{"$f":"IF(W6655=\"\",\"\",LOOKUP(W6655,Hilfstabelle!$A$1:$A$286,Hilfstabelle!$B$1:$B$286))","v":""}]
[null,null,null,null,null,null,null,null,null,null,null,null,null,null,null,null,null,null,null,null,{"$f":"IF(W6656=\"\",\"\",LOOKUP(W6656,Hilfstabelle!$A$1:$A$286,Hilfstabelle!$B$1:$B$286))","v":""}]
[null,null,null,null,null,null,null,null,null,null,null,null,null,null,null,null,null,null,null,null,{"$f":"IF(W6657=\"\",\"\",LOOKUP(W6657,Hilfstabelle!$A$1:$A$286,Hilfstabelle!$B$1:$B$286))","v":""}]
[null,null,null,null,null,null,null,null,null,null,null,null,null,null,null,null,null,null,null,null,{"$f":"IF(W6658=\"\",\"\",LOOKUP(W6658,Hilfstabelle!$A$1:$A$286,Hilfstabelle!$B$1:$B$286))","v":""}]
[null,null,null,null,null,null,null,null,null,null,null,null,null,null,null,null,null,null,null,null,{"$f":"IF(W6659=\"\",\"\",LOOKUP(W6659,Hilfstabelle!$A$1:$A$286,Hilfstabelle!$B$1:$B$286))","v":""}]
[null,null,null,null,null,null,null,null,null,null,null,null,null,null,null,null,null,null,null,null,{"$f":"IF(W6660=\"\",\"\",LOOKUP(W6660,Hilfstabelle!$A$1:$A$286,Hilfstabelle!$B$1:$B$286))","v":""}]
[null,null,null,null,null,null,null,null,null,null,null,null,null,null,null,null,null,null,null,null,{"$f":"IF(W6661=\"\",\"\",LOOKUP(W6661,Hilfstabelle!$A$1:$A$286,Hilfstabelle!$B$1:$B$286))","v":""}]
[null,null,null,null,null,null,null,null,null,null,null,null,null,null,null,null,null,null,null,null,{"$f":"IF(W6662=\"\",\"\",LOOKUP(W6662,Hilfstabelle!$A$1:$A$286,Hilfstabelle!$B$1:$B$286))","v":""}]
[null,null,null,null,null,null,null,null,null,null,null,null,null,null,null,null,null,null,null,null,{"$f":"IF(W6663=\"\",\"\",LOOKUP(W6663,Hilfstabelle!$A$1:$A$286,Hilfstabelle!$B$1:$B$286))","v":""}]
[null,null,null,null,null,null,null,null,null,null,null,null,null,null,null,null,null,null,null,null,{"$f":"IF(W6664=\"\",\"\",LOOKUP(W6664,Hilfstabelle!$A$1:$A$286,Hilfstabelle!$B$1:$B$286))","v":""}]
[null,null,null,null,null,null,null,null,null,null,null,null,null,null,null,null,null,null,null,null,{"$f":"IF(W6665=\"\",\"\",LOOKUP(W6665,Hilfstabelle!$A$1:$A$286,Hilfstabelle!$B$1:$B$286))","v":""}]
[null,null,null,null,null,null,null,null,null,null,null,null,null,null,null,null,null,null,null,null,{"$f":"IF(W6666=\"\",\"\",LOOKUP(W6666,Hilfstabelle!$A$1:$A$286,Hilfstabelle!$B$1:$B$286))","v":""}]
[null,null,null,null,null,null,null,null,null,null,null,null,null,null,null,null,null,null,null,null,{"$f":"IF(W6667=\"\",\"\",LOOKUP(W6667,Hilfstabelle!$A$1:$A$286,Hilfstabelle!$B$1:$B$286))","v":""}]
[null,null,null,null,null,null,null,null,null,null,null,null,null,null,null,null,null,null,null,null,{"$f":"IF(W6668=\"\",\"\",LOOKUP(W6668,Hilfstabelle!$A$1:$A$286,Hilfstabelle!$B$1:$B$286))","v":""}]
[null,null,null,null,null,null,null,null,null,null,null,null,null,null,null,null,null,null,null,null,{"$f":"IF(W6669=\"\",\"\",LOOKUP(W6669,Hilfstabelle!$A$1:$A$286,Hilfstabelle!$B$1:$B$286))","v":""}]
[null,null,null,null,null,null,null,null,null,null,null,null,null,null,null,null,null,null,null,null,{"$f":"IF(W6670=\"\",\"\",LOOKUP(W6670,Hilfstabelle!$A$1:$A$286,Hilfstabelle!$B$1:$B$286))","v":""}]
[null,null,null,null,null,null,null,null,null,null,null,null,null,null,null,null,null,null,null,null,{"$f":"IF(W6671=\"\",\"\",LOOKUP(W6671,Hilfstabelle!$A$1:$A$286,Hilfstabelle!$B$1:$B$286))","v":""}]
[null,null,null,null,null,null,null,null,null,null,null,null,null,null,null,null,null,null,null,null,{"$f":"IF(W6672=\"\",\"\",LOOKUP(W6672,Hilfstabelle!$A$1:$A$286,Hilfstabelle!$B$1:$B$286))","v":""}]
[null,null,null,null,null,null,null,null,null,null,null,null,null,null,null,null,null,null,null,null,{"$f":"IF(W6673=\"\",\"\",LOOKUP(W6673,Hilfstabelle!$A$1:$A$286,Hilfstabelle!$B$1:$B$286))","v":""}]
[null,null,null,null,null,null,null,null,null,null,null,null,null,null,null,null,null,null,null,null,{"$f":"IF(W6674=\"\",\"\",LOOKUP(W6674,Hilfstabelle!$A$1:$A$286,Hilfstabelle!$B$1:$B$286))","v":""}]
[null,null,null,null,null,null,null,null,null,null,null,null,null,null,null,null,null,null,null,null,{"$f":"IF(W6675=\"\",\"\",LOOKUP(W6675,Hilfstabelle!$A$1:$A$286,Hilfstabelle!$B$1:$B$286))","v":""}]
[null,null,null,null,null,null,null,null,null,null,null,null,null,null,null,null,null,null,null,null,{"$f":"IF(W6676=\"\",\"\",LOOKUP(W6676,Hilfstabelle!$A$1:$A$286,Hilfstabelle!$B$1:$B$286))","v":""}]
[null,null,null,null,null,null,null,null,null,null,null,null,null,null,null,null,null,null,null,null,{"$f":"IF(W6677=\"\",\"\",LOOKUP(W6677,Hilfstabelle!$A$1:$A$286,Hilfstabelle!$B$1:$B$286))","v":""}]
[null,null,null,null,null,null,null,null,null,null,null,null,null,null,null,null,null,null,null,null,{"$f":"IF(W6678=\"\",\"\",LOOKUP(W6678,Hilfstabelle!$A$1:$A$286,Hilfstabelle!$B$1:$B$286))","v":""}]
[null,null,null,null,null,null,null,null,null,null,null,null,null,null,null,null,null,null,null,null,{"$f":"IF(W6679=\"\",\"\",LOOKUP(W6679,Hilfstabelle!$A$1:$A$286,Hilfstabelle!$B$1:$B$286))","v":""}]
[null,null,null,null,null,null,null,null,null,null,null,null,null,null,null,null,null,null,null,null,{"$f":"IF(W6680=\"\",\"\",LOOKUP(W6680,Hilfstabelle!$A$1:$A$286,Hilfstabelle!$B$1:$B$286))","v":""}]
[null,null,null,null,null,null,null,null,null,null,null,null,null,null,null,null,null,null,null,null,{"$f":"IF(W6681=\"\",\"\",LOOKUP(W6681,Hilfstabelle!$A$1:$A$286,Hilfstabelle!$B$1:$B$286))","v":""}]
[null,null,null,null,null,null,null,null,null,null,null,null,null,null,null,null,null,null,null,null,{"$f":"IF(W6682=\"\",\"\",LOOKUP(W6682,Hilfstabelle!$A$1:$A$286,Hilfstabelle!$B$1:$B$286))","v":""}]
[null,null,null,null,null,null,null,null,null,null,null,null,null,null,null,null,null,null,null,null,{"$f":"IF(W6683=\"\",\"\",LOOKUP(W6683,Hilfstabelle!$A$1:$A$286,Hilfstabelle!$B$1:$B$286))","v":""}]
[null,null,null,null,null,null,null,null,null,null,null,null,null,null,null,null,null,null,null,null,{"$f":"IF(W6684=\"\",\"\",LOOKUP(W6684,Hilfstabelle!$A$1:$A$286,Hilfstabelle!$B$1:$B$286))","v":""}]
[null,null,null,null,null,null,null,null,null,null,null,null,null,null,null,null,null,null,null,null,{"$f":"IF(W6685=\"\",\"\",LOOKUP(W6685,Hilfstabelle!$A$1:$A$286,Hilfstabelle!$B$1:$B$286))","v":""}]
[null,null,null,null,null,null,null,null,null,null,null,null,null,null,null,null,null,null,null,null,{"$f":"IF(W6686=\"\",\"\",LOOKUP(W6686,Hilfstabelle!$A$1:$A$286,Hilfstabelle!$B$1:$B$286))","v":""}]
[null,null,null,null,null,null,null,null,null,null,null,null,null,null,null,null,null,null,null,null,{"$f":"IF(W6687=\"\",\"\",LOOKUP(W6687,Hilfstabelle!$A$1:$A$286,Hilfstabelle!$B$1:$B$286))","v":""}]
[null,null,null,null,null,null,null,null,null,null,null,null,null,null,null,null,null,null,null,null,{"$f":"IF(W6688=\"\",\"\",LOOKUP(W6688,Hilfstabelle!$A$1:$A$286,Hilfstabelle!$B$1:$B$286))","v":""}]
[null,null,null,null,null,null,null,null,null,null,null,null,null,null,null,null,null,null,null,null,{"$f":"IF(W6689=\"\",\"\",LOOKUP(W6689,Hilfstabelle!$A$1:$A$286,Hilfstabelle!$B$1:$B$286))","v":""}]
[null,null,null,null,null,null,null,null,null,null,null,null,null,null,null,null,null,null,null,null,{"$f":"IF(W6690=\"\",\"\",LOOKUP(W6690,Hilfstabelle!$A$1:$A$286,Hilfstabelle!$B$1:$B$286))","v":""}]
[null,null,null,null,null,null,null,null,null,null,null,null,null,null,null,null,null,null,null,null,{"$f":"IF(W6691=\"\",\"\",LOOKUP(W6691,Hilfstabelle!$A$1:$A$286,Hilfstabelle!$B$1:$B$286))","v":""}]
[null,null,null,null,null,null,null,null,null,null,null,null,null,null,null,null,null,null,null,null,{"$f":"IF(W6692=\"\",\"\",LOOKUP(W6692,Hilfstabelle!$A$1:$A$286,Hilfstabelle!$B$1:$B$286))","v":""}]
[null,null,null,null,null,null,null,null,null,null,null,null,null,null,null,null,null,null,null,null,{"$f":"IF(W6693=\"\",\"\",LOOKUP(W6693,Hilfstabelle!$A$1:$A$286,Hilfstabelle!$B$1:$B$286))","v":""}]
[null,null,null,null,null,null,null,null,null,null,null,null,null,null,null,null,null,null,null,null,{"$f":"IF(W6694=\"\",\"\",LOOKUP(W6694,Hilfstabelle!$A$1:$A$286,Hilfstabelle!$B$1:$B$286))","v":""}]
[null,null,null,null,null,null,null,null,null,null,null,null,null,null,null,null,null,null,null,null,{"$f":"IF(W6695=\"\",\"\",LOOKUP(W6695,Hilfstabelle!$A$1:$A$286,Hilfstabelle!$B$1:$B$286))","v":""}]
[null,null,null,null,null,null,null,null,null,null,null,null,null,null,null,null,null,null,null,null,{"$f":"IF(W6696=\"\",\"\",LOOKUP(W6696,Hilfstabelle!$A$1:$A$286,Hilfstabelle!$B$1:$B$286))","v":""}]
[null,null,null,null,null,null,null,null,null,null,null,null,null,null,null,null,null,null,null,null,{"$f":"IF(W6697=\"\",\"\",LOOKUP(W6697,Hilfstabelle!$A$1:$A$286,Hilfstabelle!$B$1:$B$286))","v":""}]
[null,null,null,null,null,null,null,null,null,null,null,null,null,null,null,null,null,null,null,null,{"$f":"IF(W6698=\"\",\"\",LOOKUP(W6698,Hilfstabelle!$A$1:$A$286,Hilfstabelle!$B$1:$B$286))","v":""}]
[null,null,null,null,null,null,null,null,null,null,null,null,null,null,null,null,null,null,null,null,{"$f":"IF(W6699=\"\",\"\",LOOKUP(W6699,Hilfstabelle!$A$1:$A$286,Hilfstabelle!$B$1:$B$286))","v":""}]
[null,null,null,null,null,null,null,null,null,null,null,null,null,null,null,null,null,null,null,null,{"$f":"IF(W6700=\"\",\"\",LOOKUP(W6700,Hilfstabelle!$A$1:$A$286,Hilfstabelle!$B$1:$B$286))","v":""}]
[null,null,null,null,null,null,null,null,null,null,null,null,null,null,null,null,null,null,null,null,{"$f":"IF(W6701=\"\",\"\",LOOKUP(W6701,Hilfstabelle!$A$1:$A$286,Hilfstabelle!$B$1:$B$286))","v":""}]
[null,null,null,null,null,null,null,null,null,null,null,null,null,null,null,null,null,null,null,null,{"$f":"IF(W6702=\"\",\"\",LOOKUP(W6702,Hilfstabelle!$A$1:$A$286,Hilfstabelle!$B$1:$B$286))","v":""}]
[null,null,null,null,null,null,null,null,null,null,null,null,null,null,null,null,null,null,null,null,{"$f":"IF(W6703=\"\",\"\",LOOKUP(W6703,Hilfstabelle!$A$1:$A$286,Hilfstabelle!$B$1:$B$286))","v":""}]
[null,null,null,null,null,null,null,null,null,null,null,null,null,null,null,null,null,null,null,null,{"$f":"IF(W6704=\"\",\"\",LOOKUP(W6704,Hilfstabelle!$A$1:$A$286,Hilfstabelle!$B$1:$B$286))","v":""}]
[null,null,null,null,null,null,null,null,null,null,null,null,null,null,null,null,null,null,null,null,{"$f":"IF(W6705=\"\",\"\",LOOKUP(W6705,Hilfstabelle!$A$1:$A$286,Hilfstabelle!$B$1:$B$286))","v":""}]
[null,null,null,null,null,null,null,null,null,null,null,null,null,null,null,null,null,null,null,null,{"$f":"IF(W6706=\"\",\"\",LOOKUP(W6706,Hilfstabelle!$A$1:$A$286,Hilfstabelle!$B$1:$B$286))","v":""}]
[null,null,null,null,null,null,null,null,null,null,null,null,null,null,null,null,null,null,null,null,{"$f":"IF(W6707=\"\",\"\",LOOKUP(W6707,Hilfstabelle!$A$1:$A$286,Hilfstabelle!$B$1:$B$286))","v":""}]
[null,null,null,null,null,null,null,null,null,null,null,null,null,null,null,null,null,null,null,null,{"$f":"IF(W6708=\"\",\"\",LOOKUP(W6708,Hilfstabelle!$A$1:$A$286,Hilfstabelle!$B$1:$B$286))","v":""}]
[null,null,null,null,null,null,null,null,null,null,null,null,null,null,null,null,null,null,null,null,{"$f":"IF(W6709=\"\",\"\",LOOKUP(W6709,Hilfstabelle!$A$1:$A$286,Hilfstabelle!$B$1:$B$286))","v":""}]
[null,null,null,null,null,null,null,null,null,null,null,null,null,null,null,null,null,null,null,null,{"$f":"IF(W6710=\"\",\"\",LOOKUP(W6710,Hilfstabelle!$A$1:$A$286,Hilfstabelle!$B$1:$B$286))","v":""}]
[null,null,null,null,null,null,null,null,null,null,null,null,null,null,null,null,null,null,null,null,{"$f":"IF(W6711=\"\",\"\",LOOKUP(W6711,Hilfstabelle!$A$1:$A$286,Hilfstabelle!$B$1:$B$286))","v":""}]
[null,null,null,null,null,null,null,null,null,null,null,null,null,null,null,null,null,null,null,null,{"$f":"IF(W6712=\"\",\"\",LOOKUP(W6712,Hilfstabelle!$A$1:$A$286,Hilfstabelle!$B$1:$B$286))","v":""}]
[null,null,null,null,null,null,null,null,null,null,null,null,null,null,null,null,null,null,null,null,{"$f":"IF(W6713=\"\",\"\",LOOKUP(W6713,Hilfstabelle!$A$1:$A$286,Hilfstabelle!$B$1:$B$286))","v":""}]
[null,null,null,null,null,null,null,null,null,null,null,null,null,null,null,null,null,null,null,null,{"$f":"IF(W6714=\"\",\"\",LOOKUP(W6714,Hilfstabelle!$A$1:$A$286,Hilfstabelle!$B$1:$B$286))","v":""}]
[null,null,null,null,null,null,null,null,null,null,null,null,null,null,null,null,null,null,null,null,{"$f":"IF(W6715=\"\",\"\",LOOKUP(W6715,Hilfstabelle!$A$1:$A$286,Hilfstabelle!$B$1:$B$286))","v":""}]
[null,null,null,null,null,null,null,null,null,null,null,null,null,null,null,null,null,null,null,null,{"$f":"IF(W6716=\"\",\"\",LOOKUP(W6716,Hilfstabelle!$A$1:$A$286,Hilfstabelle!$B$1:$B$286))","v":""}]
[null,null,null,null,null,null,null,null,null,null,null,null,null,null,null,null,null,null,null,null,{"$f":"IF(W6717=\"\",\"\",LOOKUP(W6717,Hilfstabelle!$A$1:$A$286,Hilfstabelle!$B$1:$B$286))","v":""}]
[null,null,null,null,null,null,null,null,null,null,null,null,null,null,null,null,null,null,null,null,{"$f":"IF(W6718=\"\",\"\",LOOKUP(W6718,Hilfstabelle!$A$1:$A$286,Hilfstabelle!$B$1:$B$286))","v":""}]
[null,null,null,null,null,null,null,null,null,null,null,null,null,null,null,null,null,null,null,null,{"$f":"IF(W6719=\"\",\"\",LOOKUP(W6719,Hilfstabelle!$A$1:$A$286,Hilfstabelle!$B$1:$B$286))","v":""}]
[null,null,null,null,null,null,null,null,null,null,null,null,null,null,null,null,null,null,null,null,{"$f":"IF(W6720=\"\",\"\",LOOKUP(W6720,Hilfstabelle!$A$1:$A$286,Hilfstabelle!$B$1:$B$286))","v":""}]
[null,null,null,null,null,null,null,null,null,null,null,null,null,null,null,null,null,null,null,null,{"$f":"IF(W6721=\"\",\"\",LOOKUP(W6721,Hilfstabelle!$A$1:$A$286,Hilfstabelle!$B$1:$B$286))","v":""}]
[null,null,null,null,null,null,null,null,null,null,null,null,null,null,null,null,null,null,null,null,{"$f":"IF(W6722=\"\",\"\",LOOKUP(W6722,Hilfstabelle!$A$1:$A$286,Hilfstabelle!$B$1:$B$286))","v":""}]
[null,null,null,null,null,null,null,null,null,null,null,null,null,null,null,null,null,null,null,null,{"$f":"IF(W6723=\"\",\"\",LOOKUP(W6723,Hilfstabelle!$A$1:$A$286,Hilfstabelle!$B$1:$B$286))","v":""}]
[null,null,null,null,null,null,null,null,null,null,null,null,null,null,null,null,null,null,null,null,{"$f":"IF(W6724=\"\",\"\",LOOKUP(W6724,Hilfstabelle!$A$1:$A$286,Hilfstabelle!$B$1:$B$286))","v":""}]
[null,null,null,null,null,null,null,null,null,null,null,null,null,null,null,null,null,null,null,null,{"$f":"IF(W6725=\"\",\"\",LOOKUP(W6725,Hilfstabelle!$A$1:$A$286,Hilfstabelle!$B$1:$B$286))","v":""}]
[null,null,null,null,null,null,null,null,null,null,null,null,null,null,null,null,null,null,null,null,{"$f":"IF(W6726=\"\",\"\",LOOKUP(W6726,Hilfstabelle!$A$1:$A$286,Hilfstabelle!$B$1:$B$286))","v":""}]
[null,null,null,null,null,null,null,null,null,null,null,null,null,null,null,null,null,null,null,null,{"$f":"IF(W6727=\"\",\"\",LOOKUP(W6727,Hilfstabelle!$A$1:$A$286,Hilfstabelle!$B$1:$B$286))","v":""}]
[null,null,null,null,null,null,null,null,null,null,null,null,null,null,null,null,null,null,null,null,{"$f":"IF(W6728=\"\",\"\",LOOKUP(W6728,Hilfstabelle!$A$1:$A$286,Hilfstabelle!$B$1:$B$286))","v":""}]
[null,null,null,null,null,null,null,null,null,null,null,null,null,null,null,null,null,null,null,null,{"$f":"IF(W6729=\"\",\"\",LOOKUP(W6729,Hilfstabelle!$A$1:$A$286,Hilfstabelle!$B$1:$B$286))","v":""}]
[null,null,null,null,null,null,null,null,null,null,null,null,null,null,null,null,null,null,null,null,{"$f":"IF(W6730=\"\",\"\",LOOKUP(W6730,Hilfstabelle!$A$1:$A$286,Hilfstabelle!$B$1:$B$286))","v":""}]
[null,null,null,null,null,null,null,null,null,null,null,null,null,null,null,null,null,null,null,null,{"$f":"IF(W6731=\"\",\"\",LOOKUP(W6731,Hilfstabelle!$A$1:$A$286,Hilfstabelle!$B$1:$B$286))","v":""}]
[null,null,null,null,null,null,null,null,null,null,null,null,null,null,null,null,null,null,null,null,{"$f":"IF(W6732=\"\",\"\",LOOKUP(W6732,Hilfstabelle!$A$1:$A$286,Hilfstabelle!$B$1:$B$286))","v":""}]
[null,null,null,null,null,null,null,null,null,null,null,null,null,null,null,null,null,null,null,null,{"$f":"IF(W6733=\"\",\"\",LOOKUP(W6733,Hilfstabelle!$A$1:$A$286,Hilfstabelle!$B$1:$B$286))","v":""}]
[null,null,null,null,null,null,null,null,null,null,null,null,null,null,null,null,null,null,null,null,{"$f":"IF(W6734=\"\",\"\",LOOKUP(W6734,Hilfstabelle!$A$1:$A$286,Hilfstabelle!$B$1:$B$286))","v":""}]
[null,null,null,null,null,null,null,null,null,null,null,null,null,null,null,null,null,null,null,null,{"$f":"IF(W6735=\"\",\"\",LOOKUP(W6735,Hilfstabelle!$A$1:$A$286,Hilfstabelle!$B$1:$B$286))","v":""}]
[null,null,null,null,null,null,null,null,null,null,null,null,null,null,null,null,null,null,null,null,{"$f":"IF(W6736=\"\",\"\",LOOKUP(W6736,Hilfstabelle!$A$1:$A$286,Hilfstabelle!$B$1:$B$286))","v":""}]
[null,null,null,null,null,null,null,null,null,null,null,null,null,null,null,null,null,null,null,null,{"$f":"IF(W6737=\"\",\"\",LOOKUP(W6737,Hilfstabelle!$A$1:$A$286,Hilfstabelle!$B$1:$B$286))","v":""}]
[null,null,null,null,null,null,null,null,null,null,null,null,null,null,null,null,null,null,null,null,{"$f":"IF(W6738=\"\",\"\",LOOKUP(W6738,Hilfstabelle!$A$1:$A$286,Hilfstabelle!$B$1:$B$286))","v":""}]
[null,null,null,null,null,null,null,null,null,null,null,null,null,null,null,null,null,null,null,null,{"$f":"IF(W6739=\"\",\"\",LOOKUP(W6739,Hilfstabelle!$A$1:$A$286,Hilfstabelle!$B$1:$B$286))","v":""}]
[null,null,null,null,null,null,null,null,null,null,null,null,null,null,null,null,null,null,null,null,{"$f":"IF(W6740=\"\",\"\",LOOKUP(W6740,Hilfstabelle!$A$1:$A$286,Hilfstabelle!$B$1:$B$286))","v":""}]
[null,null,null,null,null,null,null,null,null,null,null,null,null,null,null,null,null,null,null,null,{"$f":"IF(W6741=\"\",\"\",LOOKUP(W6741,Hilfstabelle!$A$1:$A$286,Hilfstabelle!$B$1:$B$286))","v":""}]
[null,null,null,null,null,null,null,null,null,null,null,null,null,null,null,null,null,null,null,null,{"$f":"IF(W6742=\"\",\"\",LOOKUP(W6742,Hilfstabelle!$A$1:$A$286,Hilfstabelle!$B$1:$B$286))","v":""}]
[null,null,null,null,null,null,null,null,null,null,null,null,null,null,null,null,null,null,null,null,{"$f":"IF(W6743=\"\",\"\",LOOKUP(W6743,Hilfstabelle!$A$1:$A$286,Hilfstabelle!$B$1:$B$286))","v":""}]
[null,null,null,null,null,null,null,null,null,null,null,null,null,null,null,null,null,null,null,null,{"$f":"IF(W6744=\"\",\"\",LOOKUP(W6744,Hilfstabelle!$A$1:$A$286,Hilfstabelle!$B$1:$B$286))","v":""}]
[null,null,null,null,null,null,null,null,null,null,null,null,null,null,null,null,null,null,null,null,{"$f":"IF(W6745=\"\",\"\",LOOKUP(W6745,Hilfstabelle!$A$1:$A$286,Hilfstabelle!$B$1:$B$286))","v":""}]
[null,null,null,null,null,null,null,null,null,null,null,null,null,null,null,null,null,null,null,null,{"$f":"IF(W6746=\"\",\"\",LOOKUP(W6746,Hilfstabelle!$A$1:$A$286,Hilfstabelle!$B$1:$B$286))","v":""}]
[null,null,null,null,null,null,null,null,null,null,null,null,null,null,null,null,null,null,null,null,{"$f":"IF(W6747=\"\",\"\",LOOKUP(W6747,Hilfstabelle!$A$1:$A$286,Hilfstabelle!$B$1:$B$286))","v":""}]
[null,null,null,null,null,null,null,null,null,null,null,null,null,null,null,null,null,null,null,null,{"$f":"IF(W6748=\"\",\"\",LOOKUP(W6748,Hilfstabelle!$A$1:$A$286,Hilfstabelle!$B$1:$B$286))","v":""}]
[null,null,null,null,null,null,null,null,null,null,null,null,null,null,null,null,null,null,null,null,{"$f":"IF(W6749=\"\",\"\",LOOKUP(W6749,Hilfstabelle!$A$1:$A$286,Hilfstabelle!$B$1:$B$286))","v":""}]
[null,null,null,null,null,null,null,null,null,null,null,null,null,null,null,null,null,null,null,null,{"$f":"IF(W6750=\"\",\"\",LOOKUP(W6750,Hilfstabelle!$A$1:$A$286,Hilfstabelle!$B$1:$B$286))","v":""}]
[null,null,null,null,null,null,null,null,null,null,null,null,null,null,null,null,null,null,null,null,{"$f":"IF(W6751=\"\",\"\",LOOKUP(W6751,Hilfstabelle!$A$1:$A$286,Hilfstabelle!$B$1:$B$286))","v":""}]
[null,null,null,null,null,null,null,null,null,null,null,null,null,null,null,null,null,null,null,null,{"$f":"IF(W6752=\"\",\"\",LOOKUP(W6752,Hilfstabelle!$A$1:$A$286,Hilfstabelle!$B$1:$B$286))","v":""}]
[null,null,null,null,null,null,null,null,null,null,null,null,null,null,null,null,null,null,null,null,{"$f":"IF(W6753=\"\",\"\",LOOKUP(W6753,Hilfstabelle!$A$1:$A$286,Hilfstabelle!$B$1:$B$286))","v":""}]
[null,null,null,null,null,null,null,null,null,null,null,null,null,null,null,null,null,null,null,null,{"$f":"IF(W6754=\"\",\"\",LOOKUP(W6754,Hilfstabelle!$A$1:$A$286,Hilfstabelle!$B$1:$B$286))","v":""}]
[null,null,null,null,null,null,null,null,null,null,null,null,null,null,null,null,null,null,null,null,{"$f":"IF(W6755=\"\",\"\",LOOKUP(W6755,Hilfstabelle!$A$1:$A$286,Hilfstabelle!$B$1:$B$286))","v":""}]
[null,null,null,null,null,null,null,null,null,null,null,null,null,null,null,null,null,null,null,null,{"$f":"IF(W6756=\"\",\"\",LOOKUP(W6756,Hilfstabelle!$A$1:$A$286,Hilfstabelle!$B$1:$B$286))","v":""}]
[null,null,null,null,null,null,null,null,null,null,null,null,null,null,null,null,null,null,null,null,{"$f":"IF(W6757=\"\",\"\",LOOKUP(W6757,Hilfstabelle!$A$1:$A$286,Hilfstabelle!$B$1:$B$286))","v":""}]
[null,null,null,null,null,null,null,null,null,null,null,null,null,null,null,null,null,null,null,null,{"$f":"IF(W6758=\"\",\"\",LOOKUP(W6758,Hilfstabelle!$A$1:$A$286,Hilfstabelle!$B$1:$B$286))","v":""}]
[null,null,null,null,null,null,null,null,null,null,null,null,null,null,null,null,null,null,null,null,{"$f":"IF(W6759=\"\",\"\",LOOKUP(W6759,Hilfstabelle!$A$1:$A$286,Hilfstabelle!$B$1:$B$286))","v":""}]
[null,null,null,null,null,null,null,null,null,null,null,null,null,null,null,null,null,null,null,null,{"$f":"IF(W6760=\"\",\"\",LOOKUP(W6760,Hilfstabelle!$A$1:$A$286,Hilfstabelle!$B$1:$B$286))","v":""}]
[null,null,null,null,null,null,null,null,null,null,null,null,null,null,null,null,null,null,null,null,{"$f":"IF(W6761=\"\",\"\",LOOKUP(W6761,Hilfstabelle!$A$1:$A$286,Hilfstabelle!$B$1:$B$286))","v":""}]
[null,null,null,null,null,null,null,null,null,null,null,null,null,null,null,null,null,null,null,null,{"$f":"IF(W6762=\"\",\"\",LOOKUP(W6762,Hilfstabelle!$A$1:$A$286,Hilfstabelle!$B$1:$B$286))","v":""}]
[null,null,null,null,null,null,null,null,null,null,null,null,null,null,null,null,null,null,null,null,{"$f":"IF(W6763=\"\",\"\",LOOKUP(W6763,Hilfstabelle!$A$1:$A$286,Hilfstabelle!$B$1:$B$286))","v":""}]
[null,null,null,null,null,null,null,null,null,null,null,null,null,null,null,null,null,null,null,null,{"$f":"IF(W6764=\"\",\"\",LOOKUP(W6764,Hilfstabelle!$A$1:$A$286,Hilfstabelle!$B$1:$B$286))","v":""}]
[null,null,null,null,null,null,null,null,null,null,null,null,null,null,null,null,null,null,null,null,{"$f":"IF(W6765=\"\",\"\",LOOKUP(W6765,Hilfstabelle!$A$1:$A$286,Hilfstabelle!$B$1:$B$286))","v":""}]
[null,null,null,null,null,null,null,null,null,null,null,null,null,null,null,null,null,null,null,null,{"$f":"IF(W6766=\"\",\"\",LOOKUP(W6766,Hilfstabelle!$A$1:$A$286,Hilfstabelle!$B$1:$B$286))","v":""}]
[null,null,null,null,null,null,null,null,null,null,null,null,null,null,null,null,null,null,null,null,{"$f":"IF(W6767=\"\",\"\",LOOKUP(W6767,Hilfstabelle!$A$1:$A$286,Hilfstabelle!$B$1:$B$286))","v":""}]
[null,null,null,null,null,null,null,null,null,null,null,null,null,null,null,null,null,null,null,null,{"$f":"IF(W6768=\"\",\"\",LOOKUP(W6768,Hilfstabelle!$A$1:$A$286,Hilfstabelle!$B$1:$B$286))","v":""}]
[null,null,null,null,null,null,null,null,null,null,null,null,null,null,null,null,null,null,null,null,{"$f":"IF(W6769=\"\",\"\",LOOKUP(W6769,Hilfstabelle!$A$1:$A$286,Hilfstabelle!$B$1:$B$286))","v":""}]
[null,null,null,null,null,null,null,null,null,null,null,null,null,null,null,null,null,null,null,null,{"$f":"IF(W6770=\"\",\"\",LOOKUP(W6770,Hilfstabelle!$A$1:$A$286,Hilfstabelle!$B$1:$B$286))","v":""}]
[null,null,null,null,null,null,null,null,null,null,null,null,null,null,null,null,null,null,null,null,{"$f":"IF(W6771=\"\",\"\",LOOKUP(W6771,Hilfstabelle!$A$1:$A$286,Hilfstabelle!$B$1:$B$286))","v":""}]
[null,null,null,null,null,null,null,null,null,null,null,null,null,null,null,null,null,null,null,null,{"$f":"IF(W6772=\"\",\"\",LOOKUP(W6772,Hilfstabelle!$A$1:$A$286,Hilfstabelle!$B$1:$B$286))","v":""}]
[null,null,null,null,null,null,null,null,null,null,null,null,null,null,null,null,null,null,null,null,{"$f":"IF(W6773=\"\",\"\",LOOKUP(W6773,Hilfstabelle!$A$1:$A$286,Hilfstabelle!$B$1:$B$286))","v":""}]
[null,null,null,null,null,null,null,null,null,null,null,null,null,null,null,null,null,null,null,null,{"$f":"IF(W6774=\"\",\"\",LOOKUP(W6774,Hilfstabelle!$A$1:$A$286,Hilfstabelle!$B$1:$B$286))","v":""}]
[null,null,null,null,null,null,null,null,null,null,null,null,null,null,null,null,null,null,null,null,{"$f":"IF(W6775=\"\",\"\",LOOKUP(W6775,Hilfstabelle!$A$1:$A$286,Hilfstabelle!$B$1:$B$286))","v":""}]
[null,null,null,null,null,null,null,null,null,null,null,null,null,null,null,null,null,null,null,null,{"$f":"IF(W6776=\"\",\"\",LOOKUP(W6776,Hilfstabelle!$A$1:$A$286,Hilfstabelle!$B$1:$B$286))","v":""}]
[null,null,null,null,null,null,null,null,null,null,null,null,null,null,null,null,null,null,null,null,{"$f":"IF(W6777=\"\",\"\",LOOKUP(W6777,Hilfstabelle!$A$1:$A$286,Hilfstabelle!$B$1:$B$286))","v":""}]
[null,null,null,null,null,null,null,null,null,null,null,null,null,null,null,null,null,null,null,null,{"$f":"IF(W6778=\"\",\"\",LOOKUP(W6778,Hilfstabelle!$A$1:$A$286,Hilfstabelle!$B$1:$B$286))","v":""}]
[null,null,null,null,null,null,null,null,null,null,null,null,null,null,null,null,null,null,null,null,{"$f":"IF(W6779=\"\",\"\",LOOKUP(W6779,Hilfstabelle!$A$1:$A$286,Hilfstabelle!$B$1:$B$286))","v":""}]
[null,null,null,null,null,null,null,null,null,null,null,null,null,null,null,null,null,null,null,null,{"$f":"IF(W6780=\"\",\"\",LOOKUP(W6780,Hilfstabelle!$A$1:$A$286,Hilfstabelle!$B$1:$B$286))","v":""}]
[null,null,null,null,null,null,null,null,null,null,null,null,null,null,null,null,null,null,null,null,{"$f":"IF(W6781=\"\",\"\",LOOKUP(W6781,Hilfstabelle!$A$1:$A$286,Hilfstabelle!$B$1:$B$286))","v":""}]
[null,null,null,null,null,null,null,null,null,null,null,null,null,null,null,null,null,null,null,null,{"$f":"IF(W6782=\"\",\"\",LOOKUP(W6782,Hilfstabelle!$A$1:$A$286,Hilfstabelle!$B$1:$B$286))","v":""}]
[null,null,null,null,null,null,null,null,null,null,null,null,null,null,null,null,null,null,null,null,{"$f":"IF(W6783=\"\",\"\",LOOKUP(W6783,Hilfstabelle!$A$1:$A$286,Hilfstabelle!$B$1:$B$286))","v":""}]
[null,null,null,null,null,null,null,null,null,null,null,null,null,null,null,null,null,null,null,null,{"$f":"IF(W6784=\"\",\"\",LOOKUP(W6784,Hilfstabelle!$A$1:$A$286,Hilfstabelle!$B$1:$B$286))","v":""}]
[null,null,null,null,null,null,null,null,null,null,null,null,null,null,null,null,null,null,null,null,{"$f":"IF(W6785=\"\",\"\",LOOKUP(W6785,Hilfstabelle!$A$1:$A$286,Hilfstabelle!$B$1:$B$286))","v":""}]
[null,null,null,null,null,null,null,null,null,null,null,null,null,null,null,null,null,null,null,null,{"$f":"IF(W6786=\"\",\"\",LOOKUP(W6786,Hilfstabelle!$A$1:$A$286,Hilfstabelle!$B$1:$B$286))","v":""}]
[null,null,null,null,null,null,null,null,null,null,null,null,null,null,null,null,null,null,null,null,{"$f":"IF(W6787=\"\",\"\",LOOKUP(W6787,Hilfstabelle!$A$1:$A$286,Hilfstabelle!$B$1:$B$286))","v":""}]
[null,null,null,null,null,null,null,null,null,null,null,null,null,null,null,null,null,null,null,null,{"$f":"IF(W6788=\"\",\"\",LOOKUP(W6788,Hilfstabelle!$A$1:$A$286,Hilfstabelle!$B$1:$B$286))","v":""}]
[null,null,null,null,null,null,null,null,null,null,null,null,null,null,null,null,null,null,null,null,{"$f":"IF(W6789=\"\",\"\",LOOKUP(W6789,Hilfstabelle!$A$1:$A$286,Hilfstabelle!$B$1:$B$286))","v":""}]
[null,null,null,null,null,null,null,null,null,null,null,null,null,null,null,null,null,null,null,null,{"$f":"IF(W6790=\"\",\"\",LOOKUP(W6790,Hilfstabelle!$A$1:$A$286,Hilfstabelle!$B$1:$B$286))","v":""}]
[null,null,null,null,null,null,null,null,null,null,null,null,null,null,null,null,null,null,null,null,{"$f":"IF(W6791=\"\",\"\",LOOKUP(W6791,Hilfstabelle!$A$1:$A$286,Hilfstabelle!$B$1:$B$286))","v":""}]
[null,null,null,null,null,null,null,null,null,null,null,null,null,null,null,null,null,null,null,null,{"$f":"IF(W6792=\"\",\"\",LOOKUP(W6792,Hilfstabelle!$A$1:$A$286,Hilfstabelle!$B$1:$B$286))","v":""}]
[null,null,null,null,null,null,null,null,null,null,null,null,null,null,null,null,null,null,null,null,{"$f":"IF(W6793=\"\",\"\",LOOKUP(W6793,Hilfstabelle!$A$1:$A$286,Hilfstabelle!$B$1:$B$286))","v":""}]
[null,null,null,null,null,null,null,null,null,null,null,null,null,null,null,null,null,null,null,null,{"$f":"IF(W6794=\"\",\"\",LOOKUP(W6794,Hilfstabelle!$A$1:$A$286,Hilfstabelle!$B$1:$B$286))","v":""}]
[null,null,null,null,null,null,null,null,null,null,null,null,null,null,null,null,null,null,null,null,{"$f":"IF(W6795=\"\",\"\",LOOKUP(W6795,Hilfstabelle!$A$1:$A$286,Hilfstabelle!$B$1:$B$286))","v":""}]
[null,null,null,null,null,null,null,null,null,null,null,null,null,null,null,null,null,null,null,null,{"$f":"IF(W6796=\"\",\"\",LOOKUP(W6796,Hilfstabelle!$A$1:$A$286,Hilfstabelle!$B$1:$B$286))","v":""}]
[null,null,null,null,null,null,null,null,null,null,null,null,null,null,null,null,null,null,null,null,{"$f":"IF(W6797=\"\",\"\",LOOKUP(W6797,Hilfstabelle!$A$1:$A$286,Hilfstabelle!$B$1:$B$286))","v":""}]
[null,null,null,null,null,null,null,null,null,null,null,null,null,null,null,null,null,null,null,null,{"$f":"IF(W6798=\"\",\"\",LOOKUP(W6798,Hilfstabelle!$A$1:$A$286,Hilfstabelle!$B$1:$B$286))","v":""}]
[null,null,null,null,null,null,null,null,null,null,null,null,null,null,null,null,null,null,null,null,{"$f":"IF(W6799=\"\",\"\",LOOKUP(W6799,Hilfstabelle!$A$1:$A$286,Hilfstabelle!$B$1:$B$286))","v":""}]
[null,null,null,null,null,null,null,null,null,null,null,null,null,null,null,null,null,null,null,null,{"$f":"IF(W6800=\"\",\"\",LOOKUP(W6800,Hilfstabelle!$A$1:$A$286,Hilfstabelle!$B$1:$B$286))","v":""}]
[null,null,null,null,null,null,null,null,null,null,null,null,null,null,null,null,null,null,null,null,{"$f":"IF(W6801=\"\",\"\",LOOKUP(W6801,Hilfstabelle!$A$1:$A$286,Hilfstabelle!$B$1:$B$286))","v":""}]
[null,null,null,null,null,null,null,null,null,null,null,null,null,null,null,null,null,null,null,null,{"$f":"IF(W6802=\"\",\"\",LOOKUP(W6802,Hilfstabelle!$A$1:$A$286,Hilfstabelle!$B$1:$B$286))","v":""}]
[null,null,null,null,null,null,null,null,null,null,null,null,null,null,null,null,null,null,null,null,{"$f":"IF(W6803=\"\",\"\",LOOKUP(W6803,Hilfstabelle!$A$1:$A$286,Hilfstabelle!$B$1:$B$286))","v":""}]
[null,null,null,null,null,null,null,null,null,null,null,null,null,null,null,null,null,null,null,null,{"$f":"IF(W6804=\"\",\"\",LOOKUP(W6804,Hilfstabelle!$A$1:$A$286,Hilfstabelle!$B$1:$B$286))","v":""}]
[null,null,null,null,null,null,null,null,null,null,null,null,null,null,null,null,null,null,null,null,{"$f":"IF(W6805=\"\",\"\",LOOKUP(W6805,Hilfstabelle!$A$1:$A$286,Hilfstabelle!$B$1:$B$286))","v":""}]
[null,null,null,null,null,null,null,null,null,null,null,null,null,null,null,null,null,null,null,null,{"$f":"IF(W6806=\"\",\"\",LOOKUP(W6806,Hilfstabelle!$A$1:$A$286,Hilfstabelle!$B$1:$B$286))","v":""}]
[null,null,null,null,null,null,null,null,null,null,null,null,null,null,null,null,null,null,null,null,{"$f":"IF(W6807=\"\",\"\",LOOKUP(W6807,Hilfstabelle!$A$1:$A$286,Hilfstabelle!$B$1:$B$286))","v":""}]
[null,null,null,null,null,null,null,null,null,null,null,null,null,null,null,null,null,null,null,null,{"$f":"IF(W6808=\"\",\"\",LOOKUP(W6808,Hilfstabelle!$A$1:$A$286,Hilfstabelle!$B$1:$B$286))","v":""}]
[null,null,null,null,null,null,null,null,null,null,null,null,null,null,null,null,null,null,null,null,{"$f":"IF(W6809=\"\",\"\",LOOKUP(W6809,Hilfstabelle!$A$1:$A$286,Hilfstabelle!$B$1:$B$286))","v":""}]
[null,null,null,null,null,null,null,null,null,null,null,null,null,null,null,null,null,null,null,null,{"$f":"IF(W6810=\"\",\"\",LOOKUP(W6810,Hilfstabelle!$A$1:$A$286,Hilfstabelle!$B$1:$B$286))","v":""}]
[null,null,null,null,null,null,null,null,null,null,null,null,null,null,null,null,null,null,null,null,{"$f":"IF(W6811=\"\",\"\",LOOKUP(W6811,Hilfstabelle!$A$1:$A$286,Hilfstabelle!$B$1:$B$286))","v":""}]
[null,null,null,null,null,null,null,null,null,null,null,null,null,null,null,null,null,null,null,null,{"$f":"IF(W6812=\"\",\"\",LOOKUP(W6812,Hilfstabelle!$A$1:$A$286,Hilfstabelle!$B$1:$B$286))","v":""}]
[null,null,null,null,null,null,null,null,null,null,null,null,null,null,null,null,null,null,null,null,{"$f":"IF(W6813=\"\",\"\",LOOKUP(W6813,Hilfstabelle!$A$1:$A$286,Hilfstabelle!$B$1:$B$286))","v":""}]
[null,null,null,null,null,null,null,null,null,null,null,null,null,null,null,null,null,null,null,null,{"$f":"IF(W6814=\"\",\"\",LOOKUP(W6814,Hilfstabelle!$A$1:$A$286,Hilfstabelle!$B$1:$B$286))","v":""}]
[null,null,null,null,null,null,null,null,null,null,null,null,null,null,null,null,null,null,null,null,{"$f":"IF(W6815=\"\",\"\",LOOKUP(W6815,Hilfstabelle!$A$1:$A$286,Hilfstabelle!$B$1:$B$286))","v":""}]
[null,null,null,null,null,null,null,null,null,null,null,null,null,null,null,null,null,null,null,null,{"$f":"IF(W6816=\"\",\"\",LOOKUP(W6816,Hilfstabelle!$A$1:$A$286,Hilfstabelle!$B$1:$B$286))","v":""}]
[null,null,null,null,null,null,null,null,null,null,null,null,null,null,null,null,null,null,null,null,{"$f":"IF(W6817=\"\",\"\",LOOKUP(W6817,Hilfstabelle!$A$1:$A$286,Hilfstabelle!$B$1:$B$286))","v":""}]
[null,null,null,null,null,null,null,null,null,null,null,null,null,null,null,null,null,null,null,null,{"$f":"IF(W6818=\"\",\"\",LOOKUP(W6818,Hilfstabelle!$A$1:$A$286,Hilfstabelle!$B$1:$B$286))","v":""}]
[null,null,null,null,null,null,null,null,null,null,null,null,null,null,null,null,null,null,null,null,{"$f":"IF(W6819=\"\",\"\",LOOKUP(W6819,Hilfstabelle!$A$1:$A$286,Hilfstabelle!$B$1:$B$286))","v":""}]
[null,null,null,null,null,null,null,null,null,null,null,null,null,null,null,null,null,null,null,null,{"$f":"IF(W6820=\"\",\"\",LOOKUP(W6820,Hilfstabelle!$A$1:$A$286,Hilfstabelle!$B$1:$B$286))","v":""}]
[null,null,null,null,null,null,null,null,null,null,null,null,null,null,null,null,null,null,null,null,{"$f":"IF(W6821=\"\",\"\",LOOKUP(W6821,Hilfstabelle!$A$1:$A$286,Hilfstabelle!$B$1:$B$286))","v":""}]
[null,null,null,null,null,null,null,null,null,null,null,null,null,null,null,null,null,null,null,null,{"$f":"IF(W6822=\"\",\"\",LOOKUP(W6822,Hilfstabelle!$A$1:$A$286,Hilfstabelle!$B$1:$B$286))","v":""}]
[null,null,null,null,null,null,null,null,null,null,null,null,null,null,null,null,null,null,null,null,{"$f":"IF(W6823=\"\",\"\",LOOKUP(W6823,Hilfstabelle!$A$1:$A$286,Hilfstabelle!$B$1:$B$286))","v":""}]
[null,null,null,null,null,null,null,null,null,null,null,null,null,null,null,null,null,null,null,null,{"$f":"IF(W6824=\"\",\"\",LOOKUP(W6824,Hilfstabelle!$A$1:$A$286,Hilfstabelle!$B$1:$B$286))","v":""}]
[null,null,null,null,null,null,null,null,null,null,null,null,null,null,null,null,null,null,null,null,{"$f":"IF(W6825=\"\",\"\",LOOKUP(W6825,Hilfstabelle!$A$1:$A$286,Hilfstabelle!$B$1:$B$286))","v":""}]
[null,null,null,null,null,null,null,null,null,null,null,null,null,null,null,null,null,null,null,null,{"$f":"IF(W6826=\"\",\"\",LOOKUP(W6826,Hilfstabelle!$A$1:$A$286,Hilfstabelle!$B$1:$B$286))","v":""}]
[null,null,null,null,null,null,null,null,null,null,null,null,null,null,null,null,null,null,null,null,{"$f":"IF(W6827=\"\",\"\",LOOKUP(W6827,Hilfstabelle!$A$1:$A$286,Hilfstabelle!$B$1:$B$286))","v":""}]
[null,null,null,null,null,null,null,null,null,null,null,null,null,null,null,null,null,null,null,null,{"$f":"IF(W6828=\"\",\"\",LOOKUP(W6828,Hilfstabelle!$A$1:$A$286,Hilfstabelle!$B$1:$B$286))","v":""}]
[null,null,null,null,null,null,null,null,null,null,null,null,null,null,null,null,null,null,null,null,{"$f":"IF(W6829=\"\",\"\",LOOKUP(W6829,Hilfstabelle!$A$1:$A$286,Hilfstabelle!$B$1:$B$286))","v":""}]
[null,null,null,null,null,null,null,null,null,null,null,null,null,null,null,null,null,null,null,null,{"$f":"IF(W6830=\"\",\"\",LOOKUP(W6830,Hilfstabelle!$A$1:$A$286,Hilfstabelle!$B$1:$B$286))","v":""}]
[null,null,null,null,null,null,null,null,null,null,null,null,null,null,null,null,null,null,null,null,{"$f":"IF(W6831=\"\",\"\",LOOKUP(W6831,Hilfstabelle!$A$1:$A$286,Hilfstabelle!$B$1:$B$286))","v":""}]
[null,null,null,null,null,null,null,null,null,null,null,null,null,null,null,null,null,null,null,null,{"$f":"IF(W6832=\"\",\"\",LOOKUP(W6832,Hilfstabelle!$A$1:$A$286,Hilfstabelle!$B$1:$B$286))","v":""}]
[null,null,null,null,null,null,null,null,null,null,null,null,null,null,null,null,null,null,null,null,{"$f":"IF(W6833=\"\",\"\",LOOKUP(W6833,Hilfstabelle!$A$1:$A$286,Hilfstabelle!$B$1:$B$286))","v":""}]
[null,null,null,null,null,null,null,null,null,null,null,null,null,null,null,null,null,null,null,null,{"$f":"IF(W6834=\"\",\"\",LOOKUP(W6834,Hilfstabelle!$A$1:$A$286,Hilfstabelle!$B$1:$B$286))","v":""}]
[null,null,null,null,null,null,null,null,null,null,null,null,null,null,null,null,null,null,null,null,{"$f":"IF(W6835=\"\",\"\",LOOKUP(W6835,Hilfstabelle!$A$1:$A$286,Hilfstabelle!$B$1:$B$286))","v":""}]
[null,null,null,null,null,null,null,null,null,null,null,null,null,null,null,null,null,null,null,null,{"$f":"IF(W6836=\"\",\"\",LOOKUP(W6836,Hilfstabelle!$A$1:$A$286,Hilfstabelle!$B$1:$B$286))","v":""}]
[null,null,null,null,null,null,null,null,null,null,null,null,null,null,null,null,null,null,null,null,{"$f":"IF(W6837=\"\",\"\",LOOKUP(W6837,Hilfstabelle!$A$1:$A$286,Hilfstabelle!$B$1:$B$286))","v":""}]
[null,null,null,null,null,null,null,null,null,null,null,null,null,null,null,null,null,null,null,null,{"$f":"IF(W6838=\"\",\"\",LOOKUP(W6838,Hilfstabelle!$A$1:$A$286,Hilfstabelle!$B$1:$B$286))","v":""}]
[null,null,null,null,null,null,null,null,null,null,null,null,null,null,null,null,null,null,null,null,{"$f":"IF(W6839=\"\",\"\",LOOKUP(W6839,Hilfstabelle!$A$1:$A$286,Hilfstabelle!$B$1:$B$286))","v":""}]
[null,null,null,null,null,null,null,null,null,null,null,null,null,null,null,null,null,null,null,null,{"$f":"IF(W6840=\"\",\"\",LOOKUP(W6840,Hilfstabelle!$A$1:$A$286,Hilfstabelle!$B$1:$B$286))","v":""}]
[null,null,null,null,null,null,null,null,null,null,null,null,null,null,null,null,null,null,null,null,{"$f":"IF(W6841=\"\",\"\",LOOKUP(W6841,Hilfstabelle!$A$1:$A$286,Hilfstabelle!$B$1:$B$286))","v":""}]
[null,null,null,null,null,null,null,null,null,null,null,null,null,null,null,null,null,null,null,null,{"$f":"IF(W6842=\"\",\"\",LOOKUP(W6842,Hilfstabelle!$A$1:$A$286,Hilfstabelle!$B$1:$B$286))","v":""}]
[null,null,null,null,null,null,null,null,null,null,null,null,null,null,null,null,null,null,null,null,{"$f":"IF(W6843=\"\",\"\",LOOKUP(W6843,Hilfstabelle!$A$1:$A$286,Hilfstabelle!$B$1:$B$286))","v":""}]
[null,null,null,null,null,null,null,null,null,null,null,null,null,null,null,null,null,null,null,null,{"$f":"IF(W6844=\"\",\"\",LOOKUP(W6844,Hilfstabelle!$A$1:$A$286,Hilfstabelle!$B$1:$B$286))","v":""}]
[null,null,null,null,null,null,null,null,null,null,null,null,null,null,null,null,null,null,null,null,{"$f":"IF(W6845=\"\",\"\",LOOKUP(W6845,Hilfstabelle!$A$1:$A$286,Hilfstabelle!$B$1:$B$286))","v":""}]
[null,null,null,null,null,null,null,null,null,null,null,null,null,null,null,null,null,null,null,null,{"$f":"IF(W6846=\"\",\"\",LOOKUP(W6846,Hilfstabelle!$A$1:$A$286,Hilfstabelle!$B$1:$B$286))","v":""}]
[null,null,null,null,null,null,null,null,null,null,null,null,null,null,null,null,null,null,null,null,{"$f":"IF(W6847=\"\",\"\",LOOKUP(W6847,Hilfstabelle!$A$1:$A$286,Hilfstabelle!$B$1:$B$286))","v":""}]
[null,null,null,null,null,null,null,null,null,null,null,null,null,null,null,null,null,null,null,null,{"$f":"IF(W6848=\"\",\"\",LOOKUP(W6848,Hilfstabelle!$A$1:$A$286,Hilfstabelle!$B$1:$B$286))","v":""}]
[null,null,null,null,null,null,null,null,null,null,null,null,null,null,null,null,null,null,null,null,{"$f":"IF(W6849=\"\",\"\",LOOKUP(W6849,Hilfstabelle!$A$1:$A$286,Hilfstabelle!$B$1:$B$286))","v":""}]
[null,null,null,null,null,null,null,null,null,null,null,null,null,null,null,null,null,null,null,null,{"$f":"IF(W6850=\"\",\"\",LOOKUP(W6850,Hilfstabelle!$A$1:$A$286,Hilfstabelle!$B$1:$B$286))","v":""}]
[null,null,null,null,null,null,null,null,null,null,null,null,null,null,null,null,null,null,null,null,{"$f":"IF(W6851=\"\",\"\",LOOKUP(W6851,Hilfstabelle!$A$1:$A$286,Hilfstabelle!$B$1:$B$286))","v":""}]
[null,null,null,null,null,null,null,null,null,null,null,null,null,null,null,null,null,null,null,null,{"$f":"IF(W6852=\"\",\"\",LOOKUP(W6852,Hilfstabelle!$A$1:$A$286,Hilfstabelle!$B$1:$B$286))","v":""}]
[null,null,null,null,null,null,null,null,null,null,null,null,null,null,null,null,null,null,null,null,{"$f":"IF(W6853=\"\",\"\",LOOKUP(W6853,Hilfstabelle!$A$1:$A$286,Hilfstabelle!$B$1:$B$286))","v":""}]
[null,null,null,null,null,null,null,null,null,null,null,null,null,null,null,null,null,null,null,null,{"$f":"IF(W6854=\"\",\"\",LOOKUP(W6854,Hilfstabelle!$A$1:$A$286,Hilfstabelle!$B$1:$B$286))","v":""}]
[null,null,null,null,null,null,null,null,null,null,null,null,null,null,null,null,null,null,null,null,{"$f":"IF(W6855=\"\",\"\",LOOKUP(W6855,Hilfstabelle!$A$1:$A$286,Hilfstabelle!$B$1:$B$286))","v":""}]
[null,null,null,null,null,null,null,null,null,null,null,null,null,null,null,null,null,null,null,null,{"$f":"IF(W6856=\"\",\"\",LOOKUP(W6856,Hilfstabelle!$A$1:$A$286,Hilfstabelle!$B$1:$B$286))","v":""}]
[null,null,null,null,null,null,null,null,null,null,null,null,null,null,null,null,null,null,null,null,{"$f":"IF(W6857=\"\",\"\",LOOKUP(W6857,Hilfstabelle!$A$1:$A$286,Hilfstabelle!$B$1:$B$286))","v":""}]
[null,null,null,null,null,null,null,null,null,null,null,null,null,null,null,null,null,null,null,null,{"$f":"IF(W6858=\"\",\"\",LOOKUP(W6858,Hilfstabelle!$A$1:$A$286,Hilfstabelle!$B$1:$B$286))","v":""}]
[null,null,null,null,null,null,null,null,null,null,null,null,null,null,null,null,null,null,null,null,{"$f":"IF(W6859=\"\",\"\",LOOKUP(W6859,Hilfstabelle!$A$1:$A$286,Hilfstabelle!$B$1:$B$286))","v":""}]
[null,null,null,null,null,null,null,null,null,null,null,null,null,null,null,null,null,null,null,null,{"$f":"IF(W6860=\"\",\"\",LOOKUP(W6860,Hilfstabelle!$A$1:$A$286,Hilfstabelle!$B$1:$B$286))","v":""}]
[null,null,null,null,null,null,null,null,null,null,null,null,null,null,null,null,null,null,null,null,{"$f":"IF(W6861=\"\",\"\",LOOKUP(W6861,Hilfstabelle!$A$1:$A$286,Hilfstabelle!$B$1:$B$286))","v":""}]
[null,null,null,null,null,null,null,null,null,null,null,null,null,null,null,null,null,null,null,null,{"$f":"IF(W6862=\"\",\"\",LOOKUP(W6862,Hilfstabelle!$A$1:$A$286,Hilfstabelle!$B$1:$B$286))","v":""}]
[null,null,null,null,null,null,null,null,null,null,null,null,null,null,null,null,null,null,null,null,{"$f":"IF(W6863=\"\",\"\",LOOKUP(W6863,Hilfstabelle!$A$1:$A$286,Hilfstabelle!$B$1:$B$286))","v":""}]
[null,null,null,null,null,null,null,null,null,null,null,null,null,null,null,null,null,null,null,null,{"$f":"IF(W6864=\"\",\"\",LOOKUP(W6864,Hilfstabelle!$A$1:$A$286,Hilfstabelle!$B$1:$B$286))","v":""}]
[null,null,null,null,null,null,null,null,null,null,null,null,null,null,null,null,null,null,null,null,{"$f":"IF(W6865=\"\",\"\",LOOKUP(W6865,Hilfstabelle!$A$1:$A$286,Hilfstabelle!$B$1:$B$286))","v":""}]
[null,null,null,null,null,null,null,null,null,null,null,null,null,null,null,null,null,null,null,null,{"$f":"IF(W6866=\"\",\"\",LOOKUP(W6866,Hilfstabelle!$A$1:$A$286,Hilfstabelle!$B$1:$B$286))","v":""}]
[null,null,null,null,null,null,null,null,null,null,null,null,null,null,null,null,null,null,null,null,{"$f":"IF(W6867=\"\",\"\",LOOKUP(W6867,Hilfstabelle!$A$1:$A$286,Hilfstabelle!$B$1:$B$286))","v":""}]
[null,null,null,null,null,null,null,null,null,null,null,null,null,null,null,null,null,null,null,null,{"$f":"IF(W6868=\"\",\"\",LOOKUP(W6868,Hilfstabelle!$A$1:$A$286,Hilfstabelle!$B$1:$B$286))","v":""}]
[null,null,null,null,null,null,null,null,null,null,null,null,null,null,null,null,null,null,null,null,{"$f":"IF(W6869=\"\",\"\",LOOKUP(W6869,Hilfstabelle!$A$1:$A$286,Hilfstabelle!$B$1:$B$286))","v":""}]
[null,null,null,null,null,null,null,null,null,null,null,null,null,null,null,null,null,null,null,null,{"$f":"IF(W6870=\"\",\"\",LOOKUP(W6870,Hilfstabelle!$A$1:$A$286,Hilfstabelle!$B$1:$B$286))","v":""}]
[null,null,null,null,null,null,null,null,null,null,null,null,null,null,null,null,null,null,null,null,{"$f":"IF(W6871=\"\",\"\",LOOKUP(W6871,Hilfstabelle!$A$1:$A$286,Hilfstabelle!$B$1:$B$286))","v":""}]
[null,null,null,null,null,null,null,null,null,null,null,null,null,null,null,null,null,null,null,null,{"$f":"IF(W6872=\"\",\"\",LOOKUP(W6872,Hilfstabelle!$A$1:$A$286,Hilfstabelle!$B$1:$B$286))","v":""}]
[null,null,null,null,null,null,null,null,null,null,null,null,null,null,null,null,null,null,null,null,{"$f":"IF(W6873=\"\",\"\",LOOKUP(W6873,Hilfstabelle!$A$1:$A$286,Hilfstabelle!$B$1:$B$286))","v":""}]
[null,null,null,null,null,null,null,null,null,null,null,null,null,null,null,null,null,null,null,null,{"$f":"IF(W6874=\"\",\"\",LOOKUP(W6874,Hilfstabelle!$A$1:$A$286,Hilfstabelle!$B$1:$B$286))","v":""}]
[null,null,null,null,null,null,null,null,null,null,null,null,null,null,null,null,null,null,null,null,{"$f":"IF(W6875=\"\",\"\",LOOKUP(W6875,Hilfstabelle!$A$1:$A$286,Hilfstabelle!$B$1:$B$286))","v":""}]
[null,null,null,null,null,null,null,null,null,null,null,null,null,null,null,null,null,null,null,null,{"$f":"IF(W6876=\"\",\"\",LOOKUP(W6876,Hilfstabelle!$A$1:$A$286,Hilfstabelle!$B$1:$B$286))","v":""}]
[null,null,null,null,null,null,null,null,null,null,null,null,null,null,null,null,null,null,null,null,{"$f":"IF(W6877=\"\",\"\",LOOKUP(W6877,Hilfstabelle!$A$1:$A$286,Hilfstabelle!$B$1:$B$286))","v":""}]
[null,null,null,null,null,null,null,null,null,null,null,null,null,null,null,null,null,null,null,null,{"$f":"IF(W6878=\"\",\"\",LOOKUP(W6878,Hilfstabelle!$A$1:$A$286,Hilfstabelle!$B$1:$B$286))","v":""}]
[null,null,null,null,null,null,null,null,null,null,null,null,null,null,null,null,null,null,null,null,{"$f":"IF(W6879=\"\",\"\",LOOKUP(W6879,Hilfstabelle!$A$1:$A$286,Hilfstabelle!$B$1:$B$286))","v":""}]
[null,null,null,null,null,null,null,null,null,null,null,null,null,null,null,null,null,null,null,null,{"$f":"IF(W6880=\"\",\"\",LOOKUP(W6880,Hilfstabelle!$A$1:$A$286,Hilfstabelle!$B$1:$B$286))","v":""}]
[null,null,null,null,null,null,null,null,null,null,null,null,null,null,null,null,null,null,null,null,{"$f":"IF(W6881=\"\",\"\",LOOKUP(W6881,Hilfstabelle!$A$1:$A$286,Hilfstabelle!$B$1:$B$286))","v":""}]
[null,null,null,null,null,null,null,null,null,null,null,null,null,null,null,null,null,null,null,null,{"$f":"IF(W6882=\"\",\"\",LOOKUP(W6882,Hilfstabelle!$A$1:$A$286,Hilfstabelle!$B$1:$B$286))","v":""}]
[null,null,null,null,null,null,null,null,null,null,null,null,null,null,null,null,null,null,null,null,{"$f":"IF(W6883=\"\",\"\",LOOKUP(W6883,Hilfstabelle!$A$1:$A$286,Hilfstabelle!$B$1:$B$286))","v":""}]
[null,null,null,null,null,null,null,null,null,null,null,null,null,null,null,null,null,null,null,null,{"$f":"IF(W6884=\"\",\"\",LOOKUP(W6884,Hilfstabelle!$A$1:$A$286,Hilfstabelle!$B$1:$B$286))","v":""}]
[null,null,null,null,null,null,null,null,null,null,null,null,null,null,null,null,null,null,null,null,{"$f":"IF(W6885=\"\",\"\",LOOKUP(W6885,Hilfstabelle!$A$1:$A$286,Hilfstabelle!$B$1:$B$286))","v":""}]
[null,null,null,null,null,null,null,null,null,null,null,null,null,null,null,null,null,null,null,null,{"$f":"IF(W6886=\"\",\"\",LOOKUP(W6886,Hilfstabelle!$A$1:$A$286,Hilfstabelle!$B$1:$B$286))","v":""}]
[null,null,null,null,null,null,null,null,null,null,null,null,null,null,null,null,null,null,null,null,{"$f":"IF(W6887=\"\",\"\",LOOKUP(W6887,Hilfstabelle!$A$1:$A$286,Hilfstabelle!$B$1:$B$286))","v":""}]
[null,null,null,null,null,null,null,null,null,null,null,null,null,null,null,null,null,null,null,null,{"$f":"IF(W6888=\"\",\"\",LOOKUP(W6888,Hilfstabelle!$A$1:$A$286,Hilfstabelle!$B$1:$B$286))","v":""}]
[null,null,null,null,null,null,null,null,null,null,null,null,null,null,null,null,null,null,null,null,{"$f":"IF(W6889=\"\",\"\",LOOKUP(W6889,Hilfstabelle!$A$1:$A$286,Hilfstabelle!$B$1:$B$286))","v":""}]
[null,null,null,null,null,null,null,null,null,null,null,null,null,null,null,null,null,null,null,null,{"$f":"IF(W6890=\"\",\"\",LOOKUP(W6890,Hilfstabelle!$A$1:$A$286,Hilfstabelle!$B$1:$B$286))","v":""}]
[null,null,null,null,null,null,null,null,null,null,null,null,null,null,null,null,null,null,null,null,{"$f":"IF(W6891=\"\",\"\",LOOKUP(W6891,Hilfstabelle!$A$1:$A$286,Hilfstabelle!$B$1:$B$286))","v":""}]
[null,null,null,null,null,null,null,null,null,null,null,null,null,null,null,null,null,null,null,null,{"$f":"IF(W6892=\"\",\"\",LOOKUP(W6892,Hilfstabelle!$A$1:$A$286,Hilfstabelle!$B$1:$B$286))","v":""}]
[null,null,null,null,null,null,null,null,null,null,null,null,null,null,null,null,null,null,null,null,{"$f":"IF(W6893=\"\",\"\",LOOKUP(W6893,Hilfstabelle!$A$1:$A$286,Hilfstabelle!$B$1:$B$286))","v":""}]
[null,null,null,null,null,null,null,null,null,null,null,null,null,null,null,null,null,null,null,null,{"$f":"IF(W6894=\"\",\"\",LOOKUP(W6894,Hilfstabelle!$A$1:$A$286,Hilfstabelle!$B$1:$B$286))","v":""}]
[null,null,null,null,null,null,null,null,null,null,null,null,null,null,null,null,null,null,null,null,{"$f":"IF(W6895=\"\",\"\",LOOKUP(W6895,Hilfstabelle!$A$1:$A$286,Hilfstabelle!$B$1:$B$286))","v":""}]
[null,null,null,null,null,null,null,null,null,null,null,null,null,null,null,null,null,null,null,null,{"$f":"IF(W6896=\"\",\"\",LOOKUP(W6896,Hilfstabelle!$A$1:$A$286,Hilfstabelle!$B$1:$B$286))","v":""}]
[null,null,null,null,null,null,null,null,null,null,null,null,null,null,null,null,null,null,null,null,{"$f":"IF(W6897=\"\",\"\",LOOKUP(W6897,Hilfstabelle!$A$1:$A$286,Hilfstabelle!$B$1:$B$286))","v":""}]
[null,null,null,null,null,null,null,null,null,null,null,null,null,null,null,null,null,null,null,null,{"$f":"IF(W6898=\"\",\"\",LOOKUP(W6898,Hilfstabelle!$A$1:$A$286,Hilfstabelle!$B$1:$B$286))","v":""}]
[null,null,null,null,null,null,null,null,null,null,null,null,null,null,null,null,null,null,null,null,{"$f":"IF(W6899=\"\",\"\",LOOKUP(W6899,Hilfstabelle!$A$1:$A$286,Hilfstabelle!$B$1:$B$286))","v":""}]
[null,null,null,null,null,null,null,null,null,null,null,null,null,null,null,null,null,null,null,null,{"$f":"IF(W6900=\"\",\"\",LOOKUP(W6900,Hilfstabelle!$A$1:$A$286,Hilfstabelle!$B$1:$B$286))","v":""}]
[null,null,null,null,null,null,null,null,null,null,null,null,null,null,null,null,null,null,null,null,{"$f":"IF(W6901=\"\",\"\",LOOKUP(W6901,Hilfstabelle!$A$1:$A$286,Hilfstabelle!$B$1:$B$286))","v":""}]
[null,null,null,null,null,null,null,null,null,null,null,null,null,null,null,null,null,null,null,null,{"$f":"IF(W6902=\"\",\"\",LOOKUP(W6902,Hilfstabelle!$A$1:$A$286,Hilfstabelle!$B$1:$B$286))","v":""}]
[null,null,null,null,null,null,null,null,null,null,null,null,null,null,null,null,null,null,null,null,{"$f":"IF(W6903=\"\",\"\",LOOKUP(W6903,Hilfstabelle!$A$1:$A$286,Hilfstabelle!$B$1:$B$286))","v":""}]
[null,null,null,null,null,null,null,null,null,null,null,null,null,null,null,null,null,null,null,null,{"$f":"IF(W6904=\"\",\"\",LOOKUP(W6904,Hilfstabelle!$A$1:$A$286,Hilfstabelle!$B$1:$B$286))","v":""}]
[null,null,null,null,null,null,null,null,null,null,null,null,null,null,null,null,null,null,null,null,{"$f":"IF(W6905=\"\",\"\",LOOKUP(W6905,Hilfstabelle!$A$1:$A$286,Hilfstabelle!$B$1:$B$286))","v":""}]
[null,null,null,null,null,null,null,null,null,null,null,null,null,null,null,null,null,null,null,null,{"$f":"IF(W6906=\"\",\"\",LOOKUP(W6906,Hilfstabelle!$A$1:$A$286,Hilfstabelle!$B$1:$B$286))","v":""}]
[null,null,null,null,null,null,null,null,null,null,null,null,null,null,null,null,null,null,null,null,{"$f":"IF(W6907=\"\",\"\",LOOKUP(W6907,Hilfstabelle!$A$1:$A$286,Hilfstabelle!$B$1:$B$286))","v":""}]
[null,null,null,null,null,null,null,null,null,null,null,null,null,null,null,null,null,null,null,null,{"$f":"IF(W6908=\"\",\"\",LOOKUP(W6908,Hilfstabelle!$A$1:$A$286,Hilfstabelle!$B$1:$B$286))","v":""}]
[null,null,null,null,null,null,null,null,null,null,null,null,null,null,null,null,null,null,null,null,{"$f":"IF(W6909=\"\",\"\",LOOKUP(W6909,Hilfstabelle!$A$1:$A$286,Hilfstabelle!$B$1:$B$286))","v":""}]
[null,null,null,null,null,null,null,null,null,null,null,null,null,null,null,null,null,null,null,null,{"$f":"IF(W6910=\"\",\"\",LOOKUP(W6910,Hilfstabelle!$A$1:$A$286,Hilfstabelle!$B$1:$B$286))","v":""}]
[null,null,null,null,null,null,null,null,null,null,null,null,null,null,null,null,null,null,null,null,{"$f":"IF(W6911=\"\",\"\",LOOKUP(W6911,Hilfstabelle!$A$1:$A$286,Hilfstabelle!$B$1:$B$286))","v":""}]
[null,null,null,null,null,null,null,null,null,null,null,null,null,null,null,null,null,null,null,null,{"$f":"IF(W6912=\"\",\"\",LOOKUP(W6912,Hilfstabelle!$A$1:$A$286,Hilfstabelle!$B$1:$B$286))","v":""}]
[null,null,null,null,null,null,null,null,null,null,null,null,null,null,null,null,null,null,null,null,{"$f":"IF(W6913=\"\",\"\",LOOKUP(W6913,Hilfstabelle!$A$1:$A$286,Hilfstabelle!$B$1:$B$286))","v":""}]
[null,null,null,null,null,null,null,null,null,null,null,null,null,null,null,null,null,null,null,null,{"$f":"IF(W6914=\"\",\"\",LOOKUP(W6914,Hilfstabelle!$A$1:$A$286,Hilfstabelle!$B$1:$B$286))","v":""}]
[null,null,null,null,null,null,null,null,null,null,null,null,null,null,null,null,null,null,null,null,{"$f":"IF(W6915=\"\",\"\",LOOKUP(W6915,Hilfstabelle!$A$1:$A$286,Hilfstabelle!$B$1:$B$286))","v":""}]
[null,null,null,null,null,null,null,null,null,null,null,null,null,null,null,null,null,null,null,null,{"$f":"IF(W6916=\"\",\"\",LOOKUP(W6916,Hilfstabelle!$A$1:$A$286,Hilfstabelle!$B$1:$B$286))","v":""}]
[null,null,null,null,null,null,null,null,null,null,null,null,null,null,null,null,null,null,null,null,{"$f":"IF(W6917=\"\",\"\",LOOKUP(W6917,Hilfstabelle!$A$1:$A$286,Hilfstabelle!$B$1:$B$286))","v":""}]
[null,null,null,null,null,null,null,null,null,null,null,null,null,null,null,null,null,null,null,null,{"$f":"IF(W6918=\"\",\"\",LOOKUP(W6918,Hilfstabelle!$A$1:$A$286,Hilfstabelle!$B$1:$B$286))","v":""}]
[null,null,null,null,null,null,null,null,null,null,null,null,null,null,null,null,null,null,null,null,{"$f":"IF(W6919=\"\",\"\",LOOKUP(W6919,Hilfstabelle!$A$1:$A$286,Hilfstabelle!$B$1:$B$286))","v":""}]
[null,null,null,null,null,null,null,null,null,null,null,null,null,null,null,null,null,null,null,null,{"$f":"IF(W6920=\"\",\"\",LOOKUP(W6920,Hilfstabelle!$A$1:$A$286,Hilfstabelle!$B$1:$B$286))","v":""}]
[null,null,null,null,null,null,null,null,null,null,null,null,null,null,null,null,null,null,null,null,{"$f":"IF(W6921=\"\",\"\",LOOKUP(W6921,Hilfstabelle!$A$1:$A$286,Hilfstabelle!$B$1:$B$286))","v":""}]
[null,null,null,null,null,null,null,null,null,null,null,null,null,null,null,null,null,null,null,null,{"$f":"IF(W6922=\"\",\"\",LOOKUP(W6922,Hilfstabelle!$A$1:$A$286,Hilfstabelle!$B$1:$B$286))","v":""}]
[null,null,null,null,null,null,null,null,null,null,null,null,null,null,null,null,null,null,null,null,{"$f":"IF(W6923=\"\",\"\",LOOKUP(W6923,Hilfstabelle!$A$1:$A$286,Hilfstabelle!$B$1:$B$286))","v":""}]
[null,null,null,null,null,null,null,null,null,null,null,null,null,null,null,null,null,null,null,null,{"$f":"IF(W6924=\"\",\"\",LOOKUP(W6924,Hilfstabelle!$A$1:$A$286,Hilfstabelle!$B$1:$B$286))","v":""}]
[null,null,null,null,null,null,null,null,null,null,null,null,null,null,null,null,null,null,null,null,{"$f":"IF(W6925=\"\",\"\",LOOKUP(W6925,Hilfstabelle!$A$1:$A$286,Hilfstabelle!$B$1:$B$286))","v":""}]
[null,null,null,null,null,null,null,null,null,null,null,null,null,null,null,null,null,null,null,null,{"$f":"IF(W6926=\"\",\"\",LOOKUP(W6926,Hilfstabelle!$A$1:$A$286,Hilfstabelle!$B$1:$B$286))","v":""}]
[null,null,null,null,null,null,null,null,null,null,null,null,null,null,null,null,null,null,null,null,{"$f":"IF(W6927=\"\",\"\",LOOKUP(W6927,Hilfstabelle!$A$1:$A$286,Hilfstabelle!$B$1:$B$286))","v":""}]
[null,null,null,null,null,null,null,null,null,null,null,null,null,null,null,null,null,null,null,null,{"$f":"IF(W6928=\"\",\"\",LOOKUP(W6928,Hilfstabelle!$A$1:$A$286,Hilfstabelle!$B$1:$B$286))","v":""}]
[null,null,null,null,null,null,null,null,null,null,null,null,null,null,null,null,null,null,null,null,{"$f":"IF(W6929=\"\",\"\",LOOKUP(W6929,Hilfstabelle!$A$1:$A$286,Hilfstabelle!$B$1:$B$286))","v":""}]
[null,null,null,null,null,null,null,null,null,null,null,null,null,null,null,null,null,null,null,null,{"$f":"IF(W6930=\"\",\"\",LOOKUP(W6930,Hilfstabelle!$A$1:$A$286,Hilfstabelle!$B$1:$B$286))","v":""}]
[null,null,null,null,null,null,null,null,null,null,null,null,null,null,null,null,null,null,null,null,{"$f":"IF(W6931=\"\",\"\",LOOKUP(W6931,Hilfstabelle!$A$1:$A$286,Hilfstabelle!$B$1:$B$286))","v":""}]
[null,null,null,null,null,null,null,null,null,null,null,null,null,null,null,null,null,null,null,null,{"$f":"IF(W6932=\"\",\"\",LOOKUP(W6932,Hilfstabelle!$A$1:$A$286,Hilfstabelle!$B$1:$B$286))","v":""}]
[null,null,null,null,null,null,null,null,null,null,null,null,null,null,null,null,null,null,null,null,{"$f":"IF(W6933=\"\",\"\",LOOKUP(W6933,Hilfstabelle!$A$1:$A$286,Hilfstabelle!$B$1:$B$286))","v":""}]
[null,null,null,null,null,null,null,null,null,null,null,null,null,null,null,null,null,null,null,null,{"$f":"IF(W6934=\"\",\"\",LOOKUP(W6934,Hilfstabelle!$A$1:$A$286,Hilfstabelle!$B$1:$B$286))","v":""}]
[null,null,null,null,null,null,null,null,null,null,null,null,null,null,null,null,null,null,null,null,{"$f":"IF(W6935=\"\",\"\",LOOKUP(W6935,Hilfstabelle!$A$1:$A$286,Hilfstabelle!$B$1:$B$286))","v":""}]
[null,null,null,null,null,null,null,null,null,null,null,null,null,null,null,null,null,null,null,null,{"$f":"IF(W6936=\"\",\"\",LOOKUP(W6936,Hilfstabelle!$A$1:$A$286,Hilfstabelle!$B$1:$B$286))","v":""}]
[null,null,null,null,null,null,null,null,null,null,null,null,null,null,null,null,null,null,null,null,{"$f":"IF(W6937=\"\",\"\",LOOKUP(W6937,Hilfstabelle!$A$1:$A$286,Hilfstabelle!$B$1:$B$286))","v":""}]
[null,null,null,null,null,null,null,null,null,null,null,null,null,null,null,null,null,null,null,null,{"$f":"IF(W6938=\"\",\"\",LOOKUP(W6938,Hilfstabelle!$A$1:$A$286,Hilfstabelle!$B$1:$B$286))","v":""}]
[null,null,null,null,null,null,null,null,null,null,null,null,null,null,null,null,null,null,null,null,{"$f":"IF(W6939=\"\",\"\",LOOKUP(W6939,Hilfstabelle!$A$1:$A$286,Hilfstabelle!$B$1:$B$286))","v":""}]
[null,null,null,null,null,null,null,null,null,null,null,null,null,null,null,null,null,null,null,null,{"$f":"IF(W6940=\"\",\"\",LOOKUP(W6940,Hilfstabelle!$A$1:$A$286,Hilfstabelle!$B$1:$B$286))","v":""}]
[null,null,null,null,null,null,null,null,null,null,null,null,null,null,null,null,null,null,null,null,{"$f":"IF(W6941=\"\",\"\",LOOKUP(W6941,Hilfstabelle!$A$1:$A$286,Hilfstabelle!$B$1:$B$286))","v":""}]
[null,null,null,null,null,null,null,null,null,null,null,null,null,null,null,null,null,null,null,null,{"$f":"IF(W6942=\"\",\"\",LOOKUP(W6942,Hilfstabelle!$A$1:$A$286,Hilfstabelle!$B$1:$B$286))","v":""}]
[null,null,null,null,null,null,null,null,null,null,null,null,null,null,null,null,null,null,null,null,{"$f":"IF(W6943=\"\",\"\",LOOKUP(W6943,Hilfstabelle!$A$1:$A$286,Hilfstabelle!$B$1:$B$286))","v":""}]
[null,null,null,null,null,null,null,null,null,null,null,null,null,null,null,null,null,null,null,null,{"$f":"IF(W6944=\"\",\"\",LOOKUP(W6944,Hilfstabelle!$A$1:$A$286,Hilfstabelle!$B$1:$B$286))","v":""}]
[null,null,null,null,null,null,null,null,null,null,null,null,null,null,null,null,null,null,null,null,{"$f":"IF(W6945=\"\",\"\",LOOKUP(W6945,Hilfstabelle!$A$1:$A$286,Hilfstabelle!$B$1:$B$286))","v":""}]
[null,null,null,null,null,null,null,null,null,null,null,null,null,null,null,null,null,null,null,null,{"$f":"IF(W6946=\"\",\"\",LOOKUP(W6946,Hilfstabelle!$A$1:$A$286,Hilfstabelle!$B$1:$B$286))","v":""}]
[null,null,null,null,null,null,null,null,null,null,null,null,null,null,null,null,null,null,null,null,{"$f":"IF(W6947=\"\",\"\",LOOKUP(W6947,Hilfstabelle!$A$1:$A$286,Hilfstabelle!$B$1:$B$286))","v":""}]
[null,null,null,null,null,null,null,null,null,null,null,null,null,null,null,null,null,null,null,null,{"$f":"IF(W6948=\"\",\"\",LOOKUP(W6948,Hilfstabelle!$A$1:$A$286,Hilfstabelle!$B$1:$B$286))","v":""}]
[null,null,null,null,null,null,null,null,null,null,null,null,null,null,null,null,null,null,null,null,{"$f":"IF(W6949=\"\",\"\",LOOKUP(W6949,Hilfstabelle!$A$1:$A$286,Hilfstabelle!$B$1:$B$286))","v":""}]
[null,null,null,null,null,null,null,null,null,null,null,null,null,null,null,null,null,null,null,null,{"$f":"IF(W6950=\"\",\"\",LOOKUP(W6950,Hilfstabelle!$A$1:$A$286,Hilfstabelle!$B$1:$B$286))","v":""}]
[null,null,null,null,null,null,null,null,null,null,null,null,null,null,null,null,null,null,null,null,{"$f":"IF(W6951=\"\",\"\",LOOKUP(W6951,Hilfstabelle!$A$1:$A$286,Hilfstabelle!$B$1:$B$286))","v":""}]
[null,null,null,null,null,null,null,null,null,null,null,null,null,null,null,null,null,null,null,null,{"$f":"IF(W6952=\"\",\"\",LOOKUP(W6952,Hilfstabelle!$A$1:$A$286,Hilfstabelle!$B$1:$B$286))","v":""}]
[null,null,null,null,null,null,null,null,null,null,null,null,null,null,null,null,null,null,null,null,{"$f":"IF(W6953=\"\",\"\",LOOKUP(W6953,Hilfstabelle!$A$1:$A$286,Hilfstabelle!$B$1:$B$286))","v":""}]
[null,null,null,null,null,null,null,null,null,null,null,null,null,null,null,null,null,null,null,null,{"$f":"IF(W6954=\"\",\"\",LOOKUP(W6954,Hilfstabelle!$A$1:$A$286,Hilfstabelle!$B$1:$B$286))","v":""}]
[null,null,null,null,null,null,null,null,null,null,null,null,null,null,null,null,null,null,null,null,{"$f":"IF(W6955=\"\",\"\",LOOKUP(W6955,Hilfstabelle!$A$1:$A$286,Hilfstabelle!$B$1:$B$286))","v":""}]
[null,null,null,null,null,null,null,null,null,null,null,null,null,null,null,null,null,null,null,null,{"$f":"IF(W6956=\"\",\"\",LOOKUP(W6956,Hilfstabelle!$A$1:$A$286,Hilfstabelle!$B$1:$B$286))","v":""}]
[null,null,null,null,null,null,null,null,null,null,null,null,null,null,null,null,null,null,null,null,{"$f":"IF(W6957=\"\",\"\",LOOKUP(W6957,Hilfstabelle!$A$1:$A$286,Hilfstabelle!$B$1:$B$286))","v":""}]
[null,null,null,null,null,null,null,null,null,null,null,null,null,null,null,null,null,null,null,null,{"$f":"IF(W6958=\"\",\"\",LOOKUP(W6958,Hilfstabelle!$A$1:$A$286,Hilfstabelle!$B$1:$B$286))","v":""}]
[null,null,null,null,null,null,null,null,null,null,null,null,null,null,null,null,null,null,null,null,{"$f":"IF(W6959=\"\",\"\",LOOKUP(W6959,Hilfstabelle!$A$1:$A$286,Hilfstabelle!$B$1:$B$286))","v":""}]
[null,null,null,null,null,null,null,null,null,null,null,null,null,null,null,null,null,null,null,null,{"$f":"IF(W6960=\"\",\"\",LOOKUP(W6960,Hilfstabelle!$A$1:$A$286,Hilfstabelle!$B$1:$B$286))","v":""}]
[null,null,null,null,null,null,null,null,null,null,null,null,null,null,null,null,null,null,null,null,{"$f":"IF(W6961=\"\",\"\",LOOKUP(W6961,Hilfstabelle!$A$1:$A$286,Hilfstabelle!$B$1:$B$286))","v":""}]
[null,null,null,null,null,null,null,null,null,null,null,null,null,null,null,null,null,null,null,null,{"$f":"IF(W6962=\"\",\"\",LOOKUP(W6962,Hilfstabelle!$A$1:$A$286,Hilfstabelle!$B$1:$B$286))","v":""}]
[null,null,null,null,null,null,null,null,null,null,null,null,null,null,null,null,null,null,null,null,{"$f":"IF(W6963=\"\",\"\",LOOKUP(W6963,Hilfstabelle!$A$1:$A$286,Hilfstabelle!$B$1:$B$286))","v":""}]
[null,null,null,null,null,null,null,null,null,null,null,null,null,null,null,null,null,null,null,null,{"$f":"IF(W6964=\"\",\"\",LOOKUP(W6964,Hilfstabelle!$A$1:$A$286,Hilfstabelle!$B$1:$B$286))","v":""}]
[null,null,null,null,null,null,null,null,null,null,null,null,null,null,null,null,null,null,null,null,{"$f":"IF(W6965=\"\",\"\",LOOKUP(W6965,Hilfstabelle!$A$1:$A$286,Hilfstabelle!$B$1:$B$286))","v":""}]
[null,null,null,null,null,null,null,null,null,null,null,null,null,null,null,null,null,null,null,null,{"$f":"IF(W6966=\"\",\"\",LOOKUP(W6966,Hilfstabelle!$A$1:$A$286,Hilfstabelle!$B$1:$B$286))","v":""}]
[null,null,null,null,null,null,null,null,null,null,null,null,null,null,null,null,null,null,null,null,{"$f":"IF(W6967=\"\",\"\",LOOKUP(W6967,Hilfstabelle!$A$1:$A$286,Hilfstabelle!$B$1:$B$286))","v":""}]
[null,null,null,null,null,null,null,null,null,null,null,null,null,null,null,null,null,null,null,null,{"$f":"IF(W6968=\"\",\"\",LOOKUP(W6968,Hilfstabelle!$A$1:$A$286,Hilfstabelle!$B$1:$B$286))","v":""}]
[null,null,null,null,null,null,null,null,null,null,null,null,null,null,null,null,null,null,null,null,{"$f":"IF(W6969=\"\",\"\",LOOKUP(W6969,Hilfstabelle!$A$1:$A$286,Hilfstabelle!$B$1:$B$286))","v":""}]
[null,null,null,null,null,null,null,null,null,null,null,null,null,null,null,null,null,null,null,null,{"$f":"IF(W6970=\"\",\"\",LOOKUP(W6970,Hilfstabelle!$A$1:$A$286,Hilfstabelle!$B$1:$B$286))","v":""}]
[null,null,null,null,null,null,null,null,null,null,null,null,null,null,null,null,null,null,null,null,{"$f":"IF(W6971=\"\",\"\",LOOKUP(W6971,Hilfstabelle!$A$1:$A$286,Hilfstabelle!$B$1:$B$286))","v":""}]
[null,null,null,null,null,null,null,null,null,null,null,null,null,null,null,null,null,null,null,null,{"$f":"IF(W6972=\"\",\"\",LOOKUP(W6972,Hilfstabelle!$A$1:$A$286,Hilfstabelle!$B$1:$B$286))","v":""}]
[null,null,null,null,null,null,null,null,null,null,null,null,null,null,null,null,null,null,null,null,{"$f":"IF(W6973=\"\",\"\",LOOKUP(W6973,Hilfstabelle!$A$1:$A$286,Hilfstabelle!$B$1:$B$286))","v":""}]
[null,null,null,null,null,null,null,null,null,null,null,null,null,null,null,null,null,null,null,null,{"$f":"IF(W6974=\"\",\"\",LOOKUP(W6974,Hilfstabelle!$A$1:$A$286,Hilfstabelle!$B$1:$B$286))","v":""}]
[null,null,null,null,null,null,null,null,null,null,null,null,null,null,null,null,null,null,null,null,{"$f":"IF(W6975=\"\",\"\",LOOKUP(W6975,Hilfstabelle!$A$1:$A$286,Hilfstabelle!$B$1:$B$286))","v":""}]
[null,null,null,null,null,null,null,null,null,null,null,null,null,null,null,null,null,null,null,null,{"$f":"IF(W6976=\"\",\"\",LOOKUP(W6976,Hilfstabelle!$A$1:$A$286,Hilfstabelle!$B$1:$B$286))","v":""}]
[null,null,null,null,null,null,null,null,null,null,null,null,null,null,null,null,null,null,null,null,{"$f":"IF(W6977=\"\",\"\",LOOKUP(W6977,Hilfstabelle!$A$1:$A$286,Hilfstabelle!$B$1:$B$286))","v":""}]
[null,null,null,null,null,null,null,null,null,null,null,null,null,null,null,null,null,null,null,null,{"$f":"IF(W6978=\"\",\"\",LOOKUP(W6978,Hilfstabelle!$A$1:$A$286,Hilfstabelle!$B$1:$B$286))","v":""}]
[null,null,null,null,null,null,null,null,null,null,null,null,null,null,null,null,null,null,null,null,{"$f":"IF(W6979=\"\",\"\",LOOKUP(W6979,Hilfstabelle!$A$1:$A$286,Hilfstabelle!$B$1:$B$286))","v":""}]
[null,null,null,null,null,null,null,null,null,null,null,null,null,null,null,null,null,null,null,null,{"$f":"IF(W6980=\"\",\"\",LOOKUP(W6980,Hilfstabelle!$A$1:$A$286,Hilfstabelle!$B$1:$B$286))","v":""}]
[null,null,null,null,null,null,null,null,null,null,null,null,null,null,null,null,null,null,null,null,{"$f":"IF(W6981=\"\",\"\",LOOKUP(W6981,Hilfstabelle!$A$1:$A$286,Hilfstabelle!$B$1:$B$286))","v":""}]
[null,null,null,null,null,null,null,null,null,null,null,null,null,null,null,null,null,null,null,null,{"$f":"IF(W6982=\"\",\"\",LOOKUP(W6982,Hilfstabelle!$A$1:$A$286,Hilfstabelle!$B$1:$B$286))","v":""}]
[null,null,null,null,null,null,null,null,null,null,null,null,null,null,null,null,null,null,null,null,{"$f":"IF(W6983=\"\",\"\",LOOKUP(W6983,Hilfstabelle!$A$1:$A$286,Hilfstabelle!$B$1:$B$286))","v":""}]
[null,null,null,null,null,null,null,null,null,null,null,null,null,null,null,null,null,null,null,null,{"$f":"IF(W6984=\"\",\"\",LOOKUP(W6984,Hilfstabelle!$A$1:$A$286,Hilfstabelle!$B$1:$B$286))","v":""}]
[null,null,null,null,null,null,null,null,null,null,null,null,null,null,null,null,null,null,null,null,{"$f":"IF(W6985=\"\",\"\",LOOKUP(W6985,Hilfstabelle!$A$1:$A$286,Hilfstabelle!$B$1:$B$286))","v":""}]
[null,null,null,null,null,null,null,null,null,null,null,null,null,null,null,null,null,null,null,null,{"$f":"IF(W6986=\"\",\"\",LOOKUP(W6986,Hilfstabelle!$A$1:$A$286,Hilfstabelle!$B$1:$B$286))","v":""}]
[null,null,null,null,null,null,null,null,null,null,null,null,null,null,null,null,null,null,null,null,{"$f":"IF(W6987=\"\",\"\",LOOKUP(W6987,Hilfstabelle!$A$1:$A$286,Hilfstabelle!$B$1:$B$286))","v":""}]
[null,null,null,null,null,null,null,null,null,null,null,null,null,null,null,null,null,null,null,null,{"$f":"IF(W6988=\"\",\"\",LOOKUP(W6988,Hilfstabelle!$A$1:$A$286,Hilfstabelle!$B$1:$B$286))","v":""}]
[null,null,null,null,null,null,null,null,null,null,null,null,null,null,null,null,null,null,null,null,{"$f":"IF(W6989=\"\",\"\",LOOKUP(W6989,Hilfstabelle!$A$1:$A$286,Hilfstabelle!$B$1:$B$286))","v":""}]
[null,null,null,null,null,null,null,null,null,null,null,null,null,null,null,null,null,null,null,null,{"$f":"IF(W6990=\"\",\"\",LOOKUP(W6990,Hilfstabelle!$A$1:$A$286,Hilfstabelle!$B$1:$B$286))","v":""}]
[null,null,null,null,null,null,null,null,null,null,null,null,null,null,null,null,null,null,null,null,{"$f":"IF(W6991=\"\",\"\",LOOKUP(W6991,Hilfstabelle!$A$1:$A$286,Hilfstabelle!$B$1:$B$286))","v":""}]
[null,null,null,null,null,null,null,null,null,null,null,null,null,null,null,null,null,null,null,null,{"$f":"IF(W6992=\"\",\"\",LOOKUP(W6992,Hilfstabelle!$A$1:$A$286,Hilfstabelle!$B$1:$B$286))","v":""}]
[null,null,null,null,null,null,null,null,null,null,null,null,null,null,null,null,null,null,null,null,{"$f":"IF(W6993=\"\",\"\",LOOKUP(W6993,Hilfstabelle!$A$1:$A$286,Hilfstabelle!$B$1:$B$286))","v":""}]
[null,null,null,null,null,null,null,null,null,null,null,null,null,null,null,null,null,null,null,null,{"$f":"IF(W6994=\"\",\"\",LOOKUP(W6994,Hilfstabelle!$A$1:$A$286,Hilfstabelle!$B$1:$B$286))","v":""}]
[null,null,null,null,null,null,null,null,null,null,null,null,null,null,null,null,null,null,null,null,{"$f":"IF(W6995=\"\",\"\",LOOKUP(W6995,Hilfstabelle!$A$1:$A$286,Hilfstabelle!$B$1:$B$286))","v":""}]
[null,null,null,null,null,null,null,null,null,null,null,null,null,null,null,null,null,null,null,null,{"$f":"IF(W6996=\"\",\"\",LOOKUP(W6996,Hilfstabelle!$A$1:$A$286,Hilfstabelle!$B$1:$B$286))","v":""}]
[null,null,null,null,null,null,null,null,null,null,null,null,null,null,null,null,null,null,null,null,{"$f":"IF(W6997=\"\",\"\",LOOKUP(W6997,Hilfstabelle!$A$1:$A$286,Hilfstabelle!$B$1:$B$286))","v":""}]
[null,null,null,null,null,null,null,null,null,null,null,null,null,null,null,null,null,null,null,null,{"$f":"IF(W6998=\"\",\"\",LOOKUP(W6998,Hilfstabelle!$A$1:$A$286,Hilfstabelle!$B$1:$B$286))","v":""}]
[null,null,null,null,null,null,null,null,null,null,null,null,null,null,null,null,null,null,null,null,{"$f":"IF(W6999=\"\",\"\",LOOKUP(W6999,Hilfstabelle!$A$1:$A$286,Hilfstabelle!$B$1:$B$286))","v":""}]
[null,null,null,null,null,null,null,null,null,null,null,null,null,null,null,null,null,null,null,null,{"$f":"IF(W7000=\"\",\"\",LOOKUP(W7000,Hilfstabelle!$A$1:$A$286,Hilfstabelle!$B$1:$B$286))","v":""}]
[null,null,null,null,null,null,null,null,null,null,null,null,null,null,null,null,null,null,null,null,{"$f":"IF(W7001=\"\",\"\",LOOKUP(W7001,Hilfstabelle!$A$1:$A$286,Hilfstabelle!$B$1:$B$286))","v":""}]

{"sheet":"Sammelrechnung","index":1,"n_rows":43,"n_cols":4,"rows_kept":43,"cut":false,"hidden":false,"merged":[[15,0,15,2],[38,0,38,3],[0,0,1,0],[0,1,1,2],[0,3,1,3]]}
["Name Organisation","Strasse/Nr.",null,"PLZ/Ort"]
[]
["ZSR-Nr."]
[]
[]
[]
[]
[]
[]
[]
[]
[]
["Ort "]
["Datum "]
[]
["Rechnung über die Pflegebeiträge der öffentlichen Hand an ambulante Leistungserbringer für Klientinnen und Klienten mit Wohnsitz in der Gemeinde:",null,null,"Gemeinde"]
[]
["Abrechnungsmonate"]
["Abrechnungsjahr",2017]
[]
["Pflegeleistungen"]
["Leistungsart","Stunden","Beitrag pro Std.","Total Beitrag"]
["KLV A",{"$f":"SUMIF(Dateneingabe!$R$1:$R$7001,A23,Dateneingabe!$U$1:$U$7001)","v":0},33,{"$f":"ROUND((SUM(B23*C23))*20,0)/20","v":0}]
["KLV B",{"$f":"SUMIF(Dateneingabe!$R$1:$R$7001,A24,Dateneingabe!$U$1:$U$7001)","v":0},32.85,{"$f":"ROUND((SUM(B24*C24))*20,0)/20","v":0}]
["KLV C",{"$f":"SUMIF(Dateneingabe!$R$1:$R$7001,A25,Dateneingabe!$U$1:$U$7001)","v":0},34.15,0]
["Bruttobeitrag Total KLV",{"$f":"SUM(B23:B25)","v":0},null,{"$f":"ROUND((SUM(D23:D25))*20,0)/20","v":0}]
["abzüglich PaBe",null,null,{"$f":"-SUM(Dateneingabe!V4:V7001)","v":0}]
["Nettobeitrag Total KLV",null,null,{"$f":"SUM(D26:D27)","v":0}]
["AÜP A",{"$f":"SUMIF(Dateneingabe!$R$1:$R$7001,A29,Dateneingabe!$U$1:$U$7001)","v":0},66.650000000000006,0]
["AÜP B",{"$f":"SUMIF(Dateneingabe!$R$1:$R$7001,A30,Dateneingabe!$U$1:$U$7001)","v":0},65.599999999999994,0]
["AÜP C",{"$f":"SUMIF(Dateneingabe!$R$1:$R$7001,A31,Dateneingabe!$U$1:$U$7001)","v":0},58.1,0]
["Total AÜP",{"$f":"SUM(B29:B31)","v":0},null,{"$f":"ROUND((SUM(D29:D31))*20,0)/20","v":0}]
[]
["Total öffentliche Pflegebeiträge",null,null,{"$f":"SUM(D28+D32)","v":0}]
[]
[]
[]
["Zahlungsverbindung (Name der Bank und IBAN-Nr.)/ Name Kontoinhaber:"]
[]
[]
["Auszahlung erst nach erfolgreicher Prüfung"]
[]
["Gelb markierte Felder können bearbeitet werden"]

{"sheet":"Hilfstabelle","index":2,"n_rows":120,"n_cols":2,"rows_kept":120,"cut":false,"hidden":false,"merged":[]}
[5,{"$f":"A1/60","v":8.3333333333333329E-2}]
[10,0.16666666666666666]
[15,0.25]
[20,0.33333333333333331]
[25,0.41666666666666669]
[30,0.5]
[35,0.58333333333333337]
[40,0.66666666666666663]
[45,0.75]
[50,0.83333333333333337]
[55,0.91666666666666663]
[60,1]
[65,1.0833333333333333]
[70,1.1666666666666667]
[75,1.25]
[80,1.3333333333333333]
[85,1.4166666666666667]
[90,1.5]
[95,1.5833333333333333]
[100,1.6666666666666667]
[105,1.75]
[110,1.8333333333333333]
[115,1.9166666666666667]
[120,2]
[125,2.0833333333333335]
[130,2.1666666666666665]
[135,2.25]
[140,2.3333333333333335]
[145,2.4166666666666665]
[150,2.5]
[155,2.5833333333333335]
[160,2.6666666666666665]
[165,{"$f":"A33/60","v":2.75}]
[170,2.8333333333333335]
[175,2.9166666666666665]
[180,3]
[185,3.0833333333333335]
[190,3.1666666666666665]
[195,3.25]
[200,3.3333333333333335]
[205,3.4166666666666665]
[210,3.5]
[215,3.5833333333333335]
[220,3.6666666666666665]
[225,3.75]
[230,3.8333333333333335]
[235,3.9166666666666665]
[240,4]
[245,4.083333333333333]
[250,4.166666666666667]
[255,4.25]
[260,4.333333333333333]
[265,4.416666666666667]
[270,4.5]
[275,4.583333333333333]
[280,4.666666666666667]
[285,4.75]
[290,4.833333333333333]
[295,4.916666666666667]
[300,5]
[305,5.083333333333333]
[310,5.166666666666667]
[315,5.25]
[320,5.333333333333333]
[325,{"$f":"A65/60","v":5.416666666666667}]
[330,{"$f":"A66/60","v":5.5}]
[335,{"$f":"A67/60","v":5.583333333333333}]
[340,5.666666666666667]
[345,5.75]
[350,5.833333333333333]
[355,5.916666666666667]
[360,6]
[365,6.083333333333333]
[370,6.166666666666667]
[375,6.25]
[380,6.333333333333333]
[385,6.416666666666667]
[390,6.5]
[395,6.583333333333333]
[400,6.666666666666667]
[405,6.75]
[410,6.833333333333333]
[415,6.916666666666667]
[420,7]
[425,7.083333333333333]
[430,7.166666666666667]
[435,7.25]
[440,7.333333333333333]
[445,7.416666666666667]
[450,7.5]
[455,7.583333333333333]
[460,7.666666666666667]
[465,7.75]
[470,7.833333333333333]
[475,7.916666666666667]
[480,8]
[485,8.0833333333333339]
[490,8.1666666666666661]
[495,8.25]
[500,8.3333333333333339]
[505,8.4166666666666661]
[510,8.5]
[515,8.5833333333333339]
[520,8.6666666666666661]
[525,8.75]
[530,8.8333333333333339]
[535,8.9166666666666661]
[540,9]
[545,9.0833333333333339]
[550,9.1666666666666661]
[555,9.25]
[560,9.3333333333333339]
[565,9.4166666666666661]
[570,9.5]
[575,9.5833333333333339]
[580,9.6666666666666661]
[585,9.75]
[590,9.8333333333333339]
[595,9.9166666666666661]
[600,10]